{"text_format":"1","workbook":"xlsx","n_sheets":6,"sheets":["Explications","3 indices","Calculs 3 indices","4 indices","Calculs 4 indices","VBA"],"not_rendered":{"charts":0,"images":2,"macros":1,"external_links":0,"defined_names":4,"comments":0,"pivot_tables":0},"unopened":[],"bounds":{"document_bytes":16777216,"sheet_cells":100000,"rows_first":2000,"rows_last":500,"rows_between":2000,"halvings":0,"cell_chars":16384,"cell_head_chars":4096},"cells_cut":0,"cells_raw":0,"read":"whole","date_system":"1900"}

{"sheet":"Explications","index":0,"n_rows":22,"n_cols":2,"rows_kept":22,"cut":false,"hidden":false,"merged":[[0,0,1,9]]}
["Les intégrammes"]
[]
[]
[]
[]
[]
[]
[]
[]
[]
[]
[]
[]
[]
[]
[]
[]
["    Il suffit de cliquer sur chaque case pour donner sa réponse : Ne rien écrire en dehors de ce tableau au risque de modifier les formules de calcul."]
[]
["Oui :","O"]
["Non :","X"]
["Sais pas :"]

{"sheet":"3 indices","index":1,"n_rows":220,"n_cols":18,"rows_kept":220,"cut":false,"hidden":false,"merged":[[201,15,201,17],[203,0,205,0],[203,10,205,10],[206,0,208,0],[206,10,208,10],[207,6,208,7],[184,0,186,0],[184,10,186,10],[201,2,201,4],[201,5,201,7],[201,12,201,14],[185,6,186,7],[179,2,179,4],[179,5,179,7],[179,12,179,14],[179,15,179,17],[181,0,183,0],[181,10,183,10],[157,15,157,17],[159,0,161,0],[159,10,161,10],[162,0,164,0],[162,10,164,10],[163,6,164,7],[140,0,142,0],[140,10,142,10],[157,2,157,4],[157,5,157,7],[157,12,157,14],[141,6,142,7],[135,2,135,4],[135,5,135,7],[135,12,135,14],[135,15,135,17],[137,0,139,0],[137,10,139,10],[113,15,113,17],[115,0,117,0],[115,10,117,10],[118,0,120,0],[118,10,120,10],[119,6,120,7],[96,0,98,0],[96,10,98,10],[113,2,113,4],[113,5,113,7],[113,12,113,14],[97,6,98,7],[91,2,91,4],[91,5,91,7],[91,12,91,14],[91,15,91,17],[93,0,95,0],[93,10,95,10],[3,12,3,14],[3,15,3,17],[5,10,7,10],[8,10,10,10],[3,2,3,4],[3,5,3,7],[5,0,7,0],[8,0,10,0],[47,2,47,4],[47,5,47,7],[47,12,47,14],[9,6,10,7],[31,6,32,7],[30,0,32,0],[30,10,32,10],[25,2,25,4],[25,5,25,7],[25,12,25,14],[27,0,29,0],[27,10,29,10],[25,15,25,17],[74,0,76,0],[74,10,76,10],[52,0,54,0],[52,10,54,10],[69,2,69,4],[69,5,69,7],[53,6,54,7],[75,6,76,7],[47,15,47,17],[49,0,51,0],[49,10,51,10],[71,0,73,0],[71,10,73,10],[69,15,69,17],[69,12,69,14]]}
["I°/ Les sports préférés :"]
[{"$f":"INDIRECT(\"'Calculs 3 indices'!B\"&A5)","v":""},null,null,null,null,{"$f":"INDIRECT(\"'Calculs 3 indices'!F\"&(A5+11))","v":""}]
[{"$f":"INDIRECT(\"'Calculs 3 indices'!B\"&(A5+11))","v":""},null,null,null,null,{"$f":"INDIRECT(\"'Calculs 3 indices'!F\"&(A5+12))","v":""}]
[null,null,"Âge",null,null,"Sport",null,null,null,null,null,null,{"$f":"C4","v":"Âge"},null,null,{"$f":"F4","v":"Sport"}]
[1,null,15,17,19,{"$f":"B9","v":"Hand"},{"$f":"B10","v":"Foot"},{"$f":"B11","v":"Rugby"},null,null,null,null,{"$f":"C5","v":15},{"$f":"D5","v":17},19,"Hand","Foot","Rugby"]
["Prénom","Albert",null,null,null,null,null,null,null,null,{"$f":"A6","v":"Prénom"},{"$f":"B6","v":"Albert"},{"$f":"IF(OR(D6=\"o\",E6=\"o\",C7=\"o\",C8=\"o\",C6=\"x\"),\"x\",IF(OR(C6=\"o\",AND(D6=\"x\",E6=\"x\"),AND(C7=\"x\",C8=\"x\")),\"o\",\"\"))","v":""},{"$f":"IF(OR(C6=\"o\",E6=\"o\",D7=\"o\",D8=\"o\",D6=\"x\"),\"x\",IF(OR(D6=\"o\",AND(C6=\"x\",E6=\"x\"),AND(D7=\"x\",D8=\"x\")),\"o\",\"\"))","v":""},{"$f":"IF(OR(C6=\"o\",D6=\"o\",E7=\"o\",E8=\"o\",E6=\"x\"),\"x\",IF(OR(E6=\"o\",AND(C6=\"x\",D6=\"x\"),AND(E7=\"x\",E8=\"x\")),\"o\",\"\"))","v":""},{"$f":"IF(OR(G6=\"o\",H6=\"o\",F7=\"o\",F8=\"o\",F6=\"x\"),\"x\",IF(OR(F6=\"o\",AND(G6=\"x\",H6=\"x\"),AND(F7=\"x\",F8=\"x\")),\"o\",\"\"))","v":""},{"$f":"IF(OR(F6=\"o\",H6=\"o\",G7=\"o\",G8=\"o\",G6=\"x\"),\"x\",IF(OR(G6=\"o\",AND(F6=\"x\",H6=\"x\"),AND(G7=\"x\",G8=\"x\")),\"o\",\"\"))","v":""},{"$f":"IF(OR(F6=\"o\",G6=\"o\",H7=\"o\",H8=\"o\",H6=\"x\"),\"x\",IF(OR(H6=\"o\",AND(F6=\"x\",G6=\"x\"),AND(H7=\"x\",H8=\"x\")),\"o\",\"\"))","v":""}]
[null,"Benoit",null,null,null,null,null,null,null,null,null,{"$f":"B7","v":"Benoit"},{"$f":"IF(OR(D7=\"o\",E7=\"o\",C6=\"o\",C8=\"o\",C7=\"x\"),\"x\",IF(OR(C7=\"o\",AND(D7=\"x\",E7=\"x\"),AND(C6=\"x\",C8=\"x\")),\"o\",\"\"))","v":""},{"$f":"IF(OR(C7=\"o\",E7=\"o\",D6=\"o\",D8=\"o\",D7=\"x\"),\"x\",IF(OR(D7=\"o\",AND(C7=\"x\",E7=\"x\"),AND(D6=\"x\",D8=\"x\")),\"o\",\"\"))","v":""},{"$f":"IF(OR(C7=\"o\",D7=\"o\",E8=\"o\",E6=\"o\",E7=\"x\"),\"x\",IF(OR(E7=\"o\",AND(C7=\"x\",D7=\"x\"),AND(E6=\"x\",E8=\"x\")),\"o\",\"\"))","v":""},{"$f":"IF(OR(G7=\"o\",H7=\"o\",F6=\"o\",F8=\"o\",F7=\"x\"),\"x\",IF(OR(F7=\"o\",AND(G7=\"x\",H7=\"x\"),AND(F6=\"x\",F8=\"x\")),\"o\",\"\"))","v":""},{"$f":"IF(OR(F7=\"o\",H7=\"o\",G6=\"o\",G8=\"o\",G7=\"x\"),\"x\",IF(OR(G7=\"o\",AND(F7=\"x\",H7=\"x\"),AND(G6=\"x\",G8=\"x\")),\"o\",\"\"))","v":""},{"$f":"IF(OR(F7=\"o\",G7=\"o\",H6=\"o\",H8=\"o\",H7=\"x\"),\"x\",IF(OR(H7=\"o\",AND(F7=\"x\",G7=\"x\"),AND(H6=\"x\",H8=\"x\")),\"o\",\"\"))","v":""}]
[null,"Charles",null,null,null,null,null,null,null,null,null,"Charles",{"$f":"IF(OR(D8=\"o\",E8=\"o\",C6=\"o\",C7=\"o\",C8=\"x\"),\"x\",IF(OR(C8=\"o\",AND(D8=\"x\",E8=\"x\"),AND(C6=\"x\",C7=\"x\")),\"o\",\"\"))","v":""},{"$f":"IF(OR(C8=\"o\",E8=\"o\",D6=\"o\",D7=\"o\",D8=\"x\"),\"x\",IF(OR(D8=\"o\",AND(C8=\"x\",E8=\"x\"),AND(D6=\"x\",D7=\"x\")),\"o\",\"\"))","v":""},{"$f":"IF(OR(C8=\"o\",D8=\"o\",E6=\"o\",E7=\"o\",E8=\"x\"),\"x\",IF(OR(E8=\"o\",AND(C8=\"x\",D8=\"x\"),AND(E6=\"x\",E7=\"x\")),\"o\",\"\"))","v":""},{"$f":"IF(OR(G8=\"o\",H8=\"o\",F6=\"o\",F7=\"o\",F8=\"x\"),\"x\",IF(OR(F8=\"o\",AND(G8=\"x\",H8=\"x\"),AND(F6=\"x\",F7=\"x\")),\"o\",\"\"))","v":""},{"$f":"IF(OR(F8=\"o\",H8=\"o\",G6=\"o\",G7=\"o\",G8=\"x\"),\"x\",IF(OR(G8=\"o\",AND(F8=\"x\",H8=\"x\"),AND(G6=\"x\",G7=\"x\")),\"o\",\"\"))","v":""},{"$f":"IF(OR(F8=\"o\",G8=\"o\",H6=\"o\",H7=\"o\",H8=\"x\"),\"x\",IF(OR(H8=\"o\",AND(F8=\"x\",G8=\"x\"),AND(H6=\"x\",H7=\"x\")),\"o\",\"\"))","v":""}]
["Sport","Hand",null,null,null,null,null,null,null,null,{"$f":"A9","v":"Sport"},"Hand",{"$f":"IF(OR(D9=\"o\",E9=\"o\",C10=\"o\",C11=\"o\",C9=\"x\"),\"x\",IF(OR(C9=\"o\",AND(D9=\"x\",E9=\"x\"),AND(C10=\"x\",C11=\"x\")),\"o\",\"\"))","v":""},{"$f":"IF(OR(C9=\"o\",E9=\"o\",D10=\"o\",D11=\"o\",D9=\"x\"),\"x\",IF(OR(D9=\"o\",AND(C9=\"x\",E9=\"x\"),AND(D10=\"x\",D11=\"x\")),\"o\",\"\"))","v":""},{"$f":"IF(OR(C9=\"o\",D9=\"o\",E10=\"o\",E11=\"o\",E9=\"x\"),\"x\",IF(OR(E9=\"o\",AND(C9=\"x\",D9=\"x\"),AND(E10=\"x\",E11=\"x\")),\"o\",\"\"))","v":""}]
[null,"Foot",null,null,null,null,{"$f":"IF(AND(C20=G20,D20=H20,C21=G21,D21=H21,C22=G22,D22=H22),\"BRAVO !!\",\"\")","v":""},null,null,null,null,"Foot",{"$f":"IF(OR(D10=\"o\",E10=\"o\",C9=\"o\",C11=\"o\",C10=\"x\"),\"x\",IF(OR(C10=\"o\",AND(D10=\"x\",E10=\"x\"),AND(C9=\"x\",C11=\"x\")),\"o\",\"\"))","v":""},{"$f":"IF(OR(C10=\"o\",E10=\"o\",D9=\"o\",D11=\"o\",D10=\"x\"),\"x\",IF(OR(D10=\"o\",AND(C10=\"x\",E10=\"x\"),AND(D9=\"x\",D11=\"x\")),\"o\",\"\"))","v":""},{"$f":"IF(OR(C10=\"o\",D10=\"o\",E9=\"o\",E11=\"o\",E10=\"x\"),\"x\",IF(OR(E10=\"o\",AND(C10=\"x\",D10=\"x\"),AND(E9=\"x\",E11=\"x\")),\"o\",\"\"))","v":""}]
[null,"Rugby",null,null,null,null,null,null,null,null,null,"Rugby",{"$f":"IF(OR(D11=\"o\",E11=\"o\",C9=\"o\",C10=\"o\",C11=\"x\"),\"x\",IF(OR(C11=\"o\",AND(D11=\"x\",E11=\"x\"),AND(C9=\"x\",C10=\"x\")),\"o\",\"\"))","v":""},{"$f":"IF(OR(C11=\"o\",E11=\"o\",D9=\"o\",D10=\"o\",D11=\"x\"),\"x\",IF(OR(D11=\"o\",AND(C11=\"x\",E11=\"x\"),AND(D9=\"x\",D10=\"x\")),\"o\",\"\"))","v":""},{"$f":"IF(OR(C11=\"o\",D11=\"o\",E9=\"o\",E10=\"o\",E11=\"x\"),\"x\",IF(OR(E11=\"o\",AND(C11=\"x\",D11=\"x\"),AND(E9=\"x\",E10=\"x\")),\"o\",\"\"))","v":""}]
[]
["Chaque enfant n'aime qu' un seul jeu. "]
["Charles est plus âgé que Benoit. Celui qui joue au Rugby a juste 17 ans."]
["Albert qui n'est pas le plus jeune joue au Hand."]
["Retrouvez les jeux préférés et les âges des trois garçons . "]
[]
[null,"Réponses : se remplit seul, ne rien y écrire."]
[null,{"$f":"A6","v":"Prénom"},{"$f":"C4","v":"Âge"},{"$f":"F4","v":"Sport"},null,{"$f":"B19","v":"Prénom"},{"$f":"C19","v":"Âge"},"Sport"]
[null,{"$f":"B6","v":"Albert"},{"$f":"IF(C6=\"o\",C5,IF(D6=\"o\",D5,IF(E6=\"o\",E5,\"\")))","v":""},{"$f":"IF(F6=\"o\",F5,IF(G6=\"o\",G5,IF(H6=\"o\",H5,\"\")))","v":""},null,{"$f":"B20","v":"Albert"},19,"Hand"]
[null,{"$f":"B7","v":"Benoit"},{"$f":"IF(C7=\"o\",C5,IF(D7=\"o\",D5,IF(E7=\"o\",E5,\"\")))","v":""},{"$f":"IF(F7=\"o\",F5,IF(G7=\"o\",G5,IF(H7=\"o\",H5,\"\")))","v":""},null,"Benoit",15,"Foot"]
[null,"Charles",{"$f":"IF(C8=\"o\",C5,IF(D8=\"o\",D5,IF(E8=\"o\",E5,\"\")))","v":""},{"$f":"IF(F8=\"o\",F5,IF(G8=\"o\",G5,IF(H8=\"o\",H5,\"\")))","v":""},null,"Charles",17,"Rugby"]
["II°/ Trois mathématiciens :"]
[{"$f":"INDIRECT(\"'Calculs 3 indices'!B\"&A27)","v":""},null,null,null,null,{"$f":"INDIRECT(\"'Calculs 3 indices'!F\"&(A27+11))","v":""}]
[{"$f":"INDIRECT(\"'Calculs 3 indices'!B\"&(A27+11))","v":""},null,null,null,null,{"$f":"INDIRECT(\"'Calculs 3 indices'!F\"&(A27+12))","v":""}]
[null,null,"Ville",null,null,"Année de naissance",null,null,null,null,null,null,{"$f":"C26","v":"Ville"},null,null,{"$f":"F26","v":"Année de naissance"}]
[{"$f":"A5+24","v":25},null,"Perge","Syracuse","Cyréne",{"$f":"B31","v":"287 av J.C."},{"$f":"B32","v":"262 av J.C."},{"$f":"B33","v":"276 av J.C."},null,null,null,null,{"$f":"C27","v":"Perge"},{"$f":"D27","v":"Syracuse"},{"$f":"E27","v":"Cyréne"},{"$f":"F27","v":"287 av J.C."},{"$f":"G27","v":"262 av J.C."},{"$f":"H27","v":"276 av J.C."}]
["Nom","Eratosthène",null,null,null,null,null,null,null,null,{"$f":"A28","v":"Nom"},{"$f":"B28","v":"Eratosthène"},{"$f":"IF(OR(D28=\"o\",E28=\"o\",C29=\"o\",C30=\"o\",C28=\"x\"),\"x\",IF(OR(C28=\"o\",AND(D28=\"x\",E28=\"x\"),AND(C29=\"x\",C30=\"x\")),\"o\",\"\"))","v":""},{"$f":"IF(OR(C28=\"o\",E28=\"o\",D29=\"o\",D30=\"o\",D28=\"x\"),\"x\",IF(OR(D28=\"o\",AND(C28=\"x\",E28=\"x\"),AND(D29=\"x\",D30=\"x\")),\"o\",\"\"))","v":""},{"$f":"IF(OR(C28=\"o\",D28=\"o\",E29=\"o\",E30=\"o\",E28=\"x\"),\"x\",IF(OR(E28=\"o\",AND(C28=\"x\",D28=\"x\"),AND(E29=\"x\",E30=\"x\")),\"o\",\"\"))","v":""},{"$f":"IF(OR(G28=\"o\",H28=\"o\",F29=\"o\",F30=\"o\",F28=\"x\"),\"x\",IF(OR(F28=\"o\",AND(G28=\"x\",H28=\"x\"),AND(F29=\"x\",F30=\"x\")),\"o\",\"\"))","v":""},{"$f":"IF(OR(F28=\"o\",H28=\"o\",G29=\"o\",G30=\"o\",G28=\"x\"),\"x\",IF(OR(G28=\"o\",AND(F28=\"x\",H28=\"x\"),AND(G29=\"x\",G30=\"x\")),\"o\",\"\"))","v":""},{"$f":"IF(OR(F28=\"o\",G28=\"o\",H29=\"o\",H30=\"o\",H28=\"x\"),\"x\",IF(OR(H28=\"o\",AND(F28=\"x\",G28=\"x\"),AND(H29=\"x\",H30=\"x\")),\"o\",\"\"))","v":""}]
[null,"Archimède",null,null,null,null,null,null,null,null,null,{"$f":"B29","v":"Archimède"},{"$f":"IF(OR(D29=\"o\",E29=\"o\",C28=\"o\",C30=\"o\",C29=\"x\"),\"x\",IF(OR(C29=\"o\",AND(D29=\"x\",E29=\"x\"),AND(C28=\"x\",C30=\"x\")),\"o\",\"\"))","v":""},{"$f":"IF(OR(C29=\"o\",E29=\"o\",D28=\"o\",D30=\"o\",D29=\"x\"),\"x\",IF(OR(D29=\"o\",AND(C29=\"x\",E29=\"x\"),AND(D28=\"x\",D30=\"x\")),\"o\",\"\"))","v":""},{"$f":"IF(OR(C29=\"o\",D29=\"o\",E30=\"o\",E28=\"o\",E29=\"x\"),\"x\",IF(OR(E29=\"o\",AND(C29=\"x\",D29=\"x\"),AND(E28=\"x\",E30=\"x\")),\"o\",\"\"))","v":""},{"$f":"IF(OR(G29=\"o\",H29=\"o\",F28=\"o\",F30=\"o\",F29=\"x\"),\"x\",IF(OR(F29=\"o\",AND(G29=\"x\",H29=\"x\"),AND(F28=\"x\",F30=\"x\")),\"o\",\"\"))","v":""},{"$f":"IF(OR(F29=\"o\",H29=\"o\",G28=\"o\",G30=\"o\",G29=\"x\"),\"x\",IF(OR(G29=\"o\",AND(F29=\"x\",H29=\"x\"),AND(G28=\"x\",G30=\"x\")),\"o\",\"\"))","v":""},{"$f":"IF(OR(F29=\"o\",G29=\"o\",H28=\"o\",H30=\"o\",H29=\"x\"),\"x\",IF(OR(H29=\"o\",AND(F29=\"x\",G29=\"x\"),AND(H28=\"x\",H30=\"x\")),\"o\",\"\"))","v":""}]
[null,"Apollonius",null,null,null,null,null,null,null,null,null,"Apollonius",{"$f":"IF(OR(D30=\"o\",E30=\"o\",C28=\"o\",C29=\"o\",C30=\"x\"),\"x\",IF(OR(C30=\"o\",AND(D30=\"x\",E30=\"x\"),AND(C28=\"x\",C29=\"x\")),\"o\",\"\"))","v":""},{"$f":"IF(OR(C30=\"o\",E30=\"o\",D28=\"o\",D29=\"o\",D30=\"x\"),\"x\",IF(OR(D30=\"o\",AND(C30=\"x\",E30=\"x\"),AND(D28=\"x\",D29=\"x\")),\"o\",\"\"))","v":""},{"$f":"IF(OR(C30=\"o\",D30=\"o\",E28=\"o\",E29=\"o\",E30=\"x\"),\"x\",IF(OR(E30=\"o\",AND(C30=\"x\",D30=\"x\"),AND(E28=\"x\",E29=\"x\")),\"o\",\"\"))","v":""},{"$f":"IF(OR(G30=\"o\",H30=\"o\",F28=\"o\",F29=\"o\",F30=\"x\"),\"x\",IF(OR(F30=\"o\",AND(G30=\"x\",H30=\"x\"),AND(F28=\"x\",F29=\"x\")),\"o\",\"\"))","v":""},{"$f":"IF(OR(F30=\"o\",H30=\"o\",G28=\"o\",G29=\"o\",G30=\"x\"),\"x\",IF(OR(G30=\"o\",AND(F30=\"x\",H30=\"x\"),AND(G28=\"x\",G29=\"x\")),\"o\",\"\"))","v":""},{"$f":"IF(OR(F30=\"o\",G30=\"o\",H28=\"o\",H29=\"o\",H30=\"x\"),\"x\",IF(OR(H30=\"o\",AND(F30=\"x\",G30=\"x\"),AND(H28=\"x\",H29=\"x\")),\"o\",\"\"))","v":""}]
["Année","287 av J.C.",null,null,null,null,null,null,null,null,{"$f":"A31","v":"Année"},"287 av J.C.",{"$f":"IF(OR(D31=\"o\",E31=\"o\",C32=\"o\",C33=\"o\",C31=\"x\"),\"x\",IF(OR(C31=\"o\",AND(D31=\"x\",E31=\"x\"),AND(C32=\"x\",C33=\"x\")),\"o\",\"\"))","v":""},{"$f":"IF(OR(C31=\"o\",E31=\"o\",D32=\"o\",D33=\"o\",D31=\"x\"),\"x\",IF(OR(D31=\"o\",AND(C31=\"x\",E31=\"x\"),AND(D32=\"x\",D33=\"x\")),\"o\",\"\"))","v":""},{"$f":"IF(OR(C31=\"o\",D31=\"o\",E32=\"o\",E33=\"o\",E31=\"x\"),\"x\",IF(OR(E31=\"o\",AND(C31=\"x\",D31=\"x\"),AND(E32=\"x\",E33=\"x\")),\"o\",\"\"))","v":""}]
[null,"262 av J.C.",null,null,null,null,null,null,null,null,null,"262 av J.C.",{"$f":"IF(OR(D32=\"o\",E32=\"o\",C31=\"o\",C33=\"o\",C32=\"x\"),\"x\",IF(OR(C32=\"o\",AND(D32=\"x\",E32=\"x\"),AND(C31=\"x\",C33=\"x\")),\"o\",\"\"))","v":""},{"$f":"IF(OR(C32=\"o\",E32=\"o\",D31=\"o\",D33=\"o\",D32=\"x\"),\"x\",IF(OR(D32=\"o\",AND(C32=\"x\",E32=\"x\"),AND(D31=\"x\",D33=\"x\")),\"o\",\"\"))","v":""},{"$f":"IF(OR(C32=\"o\",D32=\"o\",E31=\"o\",E33=\"o\",E32=\"x\"),\"x\",IF(OR(E32=\"o\",AND(C32=\"x\",D32=\"x\"),AND(E31=\"x\",E33=\"x\")),\"o\",\"\"))","v":""}]
[null,"276 av J.C.",null,null,null,null,null,null,null,null,null,"276 av J.C.",{"$f":"IF(OR(D33=\"o\",E33=\"o\",C31=\"o\",C32=\"o\",C33=\"x\"),\"x\",IF(OR(C33=\"o\",AND(D33=\"x\",E33=\"x\"),AND(C31=\"x\",C32=\"x\")),\"o\",\"\"))","v":""},{"$f":"IF(OR(C33=\"o\",E33=\"o\",D31=\"o\",D32=\"o\",D33=\"x\"),\"x\",IF(OR(D33=\"o\",AND(C33=\"x\",E33=\"x\"),AND(D31=\"x\",D32=\"x\")),\"o\",\"\"))","v":""},{"$f":"IF(OR(C33=\"o\",D33=\"o\",E31=\"o\",E32=\"o\",E33=\"x\"),\"x\",IF(OR(E33=\"o\",AND(C33=\"x\",D33=\"x\"),AND(E31=\"x\",E32=\"x\")),\"o\",\"\"))","v":""}]
[]
["Eratosthène, Archimède et Apollonius sont 3 mathématiciens Grecs sont nés avant J.C. dans les villes de Perge , Syracuse et Cyrène."]
["En 276 avant J.C.à Cyrène naquit l'un d'entre eux mais ce n'est pas Archimède."]
["Apollonius est né à Perge, mais ce n'est pas le plus ancien des trois."]
["Trouver les villes et l'année de naissance de ces trois grand Mathématiciens."]
[]
[null,"Réponses : se remplit seul, ne rien y écrire."]
[null,{"$f":"A28","v":"Nom"},{"$f":"C26","v":"Ville"},{"$f":"F26","v":"Année de naissance"},null,{"$f":"B41","v":"Nom"},{"$f":"C41","v":"Ville"},{"$f":"D41","v":"Année de naissance"}]
[null,{"$f":"B28","v":"Eratosthène"},{"$f":"IF(C28=\"o\",C27,IF(D28=\"o\",D27,IF(E28=\"o\",E27,\"\")))","v":""},{"$f":"IF(F28=\"o\",F27,IF(G28=\"o\",G27,IF(H28=\"o\",H27,\"\")))","v":""},null,{"$f":"B42","v":"Eratosthène"},"Cyréne","276 av J.C."]
[null,{"$f":"B29","v":"Archimède"},{"$f":"IF(C29=\"o\",C27,IF(D29=\"o\",D27,IF(E29=\"o\",E27,\"\")))","v":""},{"$f":"IF(F29=\"o\",F27,IF(G29=\"o\",G27,IF(H29=\"o\",H27,\"\")))","v":""},null,"Archimède","Syracuse","287 av J.C."]
[null,"Apollonius",{"$f":"IF(C30=\"o\",C27,IF(D30=\"o\",D27,IF(E30=\"o\",E27,\"\")))","v":""},{"$f":"IF(F30=\"o\",F27,IF(G30=\"o\",G27,IF(H30=\"o\",H27,\"\")))","v":""},null,"Apollonius","Perge","262 av J.C."]
["III°/ Trois grandes tours :",null,null,{"$f":"'Calculs 3 indices'!B49","v":""},null,null,null,{"$f":"'Calculs 3 indices'!F60","v":""}]
[{"$f":"INDIRECT(\"'Calculs 3 indices'!B\"&A49)","v":""},null,null,null,null,{"$f":"INDIRECT(\"'Calculs 3 indices'!F\"&(A49+11))","v":""}]
[{"$f":"INDIRECT(\"'Calculs 3 indices'!B\"&(A49+11))","v":""},null,null,null,null,{"$f":"INDIRECT(\"'Calculs 3 indices'!F\"&(A49+12))","v":""}]
[null,null,"Hauteur",null,null,"Forme",null,null,null,null,null,null,{"$f":"C48","v":"Hauteur"},null,null,{"$f":"F48","v":"Forme"}]
[{"$f":"A27+24","v":49},null,"514,8 m","541 m","705 m",{"$f":"B53","v":"Hélicoïdale "},{"$f":"B54","v":"Hymenocallis"},{"$f":"B55","v":"Flèche en haut"},null,null,null,null,{"$f":"C49","v":"514,8 m"},{"$f":"D49","v":"541 m"},{"$f":"E49","v":"705 m"},{"$f":"F49","v":"Hélicoïdale "},{"$f":"G49","v":"Hymenocallis"},{"$f":"H49","v":"Flèche en haut"}]
["Pays","Emirats Arabes Unis",null,null,null,null,null,null,null,null,{"$f":"A50","v":"Pays"},{"$f":"B50","v":"Emirats Arabes Unis"},{"$f":"IF(OR(D50=\"o\",E50=\"o\",C51=\"o\",C52=\"o\",C50=\"x\"),\"x\",IF(OR(C50=\"o\",AND(D50=\"x\",E50=\"x\"),AND(C51=\"x\",C52=\"x\")),\"o\",\"\"))","v":""},{"$f":"IF(OR(C50=\"o\",E50=\"o\",D51=\"o\",D52=\"o\",D50=\"x\"),\"x\",IF(OR(D50=\"o\",AND(C50=\"x\",E50=\"x\"),AND(D51=\"x\",D52=\"x\")),\"o\",\"\"))","v":""},{"$f":"IF(OR(C50=\"o\",D50=\"o\",E51=\"o\",E52=\"o\",E50=\"x\"),\"x\",IF(OR(E50=\"o\",AND(C50=\"x\",D50=\"x\"),AND(E51=\"x\",E52=\"x\")),\"o\",\"\"))","v":""},{"$f":"IF(OR(G50=\"o\",H50=\"o\",F51=\"o\",F52=\"o\",F50=\"x\"),\"x\",IF(OR(F50=\"o\",AND(G50=\"x\",H50=\"x\"),AND(F51=\"x\",F52=\"x\")),\"o\",\"\"))","v":""},{"$f":"IF(OR(F50=\"o\",H50=\"o\",G51=\"o\",G52=\"o\",G50=\"x\"),\"x\",IF(OR(G50=\"o\",AND(F50=\"x\",H50=\"x\"),AND(G51=\"x\",G52=\"x\")),\"o\",\"\"))","v":""},{"$f":"IF(OR(F50=\"o\",G50=\"o\",H51=\"o\",H52=\"o\",H50=\"x\"),\"x\",IF(OR(H50=\"o\",AND(F50=\"x\",G50=\"x\"),AND(H51=\"x\",H52=\"x\")),\"o\",\"\"))","v":""}]
[null,"Chine",null,null,null,null,null,null,null,null,null,{"$f":"B51","v":"Chine"},{"$f":"IF(OR(D51=\"o\",E51=\"o\",C50=\"o\",C52=\"o\",C51=\"x\"),\"x\",IF(OR(C51=\"o\",AND(D51=\"x\",E51=\"x\"),AND(C50=\"x\",C52=\"x\")),\"o\",\"\"))","v":""},{"$f":"IF(OR(C51=\"o\",E51=\"o\",D50=\"o\",D52=\"o\",D51=\"x\"),\"x\",IF(OR(D51=\"o\",AND(C51=\"x\",E51=\"x\"),AND(D50=\"x\",D52=\"x\")),\"o\",\"\"))","v":""},{"$f":"IF(OR(C51=\"o\",D51=\"o\",E52=\"o\",E50=\"o\",E51=\"x\"),\"x\",IF(OR(E51=\"o\",AND(C51=\"x\",D51=\"x\"),AND(E50=\"x\",E52=\"x\")),\"o\",\"\"))","v":""},{"$f":"IF(OR(G51=\"o\",H51=\"o\",F50=\"o\",F52=\"o\",F51=\"x\"),\"x\",IF(OR(F51=\"o\",AND(G51=\"x\",H51=\"x\"),AND(F50=\"x\",F52=\"x\")),\"o\",\"\"))","v":""},{"$f":"IF(OR(F51=\"o\",H51=\"o\",G50=\"o\",G52=\"o\",G51=\"x\"),\"x\",IF(OR(G51=\"o\",AND(F51=\"x\",H51=\"x\"),AND(G50=\"x\",G52=\"x\")),\"o\",\"\"))","v":""},{"$f":"IF(OR(F51=\"o\",G51=\"o\",H50=\"o\",H52=\"o\",H51=\"x\"),\"x\",IF(OR(H51=\"o\",AND(F51=\"x\",G51=\"x\"),AND(H50=\"x\",H52=\"x\")),\"o\",\"\"))","v":""}]
[null,"Etats-Unis",null,null,null,null,null,null,null,null,null,"Etats-Unis",{"$f":"IF(OR(D52=\"o\",E52=\"o\",C50=\"o\",C51=\"o\",C52=\"x\"),\"x\",IF(OR(C52=\"o\",AND(D52=\"x\",E52=\"x\"),AND(C50=\"x\",C51=\"x\")),\"o\",\"\"))","v":""},{"$f":"IF(OR(C52=\"o\",E52=\"o\",D50=\"o\",D51=\"o\",D52=\"x\"),\"x\",IF(OR(D52=\"o\",AND(C52=\"x\",E52=\"x\"),AND(D50=\"x\",D51=\"x\")),\"o\",\"\"))","v":""},{"$f":"IF(OR(C52=\"o\",D52=\"o\",E50=\"o\",E51=\"o\",E52=\"x\"),\"x\",IF(OR(E52=\"o\",AND(C52=\"x\",D52=\"x\"),AND(E50=\"x\",E51=\"x\")),\"o\",\"\"))","v":""},{"$f":"IF(OR(G52=\"o\",H52=\"o\",F50=\"o\",F51=\"o\",F52=\"x\"),\"x\",IF(OR(F52=\"o\",AND(G52=\"x\",H52=\"x\"),AND(F50=\"x\",F51=\"x\")),\"o\",\"\"))","v":""},{"$f":"IF(OR(F52=\"o\",H52=\"o\",G50=\"o\",G51=\"o\",G52=\"x\"),\"x\",IF(OR(G52=\"o\",AND(F52=\"x\",H52=\"x\"),AND(G50=\"x\",G51=\"x\")),\"o\",\"\"))","v":""},{"$f":"IF(OR(F52=\"o\",G52=\"o\",H50=\"o\",H51=\"o\",H52=\"x\"),\"x\",IF(OR(H52=\"o\",AND(F52=\"x\",G52=\"x\"),AND(H50=\"x\",H51=\"x\")),\"o\",\"\"))","v":""}]
["Forme","Hélicoïdale ",null,null,null,null,null,null,null,null,{"$f":"A53","v":"Forme"},"Hélicoïdale ",{"$f":"IF(OR(D53=\"o\",E53=\"o\",C54=\"o\",C55=\"o\",C53=\"x\"),\"x\",IF(OR(C53=\"o\",AND(D53=\"x\",E53=\"x\"),AND(C54=\"x\",C55=\"x\")),\"o\",\"\"))","v":""},{"$f":"IF(OR(C53=\"o\",E53=\"o\",D54=\"o\",D55=\"o\",D53=\"x\"),\"x\",IF(OR(D53=\"o\",AND(C53=\"x\",E53=\"x\"),AND(D54=\"x\",D55=\"x\")),\"o\",\"\"))","v":""},{"$f":"IF(OR(C53=\"o\",D53=\"o\",E54=\"o\",E55=\"o\",E53=\"x\"),\"x\",IF(OR(E53=\"o\",AND(C53=\"x\",D53=\"x\"),AND(E54=\"x\",E55=\"x\")),\"o\",\"\"))","v":""}]
[null,"Hymenocallis",null,null,null,null,{"$f":"IF(AND(C64=G64,D64=H64,C65=G65,D65=H65,C66=G66,D66=H66),\"BRAVO !!\",\"\")","v":""},null,null,null,null,"Hymenocallis",{"$f":"IF(OR(D54=\"o\",E54=\"o\",C53=\"o\",C55=\"o\",C54=\"x\"),\"x\",IF(OR(C54=\"o\",AND(D54=\"x\",E54=\"x\"),AND(C53=\"x\",C55=\"x\")),\"o\",\"\"))","v":""},{"$f":"IF(OR(C54=\"o\",E54=\"o\",D53=\"o\",D55=\"o\",D54=\"x\"),\"x\",IF(OR(D54=\"o\",AND(C54=\"x\",E54=\"x\"),AND(D53=\"x\",D55=\"x\")),\"o\",\"\"))","v":""},{"$f":"IF(OR(C54=\"o\",D54=\"o\",E53=\"o\",E55=\"o\",E54=\"x\"),\"x\",IF(OR(E54=\"o\",AND(C54=\"x\",D54=\"x\"),AND(E53=\"x\",E55=\"x\")),\"o\",\"\"))","v":""}]
[null,"Flèche en haut",null,null,null,null,null,null,null,null,null,"Flèche en haut",{"$f":"IF(OR(D55=\"o\",E55=\"o\",C53=\"o\",C54=\"o\",C55=\"x\"),\"x\",IF(OR(C55=\"o\",AND(D55=\"x\",E55=\"x\"),AND(C53=\"x\",C54=\"x\")),\"o\",\"\"))","v":""},{"$f":"IF(OR(C55=\"o\",E55=\"o\",D53=\"o\",D54=\"o\",D55=\"x\"),\"x\",IF(OR(D55=\"o\",AND(C55=\"x\",E55=\"x\"),AND(D53=\"x\",D54=\"x\")),\"o\",\"\"))","v":""},{"$f":"IF(OR(C55=\"o\",D55=\"o\",E53=\"o\",E54=\"o\",E55=\"x\"),\"x\",IF(OR(E55=\"o\",AND(C55=\"x\",D55=\"x\"),AND(E53=\"x\",E54=\"x\")),\"o\",\"\"))","v":""}]
[]
["Trois futures grandes tours vont être construites dans les trois pays suivants : Chine, Etats-Unis, Emirats Arabes Unis."]
["Elles seront terminées au alentour de 2010 ( 2008 pour la plus grande ), mais combien mesurent - t-elle ? et quelle est leur forme ?"]
["La future Tour \"Guangzhou Twin Towers\" de 514,8 m sera construite à Shangaï en Chine, mais n'est pas inspirée du Hymenocallis."]
["La tour surmontée d'une flèche ne sera pas la plus grande du monde ni la plus petite."]
["La plus grande tour ne sera pas construite au Etats-Unis."]
[null,"Réponses : se remplit seul, ne rien y écrire."]
[null,{"$f":"A50","v":"Pays"},{"$f":"C48","v":"Hauteur"},{"$f":"F48","v":"Forme"},null,{"$f":"B63","v":"Pays"},{"$f":"C63","v":"Hauteur"},{"$f":"D63","v":"Forme"}]
[null,{"$f":"B50","v":"Emirats Arabes Unis"},{"$f":"IF(C50=\"o\",C49,IF(D50=\"o\",D49,IF(E50=\"o\",E49,\"\")))","v":""},{"$f":"IF(F50=\"o\",F49,IF(G50=\"o\",G49,IF(H50=\"o\",H49,\"\")))","v":""},null,{"$f":"B64","v":"Emirats Arabes Unis"},705,"Hymenocallis"]
[null,{"$f":"B51","v":"Chine"},{"$f":"IF(C51=\"o\",C49,IF(D51=\"o\",D49,IF(E51=\"o\",E49,\"\")))","v":""},{"$f":"IF(F51=\"o\",F49,IF(G51=\"o\",G49,IF(H51=\"o\",H49,\"\")))","v":""},null,"Chine",514.79999999999995,"Hélicoïdale "]
[null,"Etats-Unis",{"$f":"IF(C52=\"o\",C49,IF(D52=\"o\",D49,IF(E52=\"o\",E49,\"\")))","v":""},{"$f":"IF(F52=\"o\",F49,IF(G52=\"o\",G49,IF(H52=\"o\",H49,\"\")))","v":""},null,"Etats-Unis",541,"Flèche en haut"]
["IV°/ Les pierres précieuses :"]
[{"$f":"INDIRECT(\"'Calculs 3 indices'!B\"&A71)","v":""},null,null,null,null,{"$f":"INDIRECT(\"'Calculs 3 indices'!F\"&(A71+11))","v":""}]
[{"$f":"INDIRECT(\"'Calculs 3 indices'!B\"&(A71+11))","v":""},null,null,null,null,{"$f":"INDIRECT(\"'Calculs 3 indices'!F\"&(A71+12))","v":""}]
[null,null,"Dureté",null,null,"Composition",null,null,null,null,null,null,{"$f":"C70","v":"Dureté"},null,null,{"$f":"F70","v":"Composition"}]
[{"$f":"A49+24","v":73},null,7.5,9,10,{"$f":"B75","v":"Silicate d'Aluminium et de Béryllium"},{"$f":"B76","v":"Carbone"},{"$f":"B77","v":"Oxyde d'Aluminium"},null,null,null,null,{"$f":"C71","v":7.5},{"$f":"D71","v":9},{"$f":"E71","v":10},{"$f":"F71","v":"Silicate d'Aluminium et de Béryllium"},{"$f":"G71","v":"Carbone"},{"$f":"H71","v":"Oxyde d'Aluminium"}]
["Pierre","Saphir & Rubis",null,null,null,null,null,null,null,null,{"$f":"A72","v":"Pierre"},{"$f":"B72","v":"Saphir & Rubis"},{"$f":"IF(OR(D72=\"o\",E72=\"o\",C73=\"o\",C74=\"o\",C72=\"x\"),\"x\",IF(OR(C72=\"o\",AND(D72=\"x\",E72=\"x\"),AND(C73=\"x\",C74=\"x\")),\"o\",\"\"))","v":""},{"$f":"IF(OR(C72=\"o\",E72=\"o\",D73=\"o\",D74=\"o\",D72=\"x\"),\"x\",IF(OR(D72=\"o\",AND(C72=\"x\",E72=\"x\"),AND(D73=\"x\",D74=\"x\")),\"o\",\"\"))","v":""},{"$f":"IF(OR(C72=\"o\",D72=\"o\",E73=\"o\",E74=\"o\",E72=\"x\"),\"x\",IF(OR(E72=\"o\",AND(C72=\"x\",D72=\"x\"),AND(E73=\"x\",E74=\"x\")),\"o\",\"\"))","v":""},{"$f":"IF(OR(G72=\"o\",H72=\"o\",F73=\"o\",F74=\"o\",F72=\"x\"),\"x\",IF(OR(F72=\"o\",AND(G72=\"x\",H72=\"x\"),AND(F73=\"x\",F74=\"x\")),\"o\",\"\"))","v":""},{"$f":"IF(OR(F72=\"o\",H72=\"o\",G73=\"o\",G74=\"o\",G72=\"x\"),\"x\",IF(OR(G72=\"o\",AND(F72=\"x\",H72=\"x\"),AND(G73=\"x\",G74=\"x\")),\"o\",\"\"))","v":""},{"$f":"IF(OR(F72=\"o\",G72=\"o\",H73=\"o\",H74=\"o\",H72=\"x\"),\"x\",IF(OR(H72=\"o\",AND(F72=\"x\",G72=\"x\"),AND(H73=\"x\",H74=\"x\")),\"o\",\"\"))","v":""}]
[null,"L'Emeraude",null,null,null,null,null,null,null,null,null,{"$f":"B73","v":"L'Emeraude"},{"$f":"IF(OR(D73=\"o\",E73=\"o\",C72=\"o\",C74=\"o\",C73=\"x\"),\"x\",IF(OR(C73=\"o\",AND(D73=\"x\",E73=\"x\"),AND(C72=\"x\",C74=\"x\")),\"o\",\"\"))","v":""},{"$f":"IF(OR(C73=\"o\",E73=\"o\",D72=\"o\",D74=\"o\",D73=\"x\"),\"x\",IF(OR(D73=\"o\",AND(C73=\"x\",E73=\"x\"),AND(D72=\"x\",D74=\"x\")),\"o\",\"\"))","v":""},{"$f":"IF(OR(C73=\"o\",D73=\"o\",E74=\"o\",E72=\"o\",E73=\"x\"),\"x\",IF(OR(E73=\"o\",AND(C73=\"x\",D73=\"x\"),AND(E72=\"x\",E74=\"x\")),\"o\",\"\"))","v":""},{"$f":"IF(OR(G73=\"o\",H73=\"o\",F72=\"o\",F74=\"o\",F73=\"x\"),\"x\",IF(OR(F73=\"o\",AND(G73=\"x\",H73=\"x\"),AND(F72=\"x\",F74=\"x\")),\"o\",\"\"))","v":""},{"$f":"IF(OR(F73=\"o\",H73=\"o\",G72=\"o\",G74=\"o\",G73=\"x\"),\"x\",IF(OR(G73=\"o\",AND(F73=\"x\",H73=\"x\"),AND(G72=\"x\",G74=\"x\")),\"o\",\"\"))","v":""},{"$f":"IF(OR(F73=\"o\",G73=\"o\",H72=\"o\",H74=\"o\",H73=\"x\"),\"x\",IF(OR(H73=\"o\",AND(F73=\"x\",G73=\"x\"),AND(H72=\"x\",H74=\"x\")),\"o\",\"\"))","v":""}]
[null,"Diamant",null,null,null,null,null,null,null,null,null,"Diamant",{"$f":"IF(OR(D74=\"o\",E74=\"o\",C72=\"o\",C73=\"o\",C74=\"x\"),\"x\",IF(OR(C74=\"o\",AND(D74=\"x\",E74=\"x\"),AND(C72=\"x\",C73=\"x\")),\"o\",\"\"))","v":""},{"$f":"IF(OR(C74=\"o\",E74=\"o\",D72=\"o\",D73=\"o\",D74=\"x\"),\"x\",IF(OR(D74=\"o\",AND(C74=\"x\",E74=\"x\"),AND(D72=\"x\",D73=\"x\")),\"o\",\"\"))","v":""},{"$f":"IF(OR(C74=\"o\",D74=\"o\",E72=\"o\",E73=\"o\",E74=\"x\"),\"x\",IF(OR(E74=\"o\",AND(C74=\"x\",D74=\"x\"),AND(E72=\"x\",E73=\"x\")),\"o\",\"\"))","v":""},{"$f":"IF(OR(G74=\"o\",H74=\"o\",F72=\"o\",F73=\"o\",F74=\"x\"),\"x\",IF(OR(F74=\"o\",AND(G74=\"x\",H74=\"x\"),AND(F72=\"x\",F73=\"x\")),\"o\",\"\"))","v":""},{"$f":"IF(OR(F74=\"o\",H74=\"o\",G72=\"o\",G73=\"o\",G74=\"x\"),\"x\",IF(OR(G74=\"o\",AND(F74=\"x\",H74=\"x\"),AND(G72=\"x\",G73=\"x\")),\"o\",\"\"))","v":""},{"$f":"IF(OR(F74=\"o\",G74=\"o\",H72=\"o\",H73=\"o\",H74=\"x\"),\"x\",IF(OR(H74=\"o\",AND(F74=\"x\",G74=\"x\"),AND(H72=\"x\",H73=\"x\")),\"o\",\"\"))","v":""}]
["Composition","Silicate d'Aluminium et de Béryllium",null,null,null,null,null,null,null,null,{"$f":"A75","v":"Composition"},"Silicate d'Aluminium et de Béryllium",{"$f":"IF(OR(D75=\"o\",E75=\"o\",C76=\"o\",C77=\"o\",C75=\"x\"),\"x\",IF(OR(C75=\"o\",AND(D75=\"x\",E75=\"x\"),AND(C76=\"x\",C77=\"x\")),\"o\",\"\"))","v":""},{"$f":"IF(OR(C75=\"o\",E75=\"o\",D76=\"o\",D77=\"o\",D75=\"x\"),\"x\",IF(OR(D75=\"o\",AND(C75=\"x\",E75=\"x\"),AND(D76=\"x\",D77=\"x\")),\"o\",\"\"))","v":""},{"$f":"IF(OR(C75=\"o\",D75=\"o\",E76=\"o\",E77=\"o\",E75=\"x\"),\"x\",IF(OR(E75=\"o\",AND(C75=\"x\",D75=\"x\"),AND(E76=\"x\",E77=\"x\")),\"o\",\"\"))","v":""}]
[null,"Carbone",null,null,null,null,{"$f":"IF(AND(C86=G86,D86=H86,C87=G87,D87=H87,C88=G88,D88=H88),\"BRAVO !!\",\"\")","v":""},null,null,null,null,"Carbone",{"$f":"IF(OR(D76=\"o\",E76=\"o\",C75=\"o\",C77=\"o\",C76=\"x\"),\"x\",IF(OR(C76=\"o\",AND(D76=\"x\",E76=\"x\"),AND(C75=\"x\",C77=\"x\")),\"o\",\"\"))","v":""},{"$f":"IF(OR(C76=\"o\",E76=\"o\",D75=\"o\",D77=\"o\",D76=\"x\"),\"x\",IF(OR(D76=\"o\",AND(C76=\"x\",E76=\"x\"),AND(D75=\"x\",D77=\"x\")),\"o\",\"\"))","v":""},{"$f":"IF(OR(C76=\"o\",D76=\"o\",E75=\"o\",E77=\"o\",E76=\"x\"),\"x\",IF(OR(E76=\"o\",AND(C76=\"x\",D76=\"x\"),AND(E75=\"x\",E77=\"x\")),\"o\",\"\"))","v":""}]
[null,"Oxyde d'Aluminium",null,null,null,null,null,null,null,null,null,"Oxyde d'Aluminium",{"$f":"IF(OR(D77=\"o\",E77=\"o\",C75=\"o\",C76=\"o\",C77=\"x\"),\"x\",IF(OR(C77=\"o\",AND(D77=\"x\",E77=\"x\"),AND(C75=\"x\",C76=\"x\")),\"o\",\"\"))","v":""},{"$f":"IF(OR(C77=\"o\",E77=\"o\",D75=\"o\",D76=\"o\",D77=\"x\"),\"x\",IF(OR(D77=\"o\",AND(C77=\"x\",E77=\"x\"),AND(D75=\"x\",D76=\"x\")),\"o\",\"\"))","v":""},{"$f":"IF(OR(C77=\"o\",D77=\"o\",E75=\"o\",E76=\"o\",E77=\"x\"),\"x\",IF(OR(E77=\"o\",AND(C77=\"x\",D77=\"x\"),AND(E75=\"x\",E76=\"x\")),\"o\",\"\"))","v":""}]
[]
["le Saphir, le Rubis ( qui ont la même composition mais sont de couleurs différentes, bleu pour le Saphir et rouge pour le Rubis ) , "]
["le Diamant ( transparent ) et l' Emeraude ( couleur verte ) ."]
["La pierre précieuse composée de d' Oxyde d'Aluminium qui a une dureté de 9 n'est pas l'Emeraude."]
["Le Diamant est la plus dure des pierres précieuses, il n'est pas composé de Silicate d'Aluminium et de Béryllium."]
["Mais savez vous de quoi sont composées ces 4 pierres et savez vous les classer de la moins dure à la plus dure ?"]
[null,"Réponses : se remplit seul, ne rien y écrire."]
[null,{"$f":"A72","v":"Pierre"},{"$f":"C70","v":"Dureté"},{"$f":"F70","v":"Composition"},null,{"$f":"B85","v":"Pierre"},{"$f":"C85","v":"Dureté"},{"$f":"D85","v":"Composition"}]
[null,{"$f":"B72","v":"Saphir & Rubis"},{"$f":"IF(C72=\"o\",C71,IF(D72=\"o\",D71,IF(E72=\"o\",E71,\"\")))","v":""},{"$f":"IF(F72=\"o\",F71,IF(G72=\"o\",G71,IF(H72=\"o\",H71,\"\")))","v":""},null,{"$f":"B86","v":"Saphir & Rubis"},9,"Oxyde d'Aluminium"]
[null,{"$f":"B73","v":"L'Emeraude"},{"$f":"IF(C73=\"o\",C71,IF(D73=\"o\",D71,IF(E73=\"o\",E71,\"\")))","v":""},{"$f":"IF(F73=\"o\",F71,IF(G73=\"o\",G71,IF(H73=\"o\",H71,\"\")))","v":""},null,"L'Emeraude",7.5,"Silicate d'Aluminium et de Béryllium"]
[null,"Diamant",{"$f":"IF(C74=\"o\",C71,IF(D74=\"o\",D71,IF(E74=\"o\",E71,\"\")))","v":""},{"$f":"IF(F74=\"o\",F71,IF(G74=\"o\",G71,IF(H74=\"o\",H71,\"\")))","v":""},null,"Diamant",10,"Carbone"]
["V°/ Les patisseries :"]
[{"$f":"INDIRECT(\"'Calculs 3 indices'!B\"&A93)","v":""},null,null,null,null,{"$f":"INDIRECT(\"'Calculs 3 indices'!F\"&(A93+11))","v":""}]
[{"$f":"INDIRECT(\"'Calculs 3 indices'!B\"&(A93+11))","v":""},null,null,null,null,{"$f":"INDIRECT(\"'Calculs 3 indices'!F\"&(A93+12))","v":""}]
[null,null,"Région",null,null,"Type",null,null,null,null,null,null,{"$f":"C92","v":"Région"},null,null,{"$f":"F92","v":"Type"}]
[{"$f":"A71+24","v":97},null,"Bresse","Isére","Bourgogne",{"$f":"B97","v":"Viennoiserie"},{"$f":"B98","v":"Confiture"},{"$f":"B99","v":"Tourte"},null,null,null,null,{"$f":"C93","v":"Bresse"},{"$f":"D93","v":"Isére"},{"$f":"E93","v":"Bourgogne"},{"$f":"F93","v":"Viennoiserie"},{"$f":"G93","v":"Confiture"},{"$f":"H93","v":"Tourte"}]
["Gâteau","Ruifard",null,null,null,null,null,null,null,null,{"$f":"A94","v":"Gâteau"},{"$f":"B94","v":"Ruifard"},{"$f":"IF(OR(D94=\"o\",E94=\"o\",C95=\"o\",C96=\"o\",C94=\"x\"),\"x\",IF(OR(C94=\"o\",AND(D94=\"x\",E94=\"x\"),AND(C95=\"x\",C96=\"x\")),\"o\",\"\"))","v":""},{"$f":"IF(OR(C94=\"o\",E94=\"o\",D95=\"o\",D96=\"o\",D94=\"x\"),\"x\",IF(OR(D94=\"o\",AND(C94=\"x\",E94=\"x\"),AND(D95=\"x\",D96=\"x\")),\"o\",\"\"))","v":""},{"$f":"IF(OR(C94=\"o\",D94=\"o\",E95=\"o\",E96=\"o\",E94=\"x\"),\"x\",IF(OR(E94=\"o\",AND(C94=\"x\",D94=\"x\"),AND(E95=\"x\",E96=\"x\")),\"o\",\"\"))","v":""},{"$f":"IF(OR(G94=\"o\",H94=\"o\",F95=\"o\",F96=\"o\",F94=\"x\"),\"x\",IF(OR(F94=\"o\",AND(G94=\"x\",H94=\"x\"),AND(F95=\"x\",F96=\"x\")),\"o\",\"\"))","v":""},{"$f":"IF(OR(F94=\"o\",H94=\"o\",G95=\"o\",G96=\"o\",G94=\"x\"),\"x\",IF(OR(G94=\"o\",AND(F94=\"x\",H94=\"x\"),AND(G95=\"x\",G96=\"x\")),\"o\",\"\"))","v":""},{"$f":"IF(OR(F94=\"o\",G94=\"o\",H95=\"o\",H96=\"o\",H94=\"x\"),\"x\",IF(OR(H94=\"o\",AND(F94=\"x\",G94=\"x\"),AND(H95=\"x\",H96=\"x\")),\"o\",\"\"))","v":""}]
[null,"Cramaillotte",null,null,null,null,null,null,null,null,null,{"$f":"B95","v":"Cramaillotte"},{"$f":"IF(OR(D95=\"o\",E95=\"o\",C94=\"o\",C96=\"o\",C95=\"x\"),\"x\",IF(OR(C95=\"o\",AND(D95=\"x\",E95=\"x\"),AND(C94=\"x\",C96=\"x\")),\"o\",\"\"))","v":""},{"$f":"IF(OR(C95=\"o\",E95=\"o\",D94=\"o\",D96=\"o\",D95=\"x\"),\"x\",IF(OR(D95=\"o\",AND(C95=\"x\",E95=\"x\"),AND(D94=\"x\",D96=\"x\")),\"o\",\"\"))","v":""},{"$f":"IF(OR(C95=\"o\",D95=\"o\",E96=\"o\",E94=\"o\",E95=\"x\"),\"x\",IF(OR(E95=\"o\",AND(C95=\"x\",D95=\"x\"),AND(E94=\"x\",E96=\"x\")),\"o\",\"\"))","v":""},{"$f":"IF(OR(G95=\"o\",H95=\"o\",F94=\"o\",F96=\"o\",F95=\"x\"),\"x\",IF(OR(F95=\"o\",AND(G95=\"x\",H95=\"x\"),AND(F94=\"x\",F96=\"x\")),\"o\",\"\"))","v":""},{"$f":"IF(OR(F95=\"o\",H95=\"o\",G94=\"o\",G96=\"o\",G95=\"x\"),\"x\",IF(OR(G95=\"o\",AND(F95=\"x\",H95=\"x\"),AND(G94=\"x\",G96=\"x\")),\"o\",\"\"))","v":""},{"$f":"IF(OR(F95=\"o\",G95=\"o\",H94=\"o\",H96=\"o\",H95=\"x\"),\"x\",IF(OR(H95=\"o\",AND(F95=\"x\",G95=\"x\"),AND(H94=\"x\",H96=\"x\")),\"o\",\"\"))","v":""}]
[null,"Corniotte",null,null,null,null,null,null,null,null,null,"Corniotte",{"$f":"IF(OR(D96=\"o\",E96=\"o\",C94=\"o\",C95=\"o\",C96=\"x\"),\"x\",IF(OR(C96=\"o\",AND(D96=\"x\",E96=\"x\"),AND(C94=\"x\",C95=\"x\")),\"o\",\"\"))","v":""},{"$f":"IF(OR(C96=\"o\",E96=\"o\",D94=\"o\",D95=\"o\",D96=\"x\"),\"x\",IF(OR(D96=\"o\",AND(C96=\"x\",E96=\"x\"),AND(D94=\"x\",D95=\"x\")),\"o\",\"\"))","v":""},{"$f":"IF(OR(C96=\"o\",D96=\"o\",E94=\"o\",E95=\"o\",E96=\"x\"),\"x\",IF(OR(E96=\"o\",AND(C96=\"x\",D96=\"x\"),AND(E94=\"x\",E95=\"x\")),\"o\",\"\"))","v":""},{"$f":"IF(OR(G96=\"o\",H96=\"o\",F94=\"o\",F95=\"o\",F96=\"x\"),\"x\",IF(OR(F96=\"o\",AND(G96=\"x\",H96=\"x\"),AND(F94=\"x\",F95=\"x\")),\"o\",\"\"))","v":""},{"$f":"IF(OR(F96=\"o\",H96=\"o\",G94=\"o\",G95=\"o\",G96=\"x\"),\"x\",IF(OR(G96=\"o\",AND(F96=\"x\",H96=\"x\"),AND(G94=\"x\",G95=\"x\")),\"o\",\"\"))","v":""},{"$f":"IF(OR(F96=\"o\",G96=\"o\",H94=\"o\",H95=\"o\",H96=\"x\"),\"x\",IF(OR(H96=\"o\",AND(F96=\"x\",G96=\"x\"),AND(H94=\"x\",H95=\"x\")),\"o\",\"\"))","v":""}]
["Type","Viennoiserie",null,null,null,null,null,null,null,null,{"$f":"A97","v":"Type"},"Viennoiserie",{"$f":"IF(OR(D97=\"o\",E97=\"o\",C98=\"o\",C99=\"o\",C97=\"x\"),\"x\",IF(OR(C97=\"o\",AND(D97=\"x\",E97=\"x\"),AND(C98=\"x\",C99=\"x\")),\"o\",\"\"))","v":""},{"$f":"IF(OR(C97=\"o\",E97=\"o\",D98=\"o\",D99=\"o\",D97=\"x\"),\"x\",IF(OR(D97=\"o\",AND(C97=\"x\",E97=\"x\"),AND(D98=\"x\",D99=\"x\")),\"o\",\"\"))","v":""},{"$f":"IF(OR(C97=\"o\",D97=\"o\",E98=\"o\",E99=\"o\",E97=\"x\"),\"x\",IF(OR(E97=\"o\",AND(C97=\"x\",D97=\"x\"),AND(E98=\"x\",E99=\"x\")),\"o\",\"\"))","v":""}]
[null,"Confiture",null,null,null,null,{"$f":"IF(AND(C108=G108,D108=H108,C109=G109,D109=H109,C110=G110,D110=H110),\"BRAVO !!\",\"\")","v":""},null,null,null,null,"Confiture",{"$f":"IF(OR(D98=\"o\",E98=\"o\",C97=\"o\",C99=\"o\",C98=\"x\"),\"x\",IF(OR(C98=\"o\",AND(D98=\"x\",E98=\"x\"),AND(C97=\"x\",C99=\"x\")),\"o\",\"\"))","v":""},{"$f":"IF(OR(C98=\"o\",E98=\"o\",D97=\"o\",D99=\"o\",D98=\"x\"),\"x\",IF(OR(D98=\"o\",AND(C98=\"x\",E98=\"x\"),AND(D97=\"x\",D99=\"x\")),\"o\",\"\"))","v":""},{"$f":"IF(OR(C98=\"o\",D98=\"o\",E97=\"o\",E99=\"o\",E98=\"x\"),\"x\",IF(OR(E98=\"o\",AND(C98=\"x\",D98=\"x\"),AND(E97=\"x\",E99=\"x\")),\"o\",\"\"))","v":""}]
[null,"Tourte",null,null,null,null,null,null,null,null,null,"Tourte",{"$f":"IF(OR(D99=\"o\",E99=\"o\",C97=\"o\",C98=\"o\",C99=\"x\"),\"x\",IF(OR(C99=\"o\",AND(D99=\"x\",E99=\"x\"),AND(C97=\"x\",C98=\"x\")),\"o\",\"\"))","v":""},{"$f":"IF(OR(C99=\"o\",E99=\"o\",D97=\"o\",D98=\"o\",D99=\"x\"),\"x\",IF(OR(D99=\"o\",AND(C99=\"x\",E99=\"x\"),AND(D97=\"x\",D98=\"x\")),\"o\",\"\"))","v":""},{"$f":"IF(OR(C99=\"o\",D99=\"o\",E97=\"o\",E98=\"o\",E99=\"x\"),\"x\",IF(OR(E99=\"o\",AND(C99=\"x\",D99=\"x\"),AND(E97=\"x\",E98=\"x\")),\"o\",\"\"))","v":""}]
[]
["Chaque région de France possède sa spécialité patissière."]
["La tourte vient d'Isére."]
["La cramaillotte de Bourgogne n'est pas une Viennoiserie ."]
["En Bresse on ne connait pas le Ruifard, qui n'est pas une confiture, ni la cramaillotte."]
[]
[null,"Réponses : se remplit seul, ne rien y écrire."]
[null,{"$f":"A94","v":"Gâteau"},{"$f":"C92","v":"Région"},{"$f":"F92","v":"Type"},null,{"$f":"B107","v":"Gâteau"},{"$f":"C107","v":"Région"},{"$f":"D107","v":"Type"}]
[null,{"$f":"B94","v":"Ruifard"},{"$f":"IF(C94=\"o\",C93,IF(D94=\"o\",D93,IF(E94=\"o\",E93,\"\")))","v":""},{"$f":"IF(F94=\"o\",F93,IF(G94=\"o\",G93,IF(H94=\"o\",H93,\"\")))","v":""},null,{"$f":"B108","v":"Ruifard"},"Isére","Tourte"]
[null,{"$f":"B95","v":"Cramaillotte"},{"$f":"IF(C95=\"o\",C93,IF(D95=\"o\",D93,IF(E95=\"o\",E93,\"\")))","v":""},{"$f":"IF(F95=\"o\",F93,IF(G95=\"o\",G93,IF(H95=\"o\",H93,\"\")))","v":""},null,"Cramaillotte","Bourgogne","Confiture"]
[null,"Corniotte",{"$f":"IF(C96=\"o\",C93,IF(D96=\"o\",D93,IF(E96=\"o\",E93,\"\")))","v":""},{"$f":"IF(F96=\"o\",F93,IF(G96=\"o\",G93,IF(H96=\"o\",H93,\"\")))","v":""},null,"Corniotte","Bresse","Viennoiserie"]
["VI°/ Les sports préférés :"]
[{"$f":"INDIRECT(\"'Calculs 3 indices'!B\"&A115)","v":""},null,null,null,null,{"$f":"INDIRECT(\"'Calculs 3 indices'!F\"&(A115+11))","v":""}]
[{"$f":"INDIRECT(\"'Calculs 3 indices'!B\"&(A115+11))","v":""},null,null,null,null,{"$f":"INDIRECT(\"'Calculs 3 indices'!F\"&(A115+12))","v":""}]
[null,null,"Métier",null,null,"Situation",null,null,null,null,null,null,{"$f":"C114","v":"Métier"},null,null,{"$f":"F114","v":"Situation"}]
[{"$f":"A93+24","v":121},null,"Dentiste","Comptable","Sage femme","Célibataire","Marié-ée","Fiancé-ée",null,null,null,null,{"$f":"C115","v":"Dentiste"},{"$f":"D115","v":"Comptable"},{"$f":"E115","v":"Sage femme"},{"$f":"F115","v":"Célibataire"},{"$f":"G115","v":"Marié-ée"},{"$f":"H115","v":"Fiancé-ée"}]
["Prénom","Benoit",null,null,null,null,null,null,null,null,{"$f":"A116","v":"Prénom"},{"$f":"B116","v":"Benoit"},{"$f":"IF(OR(D116=\"o\",E116=\"o\",C117=\"o\",C118=\"o\",C116=\"x\"),\"x\",IF(OR(C116=\"o\",AND(D116=\"x\",E116=\"x\"),AND(C117=\"x\",C118=\"x\")),\"o\",\"\"))","v":""},{"$f":"IF(OR(C116=\"o\",E116=\"o\",D117=\"o\",D118=\"o\",D116=\"x\"),\"x\",IF(OR(D116=\"o\",AND(C116=\"x\",E116=\"x\"),AND(D117=\"x\",D118=\"x\")),\"o\",\"\"))","v":""},{"$f":"IF(OR(C116=\"o\",D116=\"o\",E117=\"o\",E118=\"o\",E116=\"x\"),\"x\",IF(OR(E116=\"o\",AND(C116=\"x\",D116=\"x\"),AND(E117=\"x\",E118=\"x\")),\"o\",\"\"))","v":""},{"$f":"IF(OR(G116=\"o\",H116=\"o\",F117=\"o\",F118=\"o\",F116=\"x\"),\"x\",IF(OR(F116=\"o\",AND(G116=\"x\",H116=\"x\"),AND(F117=\"x\",F118=\"x\")),\"o\",\"\"))","v":""},{"$f":"IF(OR(F116=\"o\",H116=\"o\",G117=\"o\",G118=\"o\",G116=\"x\"),\"x\",IF(OR(G116=\"o\",AND(F116=\"x\",H116=\"x\"),AND(G117=\"x\",G118=\"x\")),\"o\",\"\"))","v":""},{"$f":"IF(OR(F116=\"o\",G116=\"o\",H117=\"o\",H118=\"o\",H116=\"x\"),\"x\",IF(OR(H116=\"o\",AND(F116=\"x\",G116=\"x\"),AND(H117=\"x\",H118=\"x\")),\"o\",\"\"))","v":""}]
[null,"Jean",null,null,null,null,null,null,null,null,null,{"$f":"B117","v":"Jean"},{"$f":"IF(OR(D117=\"o\",E117=\"o\",C116=\"o\",C118=\"o\",C117=\"x\"),\"x\",IF(OR(C117=\"o\",AND(D117=\"x\",E117=\"x\"),AND(C116=\"x\",C118=\"x\")),\"o\",\"\"))","v":""},{"$f":"IF(OR(C117=\"o\",E117=\"o\",D116=\"o\",D118=\"o\",D117=\"x\"),\"x\",IF(OR(D117=\"o\",AND(C117=\"x\",E117=\"x\"),AND(D116=\"x\",D118=\"x\")),\"o\",\"\"))","v":""},{"$f":"IF(OR(C117=\"o\",D117=\"o\",E118=\"o\",E116=\"o\",E117=\"x\"),\"x\",IF(OR(E117=\"o\",AND(C117=\"x\",D117=\"x\"),AND(E116=\"x\",E118=\"x\")),\"o\",\"\"))","v":""},{"$f":"IF(OR(G117=\"o\",H117=\"o\",F116=\"o\",F118=\"o\",F117=\"x\"),\"x\",IF(OR(F117=\"o\",AND(G117=\"x\",H117=\"x\"),AND(F116=\"x\",F118=\"x\")),\"o\",\"\"))","v":""},{"$f":"IF(OR(F117=\"o\",H117=\"o\",G116=\"o\",G118=\"o\",G117=\"x\"),\"x\",IF(OR(G117=\"o\",AND(F117=\"x\",H117=\"x\"),AND(G116=\"x\",G118=\"x\")),\"o\",\"\"))","v":""},{"$f":"IF(OR(F117=\"o\",G117=\"o\",H116=\"o\",H118=\"o\",H117=\"x\"),\"x\",IF(OR(H117=\"o\",AND(F117=\"x\",G117=\"x\"),AND(H116=\"x\",H118=\"x\")),\"o\",\"\"))","v":""}]
[null,"Sophie",null,null,null,null,null,null,null,null,null,"Sophie",{"$f":"IF(OR(D118=\"o\",E118=\"o\",C116=\"o\",C117=\"o\",C118=\"x\"),\"x\",IF(OR(C118=\"o\",AND(D118=\"x\",E118=\"x\"),AND(C116=\"x\",C117=\"x\")),\"o\",\"\"))","v":""},{"$f":"IF(OR(C118=\"o\",E118=\"o\",D116=\"o\",D117=\"o\",D118=\"x\"),\"x\",IF(OR(D118=\"o\",AND(C118=\"x\",E118=\"x\"),AND(D116=\"x\",D117=\"x\")),\"o\",\"\"))","v":""},{"$f":"IF(OR(C118=\"o\",D118=\"o\",E116=\"o\",E117=\"o\",E118=\"x\"),\"x\",IF(OR(E118=\"o\",AND(C118=\"x\",D118=\"x\"),AND(E116=\"x\",E117=\"x\")),\"o\",\"\"))","v":""},{"$f":"IF(OR(G118=\"o\",H118=\"o\",F116=\"o\",F117=\"o\",F118=\"x\"),\"x\",IF(OR(F118=\"o\",AND(G118=\"x\",H118=\"x\"),AND(F116=\"x\",F117=\"x\")),\"o\",\"\"))","v":""},{"$f":"IF(OR(F118=\"o\",H118=\"o\",G116=\"o\",G117=\"o\",G118=\"x\"),\"x\",IF(OR(G118=\"o\",AND(F118=\"x\",H118=\"x\"),AND(G116=\"x\",G117=\"x\")),\"o\",\"\"))","v":""},{"$f":"IF(OR(F118=\"o\",G118=\"o\",H116=\"o\",H117=\"o\",H118=\"x\"),\"x\",IF(OR(H118=\"o\",AND(F118=\"x\",G118=\"x\"),AND(H116=\"x\",H117=\"x\")),\"o\",\"\"))","v":""}]
["Situation","Célibataire",null,null,null,null,null,null,null,null,{"$f":"A119","v":"Situation"},"Célibataire",{"$f":"IF(OR(D119=\"o\",E119=\"o\",C120=\"o\",C121=\"o\",C119=\"x\"),\"x\",IF(OR(C119=\"o\",AND(D119=\"x\",E119=\"x\"),AND(C120=\"x\",C121=\"x\")),\"o\",\"\"))","v":""},{"$f":"IF(OR(C119=\"o\",E119=\"o\",D120=\"o\",D121=\"o\",D119=\"x\"),\"x\",IF(OR(D119=\"o\",AND(C119=\"x\",E119=\"x\"),AND(D120=\"x\",D121=\"x\")),\"o\",\"\"))","v":""},{"$f":"IF(OR(C119=\"o\",D119=\"o\",E120=\"o\",E121=\"o\",E119=\"x\"),\"x\",IF(OR(E119=\"o\",AND(C119=\"x\",D119=\"x\"),AND(E120=\"x\",E121=\"x\")),\"o\",\"\"))","v":""}]
[null,"Marié-ée",null,null,null,null,{"$f":"IF(AND(C130=G130,D130=H130,C131=G131,D131=H131,C132=G132,D132=H132),\"BRAVO !!\",\"\")","v":""},null,null,null,null,"Marié-ée",{"$f":"IF(OR(D120=\"o\",E120=\"o\",C119=\"o\",C121=\"o\",C120=\"x\"),\"x\",IF(OR(C120=\"o\",AND(D120=\"x\",E120=\"x\"),AND(C119=\"x\",C121=\"x\")),\"o\",\"\"))","v":""},{"$f":"IF(OR(C120=\"o\",E120=\"o\",D119=\"o\",D121=\"o\",D120=\"x\"),\"x\",IF(OR(D120=\"o\",AND(C120=\"x\",E120=\"x\"),AND(D119=\"x\",D121=\"x\")),\"o\",\"\"))","v":""},{"$f":"IF(OR(C120=\"o\",D120=\"o\",E119=\"o\",E121=\"o\",E120=\"x\"),\"x\",IF(OR(E120=\"o\",AND(C120=\"x\",D120=\"x\"),AND(E119=\"x\",E121=\"x\")),\"o\",\"\"))","v":""}]
[null,"Fiancé-ée",null,null,null,null,null,null,null,null,null,"Fiancé-ée",{"$f":"IF(OR(D121=\"o\",E121=\"o\",C119=\"o\",C120=\"o\",C121=\"x\"),\"x\",IF(OR(C121=\"o\",AND(D121=\"x\",E121=\"x\"),AND(C119=\"x\",C120=\"x\")),\"o\",\"\"))","v":""},{"$f":"IF(OR(C121=\"o\",E121=\"o\",D119=\"o\",D120=\"o\",D121=\"x\"),\"x\",IF(OR(D121=\"o\",AND(C121=\"x\",E121=\"x\"),AND(D119=\"x\",D120=\"x\")),\"o\",\"\"))","v":""},{"$f":"IF(OR(C121=\"o\",D121=\"o\",E119=\"o\",E120=\"o\",E121=\"x\"),\"x\",IF(OR(E121=\"o\",AND(C121=\"x\",D121=\"x\"),AND(E119=\"x\",E120=\"x\")),\"o\",\"\"))","v":""}]
[]
["Benoit, Jean et Sophie travaille dans un cntre médical. Les infos suivantes ne sont pas genrées."]
["Le comptable est un célibataire endurci."]
["Sophie est marrié à un fils de Benoit."]
["Benoit et Sophie gagnent plus quela sage femme."]
["Quelle est la position respective de chaque personne ?"]
[null,"Réponses : se remplit seul, ne rien y écrire."]
[null,{"$f":"A116","v":"Prénom"},{"$f":"C114","v":"Métier"},{"$f":"F114","v":"Situation"},null,{"$f":"B129","v":"Prénom"},{"$f":"C129","v":"Métier"},{"$f":"D129","v":"Situation"}]
[null,{"$f":"B116","v":"Benoit"},{"$f":"IF(C116=\"o\",C115,IF(D116=\"o\",D115,IF(E116=\"o\",E115,\"\")))","v":""},{"$f":"IF(F116=\"o\",F115,IF(G116=\"o\",G115,IF(H116=\"o\",H115,\"\")))","v":""},null,{"$f":"B130","v":"Benoit"},"Comptable","Célibataire"]
[null,{"$f":"B117","v":"Jean"},{"$f":"IF(C117=\"o\",C115,IF(D117=\"o\",D115,IF(E117=\"o\",E115,\"\")))","v":""},{"$f":"IF(F117=\"o\",F115,IF(G117=\"o\",G115,IF(H117=\"o\",H115,\"\")))","v":""},null,"Jean","Sage femme","Fiancé-ée"]
[null,"Sophie",{"$f":"IF(C118=\"o\",C115,IF(D118=\"o\",D115,IF(E118=\"o\",E115,\"\")))","v":""},{"$f":"IF(F118=\"o\",F115,IF(G118=\"o\",G115,IF(H118=\"o\",H115,\"\")))","v":""},null,"Sophie","Dentiste","Marié-ée"]
["VII°/ Qui est l'espion :"]
[{"$f":"INDIRECT(\"'Calculs 3 indices'!B\"&A137)","v":""},null,null,null,null,{"$f":"INDIRECT(\"'Calculs 3 indices'!F\"&(A137+11))","v":""}]
[{"$f":"INDIRECT(\"'Calculs 3 indices'!B\"&(A137+11))","v":""},null,null,null,null,{"$f":"INDIRECT(\"'Calculs 3 indices'!F\"&(A137+12))","v":""}]
[null,null,"Maison n°",null,null,"Métier",null,null,null,null,null,null,{"$f":"C136","v":"Maison n°"},null,null,{"$f":"F136","v":"Métier"}]
[{"$f":"A115+24","v":145},null,"Première","Seconde","Troisième","Voleur","Musicien","Espion",null,null,null,null,{"$f":"C137","v":"Première"},{"$f":"D137","v":"Seconde"},{"$f":"E137","v":"Troisième"},{"$f":"F137","v":"Voleur"},{"$f":"G137","v":"Musicien"},{"$f":"H137","v":"Espion"}]
["Pays","Français",null,null,null,null,null,null,null,null,{"$f":"A138","v":"Pays"},{"$f":"B138","v":"Français"},{"$f":"IF(OR(D138=\"o\",E138=\"o\",C139=\"o\",C140=\"o\",C138=\"x\"),\"x\",IF(OR(C138=\"o\",AND(D138=\"x\",E138=\"x\"),AND(C139=\"x\",C140=\"x\")),\"o\",\"\"))","v":""},{"$f":"IF(OR(C138=\"o\",E138=\"o\",D139=\"o\",D140=\"o\",D138=\"x\"),\"x\",IF(OR(D138=\"o\",AND(C138=\"x\",E138=\"x\"),AND(D139=\"x\",D140=\"x\")),\"o\",\"\"))","v":""},{"$f":"IF(OR(C138=\"o\",D138=\"o\",E139=\"o\",E140=\"o\",E138=\"x\"),\"x\",IF(OR(E138=\"o\",AND(C138=\"x\",D138=\"x\"),AND(E139=\"x\",E140=\"x\")),\"o\",\"\"))","v":""},{"$f":"IF(OR(G138=\"o\",H138=\"o\",F139=\"o\",F140=\"o\",F138=\"x\"),\"x\",IF(OR(F138=\"o\",AND(G138=\"x\",H138=\"x\"),AND(F139=\"x\",F140=\"x\")),\"o\",\"\"))","v":""},{"$f":"IF(OR(F138=\"o\",H138=\"o\",G139=\"o\",G140=\"o\",G138=\"x\"),\"x\",IF(OR(G138=\"o\",AND(F138=\"x\",H138=\"x\"),AND(G139=\"x\",G140=\"x\")),\"o\",\"\"))","v":""},{"$f":"IF(OR(F138=\"o\",G138=\"o\",H139=\"o\",H140=\"o\",H138=\"x\"),\"x\",IF(OR(H138=\"o\",AND(F138=\"x\",G138=\"x\"),AND(H139=\"x\",H140=\"x\")),\"o\",\"\"))","v":""}]
[null,"Chinois",null,null,null,null,null,null,null,null,null,{"$f":"B139","v":"Chinois"},{"$f":"IF(OR(D139=\"o\",E139=\"o\",C138=\"o\",C140=\"o\",C139=\"x\"),\"x\",IF(OR(C139=\"o\",AND(D139=\"x\",E139=\"x\"),AND(C138=\"x\",C140=\"x\")),\"o\",\"\"))","v":""},{"$f":"IF(OR(C139=\"o\",E139=\"o\",D138=\"o\",D140=\"o\",D139=\"x\"),\"x\",IF(OR(D139=\"o\",AND(C139=\"x\",E139=\"x\"),AND(D138=\"x\",D140=\"x\")),\"o\",\"\"))","v":""},{"$f":"IF(OR(C139=\"o\",D139=\"o\",E140=\"o\",E138=\"o\",E139=\"x\"),\"x\",IF(OR(E139=\"o\",AND(C139=\"x\",D139=\"x\"),AND(E138=\"x\",E140=\"x\")),\"o\",\"\"))","v":""},{"$f":"IF(OR(G139=\"o\",H139=\"o\",F138=\"o\",F140=\"o\",F139=\"x\"),\"x\",IF(OR(F139=\"o\",AND(G139=\"x\",H139=\"x\"),AND(F138=\"x\",F140=\"x\")),\"o\",\"\"))","v":""},{"$f":"IF(OR(F139=\"o\",H139=\"o\",G138=\"o\",G140=\"o\",G139=\"x\"),\"x\",IF(OR(G139=\"o\",AND(F139=\"x\",H139=\"x\"),AND(G138=\"x\",G140=\"x\")),\"o\",\"\"))","v":""},{"$f":"IF(OR(F139=\"o\",G139=\"o\",H138=\"o\",H140=\"o\",H139=\"x\"),\"x\",IF(OR(H139=\"o\",AND(F139=\"x\",G139=\"x\"),AND(H138=\"x\",H140=\"x\")),\"o\",\"\"))","v":""}]
[null,"Anglais",null,null,null,null,null,null,null,null,null,"Anglais",{"$f":"IF(OR(D140=\"o\",E140=\"o\",C138=\"o\",C139=\"o\",C140=\"x\"),\"x\",IF(OR(C140=\"o\",AND(D140=\"x\",E140=\"x\"),AND(C138=\"x\",C139=\"x\")),\"o\",\"\"))","v":""},{"$f":"IF(OR(C140=\"o\",E140=\"o\",D138=\"o\",D139=\"o\",D140=\"x\"),\"x\",IF(OR(D140=\"o\",AND(C140=\"x\",E140=\"x\"),AND(D138=\"x\",D139=\"x\")),\"o\",\"\"))","v":""},{"$f":"IF(OR(C140=\"o\",D140=\"o\",E138=\"o\",E139=\"o\",E140=\"x\"),\"x\",IF(OR(E140=\"o\",AND(C140=\"x\",D140=\"x\"),AND(E138=\"x\",E139=\"x\")),\"o\",\"\"))","v":""},{"$f":"IF(OR(G140=\"o\",H140=\"o\",F138=\"o\",F139=\"o\",F140=\"x\"),\"x\",IF(OR(F140=\"o\",AND(G140=\"x\",H140=\"x\"),AND(F138=\"x\",F139=\"x\")),\"o\",\"\"))","v":""},{"$f":"IF(OR(F140=\"o\",H140=\"o\",G138=\"o\",G139=\"o\",G140=\"x\"),\"x\",IF(OR(G140=\"o\",AND(F140=\"x\",H140=\"x\"),AND(G138=\"x\",G139=\"x\")),\"o\",\"\"))","v":""},{"$f":"IF(OR(F140=\"o\",G140=\"o\",H138=\"o\",H139=\"o\",H140=\"x\"),\"x\",IF(OR(H140=\"o\",AND(F140=\"x\",G140=\"x\"),AND(H138=\"x\",H139=\"x\")),\"o\",\"\"))","v":""}]
["Métier","Voleur",null,null,null,null,null,null,null,null,{"$f":"A141","v":"Métier"},"Voleur",{"$f":"IF(OR(D141=\"o\",E141=\"o\",C142=\"o\",C143=\"o\",C141=\"x\"),\"x\",IF(OR(C141=\"o\",AND(D141=\"x\",E141=\"x\"),AND(C142=\"x\",C143=\"x\")),\"o\",\"\"))","v":""},{"$f":"IF(OR(C141=\"o\",E141=\"o\",D142=\"o\",D143=\"o\",D141=\"x\"),\"x\",IF(OR(D141=\"o\",AND(C141=\"x\",E141=\"x\"),AND(D142=\"x\",D143=\"x\")),\"o\",\"\"))","v":""},{"$f":"IF(OR(C141=\"o\",D141=\"o\",E142=\"o\",E143=\"o\",E141=\"x\"),\"x\",IF(OR(E141=\"o\",AND(C141=\"x\",D141=\"x\"),AND(E142=\"x\",E143=\"x\")),\"o\",\"\"))","v":""}]
[null,"Musicien",null,null,null,null,{"$f":"IF(AND(C152=G152,D152=H152,C153=G153,D153=H153,C154=G154,D154=H154),\"BRAVO !!\",\"\")","v":""},null,null,null,null,"Musicien",{"$f":"IF(OR(D142=\"o\",E142=\"o\",C141=\"o\",C143=\"o\",C142=\"x\"),\"x\",IF(OR(C142=\"o\",AND(D142=\"x\",E142=\"x\"),AND(C141=\"x\",C143=\"x\")),\"o\",\"\"))","v":""},{"$f":"IF(OR(C142=\"o\",E142=\"o\",D141=\"o\",D143=\"o\",D142=\"x\"),\"x\",IF(OR(D142=\"o\",AND(C142=\"x\",E142=\"x\"),AND(D141=\"x\",D143=\"x\")),\"o\",\"\"))","v":""},{"$f":"IF(OR(C142=\"o\",D142=\"o\",E141=\"o\",E143=\"o\",E142=\"x\"),\"x\",IF(OR(E142=\"o\",AND(C142=\"x\",D142=\"x\"),AND(E141=\"x\",E143=\"x\")),\"o\",\"\"))","v":""}]
[null,"Espion",null,null,null,null,null,null,null,null,null,"Espion",{"$f":"IF(OR(D143=\"o\",E143=\"o\",C141=\"o\",C142=\"o\",C143=\"x\"),\"x\",IF(OR(C143=\"o\",AND(D143=\"x\",E143=\"x\"),AND(C141=\"x\",C142=\"x\")),\"o\",\"\"))","v":""},{"$f":"IF(OR(C143=\"o\",E143=\"o\",D141=\"o\",D142=\"o\",D143=\"x\"),\"x\",IF(OR(D143=\"o\",AND(C143=\"x\",E143=\"x\"),AND(D141=\"x\",D142=\"x\")),\"o\",\"\"))","v":""},{"$f":"IF(OR(C143=\"o\",D143=\"o\",E141=\"o\",E142=\"o\",E143=\"x\"),\"x\",IF(OR(E143=\"o\",AND(C143=\"x\",D143=\"x\"),AND(E141=\"x\",E142=\"x\")),\"o\",\"\"))","v":""}]
[]
["Qui est l'espion parmi trois personnes habitant trois maisons contiguës, de nationalités différentes et ayant chacun une activité différente."]
["L'Anglais habite au milieu et le Chinois est musicien."]
["On ne sait rien sur le Français mais on sait que l'espion habite la première maison."]
["Quelle est la nationalité de l'espion?"]
[]
[null,"Réponses : se remplit seul, ne rien y écrire."]
[null,{"$f":"A138","v":"Pays"},{"$f":"C136","v":"Maison n°"},{"$f":"F136","v":"Métier"},null,{"$f":"B151","v":"Pays"},{"$f":"C151","v":"Maison n°"},{"$f":"D151","v":"Métier"}]
[null,{"$f":"B138","v":"Français"},{"$f":"IF(C138=\"o\",C137,IF(D138=\"o\",D137,IF(E138=\"o\",E137,\"\")))","v":""},{"$f":"IF(F138=\"o\",F137,IF(G138=\"o\",G137,IF(H138=\"o\",H137,\"\")))","v":""},null,{"$f":"B152","v":"Français"},1,"Espion"]
[null,{"$f":"B139","v":"Chinois"},{"$f":"IF(C139=\"o\",C137,IF(D139=\"o\",D137,IF(E139=\"o\",E137,\"\")))","v":""},{"$f":"IF(F139=\"o\",F137,IF(G139=\"o\",G137,IF(H139=\"o\",H137,\"\")))","v":""},null,"Chinois",3,"Musicien"]
[null,"Anglais",{"$f":"IF(C140=\"o\",C137,IF(D140=\"o\",D137,IF(E140=\"o\",E137,\"\")))","v":""},{"$f":"IF(F140=\"o\",F137,IF(G140=\"o\",G137,IF(H140=\"o\",H137,\"\")))","v":""},null,"Anglais",2,"Voleur"]
["VIII°/ L’âge du capitaine :"]
[{"$f":"INDIRECT(\"'Calculs 3 indices'!B\"&A159)","v":""},null,null,null,null,{"$f":"INDIRECT(\"'Calculs 3 indices'!F\"&(A159+11))","v":""}]
[{"$f":"INDIRECT(\"'Calculs 3 indices'!B\"&(A159+11))","v":""},null,null,null,null,{"$f":"INDIRECT(\"'Calculs 3 indices'!F\"&(A159+12))","v":""}]
[null,null,"Âge",null,null,"Pays",null,null,null,null,null,null,{"$f":"C158","v":"Âge"},null,null,{"$f":"F158","v":"Pays"}]
[{"$f":"A137+24","v":169},null,25,35,42,"Grèce","Corée","Maroc",null,null,null,null,{"$f":"C159","v":25},{"$f":"D159","v":35},{"$f":"E159","v":42},{"$f":"F159","v":"Grèce"},{"$f":"G159","v":"Corée"},{"$f":"H159","v":"Maroc"}]
["Fonction","Capitaine",null,null,null,null,null,null,null,null,{"$f":"A160","v":"Fonction"},{"$f":"B160","v":"Capitaine"},{"$f":"IF(OR(D160=\"o\",E160=\"o\",C161=\"o\",C162=\"o\",C160=\"x\"),\"x\",IF(OR(C160=\"o\",AND(D160=\"x\",E160=\"x\"),AND(C161=\"x\",C162=\"x\")),\"o\",\"\"))","v":""},{"$f":"IF(OR(C160=\"o\",E160=\"o\",D161=\"o\",D162=\"o\",D160=\"x\"),\"x\",IF(OR(D160=\"o\",AND(C160=\"x\",E160=\"x\"),AND(D161=\"x\",D162=\"x\")),\"o\",\"\"))","v":""},{"$f":"IF(OR(C160=\"o\",D160=\"o\",E161=\"o\",E162=\"o\",E160=\"x\"),\"x\",IF(OR(E160=\"o\",AND(C160=\"x\",D160=\"x\"),AND(E161=\"x\",E162=\"x\")),\"o\",\"\"))","v":""},{"$f":"IF(OR(G160=\"o\",H160=\"o\",F161=\"o\",F162=\"o\",F160=\"x\"),\"x\",IF(OR(F160=\"o\",AND(G160=\"x\",H160=\"x\"),AND(F161=\"x\",F162=\"x\")),\"o\",\"\"))","v":""},{"$f":"IF(OR(F160=\"o\",H160=\"o\",G161=\"o\",G162=\"o\",G160=\"x\"),\"x\",IF(OR(G160=\"o\",AND(F160=\"x\",H160=\"x\"),AND(G161=\"x\",G162=\"x\")),\"o\",\"\"))","v":""},{"$f":"IF(OR(F160=\"o\",G160=\"o\",H161=\"o\",H162=\"o\",H160=\"x\"),\"x\",IF(OR(H160=\"o\",AND(F160=\"x\",G160=\"x\"),AND(H161=\"x\",H162=\"x\")),\"o\",\"\"))","v":""}]
[null,"Bosco",null,null,null,null,null,null,null,null,null,{"$f":"B161","v":"Bosco"},{"$f":"IF(OR(D161=\"o\",E161=\"o\",C160=\"o\",C162=\"o\",C161=\"x\"),\"x\",IF(OR(C161=\"o\",AND(D161=\"x\",E161=\"x\"),AND(C160=\"x\",C162=\"x\")),\"o\",\"\"))","v":""},{"$f":"IF(OR(C161=\"o\",E161=\"o\",D160=\"o\",D162=\"o\",D161=\"x\"),\"x\",IF(OR(D161=\"o\",AND(C161=\"x\",E161=\"x\"),AND(D160=\"x\",D162=\"x\")),\"o\",\"\"))","v":""},{"$f":"IF(OR(C161=\"o\",D161=\"o\",E162=\"o\",E160=\"o\",E161=\"x\"),\"x\",IF(OR(E161=\"o\",AND(C161=\"x\",D161=\"x\"),AND(E160=\"x\",E162=\"x\")),\"o\",\"\"))","v":""},{"$f":"IF(OR(G161=\"o\",H161=\"o\",F160=\"o\",F162=\"o\",F161=\"x\"),\"x\",IF(OR(F161=\"o\",AND(G161=\"x\",H161=\"x\"),AND(F160=\"x\",F162=\"x\")),\"o\",\"\"))","v":""},{"$f":"IF(OR(F161=\"o\",H161=\"o\",G160=\"o\",G162=\"o\",G161=\"x\"),\"x\",IF(OR(G161=\"o\",AND(F161=\"x\",H161=\"x\"),AND(G160=\"x\",G162=\"x\")),\"o\",\"\"))","v":""},{"$f":"IF(OR(F161=\"o\",G161=\"o\",H160=\"o\",H162=\"o\",H161=\"x\"),\"x\",IF(OR(H161=\"o\",AND(F161=\"x\",G161=\"x\"),AND(H160=\"x\",H162=\"x\")),\"o\",\"\"))","v":""}]
[null,"Timonier",null,null,null,null,null,null,null,null,null,"Timonier",{"$f":"IF(OR(D162=\"o\",E162=\"o\",C160=\"o\",C161=\"o\",C162=\"x\"),\"x\",IF(OR(C162=\"o\",AND(D162=\"x\",E162=\"x\"),AND(C160=\"x\",C161=\"x\")),\"o\",\"\"))","v":""},{"$f":"IF(OR(C162=\"o\",E162=\"o\",D160=\"o\",D161=\"o\",D162=\"x\"),\"x\",IF(OR(D162=\"o\",AND(C162=\"x\",E162=\"x\"),AND(D160=\"x\",D161=\"x\")),\"o\",\"\"))","v":""},{"$f":"IF(OR(C162=\"o\",D162=\"o\",E160=\"o\",E161=\"o\",E162=\"x\"),\"x\",IF(OR(E162=\"o\",AND(C162=\"x\",D162=\"x\"),AND(E160=\"x\",E161=\"x\")),\"o\",\"\"))","v":""},{"$f":"IF(OR(G162=\"o\",H162=\"o\",F160=\"o\",F161=\"o\",F162=\"x\"),\"x\",IF(OR(F162=\"o\",AND(G162=\"x\",H162=\"x\"),AND(F160=\"x\",F161=\"x\")),\"o\",\"\"))","v":""},{"$f":"IF(OR(F162=\"o\",H162=\"o\",G160=\"o\",G161=\"o\",G162=\"x\"),\"x\",IF(OR(G162=\"o\",AND(F162=\"x\",H162=\"x\"),AND(G160=\"x\",G161=\"x\")),\"o\",\"\"))","v":""},{"$f":"IF(OR(F162=\"o\",G162=\"o\",H160=\"o\",H161=\"o\",H162=\"x\"),\"x\",IF(OR(H162=\"o\",AND(F162=\"x\",G162=\"x\"),AND(H160=\"x\",H161=\"x\")),\"o\",\"\"))","v":""}]
["Pays","Grèce",null,null,null,null,null,null,null,null,{"$f":"A163","v":"Pays"},"Grèce",{"$f":"IF(OR(D163=\"o\",E163=\"o\",C164=\"o\",C165=\"o\",C163=\"x\"),\"x\",IF(OR(C163=\"o\",AND(D163=\"x\",E163=\"x\"),AND(C164=\"x\",C165=\"x\")),\"o\",\"\"))","v":""},{"$f":"IF(OR(C163=\"o\",E163=\"o\",D164=\"o\",D165=\"o\",D163=\"x\"),\"x\",IF(OR(D163=\"o\",AND(C163=\"x\",E163=\"x\"),AND(D164=\"x\",D165=\"x\")),\"o\",\"\"))","v":""},{"$f":"IF(OR(C163=\"o\",D163=\"o\",E164=\"o\",E165=\"o\",E163=\"x\"),\"x\",IF(OR(E163=\"o\",AND(C163=\"x\",D163=\"x\"),AND(E164=\"x\",E165=\"x\")),\"o\",\"\"))","v":""}]
[null,"Corée",null,null,null,null,{"$f":"IF(AND(C174=G174,D174=H174,C175=G175,D175=H175,C176=G176,D176=H176),\"BRAVO !!\",\"\")","v":""},null,null,null,null,"Corée",{"$f":"IF(OR(D164=\"o\",E164=\"o\",C163=\"o\",C165=\"o\",C164=\"x\"),\"x\",IF(OR(C164=\"o\",AND(D164=\"x\",E164=\"x\"),AND(C163=\"x\",C165=\"x\")),\"o\",\"\"))","v":""},{"$f":"IF(OR(C164=\"o\",E164=\"o\",D163=\"o\",D165=\"o\",D164=\"x\"),\"x\",IF(OR(D164=\"o\",AND(C164=\"x\",E164=\"x\"),AND(D163=\"x\",D165=\"x\")),\"o\",\"\"))","v":""},{"$f":"IF(OR(C164=\"o\",D164=\"o\",E163=\"o\",E165=\"o\",E164=\"x\"),\"x\",IF(OR(E164=\"o\",AND(C164=\"x\",D164=\"x\"),AND(E163=\"x\",E165=\"x\")),\"o\",\"\"))","v":""}]
[null,"Maroc",null,null,null,null,null,null,null,null,null,"Maroc",{"$f":"IF(OR(D165=\"o\",E165=\"o\",C163=\"o\",C164=\"o\",C165=\"x\"),\"x\",IF(OR(C165=\"o\",AND(D165=\"x\",E165=\"x\"),AND(C163=\"x\",C164=\"x\")),\"o\",\"\"))","v":""},{"$f":"IF(OR(C165=\"o\",E165=\"o\",D163=\"o\",D164=\"o\",D165=\"x\"),\"x\",IF(OR(D165=\"o\",AND(C165=\"x\",E165=\"x\"),AND(D163=\"x\",D164=\"x\")),\"o\",\"\"))","v":""},{"$f":"IF(OR(C165=\"o\",D165=\"o\",E163=\"o\",E164=\"o\",E165=\"x\"),\"x\",IF(OR(E165=\"o\",AND(C165=\"x\",D165=\"x\"),AND(E163=\"x\",E164=\"x\")),\"o\",\"\"))","v":""}]
[]
["Sur un bateau, quel est l’âge du capitiaine ?"]
["Le Marocain n’est pas capitaine, il n’a pas 25 ans"]
["Le bosco n’a pas 35 ans"]
["Le timonier grec a plus de 35 ans"]
[]
[null,"Réponses : se remplit seul, ne rien y écrire."]
[null,{"$f":"A160","v":"Fonction"},{"$f":"C158","v":"Âge"},{"$f":"F158","v":"Pays"},null,{"$f":"B173","v":"Fonction"},{"$f":"C173","v":"Âge"},{"$f":"D173","v":"Pays"}]
[null,{"$f":"B160","v":"Capitaine"},{"$f":"IF(C160=\"o\",C159,IF(D160=\"o\",D159,IF(E160=\"o\",E159,\"\")))","v":""},{"$f":"IF(F160=\"o\",F159,IF(G160=\"o\",G159,IF(H160=\"o\",H159,\"\")))","v":""},null,{"$f":"B174","v":"Capitaine"},35,"Corée"]
[null,{"$f":"B161","v":"Bosco"},{"$f":"IF(C161=\"o\",C159,IF(D161=\"o\",D159,IF(E161=\"o\",E159,\"\")))","v":""},{"$f":"IF(F161=\"o\",F159,IF(G161=\"o\",G159,IF(H161=\"o\",H159,\"\")))","v":""},null,"Bosco",25,"Maroc"]
[null,"Timonier",{"$f":"IF(C162=\"o\",C159,IF(D162=\"o\",D159,IF(E162=\"o\",E159,\"\")))","v":""},{"$f":"IF(F162=\"o\",F159,IF(G162=\"o\",G159,IF(H162=\"o\",H159,\"\")))","v":""},null,"Timonier",42,"Grèce"]
["IX°/ Le salon de beauté :"]
[{"$f":"INDIRECT(\"'Calculs 3 indices'!B\"&A181)","v":""},null,null,null,null,{"$f":"INDIRECT(\"'Calculs 3 indices'!F\"&(A181+11))","v":""}]
[{"$f":"INDIRECT(\"'Calculs 3 indices'!B\"&(A181+11))","v":""},null,null,null,null,{"$f":"INDIRECT(\"'Calculs 3 indices'!F\"&(A181+12))","v":""}]
[null,null,"Soins",null,null,"Clientes",null,null,null,null,null,null,{"$f":"C180","v":"Soins"},null,null,{"$f":"F180","v":"Clientes"}]
[{"$f":"A159+24","v":193},null,"Coupe","Décoloration","Permanente","Jeanne","Michèle","Patricia",null,null,null,null,{"$f":"C181","v":"Coupe"},{"$f":"D181","v":"Décoloration"},{"$f":"E181","v":"Permanente"},{"$f":"F181","v":"Jeanne"},{"$f":"G181","v":"Michèle"},{"$f":"H181","v":"Patricia"}]
["Coiffeur","Alain",null,null,null,null,null,null,null,null,{"$f":"A182","v":"Coiffeur"},{"$f":"B182","v":"Alain"},{"$f":"IF(OR(D182=\"o\",E182=\"o\",C183=\"o\",C184=\"o\",C182=\"x\"),\"x\",IF(OR(C182=\"o\",AND(D182=\"x\",E182=\"x\"),AND(C183=\"x\",C184=\"x\")),\"o\",\"\"))","v":""},{"$f":"IF(OR(C182=\"o\",E182=\"o\",D183=\"o\",D184=\"o\",D182=\"x\"),\"x\",IF(OR(D182=\"o\",AND(C182=\"x\",E182=\"x\"),AND(D183=\"x\",D184=\"x\")),\"o\",\"\"))","v":""},{"$f":"IF(OR(C182=\"o\",D182=\"o\",E183=\"o\",E184=\"o\",E182=\"x\"),\"x\",IF(OR(E182=\"o\",AND(C182=\"x\",D182=\"x\"),AND(E183=\"x\",E184=\"x\")),\"o\",\"\"))","v":""},{"$f":"IF(OR(G182=\"o\",H182=\"o\",F183=\"o\",F184=\"o\",F182=\"x\"),\"x\",IF(OR(F182=\"o\",AND(G182=\"x\",H182=\"x\"),AND(F183=\"x\",F184=\"x\")),\"o\",\"\"))","v":""},{"$f":"IF(OR(F182=\"o\",H182=\"o\",G183=\"o\",G184=\"o\",G182=\"x\"),\"x\",IF(OR(G182=\"o\",AND(F182=\"x\",H182=\"x\"),AND(G183=\"x\",G184=\"x\")),\"o\",\"\"))","v":""},{"$f":"IF(OR(F182=\"o\",G182=\"o\",H183=\"o\",H184=\"o\",H182=\"x\"),\"x\",IF(OR(H182=\"o\",AND(F182=\"x\",G182=\"x\"),AND(H183=\"x\",H184=\"x\")),\"o\",\"\"))","v":""}]
[null,"Colette",null,null,null,null,null,null,null,null,null,{"$f":"B183","v":"Colette"},{"$f":"IF(OR(D183=\"o\",E183=\"o\",C182=\"o\",C184=\"o\",C183=\"x\"),\"x\",IF(OR(C183=\"o\",AND(D183=\"x\",E183=\"x\"),AND(C182=\"x\",C184=\"x\")),\"o\",\"\"))","v":""},{"$f":"IF(OR(C183=\"o\",E183=\"o\",D182=\"o\",D184=\"o\",D183=\"x\"),\"x\",IF(OR(D183=\"o\",AND(C183=\"x\",E183=\"x\"),AND(D182=\"x\",D184=\"x\")),\"o\",\"\"))","v":""},{"$f":"IF(OR(C183=\"o\",D183=\"o\",E184=\"o\",E182=\"o\",E183=\"x\"),\"x\",IF(OR(E183=\"o\",AND(C183=\"x\",D183=\"x\"),AND(E182=\"x\",E184=\"x\")),\"o\",\"\"))","v":""},{"$f":"IF(OR(G183=\"o\",H183=\"o\",F182=\"o\",F184=\"o\",F183=\"x\"),\"x\",IF(OR(F183=\"o\",AND(G183=\"x\",H183=\"x\"),AND(F182=\"x\",F184=\"x\")),\"o\",\"\"))","v":""},{"$f":"IF(OR(F183=\"o\",H183=\"o\",G182=\"o\",G184=\"o\",G183=\"x\"),\"x\",IF(OR(G183=\"o\",AND(F183=\"x\",H183=\"x\"),AND(G182=\"x\",G184=\"x\")),\"o\",\"\"))","v":""},{"$f":"IF(OR(F183=\"o\",G183=\"o\",H182=\"o\",H184=\"o\",H183=\"x\"),\"x\",IF(OR(H183=\"o\",AND(F183=\"x\",G183=\"x\"),AND(H182=\"x\",H184=\"x\")),\"o\",\"\"))","v":""}]
[null,"Fanny",null,null,null,null,null,null,null,null,null,"Fanny",{"$f":"IF(OR(D184=\"o\",E184=\"o\",C182=\"o\",C183=\"o\",C184=\"x\"),\"x\",IF(OR(C184=\"o\",AND(D184=\"x\",E184=\"x\"),AND(C182=\"x\",C183=\"x\")),\"o\",\"\"))","v":""},{"$f":"IF(OR(C184=\"o\",E184=\"o\",D182=\"o\",D183=\"o\",D184=\"x\"),\"x\",IF(OR(D184=\"o\",AND(C184=\"x\",E184=\"x\"),AND(D182=\"x\",D183=\"x\")),\"o\",\"\"))","v":""},{"$f":"IF(OR(C184=\"o\",D184=\"o\",E182=\"o\",E183=\"o\",E184=\"x\"),\"x\",IF(OR(E184=\"o\",AND(C184=\"x\",D184=\"x\"),AND(E182=\"x\",E183=\"x\")),\"o\",\"\"))","v":""},{"$f":"IF(OR(G184=\"o\",H184=\"o\",F182=\"o\",F183=\"o\",F184=\"x\"),\"x\",IF(OR(F184=\"o\",AND(G184=\"x\",H184=\"x\"),AND(F182=\"x\",F183=\"x\")),\"o\",\"\"))","v":""},{"$f":"IF(OR(F184=\"o\",H184=\"o\",G182=\"o\",G183=\"o\",G184=\"x\"),\"x\",IF(OR(G184=\"o\",AND(F184=\"x\",H184=\"x\"),AND(G182=\"x\",G183=\"x\")),\"o\",\"\"))","v":""},{"$f":"IF(OR(F184=\"o\",G184=\"o\",H182=\"o\",H183=\"o\",H184=\"x\"),\"x\",IF(OR(H184=\"o\",AND(F184=\"x\",G184=\"x\"),AND(H182=\"x\",H183=\"x\")),\"o\",\"\"))","v":""}]
["Clientes","Jeanne",null,null,null,null,null,null,null,null,{"$f":"A185","v":"Clientes"},"Jeanne",{"$f":"IF(OR(D185=\"o\",E185=\"o\",C186=\"o\",C187=\"o\",C185=\"x\"),\"x\",IF(OR(C185=\"o\",AND(D185=\"x\",E185=\"x\"),AND(C186=\"x\",C187=\"x\")),\"o\",\"\"))","v":""},{"$f":"IF(OR(C185=\"o\",E185=\"o\",D186=\"o\",D187=\"o\",D185=\"x\"),\"x\",IF(OR(D185=\"o\",AND(C185=\"x\",E185=\"x\"),AND(D186=\"x\",D187=\"x\")),\"o\",\"\"))","v":""},{"$f":"IF(OR(C185=\"o\",D185=\"o\",E186=\"o\",E187=\"o\",E185=\"x\"),\"x\",IF(OR(E185=\"o\",AND(C185=\"x\",D185=\"x\"),AND(E186=\"x\",E187=\"x\")),\"o\",\"\"))","v":""}]
[null,"Michèle",null,null,null,null,{"$f":"IF(AND(C196=G196,D196=H196,C197=G197,D197=H197,C198=G198,D198=H198),\"BRAVO !!\",\"\")","v":""},null,null,null,null,"Michèle",{"$f":"IF(OR(D186=\"o\",E186=\"o\",C185=\"o\",C187=\"o\",C186=\"x\"),\"x\",IF(OR(C186=\"o\",AND(D186=\"x\",E186=\"x\"),AND(C185=\"x\",C187=\"x\")),\"o\",\"\"))","v":""},{"$f":"IF(OR(C186=\"o\",E186=\"o\",D185=\"o\",D187=\"o\",D186=\"x\"),\"x\",IF(OR(D186=\"o\",AND(C186=\"x\",E186=\"x\"),AND(D185=\"x\",D187=\"x\")),\"o\",\"\"))","v":""},{"$f":"IF(OR(C186=\"o\",D186=\"o\",E185=\"o\",E187=\"o\",E186=\"x\"),\"x\",IF(OR(E186=\"o\",AND(C186=\"x\",D186=\"x\"),AND(E185=\"x\",E187=\"x\")),\"o\",\"\"))","v":""}]
[null,"Patricia",null,null,null,null,null,null,null,null,null,"Patricia",{"$f":"IF(OR(D187=\"o\",E187=\"o\",C185=\"o\",C186=\"o\",C187=\"x\"),\"x\",IF(OR(C187=\"o\",AND(D187=\"x\",E187=\"x\"),AND(C185=\"x\",C186=\"x\")),\"o\",\"\"))","v":""},{"$f":"IF(OR(C187=\"o\",E187=\"o\",D185=\"o\",D186=\"o\",D187=\"x\"),\"x\",IF(OR(D187=\"o\",AND(C187=\"x\",E187=\"x\"),AND(D185=\"x\",D186=\"x\")),\"o\",\"\"))","v":""},{"$f":"IF(OR(C187=\"o\",D187=\"o\",E185=\"o\",E186=\"o\",E187=\"x\"),\"x\",IF(OR(E187=\"o\",AND(C187=\"x\",D187=\"x\"),AND(E185=\"x\",E186=\"x\")),\"o\",\"\"))","v":""}]
[]
["Trois femmes se sont rendues chez trois coiffeuses et coiffeur spécialisés dans un seul soin."]
["Jeanne a toujours été satisfaite de sa teinte naturelle. "]
["Le coiffeur spécialiste de la coupe ne s'est pas occupé de Michèle. "]
["Patricia fait toujours confiance aux conseils que lui prodigue Fanny. "]
["Colette ne réalise pas de permanentes."]
[null,"Réponses : se remplit seul, ne rien y écrire."]
[null,{"$f":"A182","v":"Coiffeur"},{"$f":"C180","v":"Soins"},{"$f":"F180","v":"Clientes"},null,{"$f":"B195","v":"Coiffeur"},{"$f":"C195","v":"Soins"},{"$f":"D195","v":"Clientes"}]
[null,{"$f":"B182","v":"Alain"},{"$f":"IF(C182=\"o\",C181,IF(D182=\"o\",D181,IF(E182=\"o\",E181,\"\")))","v":""},{"$f":"IF(F182=\"o\",F181,IF(G182=\"o\",G181,IF(H182=\"o\",H181,\"\")))","v":""},null,{"$f":"B196","v":"Alain"},"Coupe","Jeanne"]
[null,{"$f":"B183","v":"Colette"},{"$f":"IF(C183=\"o\",C181,IF(D183=\"o\",D181,IF(E183=\"o\",E181,\"\")))","v":""},{"$f":"IF(F183=\"o\",F181,IF(G183=\"o\",G181,IF(H183=\"o\",H181,\"\")))","v":""},null,"Colette","Décoloration","Michèle"]
[null,"Fanny",{"$f":"IF(C184=\"o\",C181,IF(D184=\"o\",D181,IF(E184=\"o\",E181,\"\")))","v":""},{"$f":"IF(F184=\"o\",F181,IF(G184=\"o\",G181,IF(H184=\"o\",H181,\"\")))","v":""},null,"Fanny","Permanente","Patricia"]
["X°/ Les supporters :"]
[{"$f":"INDIRECT(\"'Calculs 3 indices'!B\"&A203)","v":""},null,null,null,null,{"$f":"INDIRECT(\"'Calculs 3 indices'!F\"&(A203+11))","v":""}]
[{"$f":"INDIRECT(\"'Calculs 3 indices'!B\"&(A203+11))","v":""},null,null,null,null,{"$f":"INDIRECT(\"'Calculs 3 indices'!F\"&(A203+12))","v":""}]
[null,null,"Couleurs",null,null,"Club",null,null,null,null,null,null,{"$f":"C202","v":"Couleurs"},null,null,{"$f":"F202","v":"Club"}]
[{"$f":"A181+24","v":217},null,"Rouge","Bleu","Vert","USAP","UST","SAPC",null,null,null,null,{"$f":"C203","v":"Rouge"},{"$f":"D203","v":"Bleu"},{"$f":"E203","v":"Vert"},{"$f":"F203","v":"USAP"},{"$f":"G203","v":"UST"},{"$f":"H203","v":"SAPC"}]
["Prénom","Alban",null,null,null,null,null,null,null,null,{"$f":"A204","v":"Prénom"},{"$f":"B204","v":"Alban"},{"$f":"IF(OR(D204=\"o\",E204=\"o\",C205=\"o\",C206=\"o\",C204=\"x\"),\"x\",IF(OR(C204=\"o\",AND(D204=\"x\",E204=\"x\"),AND(C205=\"x\",C206=\"x\")),\"o\",\"\"))","v":""},{"$f":"IF(OR(C204=\"o\",E204=\"o\",D205=\"o\",D206=\"o\",D204=\"x\"),\"x\",IF(OR(D204=\"o\",AND(C204=\"x\",E204=\"x\"),AND(D205=\"x\",D206=\"x\")),\"o\",\"\"))","v":""},{"$f":"IF(OR(C204=\"o\",D204=\"o\",E205=\"o\",E206=\"o\",E204=\"x\"),\"x\",IF(OR(E204=\"o\",AND(C204=\"x\",D204=\"x\"),AND(E205=\"x\",E206=\"x\")),\"o\",\"\"))","v":""},{"$f":"IF(OR(G204=\"o\",H204=\"o\",F205=\"o\",F206=\"o\",F204=\"x\"),\"x\",IF(OR(F204=\"o\",AND(G204=\"x\",H204=\"x\"),AND(F205=\"x\",F206=\"x\")),\"o\",\"\"))","v":""},{"$f":"IF(OR(F204=\"o\",H204=\"o\",G205=\"o\",G206=\"o\",G204=\"x\"),\"x\",IF(OR(G204=\"o\",AND(F204=\"x\",H204=\"x\"),AND(G205=\"x\",G206=\"x\")),\"o\",\"\"))","v":""},{"$f":"IF(OR(F204=\"o\",G204=\"o\",H205=\"o\",H206=\"o\",H204=\"x\"),\"x\",IF(OR(H204=\"o\",AND(F204=\"x\",G204=\"x\"),AND(H205=\"x\",H206=\"x\")),\"o\",\"\"))","v":""}]
[null,"Charles",null,null,null,null,null,null,null,null,null,{"$f":"B205","v":"Charles"},{"$f":"IF(OR(D205=\"o\",E205=\"o\",C204=\"o\",C206=\"o\",C205=\"x\"),\"x\",IF(OR(C205=\"o\",AND(D205=\"x\",E205=\"x\"),AND(C204=\"x\",C206=\"x\")),\"o\",\"\"))","v":""},{"$f":"IF(OR(C205=\"o\",E205=\"o\",D204=\"o\",D206=\"o\",D205=\"x\"),\"x\",IF(OR(D205=\"o\",AND(C205=\"x\",E205=\"x\"),AND(D204=\"x\",D206=\"x\")),\"o\",\"\"))","v":""},{"$f":"IF(OR(C205=\"o\",D205=\"o\",E206=\"o\",E204=\"o\",E205=\"x\"),\"x\",IF(OR(E205=\"o\",AND(C205=\"x\",D205=\"x\"),AND(E204=\"x\",E206=\"x\")),\"o\",\"\"))","v":""},{"$f":"IF(OR(G205=\"o\",H205=\"o\",F204=\"o\",F206=\"o\",F205=\"x\"),\"x\",IF(OR(F205=\"o\",AND(G205=\"x\",H205=\"x\"),AND(F204=\"x\",F206=\"x\")),\"o\",\"\"))","v":""},{"$f":"IF(OR(F205=\"o\",H205=\"o\",G204=\"o\",G206=\"o\",G205=\"x\"),\"x\",IF(OR(G205=\"o\",AND(F205=\"x\",H205=\"x\"),AND(G204=\"x\",G206=\"x\")),\"o\",\"\"))","v":""},{"$f":"IF(OR(F205=\"o\",G205=\"o\",H204=\"o\",H206=\"o\",H205=\"x\"),\"x\",IF(OR(H205=\"o\",AND(F205=\"x\",G205=\"x\"),AND(H204=\"x\",H206=\"x\")),\"o\",\"\"))","v":""}]
[null,"Jordi",null,null,null,null,null,null,null,null,null,"Jordi",{"$f":"IF(OR(D206=\"o\",E206=\"o\",C204=\"o\",C205=\"o\",C206=\"x\"),\"x\",IF(OR(C206=\"o\",AND(D206=\"x\",E206=\"x\"),AND(C204=\"x\",C205=\"x\")),\"o\",\"\"))","v":""},{"$f":"IF(OR(C206=\"o\",E206=\"o\",D204=\"o\",D205=\"o\",D206=\"x\"),\"x\",IF(OR(D206=\"o\",AND(C206=\"x\",E206=\"x\"),AND(D204=\"x\",D205=\"x\")),\"o\",\"\"))","v":""},{"$f":"IF(OR(C206=\"o\",D206=\"o\",E204=\"o\",E205=\"o\",E206=\"x\"),\"x\",IF(OR(E206=\"o\",AND(C206=\"x\",D206=\"x\"),AND(E204=\"x\",E205=\"x\")),\"o\",\"\"))","v":""},{"$f":"IF(OR(G206=\"o\",H206=\"o\",F204=\"o\",F205=\"o\",F206=\"x\"),\"x\",IF(OR(F206=\"o\",AND(G206=\"x\",H206=\"x\"),AND(F204=\"x\",F205=\"x\")),\"o\",\"\"))","v":""},{"$f":"IF(OR(F206=\"o\",H206=\"o\",G204=\"o\",G205=\"o\",G206=\"x\"),\"x\",IF(OR(G206=\"o\",AND(F206=\"x\",H206=\"x\"),AND(G204=\"x\",G205=\"x\")),\"o\",\"\"))","v":""},{"$f":"IF(OR(F206=\"o\",G206=\"o\",H204=\"o\",H205=\"o\",H206=\"x\"),\"x\",IF(OR(H206=\"o\",AND(F206=\"x\",G206=\"x\"),AND(H204=\"x\",H205=\"x\")),\"o\",\"\"))","v":""}]
["Club","USAP",null,null,null,null,null,null,null,null,{"$f":"A207","v":"Club"},"USAP",{"$f":"IF(OR(D207=\"o\",E207=\"o\",C208=\"o\",C209=\"o\",C207=\"x\"),\"x\",IF(OR(C207=\"o\",AND(D207=\"x\",E207=\"x\"),AND(C208=\"x\",C209=\"x\")),\"o\",\"\"))","v":""},{"$f":"IF(OR(C207=\"o\",E207=\"o\",D208=\"o\",D209=\"o\",D207=\"x\"),\"x\",IF(OR(D207=\"o\",AND(C207=\"x\",E207=\"x\"),AND(D208=\"x\",D209=\"x\")),\"o\",\"\"))","v":""},{"$f":"IF(OR(C207=\"o\",D207=\"o\",E208=\"o\",E209=\"o\",E207=\"x\"),\"x\",IF(OR(E207=\"o\",AND(C207=\"x\",D207=\"x\"),AND(E208=\"x\",E209=\"x\")),\"o\",\"\"))","v":""}]
[null,"UST",null,null,null,null,{"$f":"IF(AND(C218=G218,D218=H218,C219=G219,D219=H219,C220=G220,D220=H220),\"BRAVO !!\",\"\")","v":""},null,null,null,null,"UST",{"$f":"IF(OR(D208=\"o\",E208=\"o\",C207=\"o\",C209=\"o\",C208=\"x\"),\"x\",IF(OR(C208=\"o\",AND(D208=\"x\",E208=\"x\"),AND(C207=\"x\",C209=\"x\")),\"o\",\"\"))","v":""},{"$f":"IF(OR(C208=\"o\",E208=\"o\",D207=\"o\",D209=\"o\",D208=\"x\"),\"x\",IF(OR(D208=\"o\",AND(C208=\"x\",E208=\"x\"),AND(D207=\"x\",D209=\"x\")),\"o\",\"\"))","v":""},{"$f":"IF(OR(C208=\"o\",D208=\"o\",E207=\"o\",E209=\"o\",E208=\"x\"),\"x\",IF(OR(E208=\"o\",AND(C208=\"x\",D208=\"x\"),AND(E207=\"x\",E209=\"x\")),\"o\",\"\"))","v":""}]
[null,"SPAC",null,null,null,null,null,null,null,null,null,"SPAC",{"$f":"IF(OR(D209=\"o\",E209=\"o\",C207=\"o\",C208=\"o\",C209=\"x\"),\"x\",IF(OR(C209=\"o\",AND(D209=\"x\",E209=\"x\"),AND(C207=\"x\",C208=\"x\")),\"o\",\"\"))","v":""},{"$f":"IF(OR(C209=\"o\",E209=\"o\",D207=\"o\",D208=\"o\",D209=\"x\"),\"x\",IF(OR(D209=\"o\",AND(C209=\"x\",E209=\"x\"),AND(D207=\"x\",D208=\"x\")),\"o\",\"\"))","v":""},{"$f":"IF(OR(C209=\"o\",D209=\"o\",E207=\"o\",E208=\"o\",E209=\"x\"),\"x\",IF(OR(E209=\"o\",AND(C209=\"x\",D209=\"x\"),AND(E207=\"x\",E208=\"x\")),\"o\",\"\"))","v":""}]
[]
["Trois amis supportent trois club de rugby différents dont les couleurs ont changées dernièrement."]
["L'équipe de Charles ne joue plus en Vert."]
["Les couleurs d'Alban sont bleues et il n'aime ni l'USAP ni le l'UST."]
["Jordi supporte Perpignan, même s'ils ne jouent plus en bleu."]
[]
[null,"Réponses : se remplit seul, ne rien y écrire."]
[null,{"$f":"A204","v":"Prénom"},{"$f":"C202","v":"Couleurs"},{"$f":"F202","v":"Club"},null,{"$f":"B217","v":"Prénom"},{"$f":"C217","v":"Couleurs"},{"$f":"D217","v":"Club"}]
[null,{"$f":"B204","v":"Alban"},{"$f":"IF(C204=\"o\",C203,IF(D204=\"o\",D203,IF(E204=\"o\",E203,\"\")))","v":""},{"$f":"IF(F204=\"o\",F203,IF(G204=\"o\",G203,IF(H204=\"o\",H203,\"\")))","v":""},null,{"$f":"B218","v":"Alban"},"Bleu","SAPC"]
[null,{"$f":"B205","v":"Charles"},{"$f":"IF(C205=\"o\",C203,IF(D205=\"o\",D203,IF(E205=\"o\",E203,\"\")))","v":""},{"$f":"IF(F205=\"o\",F203,IF(G205=\"o\",G203,IF(H205=\"o\",H203,\"\")))","v":""},null,"Charles","Rouge","UST"]
[null,"Jordi",{"$f":"IF(C206=\"o\",C203,IF(D206=\"o\",D203,IF(E206=\"o\",E203,\"\")))","v":""},{"$f":"IF(F206=\"o\",F203,IF(G206=\"o\",G203,IF(H206=\"o\",H203,\"\")))","v":""},null,"Jordi","Vert","USAP"]

{"sheet":"Calculs 3 indices","index":2,"n_rows":237,"n_cols":14,"rows_kept":237,"cut":false,"hidden":false,"merged":[[223,4,225,4],[195,4,197,4],[199,4,201,4],[217,6,217,8],[217,10,217,12],[219,4,221,4],[169,6,169,8],[169,10,169,12],[171,4,173,4],[175,4,177,4],[193,6,193,8],[193,10,193,12],[127,4,129,4],[145,6,145,8],[145,10,145,12],[147,4,149,4],[151,4,153,4],[99,4,101,4],[103,4,105,4],[121,6,121,8],[121,10,121,12],[123,4,125,4],[73,6,73,8],[73,10,73,12],[75,4,77,4],[79,4,81,4],[97,6,97,8],[97,10,97,12],[1,6,1,8],[1,10,1,12],[3,4,5,4],[7,4,9,4],[25,6,25,8],[25,10,25,12],[55,4,57,4],[27,4,29,4],[31,4,33,4],[49,6,49,8],[49,10,49,12],[51,4,53,4]]}
[{"$f":"'3 indices'!A1","v":"I°/ Les sports préférés :"},{"$f":"IF(C2=2,B2,IF(C3=2,B3,IF(C4=2,B4,IF(C5=2,B5,IF(C6=2,B6,IF(C7=2,B7,IF(C8=2,B8,IF(C9=2,B9,IF(C10=2,B10,\"\")))))))))","v":""}]
["Impossible d'avoir 3 non sur la même ligne ",{"$f":"IF(AND('3 indices'!$C6=\"x\",'3 indices'!$D6=\"x\",'3 indices'!$E6=\"x\"),$A2&'3 indices'!$C4&\" \"&'3 indices'!$B6,\"\")","v":""},{"$f":"IF(B2=\"\",1,2)","v":1},null,null,null,{"$f":"'3 indices'!C4","v":"Âge"},null,null,null,{"$f":"'3 indices'!F4","v":"Sport"}]
[null,{"$f":"IF(AND('3 indices'!$C7=\"x\",'3 indices'!$D7=\"x\",'3 indices'!$E7=\"x\"),$A2&'3 indices'!$C4&\" \"&'3 indices'!$B7,\"\")","v":""},{"$f":"IF(B3=\"\",1,2)","v":1},null,null,null,{"$f":"'3 indices'!C5","v":15},{"$f":"'3 indices'!D5","v":17},{"$f":"'3 indices'!E5","v":19},null,{"$f":"'3 indices'!F5","v":"Hand"},{"$f":"'3 indices'!G5","v":"Foot"},{"$f":"'3 indices'!H5","v":"Rugby"}]
[null,{"$f":"IF(AND('3 indices'!$C8=\"x\",'3 indices'!$D8=\"x\",'3 indices'!$E8=\"x\"),$A2&'3 indices'!$C4&\" \"&'3 indices'!$B8,\"\")","v":""},1,null,{"$f":"'3 indices'!A6","v":"Prénom"},{"$f":"'3 indices'!B6","v":"Albert"},{"$f":"IF('3 indices'!C6=\"o\",1,0)","v":0},{"$f":"IF('3 indices'!D6=\"o\",1,0)","v":0},{"$f":"IF('3 indices'!E6=\"o\",1,0)","v":0},{"$f":"SUM(G4:I4)","v":0},{"$f":"IF('3 indices'!F6=\"o\",1,0)","v":0},{"$f":"IF('3 indices'!G6=\"o\",1,0)","v":0},{"$f":"IF('3 indices'!H6=\"o\",1,0)","v":0},{"$f":"SUM(K4:M4)","v":0}]
[null,{"$f":"IF(AND('3 indices'!$C9=\"x\",'3 indices'!$D9=\"x\",'3 indices'!$E9=\"x\"),$A2&'3 indices'!$C4&\" \"&'3 indices'!$B9,\"\")","v":""},1,null,null,{"$f":"'3 indices'!B7","v":"Benoit"},{"$f":"IF('3 indices'!C7=\"o\",1,0)","v":0},{"$f":"IF('3 indices'!D7=\"o\",1,0)","v":0},{"$f":"IF('3 indices'!E7=\"o\",1,0)","v":0},{"$f":"SUM(G5:I5)","v":0},{"$f":"IF('3 indices'!F7=\"o\",1,0)","v":0},{"$f":"IF('3 indices'!G7=\"o\",1,0)","v":0},{"$f":"IF('3 indices'!H7=\"o\",1,0)","v":0},{"$f":"SUM(K5:M5)","v":0}]
[null,{"$f":"IF(AND('3 indices'!$C10=\"x\",'3 indices'!$D10=\"x\",'3 indices'!$E10=\"x\"),$A2&'3 indices'!$C4&\" \"&'3 indices'!$B10,\"\")","v":""},1,null,null,{"$f":"'3 indices'!B8","v":"Charles"},{"$f":"IF('3 indices'!C8=\"o\",1,0)","v":0},{"$f":"IF('3 indices'!D8=\"o\",1,0)","v":0},{"$f":"IF('3 indices'!E8=\"o\",1,0)","v":0},0,{"$f":"IF('3 indices'!F8=\"o\",1,0)","v":0},{"$f":"IF('3 indices'!G8=\"o\",1,0)","v":0},{"$f":"IF('3 indices'!H8=\"o\",1,0)","v":0},0]
[null,{"$f":"IF(AND('3 indices'!$C11=\"x\",'3 indices'!$D11=\"x\",'3 indices'!$E11=\"x\"),$A2&'3 indices'!$C4&\" \"&'3 indices'!$B11,\"\")","v":""},1,null,null,null,{"$f":"SUM(G4:G6)","v":0},{"$f":"SUM(H4:H6)","v":0},0,null,{"$f":"SUM(K4:K6)","v":0},{"$f":"SUM(L4:L6)","v":0},0]
[null,{"$f":"IF(AND('3 indices'!$F6=\"x\",'3 indices'!$G6=\"x\",'3 indices'!$H6=\"x\"),$A2&'3 indices'!$F4&\" \"&'3 indices'!$B6,\"\")","v":""},1,null,{"$f":"'3 indices'!A9","v":"Sport"},{"$f":"'3 indices'!B9","v":"Hand"},{"$f":"IF('3 indices'!C9=\"o\",1,0)","v":0},{"$f":"IF('3 indices'!D9=\"o\",1,0)","v":0},{"$f":"IF('3 indices'!E9=\"o\",1,0)","v":0},{"$f":"SUM(G8:I8)","v":0}]
[null,{"$f":"IF(AND('3 indices'!$F7=\"x\",'3 indices'!$G7=\"x\",'3 indices'!$H7=\"x\"),$A2&'3 indices'!$F4&\" \"&'3 indices'!$B7,\"\")","v":""},1,null,null,{"$f":"'3 indices'!B10","v":"Foot"},{"$f":"IF('3 indices'!C10=\"o\",1,0)","v":0},{"$f":"IF('3 indices'!D10=\"o\",1,0)","v":0},{"$f":"IF('3 indices'!E10=\"o\",1,0)","v":0},{"$f":"SUM(G9:I9)","v":0},"Impossible qu'il y ai plus de deux Oui "]
[null,{"$f":"IF(AND('3 indices'!$F8=\"x\",'3 indices'!$G8=\"x\",'3 indices'!$H8=\"x\"),$A2&'3 indices'!$F4&\" \"&'3 indices'!$B8,\"\")","v":""},{"$f":"IF(B10=\"\",1,2)","v":1},null,null,{"$f":"'3 indices'!B11","v":"Rugby"},{"$f":"IF('3 indices'!C11=\"o\",1,0)","v":0},{"$f":"IF('3 indices'!D11=\"o\",1,0)","v":0},{"$f":"IF('3 indices'!E11=\"o\",1,0)","v":0},0," sur la ligne "]
[null,null,null,null,null,null,{"$f":"SUM(G8:G10)","v":0},{"$f":"SUM(H8:H10)","v":0},0,null," sur la colonne "]
[null,{"$f":"IF(C13=2,B13,IF(C14=2,B14,IF(C15=2,B15,IF(C16=2,B16,IF(C17=2,B17,IF(C18=2,B18,IF(C19=2,B19,IF(C20=2,B20,IF(C21=2,B21,\"\")))))))))","v":""},null,null,"=",{"$f":"IF(J4>1,K9&K10&G2&\" \"&F4,IF(J5>1,K9&K10&G2&\" \"&F5,IF(J6>1,K9&K10&G2&\" \"&F6,IF(J8>1,K9&K10&G2&\" \"&F8,IF(J9>1,K9&K10&G2&\" \"&F9,IF(J10>1,K9&K10&G2&\" \"&F10,IF(N4>1,K9&K10&K2&\" \"&F4,IF(N5>1,K9&K10&K2&\" \"&F5,IF(N6>1,K9&K10&K2&\" \"&F6,\"\")))))))))","v":""}]
["Impossible d'avoir 3 non sur la même colonne  ",{"$f":"IF(AND('3 indices'!C6=\"x\",'3 indices'!C7=\"x\",'3 indices'!C8=\"x\"),$A13&'3 indices'!$C5&\" \"&'3 indices'!$A6,\"\")","v":""},1,null,"=",{"$f":"IF(G7>1,K9&K11&E4&\" \"&G3,IF(H7>1,K9&K11&E4&\" \"&H3,IF(I7>1,K9&K11&E4&\" \"&I3,IF(K7>1,K9&K11&E4&\" \"&K3,IF(L7>1,K9&K11&E4&\" \"&L3,IF(M7>1,K9&K11&E4&\" \"&M3,IF(G11>1,K9&K11&E8&\" \"&G3,IF(H11>1,K9&K11&E8&\" \"&H3,IF(I11>1,K9&K11&E8&\" \"&I3,\"\")))))))))","v":""}]
[null,{"$f":"IF(AND('3 indices'!D6=\"x\",'3 indices'!D7=\"x\",'3 indices'!D8=\"x\"),$A13&'3 indices'!D5&\" \"&'3 indices'!$A6,\"\")","v":""},1,null,null,null,"3 indices","4 indices","5 indices"]
[null,{"$f":"IF(AND('3 indices'!E6=\"x\",'3 indices'!E7=\"x\",'3 indices'!E8=\"x\"),$A13&'3 indices'!E5&\" \"&'3 indices'!$A6,\"\")","v":""},1,null,null,"Modules n°",{"$f":"\"+ 24\"","v":"+ 24"}]
[null,{"$f":"IF(AND('3 indices'!C9=\"x\",'3 indices'!C10=\"x\",'3 indices'!C11=\"x\"),$A13&'3 indices'!$C5&\" \"&'3 indices'!$A9,\"\")","v":""},1,null,null,1,"Vider tableau","Vider tableau","Vider tableau"]
[null,{"$f":"IF(AND('3 indices'!D9=\"x\",'3 indices'!D10=\"x\",'3 indices'!D11=\"x\"),$A13&'3 indices'!D5&\" \"&'3 indices'!$A9,\"\")","v":""},1,null,null,4,"Aide","Aide","Aide"]
[null,{"$f":"IF(AND('3 indices'!E9=\"x\",'3 indices'!E10=\"x\",'3 indices'!E11=\"x\"),$A13&'3 indices'!E5&\" \"&'3 indices'!$A9,\"\")","v":""},1,null,null,6,"Solutions","Solutions","Solutions"]
[null,{"$f":"IF(AND('3 indices'!F6=\"x\",'3 indices'!F7=\"x\",'3 indices'!F8=\"x\"),$A13&'3 indices'!$F5&\" \"&'3 indices'!$A6,\"\")","v":""},1]
[null,{"$f":"IF(AND('3 indices'!G6=\"x\",'3 indices'!G7=\"x\",'3 indices'!G8=\"x\"),$A13&'3 indices'!$G5&\" \"&'3 indices'!$A6,\"\")","v":""},1]
[null,{"$f":"IF(AND('3 indices'!H6=\"x\",'3 indices'!H7=\"x\",'3 indices'!H8=\"x\"),$A13&'3 indices'!$H5&\" \"&'3 indices'!$A6,\"\")","v":""},1]
[]
[]
[]
[{"$f":"'3 indices'!A23","v":"II°/ Trois mathématiciens :"},{"$f":"IF(C26=2,B26,IF(C27=2,B27,IF(C28=2,B28,IF(C29=2,B29,IF(C30=2,B30,IF(C31=2,B31,IF(C32=2,B32,IF(C33=2,B33,IF(C34=2,B34,\"\")))))))))","v":""}]
["Impossible d'avoir 3 non sur la même ligne ",{"$f":"IF(AND('3 indices'!$C28=\"x\",'3 indices'!$D28=\"x\",'3 indices'!$E28=\"x\"),$A26&'3 indices'!$C26&\" \"&'3 indices'!$B28,\"\")","v":""},{"$f":"IF(B26=\"\",1,2)","v":1},null,null,null,{"$f":"'3 indices'!C26","v":"Ville"},null,null,null,{"$f":"'3 indices'!F26","v":"Année de naissance"}]
[null,{"$f":"IF(AND('3 indices'!$C29=\"x\",'3 indices'!$D29=\"x\",'3 indices'!$E29=\"x\"),$A26&'3 indices'!$C26&\" \"&'3 indices'!$B29,\"\")","v":""},{"$f":"IF(B27=\"\",1,2)","v":1},null,null,null,{"$f":"'3 indices'!C27","v":"Perge"},{"$f":"'3 indices'!D27","v":"Syracuse"},{"$f":"'3 indices'!E27","v":"Cyréne"},null,{"$f":"'3 indices'!F27","v":"287 av J.C."},{"$f":"'3 indices'!G27","v":"262 av J.C."},{"$f":"'3 indices'!H27","v":"276 av J.C."}]
[null,{"$f":"IF(AND('3 indices'!$C30=\"x\",'3 indices'!$D30=\"x\",'3 indices'!$E30=\"x\"),$A26&'3 indices'!$C26&\" \"&'3 indices'!$B30,\"\")","v":""},1,null,{"$f":"'3 indices'!A28","v":"Nom"},{"$f":"'3 indices'!B28","v":"Eratosthène"},{"$f":"IF('3 indices'!C28=\"o\",1,0)","v":0},{"$f":"IF('3 indices'!D28=\"o\",1,0)","v":0},{"$f":"IF('3 indices'!E28=\"o\",1,0)","v":0},{"$f":"SUM(G28:I28)","v":0},{"$f":"IF('3 indices'!F28=\"o\",1,0)","v":0},{"$f":"IF('3 indices'!G28=\"o\",1,0)","v":0},{"$f":"IF('3 indices'!H28=\"o\",1,0)","v":0},{"$f":"SUM(K28:M28)","v":0}]
[null,{"$f":"IF(AND('3 indices'!$C31=\"x\",'3 indices'!$D31=\"x\",'3 indices'!$E31=\"x\"),$A26&'3 indices'!$C26&\" \"&'3 indices'!$B31,\"\")","v":""},1,null,null,{"$f":"'3 indices'!B29","v":"Archimède"},{"$f":"IF('3 indices'!C29=\"o\",1,0)","v":0},{"$f":"IF('3 indices'!D29=\"o\",1,0)","v":0},{"$f":"IF('3 indices'!E29=\"o\",1,0)","v":0},{"$f":"SUM(G29:I29)","v":0},{"$f":"IF('3 indices'!F29=\"o\",1,0)","v":0},{"$f":"IF('3 indices'!G29=\"o\",1,0)","v":0},{"$f":"IF('3 indices'!H29=\"o\",1,0)","v":0},{"$f":"SUM(K29:M29)","v":0}]
[null,{"$f":"IF(AND('3 indices'!$C32=\"x\",'3 indices'!$D32=\"x\",'3 indices'!$E32=\"x\"),$A26&'3 indices'!$C26&\" \"&'3 indices'!$B32,\"\")","v":""},1,null,null,{"$f":"'3 indices'!B30","v":"Apollonius"},{"$f":"IF('3 indices'!C30=\"o\",1,0)","v":0},{"$f":"IF('3 indices'!D30=\"o\",1,0)","v":0},{"$f":"IF('3 indices'!E30=\"o\",1,0)","v":0},0,{"$f":"IF('3 indices'!F30=\"o\",1,0)","v":0},{"$f":"IF('3 indices'!G30=\"o\",1,0)","v":0},{"$f":"IF('3 indices'!H30=\"o\",1,0)","v":0},0]
[null,{"$f":"IF(AND('3 indices'!$C33=\"x\",'3 indices'!$D33=\"x\",'3 indices'!$E33=\"x\"),$A26&'3 indices'!$C26&\" \"&'3 indices'!$B33,\"\")","v":""},1,null,null,null,{"$f":"SUM(G28:G30)","v":0},{"$f":"SUM(H28:H30)","v":0},0,null,{"$f":"SUM(K28:K30)","v":0},{"$f":"SUM(L28:L30)","v":0},0]
[null,{"$f":"IF(AND('3 indices'!$F28=\"x\",'3 indices'!$G28=\"x\",'3 indices'!$H28=\"x\"),$A26&'3 indices'!$F26&\" \"&'3 indices'!$B28,\"\")","v":""},1,null,{"$f":"'3 indices'!A31","v":"Année"},{"$f":"'3 indices'!B31","v":"287 av J.C."},{"$f":"IF('3 indices'!C31=\"o\",1,0)","v":0},{"$f":"IF('3 indices'!D31=\"o\",1,0)","v":0},{"$f":"IF('3 indices'!E31=\"o\",1,0)","v":0},{"$f":"SUM(G32:I32)","v":0}]
[null,{"$f":"IF(AND('3 indices'!$F29=\"x\",'3 indices'!$G29=\"x\",'3 indices'!$H29=\"x\"),$A26&'3 indices'!$F26&\" \"&'3 indices'!$B29,\"\")","v":""},1,null,null,{"$f":"'3 indices'!B32","v":"262 av J.C."},{"$f":"IF('3 indices'!C32=\"o\",1,0)","v":0},{"$f":"IF('3 indices'!D32=\"o\",1,0)","v":0},{"$f":"IF('3 indices'!E32=\"o\",1,0)","v":0},{"$f":"SUM(G33:I33)","v":0},"Impossible qu'il y ai plus de deux Oui "]
[null,{"$f":"IF(AND('3 indices'!$F30=\"x\",'3 indices'!$G30=\"x\",'3 indices'!$H30=\"x\"),$A26&'3 indices'!$F26&\" \"&'3 indices'!$B30,\"\")","v":""},1,null,null,{"$f":"'3 indices'!B33","v":"276 av J.C."},{"$f":"IF('3 indices'!C33=\"o\",1,0)","v":0},{"$f":"IF('3 indices'!D33=\"o\",1,0)","v":0},{"$f":"IF('3 indices'!E33=\"o\",1,0)","v":0},0," sur la ligne "]
[null,null,null,null,null,null,{"$f":"SUM(G32:G34)","v":0},{"$f":"SUM(H32:H34)","v":0},0,null," sur la colonne "]
[null,{"$f":"IF(C37=2,B37,IF(C38=2,B38,IF(C39=2,B39,IF(C40=2,B40,IF(C41=2,B41,IF(C42=2,B42,IF(C43=2,B43,IF(C44=2,B44,IF(C45=2,B45,\"\")))))))))","v":""},null,null,"=",{"$f":"IF(J28>1,K33&K34&G26&\" \"&F28,IF(J29>1,K33&K34&G26&\" \"&F29,IF(J30>1,K33&K34&G26&\" \"&F30,IF(J32>1,K33&K34&G26&\" \"&F32,IF(J33>1,K33&K34&G26&\" \"&F33,IF(J34>1,K33&K34&G26&\" \"&F34,IF(N28>1,K33&K34&K26&\" \"&F28,IF(N29>1,K33&K34&K26&\" \"&F29,IF(N30>1,K33&K34&K26&\" \"&F30,\"\")))))))))","v":""}]
["Impossible d'avoir 3 non sur la même colonne  ",{"$f":"IF(AND('3 indices'!C28=\"x\",'3 indices'!C29=\"x\",'3 indices'!C30=\"x\"),$A37&'3 indices'!$C27&\" \"&'3 indices'!$A28,\"\")","v":""},{"$f":"IF(B37=\"\",1,2)","v":1},null,"=",{"$f":"IF(G31>1,K33&K35&E28&\" \"&G27,IF(H31>1,K33&K35&E28&\" \"&H27,IF(I31>1,K33&K35&E28&\" \"&I27,IF(K31>1,K33&K35&E28&\" \"&K27,IF(L31>1,K33&K35&E28&\" \"&L27,IF(M31>1,K33&K35&E28&\" \"&M27,IF(G35>1,K33&K35&E32&\" \"&G27,IF(H35>1,K33&K35&E32&\" \"&H27,IF(I35>1,K33&K35&E32&\" \"&I27,\"\")))))))))","v":""}]
[null,{"$f":"IF(AND('3 indices'!D28=\"x\",'3 indices'!D29=\"x\",'3 indices'!D30=\"x\"),$A37&'3 indices'!D27&\" \"&'3 indices'!$A28,\"\")","v":""},1]
[null,{"$f":"IF(AND('3 indices'!E28=\"x\",'3 indices'!E29=\"x\",'3 indices'!E30=\"x\"),$A37&'3 indices'!E27&\" \"&'3 indices'!$A28,\"\")","v":""},1]
[null,{"$f":"IF(AND('3 indices'!C31=\"x\",'3 indices'!C32=\"x\",'3 indices'!C33=\"x\"),$A37&'3 indices'!$C27&\" \"&'3 indices'!$A31,\"\")","v":""},1]
[null,{"$f":"IF(AND('3 indices'!D31=\"x\",'3 indices'!D32=\"x\",'3 indices'!D33=\"x\"),$A37&'3 indices'!D27&\" \"&'3 indices'!$A31,\"\")","v":""},1]
[null,{"$f":"IF(AND('3 indices'!E31=\"x\",'3 indices'!E32=\"x\",'3 indices'!E33=\"x\"),$A37&'3 indices'!E27&\" \"&'3 indices'!$A31,\"\")","v":""},1]
[null,{"$f":"IF(AND('3 indices'!F28=\"x\",'3 indices'!F29=\"x\",'3 indices'!F30=\"x\"),$A37&'3 indices'!$F27&\" \"&'3 indices'!$A28,\"\")","v":""},1]
[null,{"$f":"IF(AND('3 indices'!G28=\"x\",'3 indices'!G29=\"x\",'3 indices'!G30=\"x\"),$A37&'3 indices'!$G27&\" \"&'3 indices'!$A28,\"\")","v":""},1]
[null,{"$f":"IF(AND('3 indices'!H28=\"x\",'3 indices'!H29=\"x\",'3 indices'!H30=\"x\"),$A37&'3 indices'!$H27&\" \"&'3 indices'!$A28,\"\")","v":""},1]
[]
[]
[]
[{"$f":"'3 indices'!A45","v":"III°/ Trois grandes tours :"},{"$f":"IF(C50=2,B50,IF(C51=2,B51,IF(C52=2,B52,IF(C53=2,B53,IF(C54=2,B54,IF(C55=2,B55,IF(C56=2,B56,IF(C57=2,B57,IF(C58=2,B58,\"\")))))))))","v":""}]
["Impossible d'avoir 3 non sur la même ligne ",{"$f":"IF(AND('3 indices'!$C50=\"x\",'3 indices'!$D50=\"x\",'3 indices'!$E50=\"x\"),$A50&'3 indices'!$C48&\" \"&'3 indices'!$B50,\"\")","v":""},{"$f":"IF(B50=\"\",1,2)","v":1},null,null,null,{"$f":"'3 indices'!C48","v":"Hauteur"},null,null,null,{"$f":"'3 indices'!F48","v":"Forme"}]
[null,{"$f":"IF(AND('3 indices'!$C51=\"x\",'3 indices'!$D51=\"x\",'3 indices'!$E51=\"x\"),$A50&'3 indices'!$C48&\" \"&'3 indices'!$B51,\"\")","v":""},{"$f":"IF(B51=\"\",1,2)","v":1},null,null,null,{"$f":"'3 indices'!C49","v":"514,8 m"},{"$f":"'3 indices'!D49","v":"541 m"},{"$f":"'3 indices'!E49","v":"705 m"},null,{"$f":"'3 indices'!F49","v":"Hélicoïdale "},{"$f":"'3 indices'!G49","v":"Hymenocallis"},{"$f":"'3 indices'!H49","v":"Flèche en haut"}]
[null,{"$f":"IF(AND('3 indices'!$C52=\"x\",'3 indices'!$D52=\"x\",'3 indices'!$E52=\"x\"),$A50&'3 indices'!$C48&\" \"&'3 indices'!$B52,\"\")","v":""},1,null,{"$f":"'3 indices'!A50","v":"Pays"},{"$f":"'3 indices'!B50","v":"Emirats Arabes Unis"},{"$f":"IF('3 indices'!C50=\"o\",1,0)","v":0},{"$f":"IF('3 indices'!D50=\"o\",1,0)","v":0},{"$f":"IF('3 indices'!E50=\"o\",1,0)","v":0},{"$f":"SUM(G52:I52)","v":0},{"$f":"IF('3 indices'!F50=\"o\",1,0)","v":0},{"$f":"IF('3 indices'!G50=\"o\",1,0)","v":0},{"$f":"IF('3 indices'!H50=\"o\",1,0)","v":0},{"$f":"SUM(K52:M52)","v":0}]
[null,{"$f":"IF(AND('3 indices'!$C53=\"x\",'3 indices'!$D53=\"x\",'3 indices'!$E53=\"x\"),$A50&'3 indices'!$C48&\" \"&'3 indices'!$B53,\"\")","v":""},1,null,null,{"$f":"'3 indices'!B51","v":"Chine"},{"$f":"IF('3 indices'!C51=\"o\",1,0)","v":0},{"$f":"IF('3 indices'!D51=\"o\",1,0)","v":0},{"$f":"IF('3 indices'!E51=\"o\",1,0)","v":0},{"$f":"SUM(G53:I53)","v":0},{"$f":"IF('3 indices'!F51=\"o\",1,0)","v":0},{"$f":"IF('3 indices'!G51=\"o\",1,0)","v":0},{"$f":"IF('3 indices'!H51=\"o\",1,0)","v":0},{"$f":"SUM(K53:M53)","v":0}]
[null,{"$f":"IF(AND('3 indices'!$C54=\"x\",'3 indices'!$D54=\"x\",'3 indices'!$E54=\"x\"),$A50&'3 indices'!$C48&\" \"&'3 indices'!$B54,\"\")","v":""},1,null,null,{"$f":"'3 indices'!B52","v":"Etats-Unis"},{"$f":"IF('3 indices'!C52=\"o\",1,0)","v":0},{"$f":"IF('3 indices'!D52=\"o\",1,0)","v":0},{"$f":"IF('3 indices'!E52=\"o\",1,0)","v":0},0,{"$f":"IF('3 indices'!F52=\"o\",1,0)","v":0},{"$f":"IF('3 indices'!G52=\"o\",1,0)","v":0},{"$f":"IF('3 indices'!H52=\"o\",1,0)","v":0},0]
[null,{"$f":"IF(AND('3 indices'!$C55=\"x\",'3 indices'!$D55=\"x\",'3 indices'!$E55=\"x\"),$A50&'3 indices'!$C48&\" \"&'3 indices'!$B55,\"\")","v":""},1,null,null,null,{"$f":"SUM(G52:G54)","v":0},{"$f":"SUM(H52:H54)","v":0},0,null,{"$f":"SUM(K52:K54)","v":0},{"$f":"SUM(L52:L54)","v":0},0]
[null,{"$f":"IF(AND('3 indices'!$F50=\"x\",'3 indices'!$G50=\"x\",'3 indices'!$H50=\"x\"),$A50&'3 indices'!$F48&\" \"&'3 indices'!$B50,\"\")","v":""},1,null,{"$f":"'3 indices'!A53","v":"Forme"},{"$f":"'3 indices'!B53","v":"Hélicoïdale "},{"$f":"IF('3 indices'!C53=\"o\",1,0)","v":0},{"$f":"IF('3 indices'!D53=\"o\",1,0)","v":0},{"$f":"IF('3 indices'!E53=\"o\",1,0)","v":0},{"$f":"SUM(G56:I56)","v":0}]
[null,{"$f":"IF(AND('3 indices'!$F51=\"x\",'3 indices'!$G51=\"x\",'3 indices'!$H51=\"x\"),$A50&'3 indices'!$F48&\" \"&'3 indices'!$B51,\"\")","v":""},1,null,null,{"$f":"'3 indices'!B54","v":"Hymenocallis"},{"$f":"IF('3 indices'!C54=\"o\",1,0)","v":0},{"$f":"IF('3 indices'!D54=\"o\",1,0)","v":0},{"$f":"IF('3 indices'!E54=\"o\",1,0)","v":0},{"$f":"SUM(G57:I57)","v":0},"Impossible qu'il y ai plus de deux Oui "]
[null,{"$f":"IF(AND('3 indices'!$F52=\"x\",'3 indices'!$G52=\"x\",'3 indices'!$H52=\"x\"),$A50&'3 indices'!$F48&\" \"&'3 indices'!$B52,\"\")","v":""},1,null,null,{"$f":"'3 indices'!B55","v":"Flèche en haut"},{"$f":"IF('3 indices'!C55=\"o\",1,0)","v":0},{"$f":"IF('3 indices'!D55=\"o\",1,0)","v":0},{"$f":"IF('3 indices'!E55=\"o\",1,0)","v":0},0," sur la ligne "]
[null,null,null,null,null,null,{"$f":"SUM(G56:G58)","v":0},{"$f":"SUM(H56:H58)","v":0},0,null," sur la colonne "]
[null,{"$f":"IF(C61=2,B61,IF(C62=2,B62,IF(C63=2,B63,IF(C64=2,B64,IF(C65=2,B65,IF(C66=2,B66,IF(C67=2,B67,IF(C68=2,B68,IF(C69=2,B69,\"\")))))))))","v":""},null,null,"=",{"$f":"IF(J52>1,K57&K58&G50&\" \"&F52,IF(J53>1,K57&K58&G50&\" \"&F53,IF(J54>1,K57&K58&G50&\" \"&F54,IF(J56>1,K57&K58&G50&\" \"&F56,IF(J57>1,K57&K58&G50&\" \"&F57,IF(J58>1,K57&K58&G50&\" \"&F58,IF(N52>1,K57&K58&K50&\" \"&F52,IF(N53>1,K57&K58&K50&\" \"&F53,IF(N54>1,K57&K58&K50&\" \"&F54,\"\")))))))))","v":""}]
["Impossible d'avoir 3 non sur la même colonne  ",{"$f":"IF(AND('3 indices'!C50=\"x\",'3 indices'!C51=\"x\",'3 indices'!C52=\"x\"),$A61&'3 indices'!$C49&\" \"&'3 indices'!$A50,\"\")","v":""},{"$f":"IF(B61=\"\",1,2)","v":1},null,"=",{"$f":"IF(G55>1,K57&K59&E52&\" \"&G51,IF(H55>1,K57&K59&E52&\" \"&H51,IF(I55>1,K57&K59&E52&\" \"&I51,IF(K55>1,K57&K59&E52&\" \"&K51,IF(L55>1,K57&K59&E52&\" \"&L51,IF(M55>1,K57&K59&E52&\" \"&M51,IF(G59>1,K57&K59&E56&\" \"&G51,IF(H59>1,K57&K59&E56&\" \"&H51,IF(I59>1,K57&K59&E56&\" \"&I51,\"\")))))))))","v":""}]
[null,{"$f":"IF(AND('3 indices'!D50=\"x\",'3 indices'!D51=\"x\",'3 indices'!D52=\"x\"),$A61&'3 indices'!D49&\" \"&'3 indices'!$A50,\"\")","v":""},1]
[null,{"$f":"IF(AND('3 indices'!E50=\"x\",'3 indices'!E51=\"x\",'3 indices'!E52=\"x\"),$A61&'3 indices'!E49&\" \"&'3 indices'!$A50,\"\")","v":""},1]
[null,{"$f":"IF(AND('3 indices'!C53=\"x\",'3 indices'!C54=\"x\",'3 indices'!C55=\"x\"),$A61&'3 indices'!$C49&\" \"&'3 indices'!$A53,\"\")","v":""},1]
[null,{"$f":"IF(AND('3 indices'!D53=\"x\",'3 indices'!D54=\"x\",'3 indices'!D55=\"x\"),$A61&'3 indices'!D49&\" \"&'3 indices'!$A53,\"\")","v":""},1]
[null,{"$f":"IF(AND('3 indices'!E53=\"x\",'3 indices'!E54=\"x\",'3 indices'!E55=\"x\"),$A61&'3 indices'!E49&\" \"&'3 indices'!$A53,\"\")","v":""},1]
[null,{"$f":"IF(AND('3 indices'!F50=\"x\",'3 indices'!F51=\"x\",'3 indices'!F52=\"x\"),$A61&'3 indices'!$F49&\" \"&'3 indices'!$A50,\"\")","v":""},1]
[null,{"$f":"IF(AND('3 indices'!G50=\"x\",'3 indices'!G51=\"x\",'3 indices'!G52=\"x\"),$A61&'3 indices'!$G49&\" \"&'3 indices'!$A50,\"\")","v":""},1]
[null,{"$f":"IF(AND('3 indices'!H50=\"x\",'3 indices'!H51=\"x\",'3 indices'!H52=\"x\"),$A61&'3 indices'!$H49&\" \"&'3 indices'!$A50,\"\")","v":""},1]
[]
[]
[]
[{"$f":"'3 indices'!A67","v":"IV°/ Les pierres précieuses :"},{"$f":"IF(C74=2,B74,IF(C75=2,B75,IF(C76=2,B76,IF(C77=2,B77,IF(C78=2,B78,IF(C79=2,B79,IF(C80=2,B80,IF(C81=2,B81,IF(C82=2,B82,\"\")))))))))","v":""}]
["Impossible d'avoir 3 non sur la même ligne ",{"$f":"IF(AND('3 indices'!$C72=\"x\",'3 indices'!$D72=\"x\",'3 indices'!$E72=\"x\"),$A74&'3 indices'!$C70&\" \"&'3 indices'!$B72,\"\")","v":""},{"$f":"IF(B74=\"\",1,2)","v":1},null,null,null,{"$f":"'3 indices'!C70","v":"Dureté"},null,null,null,{"$f":"'3 indices'!F70","v":"Composition"}]
[null,{"$f":"IF(AND('3 indices'!$C73=\"x\",'3 indices'!$D73=\"x\",'3 indices'!$E73=\"x\"),$A74&'3 indices'!$C70&\" \"&'3 indices'!$B73,\"\")","v":""},{"$f":"IF(B75=\"\",1,2)","v":1},null,null,null,{"$f":"'3 indices'!C71","v":7.5},{"$f":"'3 indices'!D71","v":9},{"$f":"'3 indices'!E71","v":10},null,{"$f":"'3 indices'!F71","v":"Silicate d'Aluminium et de Béryllium"},{"$f":"'3 indices'!G71","v":"Carbone"},{"$f":"'3 indices'!H71","v":"Oxyde d'Aluminium"}]
[null,{"$f":"IF(AND('3 indices'!$C74=\"x\",'3 indices'!$D74=\"x\",'3 indices'!$E74=\"x\"),$A74&'3 indices'!$C70&\" \"&'3 indices'!$B74,\"\")","v":""},1,null,{"$f":"'3 indices'!A72","v":"Pierre"},{"$f":"'3 indices'!B72","v":"Saphir & Rubis"},{"$f":"IF('3 indices'!C72=\"o\",1,0)","v":0},{"$f":"IF('3 indices'!D72=\"o\",1,0)","v":0},{"$f":"IF('3 indices'!E72=\"o\",1,0)","v":0},{"$f":"SUM(G76:I76)","v":0},{"$f":"IF('3 indices'!F72=\"o\",1,0)","v":0},{"$f":"IF('3 indices'!G72=\"o\",1,0)","v":0},{"$f":"IF('3 indices'!H72=\"o\",1,0)","v":0},{"$f":"SUM(K76:M76)","v":0}]
[null,{"$f":"IF(AND('3 indices'!$C75=\"x\",'3 indices'!$D75=\"x\",'3 indices'!$E75=\"x\"),$A74&'3 indices'!$C70&\" \"&'3 indices'!$B75,\"\")","v":""},1,null,null,{"$f":"'3 indices'!B73","v":"L'Emeraude"},{"$f":"IF('3 indices'!C73=\"o\",1,0)","v":0},{"$f":"IF('3 indices'!D73=\"o\",1,0)","v":0},{"$f":"IF('3 indices'!E73=\"o\",1,0)","v":0},{"$f":"SUM(G77:I77)","v":0},{"$f":"IF('3 indices'!F73=\"o\",1,0)","v":0},{"$f":"IF('3 indices'!G73=\"o\",1,0)","v":0},{"$f":"IF('3 indices'!H73=\"o\",1,0)","v":0},{"$f":"SUM(K77:M77)","v":0}]
[null,{"$f":"IF(AND('3 indices'!$C76=\"x\",'3 indices'!$D76=\"x\",'3 indices'!$E76=\"x\"),$A74&'3 indices'!$C70&\" \"&'3 indices'!$B76,\"\")","v":""},1,null,null,{"$f":"'3 indices'!B74","v":"Diamant"},{"$f":"IF('3 indices'!C74=\"o\",1,0)","v":0},{"$f":"IF('3 indices'!D74=\"o\",1,0)","v":0},{"$f":"IF('3 indices'!E74=\"o\",1,0)","v":0},0,{"$f":"IF('3 indices'!F74=\"o\",1,0)","v":0},{"$f":"IF('3 indices'!G74=\"o\",1,0)","v":0},{"$f":"IF('3 indices'!H74=\"o\",1,0)","v":0},0]
[null,{"$f":"IF(AND('3 indices'!$C77=\"x\",'3 indices'!$D77=\"x\",'3 indices'!$E77=\"x\"),$A74&'3 indices'!$C70&\" \"&'3 indices'!$B77,\"\")","v":""},1,null,null,null,{"$f":"SUM(G76:G78)","v":0},{"$f":"SUM(H76:H78)","v":0},0,null,{"$f":"SUM(K76:K78)","v":0},{"$f":"SUM(L76:L78)","v":0},0]
[null,{"$f":"IF(AND('3 indices'!$F72=\"x\",'3 indices'!$G72=\"x\",'3 indices'!$H72=\"x\"),$A74&'3 indices'!$F70&\" \"&'3 indices'!$B72,\"\")","v":""},1,null,{"$f":"'3 indices'!A75","v":"Composition"},{"$f":"'3 indices'!B75","v":"Silicate d'Aluminium et de Béryllium"},{"$f":"IF('3 indices'!C75=\"o\",1,0)","v":0},{"$f":"IF('3 indices'!D75=\"o\",1,0)","v":0},{"$f":"IF('3 indices'!E75=\"o\",1,0)","v":0},{"$f":"SUM(G80:I80)","v":0}]
[null,{"$f":"IF(AND('3 indices'!$F73=\"x\",'3 indices'!$G73=\"x\",'3 indices'!$H73=\"x\"),$A74&'3 indices'!$F70&\" \"&'3 indices'!$B73,\"\")","v":""},1,null,null,{"$f":"'3 indices'!B76","v":"Carbone"},{"$f":"IF('3 indices'!C76=\"o\",1,0)","v":0},{"$f":"IF('3 indices'!D76=\"o\",1,0)","v":0},{"$f":"IF('3 indices'!E76=\"o\",1,0)","v":0},{"$f":"SUM(G81:I81)","v":0},"Impossible qu'il y ai plus de deux Oui "]
[null,{"$f":"IF(AND('3 indices'!$F74=\"x\",'3 indices'!$G74=\"x\",'3 indices'!$H74=\"x\"),$A74&'3 indices'!$F70&\" \"&'3 indices'!$B74,\"\")","v":""},1,null,null,{"$f":"'3 indices'!B77","v":"Oxyde d'Aluminium"},{"$f":"IF('3 indices'!C77=\"o\",1,0)","v":0},{"$f":"IF('3 indices'!D77=\"o\",1,0)","v":0},{"$f":"IF('3 indices'!E77=\"o\",1,0)","v":0},0," sur la ligne "]
[null,null,null,null,null,null,{"$f":"SUM(G80:G82)","v":0},{"$f":"SUM(H80:H82)","v":0},0,null," sur la colonne "]
[null,{"$f":"IF(C85=2,B85,IF(C86=2,B86,IF(C87=2,B87,IF(C88=2,B88,IF(C89=2,B89,IF(C90=2,B90,IF(C91=2,B91,IF(C92=2,B92,IF(C93=2,B93,\"\")))))))))","v":""},null,null,"=",{"$f":"IF(J76>1,K81&K82&G74&\" \"&F76,IF(J77>1,K81&K82&G74&\" \"&F77,IF(J78>1,K81&K82&G74&\" \"&F78,IF(J80>1,K81&K82&G74&\" \"&F80,IF(J81>1,K81&K82&G74&\" \"&F81,IF(J82>1,K81&K82&G74&\" \"&F82,IF(N76>1,K81&K82&K74&\" \"&F76,IF(N77>1,K81&K82&K74&\" \"&F77,IF(N78>1,K81&K82&K74&\" \"&F78,\"\")))))))))","v":""}]
["Impossible d'avoir 3 non sur la même colonne  ",{"$f":"IF(AND('3 indices'!C72=\"x\",'3 indices'!C73=\"x\",'3 indices'!C74=\"x\"),$A85&'3 indices'!$C71&\" \"&'3 indices'!$A72,\"\")","v":""},{"$f":"IF(B85=\"\",1,2)","v":1},null,"=",{"$f":"IF(G79>1,K81&K83&E76&\" \"&G75,IF(H79>1,K81&K83&E76&\" \"&H75,IF(I79>1,K81&K83&E76&\" \"&I75,IF(K79>1,K81&K83&E76&\" \"&K75,IF(L79>1,K81&K83&E76&\" \"&L75,IF(M79>1,K81&K83&E76&\" \"&M75,IF(G83>1,K81&K83&E80&\" \"&G75,IF(H83>1,K81&K83&E80&\" \"&H75,IF(I83>1,K81&K83&E80&\" \"&I75,\"\")))))))))","v":""}]
[null,{"$f":"IF(AND('3 indices'!D72=\"x\",'3 indices'!D73=\"x\",'3 indices'!D74=\"x\"),$A85&'3 indices'!D71&\" \"&'3 indices'!$A72,\"\")","v":""},1]
[null,{"$f":"IF(AND('3 indices'!E72=\"x\",'3 indices'!E73=\"x\",'3 indices'!E74=\"x\"),$A85&'3 indices'!E71&\" \"&'3 indices'!$A72,\"\")","v":""},1]
[null,{"$f":"IF(AND('3 indices'!C75=\"x\",'3 indices'!C76=\"x\",'3 indices'!C77=\"x\"),$A85&'3 indices'!$C71&\" \"&'3 indices'!$A75,\"\")","v":""},1]
[null,{"$f":"IF(AND('3 indices'!D75=\"x\",'3 indices'!D76=\"x\",'3 indices'!D77=\"x\"),$A85&'3 indices'!D71&\" \"&'3 indices'!$A75,\"\")","v":""},1]
[null,{"$f":"IF(AND('3 indices'!E75=\"x\",'3 indices'!E76=\"x\",'3 indices'!E77=\"x\"),$A85&'3 indices'!E71&\" \"&'3 indices'!$A75,\"\")","v":""},1]
[null,{"$f":"IF(AND('3 indices'!F72=\"x\",'3 indices'!F73=\"x\",'3 indices'!F74=\"x\"),$A85&'3 indices'!$F71&\" \"&'3 indices'!$A72,\"\")","v":""},1]
[null,{"$f":"IF(AND('3 indices'!G72=\"x\",'3 indices'!G73=\"x\",'3 indices'!G74=\"x\"),$A85&'3 indices'!$G71&\" \"&'3 indices'!$A72,\"\")","v":""},1]
[null,{"$f":"IF(AND('3 indices'!H72=\"x\",'3 indices'!H73=\"x\",'3 indices'!H74=\"x\"),$A85&'3 indices'!$H71&\" \"&'3 indices'!$A72,\"\")","v":""},1]
[]
[]
[]
[{"$f":"'3 indices'!A89","v":"V°/ Les patisseries :"},{"$f":"IF(C98=2,B98,IF(C99=2,B99,IF(C100=2,B100,IF(C101=2,B101,IF(C102=2,B102,IF(C103=2,B103,IF(C104=2,B104,IF(C105=2,B105,IF(C106=2,B106,\"\")))))))))","v":""}]
["Impossible d'avoir 3 non sur la même ligne ",{"$f":"IF(AND('3 indices'!$C94=\"x\",'3 indices'!$D94=\"x\",'3 indices'!$E94=\"x\"),$A98&'3 indices'!$C92&\" \"&'3 indices'!$B94,\"\")","v":""},{"$f":"IF(B98=\"\",1,2)","v":1},null,null,null,{"$f":"'3 indices'!C92","v":"Région"},null,null,null,{"$f":"'3 indices'!F92","v":"Type"}]
[null,{"$f":"IF(AND('3 indices'!$C95=\"x\",'3 indices'!$D95=\"x\",'3 indices'!$E95=\"x\"),$A98&'3 indices'!$C92&\" \"&'3 indices'!$B95,\"\")","v":""},{"$f":"IF(B99=\"\",1,2)","v":1},null,null,null,{"$f":"'3 indices'!C93","v":"Bresse"},{"$f":"'3 indices'!D93","v":"Isére"},{"$f":"'3 indices'!E93","v":"Bourgogne"},null,{"$f":"'3 indices'!F93","v":"Viennoiserie"},{"$f":"'3 indices'!G93","v":"Confiture"},{"$f":"'3 indices'!H93","v":"Tourte"}]
[null,{"$f":"IF(AND('3 indices'!$C96=\"x\",'3 indices'!$D96=\"x\",'3 indices'!$E96=\"x\"),$A98&'3 indices'!$C92&\" \"&'3 indices'!$B96,\"\")","v":""},1,null,{"$f":"'3 indices'!A94","v":"Gâteau"},{"$f":"'3 indices'!B94","v":"Ruifard"},{"$f":"IF('3 indices'!C94=\"o\",1,0)","v":0},{"$f":"IF('3 indices'!D94=\"o\",1,0)","v":0},{"$f":"IF('3 indices'!E94=\"o\",1,0)","v":0},{"$f":"SUM(G100:I100)","v":0},{"$f":"IF('3 indices'!F94=\"o\",1,0)","v":0},{"$f":"IF('3 indices'!G94=\"o\",1,0)","v":0},{"$f":"IF('3 indices'!H94=\"o\",1,0)","v":0},{"$f":"SUM(K100:M100)","v":0}]
[null,{"$f":"IF(AND('3 indices'!$C97=\"x\",'3 indices'!$D97=\"x\",'3 indices'!$E97=\"x\"),$A98&'3 indices'!$C92&\" \"&'3 indices'!$B97,\"\")","v":""},1,null,null,{"$f":"'3 indices'!B95","v":"Cramaillotte"},{"$f":"IF('3 indices'!C95=\"o\",1,0)","v":0},{"$f":"IF('3 indices'!D95=\"o\",1,0)","v":0},{"$f":"IF('3 indices'!E95=\"o\",1,0)","v":0},{"$f":"SUM(G101:I101)","v":0},{"$f":"IF('3 indices'!F95=\"o\",1,0)","v":0},{"$f":"IF('3 indices'!G95=\"o\",1,0)","v":0},{"$f":"IF('3 indices'!H95=\"o\",1,0)","v":0},{"$f":"SUM(K101:M101)","v":0}]
[null,{"$f":"IF(AND('3 indices'!$C98=\"x\",'3 indices'!$D98=\"x\",'3 indices'!$E98=\"x\"),$A98&'3 indices'!$C92&\" \"&'3 indices'!$B98,\"\")","v":""},1,null,null,{"$f":"'3 indices'!B96","v":"Corniotte"},{"$f":"IF('3 indices'!C96=\"o\",1,0)","v":0},{"$f":"IF('3 indices'!D96=\"o\",1,0)","v":0},{"$f":"IF('3 indices'!E96=\"o\",1,0)","v":0},0,{"$f":"IF('3 indices'!F96=\"o\",1,0)","v":0},{"$f":"IF('3 indices'!G96=\"o\",1,0)","v":0},{"$f":"IF('3 indices'!H96=\"o\",1,0)","v":0},0]
[null,{"$f":"IF(AND('3 indices'!$C99=\"x\",'3 indices'!$D99=\"x\",'3 indices'!$E99=\"x\"),$A98&'3 indices'!$C92&\" \"&'3 indices'!$B99,\"\")","v":""},1,null,null,null,{"$f":"SUM(G100:G102)","v":0},{"$f":"SUM(H100:H102)","v":0},0,null,{"$f":"SUM(K100:K102)","v":0},{"$f":"SUM(L100:L102)","v":0},0]
[null,{"$f":"IF(AND('3 indices'!$F94=\"x\",'3 indices'!$G94=\"x\",'3 indices'!$H94=\"x\"),$A98&'3 indices'!$F92&\" \"&'3 indices'!$B94,\"\")","v":""},1,null,{"$f":"'3 indices'!A97","v":"Type"},{"$f":"'3 indices'!B97","v":"Viennoiserie"},{"$f":"IF('3 indices'!C97=\"o\",1,0)","v":0},{"$f":"IF('3 indices'!D97=\"o\",1,0)","v":0},{"$f":"IF('3 indices'!E97=\"o\",1,0)","v":0},{"$f":"SUM(G104:I104)","v":0}]
[null,{"$f":"IF(AND('3 indices'!$F95=\"x\",'3 indices'!$G95=\"x\",'3 indices'!$H95=\"x\"),$A98&'3 indices'!$F92&\" \"&'3 indices'!$B95,\"\")","v":""},1,null,null,{"$f":"'3 indices'!B98","v":"Confiture"},{"$f":"IF('3 indices'!C98=\"o\",1,0)","v":0},{"$f":"IF('3 indices'!D98=\"o\",1,0)","v":0},{"$f":"IF('3 indices'!E98=\"o\",1,0)","v":0},{"$f":"SUM(G105:I105)","v":0},"Impossible qu'il y ai plus de deux Oui "]
[null,{"$f":"IF(AND('3 indices'!$F96=\"x\",'3 indices'!$G96=\"x\",'3 indices'!$H96=\"x\"),$A98&'3 indices'!$F92&\" \"&'3 indices'!$B96,\"\")","v":""},1,null,null,{"$f":"'3 indices'!B99","v":"Tourte"},{"$f":"IF('3 indices'!C99=\"o\",1,0)","v":0},{"$f":"IF('3 indices'!D99=\"o\",1,0)","v":0},{"$f":"IF('3 indices'!E99=\"o\",1,0)","v":0},0," sur la ligne "]
[null,null,null,null,null,null,{"$f":"SUM(G104:G106)","v":0},{"$f":"SUM(H104:H106)","v":0},0,null," sur la colonne "]
[null,{"$f":"IF(C109=2,B109,IF(C110=2,B110,IF(C111=2,B111,IF(C112=2,B112,IF(C113=2,B113,IF(C114=2,B114,IF(C115=2,B115,IF(C116=2,B116,IF(C117=2,B117,\"\")))))))))","v":""},null,null,"=",{"$f":"IF(J100>1,K105&K106&G98&\" \"&F100,IF(J101>1,K105&K106&G98&\" \"&F101,IF(J102>1,K105&K106&G98&\" \"&F102,IF(J104>1,K105&K106&G98&\" \"&F104,IF(J105>1,K105&K106&G98&\" \"&F105,IF(J106>1,K105&K106&G98&\" \"&F106,IF(N100>1,K105&K106&K98&\" \"&F100,IF(N101>1,K105&K106&K98&\" \"&F101,IF(N102>1,K105&K106&K98&\" \"&F102,\"\")))))))))","v":""}]
["Impossible d'avoir 3 non sur la même colonne  ",{"$f":"IF(AND('3 indices'!C94=\"x\",'3 indices'!C95=\"x\",'3 indices'!C96=\"x\"),$A109&'3 indices'!$C93&\" \"&'3 indices'!$A94,\"\")","v":""},{"$f":"IF(B109=\"\",1,2)","v":1},null,"=",{"$f":"IF(G103>1,K105&K107&E100&\" \"&G99,IF(H103>1,K105&K107&E100&\" \"&H99,IF(I103>1,K105&K107&E100&\" \"&I99,IF(K103>1,K105&K107&E100&\" \"&K99,IF(L103>1,K105&K107&E100&\" \"&L99,IF(M103>1,K105&K107&E100&\" \"&M99,IF(G107>1,K105&K107&E104&\" \"&G99,IF(H107>1,K105&K107&E104&\" \"&H99,IF(I107>1,K105&K107&E104&\" \"&I99,\"\")))))))))","v":""}]
[null,{"$f":"IF(AND('3 indices'!D94=\"x\",'3 indices'!D95=\"x\",'3 indices'!D96=\"x\"),$A109&'3 indices'!D93&\" \"&'3 indices'!$A94,\"\")","v":""},1]
[null,{"$f":"IF(AND('3 indices'!E94=\"x\",'3 indices'!E95=\"x\",'3 indices'!E96=\"x\"),$A109&'3 indices'!E93&\" \"&'3 indices'!$A94,\"\")","v":""},1]
[null,{"$f":"IF(AND('3 indices'!C97=\"x\",'3 indices'!C98=\"x\",'3 indices'!C99=\"x\"),$A109&'3 indices'!$C93&\" \"&'3 indices'!$A97,\"\")","v":""},1]
[null,{"$f":"IF(AND('3 indices'!D97=\"x\",'3 indices'!D98=\"x\",'3 indices'!D99=\"x\"),$A109&'3 indices'!D93&\" \"&'3 indices'!$A97,\"\")","v":""},1]
[null,{"$f":"IF(AND('3 indices'!E97=\"x\",'3 indices'!E98=\"x\",'3 indices'!E99=\"x\"),$A109&'3 indices'!E93&\" \"&'3 indices'!$A97,\"\")","v":""},1]
[null,{"$f":"IF(AND('3 indices'!F94=\"x\",'3 indices'!F95=\"x\",'3 indices'!F96=\"x\"),$A109&'3 indices'!$F93&\" \"&'3 indices'!$A94,\"\")","v":""},1]
[null,{"$f":"IF(AND('3 indices'!G94=\"x\",'3 indices'!G95=\"x\",'3 indices'!G96=\"x\"),$A109&'3 indices'!$G93&\" \"&'3 indices'!$A94,\"\")","v":""},1]
[null,{"$f":"IF(AND('3 indices'!H94=\"x\",'3 indices'!H95=\"x\",'3 indices'!H96=\"x\"),$A109&'3 indices'!$H93&\" \"&'3 indices'!$A94,\"\")","v":""},1]
[]
[]
[]
[{"$f":"'3 indices'!A111","v":"VI°/ Les sports préférés :"},{"$f":"IF(C122=2,B122,IF(C123=2,B123,IF(C124=2,B124,IF(C125=2,B125,IF(C126=2,B126,IF(C127=2,B127,IF(C128=2,B128,IF(C129=2,B129,IF(C130=2,B130,\"\")))))))))","v":""}]
["Impossible d'avoir 3 non sur la même ligne ",{"$f":"IF(AND('3 indices'!$C116=\"x\",'3 indices'!$D116=\"x\",'3 indices'!$E116=\"x\"),$A122&'3 indices'!$C114&\" \"&'3 indices'!$B116,\"\")","v":""},{"$f":"IF(B122=\"\",1,2)","v":1},null,null,null,{"$f":"'3 indices'!C114","v":"Métier"},null,null,null,{"$f":"'3 indices'!F114","v":"Situation"}]
[null,{"$f":"IF(AND('3 indices'!$C117=\"x\",'3 indices'!$D117=\"x\",'3 indices'!$E117=\"x\"),$A122&'3 indices'!$C114&\" \"&'3 indices'!$B117,\"\")","v":""},{"$f":"IF(B123=\"\",1,2)","v":1},null,null,null,{"$f":"'3 indices'!C115","v":"Dentiste"},{"$f":"'3 indices'!D115","v":"Comptable"},{"$f":"'3 indices'!E115","v":"Sage femme"},null,{"$f":"'3 indices'!F115","v":"Célibataire"},{"$f":"'3 indices'!G115","v":"Marié-ée"},{"$f":"'3 indices'!H115","v":"Fiancé-ée"}]
[null,{"$f":"IF(AND('3 indices'!$C118=\"x\",'3 indices'!$D118=\"x\",'3 indices'!$E118=\"x\"),$A122&'3 indices'!$C114&\" \"&'3 indices'!$B118,\"\")","v":""},1,null,{"$f":"'3 indices'!A116","v":"Prénom"},{"$f":"'3 indices'!B116","v":"Benoit"},{"$f":"IF('3 indices'!C116=\"o\",1,0)","v":0},{"$f":"IF('3 indices'!D116=\"o\",1,0)","v":0},{"$f":"IF('3 indices'!E116=\"o\",1,0)","v":0},{"$f":"SUM(G124:I124)","v":0},{"$f":"IF('3 indices'!F116=\"o\",1,0)","v":0},{"$f":"IF('3 indices'!G116=\"o\",1,0)","v":0},{"$f":"IF('3 indices'!H116=\"o\",1,0)","v":0},{"$f":"SUM(K124:M124)","v":0}]
[null,{"$f":"IF(AND('3 indices'!$C119=\"x\",'3 indices'!$D119=\"x\",'3 indices'!$E119=\"x\"),$A122&'3 indices'!$C114&\" \"&'3 indices'!$B119,\"\")","v":""},1,null,null,{"$f":"'3 indices'!B117","v":"Jean"},{"$f":"IF('3 indices'!C117=\"o\",1,0)","v":0},{"$f":"IF('3 indices'!D117=\"o\",1,0)","v":0},{"$f":"IF('3 indices'!E117=\"o\",1,0)","v":0},{"$f":"SUM(G125:I125)","v":0},{"$f":"IF('3 indices'!F117=\"o\",1,0)","v":0},{"$f":"IF('3 indices'!G117=\"o\",1,0)","v":0},{"$f":"IF('3 indices'!H117=\"o\",1,0)","v":0},{"$f":"SUM(K125:M125)","v":0}]
[null,{"$f":"IF(AND('3 indices'!$C120=\"x\",'3 indices'!$D120=\"x\",'3 indices'!$E120=\"x\"),$A122&'3 indices'!$C114&\" \"&'3 indices'!$B120,\"\")","v":""},1,null,null,{"$f":"'3 indices'!B118","v":"Sophie"},{"$f":"IF('3 indices'!C118=\"o\",1,0)","v":0},{"$f":"IF('3 indices'!D118=\"o\",1,0)","v":0},{"$f":"IF('3 indices'!E118=\"o\",1,0)","v":0},0,{"$f":"IF('3 indices'!F118=\"o\",1,0)","v":0},{"$f":"IF('3 indices'!G118=\"o\",1,0)","v":0},{"$f":"IF('3 indices'!H118=\"o\",1,0)","v":0},0]
[null,{"$f":"IF(AND('3 indices'!$C121=\"x\",'3 indices'!$D121=\"x\",'3 indices'!$E121=\"x\"),$A122&'3 indices'!$C114&\" \"&'3 indices'!$B121,\"\")","v":""},1,null,null,null,{"$f":"SUM(G124:G126)","v":0},{"$f":"SUM(H124:H126)","v":0},0,null,{"$f":"SUM(K124:K126)","v":0},{"$f":"SUM(L124:L126)","v":0},0]
[null,{"$f":"IF(AND('3 indices'!$F116=\"x\",'3 indices'!$G116=\"x\",'3 indices'!$H116=\"x\"),$A122&'3 indices'!$F114&\" \"&'3 indices'!$B116,\"\")","v":""},1,null,{"$f":"'3 indices'!A119","v":"Situation"},{"$f":"'3 indices'!B119","v":"Célibataire"},{"$f":"IF('3 indices'!C119=\"o\",1,0)","v":0},{"$f":"IF('3 indices'!D119=\"o\",1,0)","v":0},{"$f":"IF('3 indices'!E119=\"o\",1,0)","v":0},{"$f":"SUM(G128:I128)","v":0}]
[null,{"$f":"IF(AND('3 indices'!$F117=\"x\",'3 indices'!$G117=\"x\",'3 indices'!$H117=\"x\"),$A122&'3 indices'!$F114&\" \"&'3 indices'!$B117,\"\")","v":""},1,null,null,{"$f":"'3 indices'!B120","v":"Marié-ée"},{"$f":"IF('3 indices'!C120=\"o\",1,0)","v":0},{"$f":"IF('3 indices'!D120=\"o\",1,0)","v":0},{"$f":"IF('3 indices'!E120=\"o\",1,0)","v":0},{"$f":"SUM(G129:I129)","v":0},"Impossible qu'il y ai plus de deux Oui "]
[null,{"$f":"IF(AND('3 indices'!$F118=\"x\",'3 indices'!$G118=\"x\",'3 indices'!$H118=\"x\"),$A122&'3 indices'!$F114&\" \"&'3 indices'!$B118,\"\")","v":""},1,null,null,{"$f":"'3 indices'!B121","v":"Fiancé-ée"},{"$f":"IF('3 indices'!C121=\"o\",1,0)","v":0},{"$f":"IF('3 indices'!D121=\"o\",1,0)","v":0},{"$f":"IF('3 indices'!E121=\"o\",1,0)","v":0},0," sur la ligne "]
[null,null,null,null,null,null,{"$f":"SUM(G128:G130)","v":0},{"$f":"SUM(H128:H130)","v":0},0,null," sur la colonne "]
[null,{"$f":"IF(C133=2,B133,IF(C134=2,B134,IF(C135=2,B135,IF(C136=2,B136,IF(C137=2,B137,IF(C138=2,B138,IF(C139=2,B139,IF(C140=2,B140,IF(C141=2,B141,\"\")))))))))","v":""},null,null,"=",{"$f":"IF(J124>1,K129&K130&G122&\" \"&F124,IF(J125>1,K129&K130&G122&\" \"&F125,IF(J126>1,K129&K130&G122&\" \"&F126,IF(J128>1,K129&K130&G122&\" \"&F128,IF(J129>1,K129&K130&G122&\" \"&F129,IF(J130>1,K129&K130&G122&\" \"&F130,IF(N124>1,K129&K130&K122&\" \"&F124,IF(N125>1,K129&K130&K122&\" \"&F125,IF(N126>1,K129&K130&K122&\" \"&F126,\"\")))))))))","v":""}]
["Impossible d'avoir 3 non sur la même colonne  ",{"$f":"IF(AND('3 indices'!C116=\"x\",'3 indices'!C117=\"x\",'3 indices'!C118=\"x\"),$A133&'3 indices'!$C115&\" \"&'3 indices'!$A116,\"\")","v":""},{"$f":"IF(B133=\"\",1,2)","v":1},null,"=",{"$f":"IF(G127>1,K129&K131&E124&\" \"&G123,IF(H127>1,K129&K131&E124&\" \"&H123,IF(I127>1,K129&K131&E124&\" \"&I123,IF(K127>1,K129&K131&E124&\" \"&K123,IF(L127>1,K129&K131&E124&\" \"&L123,IF(M127>1,K129&K131&E124&\" \"&M123,IF(G131>1,K129&K131&E128&\" \"&G123,IF(H131>1,K129&K131&E128&\" \"&H123,IF(I131>1,K129&K131&E128&\" \"&I123,\"\")))))))))","v":""}]
[null,{"$f":"IF(AND('3 indices'!D116=\"x\",'3 indices'!D117=\"x\",'3 indices'!D118=\"x\"),$A133&'3 indices'!D115&\" \"&'3 indices'!$A116,\"\")","v":""},1]
[null,{"$f":"IF(AND('3 indices'!E116=\"x\",'3 indices'!E117=\"x\",'3 indices'!E118=\"x\"),$A133&'3 indices'!E115&\" \"&'3 indices'!$A116,\"\")","v":""},1]
[null,{"$f":"IF(AND('3 indices'!C119=\"x\",'3 indices'!C120=\"x\",'3 indices'!C121=\"x\"),$A133&'3 indices'!$C115&\" \"&'3 indices'!$A119,\"\")","v":""},1]
[null,{"$f":"IF(AND('3 indices'!D119=\"x\",'3 indices'!D120=\"x\",'3 indices'!D121=\"x\"),$A133&'3 indices'!D115&\" \"&'3 indices'!$A119,\"\")","v":""},1]
[null,{"$f":"IF(AND('3 indices'!E119=\"x\",'3 indices'!E120=\"x\",'3 indices'!E121=\"x\"),$A133&'3 indices'!E115&\" \"&'3 indices'!$A119,\"\")","v":""},1]
[null,{"$f":"IF(AND('3 indices'!F116=\"x\",'3 indices'!F117=\"x\",'3 indices'!F118=\"x\"),$A133&'3 indices'!$F115&\" \"&'3 indices'!$A116,\"\")","v":""},1]
[null,{"$f":"IF(AND('3 indices'!G116=\"x\",'3 indices'!G117=\"x\",'3 indices'!G118=\"x\"),$A133&'3 indices'!$G115&\" \"&'3 indices'!$A116,\"\")","v":""},1]
[null,{"$f":"IF(AND('3 indices'!H116=\"x\",'3 indices'!H117=\"x\",'3 indices'!H118=\"x\"),$A133&'3 indices'!$H115&\" \"&'3 indices'!$A116,\"\")","v":""},1]
[]
[]
[]
[{"$f":"'3 indices'!A133","v":"VII°/ Qui est l'espion :"},{"$f":"IF(C146=2,B146,IF(C147=2,B147,IF(C148=2,B148,IF(C149=2,B149,IF(C150=2,B150,IF(C151=2,B151,IF(C152=2,B152,IF(C153=2,B153,IF(C154=2,B154,\"\")))))))))","v":""}]
["Impossible d'avoir 3 non sur la même ligne ",{"$f":"IF(AND('3 indices'!$C138=\"x\",'3 indices'!$D138=\"x\",'3 indices'!$E138=\"x\"),$A146&'3 indices'!$C136&\" \"&'3 indices'!$B138,\"\")","v":""},{"$f":"IF(B146=\"\",1,2)","v":1},null,null,null,{"$f":"'3 indices'!C136","v":"Maison n°"},null,null,null,{"$f":"'3 indices'!F136","v":"Métier"}]
[null,{"$f":"IF(AND('3 indices'!$C139=\"x\",'3 indices'!$D139=\"x\",'3 indices'!$E139=\"x\"),$A146&'3 indices'!$C136&\" \"&'3 indices'!$B139,\"\")","v":""},{"$f":"IF(B147=\"\",1,2)","v":1},null,null,null,{"$f":"'3 indices'!C137","v":"Première"},{"$f":"'3 indices'!D137","v":"Seconde"},{"$f":"'3 indices'!E137","v":"Troisième"},null,{"$f":"'3 indices'!F137","v":"Voleur"},{"$f":"'3 indices'!G137","v":"Musicien"},{"$f":"'3 indices'!H137","v":"Espion"}]
[null,{"$f":"IF(AND('3 indices'!$C140=\"x\",'3 indices'!$D140=\"x\",'3 indices'!$E140=\"x\"),$A146&'3 indices'!$C136&\" \"&'3 indices'!$B140,\"\")","v":""},1,null,{"$f":"'3 indices'!A138","v":"Pays"},{"$f":"'3 indices'!B138","v":"Français"},{"$f":"IF('3 indices'!C138=\"o\",1,0)","v":0},{"$f":"IF('3 indices'!D138=\"o\",1,0)","v":0},{"$f":"IF('3 indices'!E138=\"o\",1,0)","v":0},{"$f":"SUM(G148:I148)","v":0},{"$f":"IF('3 indices'!F138=\"o\",1,0)","v":0},{"$f":"IF('3 indices'!G138=\"o\",1,0)","v":0},{"$f":"IF('3 indices'!H138=\"o\",1,0)","v":0},{"$f":"SUM(K148:M148)","v":0}]
[null,{"$f":"IF(AND('3 indices'!$C141=\"x\",'3 indices'!$D141=\"x\",'3 indices'!$E141=\"x\"),$A146&'3 indices'!$C136&\" \"&'3 indices'!$B141,\"\")","v":""},1,null,null,{"$f":"'3 indices'!B139","v":"Chinois"},{"$f":"IF('3 indices'!C139=\"o\",1,0)","v":0},{"$f":"IF('3 indices'!D139=\"o\",1,0)","v":0},{"$f":"IF('3 indices'!E139=\"o\",1,0)","v":0},{"$f":"SUM(G149:I149)","v":0},{"$f":"IF('3 indices'!F139=\"o\",1,0)","v":0},{"$f":"IF('3 indices'!G139=\"o\",1,0)","v":0},{"$f":"IF('3 indices'!H139=\"o\",1,0)","v":0},{"$f":"SUM(K149:M149)","v":0}]
[null,{"$f":"IF(AND('3 indices'!$C142=\"x\",'3 indices'!$D142=\"x\",'3 indices'!$E142=\"x\"),$A146&'3 indices'!$C136&\" \"&'3 indices'!$B142,\"\")","v":""},1,null,null,{"$f":"'3 indices'!B140","v":"Anglais"},{"$f":"IF('3 indices'!C140=\"o\",1,0)","v":0},{"$f":"IF('3 indices'!D140=\"o\",1,0)","v":0},{"$f":"IF('3 indices'!E140=\"o\",1,0)","v":0},0,{"$f":"IF('3 indices'!F140=\"o\",1,0)","v":0},{"$f":"IF('3 indices'!G140=\"o\",1,0)","v":0},{"$f":"IF('3 indices'!H140=\"o\",1,0)","v":0},0]
[null,{"$f":"IF(AND('3 indices'!$C143=\"x\",'3 indices'!$D143=\"x\",'3 indices'!$E143=\"x\"),$A146&'3 indices'!$C136&\" \"&'3 indices'!$B143,\"\")","v":""},1,null,null,null,{"$f":"SUM(G148:G150)","v":0},{"$f":"SUM(H148:H150)","v":0},0,null,{"$f":"SUM(K148:K150)","v":0},{"$f":"SUM(L148:L150)","v":0},0]
[null,{"$f":"IF(AND('3 indices'!$F138=\"x\",'3 indices'!$G138=\"x\",'3 indices'!$H138=\"x\"),$A146&'3 indices'!$F136&\" \"&'3 indices'!$B138,\"\")","v":""},1,null,{"$f":"'3 indices'!A141","v":"Métier"},{"$f":"'3 indices'!B141","v":"Voleur"},{"$f":"IF('3 indices'!C141=\"o\",1,0)","v":0},{"$f":"IF('3 indices'!D141=\"o\",1,0)","v":0},{"$f":"IF('3 indices'!E141=\"o\",1,0)","v":0},{"$f":"SUM(G152:I152)","v":0}]
[null,{"$f":"IF(AND('3 indices'!$F139=\"x\",'3 indices'!$G139=\"x\",'3 indices'!$H139=\"x\"),$A146&'3 indices'!$F136&\" \"&'3 indices'!$B139,\"\")","v":""},1,null,null,{"$f":"'3 indices'!B142","v":"Musicien"},{"$f":"IF('3 indices'!C142=\"o\",1,0)","v":0},{"$f":"IF('3 indices'!D142=\"o\",1,0)","v":0},{"$f":"IF('3 indices'!E142=\"o\",1,0)","v":0},{"$f":"SUM(G153:I153)","v":0},"Impossible qu'il y ai plus de deux Oui "]
[null,{"$f":"IF(AND('3 indices'!$F140=\"x\",'3 indices'!$G140=\"x\",'3 indices'!$H140=\"x\"),$A146&'3 indices'!$F136&\" \"&'3 indices'!$B140,\"\")","v":""},1,null,null,{"$f":"'3 indices'!B143","v":"Espion"},{"$f":"IF('3 indices'!C143=\"o\",1,0)","v":0},{"$f":"IF('3 indices'!D143=\"o\",1,0)","v":0},{"$f":"IF('3 indices'!E143=\"o\",1,0)","v":0},0," sur la ligne "]
[null,null,null,null,null,null,{"$f":"SUM(G152:G154)","v":0},{"$f":"SUM(H152:H154)","v":0},0,null," sur la colonne "]
[null,{"$f":"IF(C157=2,B157,IF(C158=2,B158,IF(C159=2,B159,IF(C160=2,B160,IF(C161=2,B161,IF(C162=2,B162,IF(C163=2,B163,IF(C164=2,B164,IF(C165=2,B165,\"\")))))))))","v":""},null,null,"=",{"$f":"IF(J148>1,K153&K154&G146&\" \"&F148,IF(J149>1,K153&K154&G146&\" \"&F149,IF(J150>1,K153&K154&G146&\" \"&F150,IF(J152>1,K153&K154&G146&\" \"&F152,IF(J153>1,K153&K154&G146&\" \"&F153,IF(J154>1,K153&K154&G146&\" \"&F154,IF(N148>1,K153&K154&K146&\" \"&F148,IF(N149>1,K153&K154&K146&\" \"&F149,IF(N150>1,K153&K154&K146&\" \"&F150,\"\")))))))))","v":""}]
["Impossible d'avoir 3 non sur la même colonne  ",{"$f":"IF(AND('3 indices'!C138=\"x\",'3 indices'!C139=\"x\",'3 indices'!C140=\"x\"),$A157&'3 indices'!$C137&\" \"&'3 indices'!$A138,\"\")","v":""},{"$f":"IF(B157=\"\",1,2)","v":1},null,"=",{"$f":"IF(G151>1,K153&K155&E148&\" \"&G147,IF(H151>1,K153&K155&E148&\" \"&H147,IF(I151>1,K153&K155&E148&\" \"&I147,IF(K151>1,K153&K155&E148&\" \"&K147,IF(L151>1,K153&K155&E148&\" \"&L147,IF(M151>1,K153&K155&E148&\" \"&M147,IF(G155>1,K153&K155&E152&\" \"&G147,IF(H155>1,K153&K155&E152&\" \"&H147,IF(I155>1,K153&K155&E152&\" \"&I147,\"\")))))))))","v":""}]
[null,{"$f":"IF(AND('3 indices'!D138=\"x\",'3 indices'!D139=\"x\",'3 indices'!D140=\"x\"),$A157&'3 indices'!D137&\" \"&'3 indices'!$A138,\"\")","v":""},1]
[null,{"$f":"IF(AND('3 indices'!E138=\"x\",'3 indices'!E139=\"x\",'3 indices'!E140=\"x\"),$A157&'3 indices'!E137&\" \"&'3 indices'!$A138,\"\")","v":""},1]
[null,{"$f":"IF(AND('3 indices'!C141=\"x\",'3 indices'!C142=\"x\",'3 indices'!C143=\"x\"),$A157&'3 indices'!$C137&\" \"&'3 indices'!$A141,\"\")","v":""},1]
[null,{"$f":"IF(AND('3 indices'!D141=\"x\",'3 indices'!D142=\"x\",'3 indices'!D143=\"x\"),$A157&'3 indices'!D137&\" \"&'3 indices'!$A141,\"\")","v":""},1]
[null,{"$f":"IF(AND('3 indices'!E141=\"x\",'3 indices'!E142=\"x\",'3 indices'!E143=\"x\"),$A157&'3 indices'!E137&\" \"&'3 indices'!$A141,\"\")","v":""},1]
[null,{"$f":"IF(AND('3 indices'!F138=\"x\",'3 indices'!F139=\"x\",'3 indices'!F140=\"x\"),$A157&'3 indices'!$F137&\" \"&'3 indices'!$A138,\"\")","v":""},1]
[null,{"$f":"IF(AND('3 indices'!G138=\"x\",'3 indices'!G139=\"x\",'3 indices'!G140=\"x\"),$A157&'3 indices'!$G137&\" \"&'3 indices'!$A138,\"\")","v":""},1]
[null,{"$f":"IF(AND('3 indices'!H138=\"x\",'3 indices'!H139=\"x\",'3 indices'!H140=\"x\"),$A157&'3 indices'!$H137&\" \"&'3 indices'!$A138,\"\")","v":""},1]
[]
[]
[]
[{"$f":"'3 indices'!A155","v":"VIII°/ L’âge du capitaine :"},{"$f":"IF(C170=2,B170,IF(C171=2,B171,IF(C172=2,B172,IF(C173=2,B173,IF(C174=2,B174,IF(C175=2,B175,IF(C176=2,B176,IF(C177=2,B177,IF(C178=2,B178,\"\")))))))))","v":""}]
["Impossible d'avoir 3 non sur la même ligne ",{"$f":"IF(AND('3 indices'!$C160=\"x\",'3 indices'!$D160=\"x\",'3 indices'!$E160=\"x\"),$A170&'3 indices'!$C158&\" \"&'3 indices'!$B160,\"\")","v":""},{"$f":"IF(B170=\"\",1,2)","v":1},null,null,null,{"$f":"'3 indices'!C158","v":"Âge"},null,null,null,{"$f":"'3 indices'!F158","v":"Pays"}]
[null,{"$f":"IF(AND('3 indices'!$C161=\"x\",'3 indices'!$D161=\"x\",'3 indices'!$E161=\"x\"),$A170&'3 indices'!$C158&\" \"&'3 indices'!$B161,\"\")","v":""},{"$f":"IF(B171=\"\",1,2)","v":1},null,null,null,{"$f":"'3 indices'!C159","v":25},{"$f":"'3 indices'!D159","v":35},{"$f":"'3 indices'!E159","v":42},null,{"$f":"'3 indices'!F159","v":"Grèce"},{"$f":"'3 indices'!G159","v":"Corée"},{"$f":"'3 indices'!H159","v":"Maroc"}]
[null,{"$f":"IF(AND('3 indices'!$C162=\"x\",'3 indices'!$D162=\"x\",'3 indices'!$E162=\"x\"),$A170&'3 indices'!$C158&\" \"&'3 indices'!$B162,\"\")","v":""},1,null,{"$f":"'3 indices'!A160","v":"Fonction"},{"$f":"'3 indices'!B160","v":"Capitaine"},{"$f":"IF('3 indices'!C160=\"o\",1,0)","v":0},{"$f":"IF('3 indices'!D160=\"o\",1,0)","v":0},{"$f":"IF('3 indices'!E160=\"o\",1,0)","v":0},{"$f":"SUM(G172:I172)","v":0},{"$f":"IF('3 indices'!F160=\"o\",1,0)","v":0},{"$f":"IF('3 indices'!G160=\"o\",1,0)","v":0},{"$f":"IF('3 indices'!H160=\"o\",1,0)","v":0},{"$f":"SUM(K172:M172)","v":0}]
[null,{"$f":"IF(AND('3 indices'!$C163=\"x\",'3 indices'!$D163=\"x\",'3 indices'!$E163=\"x\"),$A170&'3 indices'!$C158&\" \"&'3 indices'!$B163,\"\")","v":""},1,null,null,{"$f":"'3 indices'!B161","v":"Bosco"},{"$f":"IF('3 indices'!C161=\"o\",1,0)","v":0},{"$f":"IF('3 indices'!D161=\"o\",1,0)","v":0},{"$f":"IF('3 indices'!E161=\"o\",1,0)","v":0},{"$f":"SUM(G173:I173)","v":0},{"$f":"IF('3 indices'!F161=\"o\",1,0)","v":0},{"$f":"IF('3 indices'!G161=\"o\",1,0)","v":0},{"$f":"IF('3 indices'!H161=\"o\",1,0)","v":0},{"$f":"SUM(K173:M173)","v":0}]
[null,{"$f":"IF(AND('3 indices'!$C164=\"x\",'3 indices'!$D164=\"x\",'3 indices'!$E164=\"x\"),$A170&'3 indices'!$C158&\" \"&'3 indices'!$B164,\"\")","v":""},1,null,null,{"$f":"'3 indices'!B162","v":"Timonier"},{"$f":"IF('3 indices'!C162=\"o\",1,0)","v":0},{"$f":"IF('3 indices'!D162=\"o\",1,0)","v":0},{"$f":"IF('3 indices'!E162=\"o\",1,0)","v":0},0,{"$f":"IF('3 indices'!F162=\"o\",1,0)","v":0},{"$f":"IF('3 indices'!G162=\"o\",1,0)","v":0},{"$f":"IF('3 indices'!H162=\"o\",1,0)","v":0},0]
[null,{"$f":"IF(AND('3 indices'!$C165=\"x\",'3 indices'!$D165=\"x\",'3 indices'!$E165=\"x\"),$A170&'3 indices'!$C158&\" \"&'3 indices'!$B165,\"\")","v":""},1,null,null,null,{"$f":"SUM(G172:G174)","v":0},{"$f":"SUM(H172:H174)","v":0},0,null,{"$f":"SUM(K172:K174)","v":0},{"$f":"SUM(L172:L174)","v":0},0]
[null,{"$f":"IF(AND('3 indices'!$F160=\"x\",'3 indices'!$G160=\"x\",'3 indices'!$H160=\"x\"),$A170&'3 indices'!$F158&\" \"&'3 indices'!$B160,\"\")","v":""},1,null,{"$f":"'3 indices'!A163","v":"Pays"},{"$f":"'3 indices'!B163","v":"Grèce"},{"$f":"IF('3 indices'!C163=\"o\",1,0)","v":0},{"$f":"IF('3 indices'!D163=\"o\",1,0)","v":0},{"$f":"IF('3 indices'!E163=\"o\",1,0)","v":0},{"$f":"SUM(G176:I176)","v":0}]
[null,{"$f":"IF(AND('3 indices'!$F161=\"x\",'3 indices'!$G161=\"x\",'3 indices'!$H161=\"x\"),$A170&'3 indices'!$F158&\" \"&'3 indices'!$B161,\"\")","v":""},1,null,null,{"$f":"'3 indices'!B164","v":"Corée"},{"$f":"IF('3 indices'!C164=\"o\",1,0)","v":0},{"$f":"IF('3 indices'!D164=\"o\",1,0)","v":0},{"$f":"IF('3 indices'!E164=\"o\",1,0)","v":0},{"$f":"SUM(G177:I177)","v":0},"Impossible qu'il y ai plus de deux Oui "]
[null,{"$f":"IF(AND('3 indices'!$F162=\"x\",'3 indices'!$G162=\"x\",'3 indices'!$H162=\"x\"),$A170&'3 indices'!$F158&\" \"&'3 indices'!$B162,\"\")","v":""},1,null,null,{"$f":"'3 indices'!B165","v":"Maroc"},{"$f":"IF('3 indices'!C165=\"o\",1,0)","v":0},{"$f":"IF('3 indices'!D165=\"o\",1,0)","v":0},{"$f":"IF('3 indices'!E165=\"o\",1,0)","v":0},0," sur la ligne "]
[null,null,null,null,null,null,{"$f":"SUM(G176:G178)","v":0},{"$f":"SUM(H176:H178)","v":0},0,null," sur la colonne "]
[null,{"$f":"IF(C181=2,B181,IF(C182=2,B182,IF(C183=2,B183,IF(C184=2,B184,IF(C185=2,B185,IF(C186=2,B186,IF(C187=2,B187,IF(C188=2,B188,IF(C189=2,B189,\"\")))))))))","v":""},null,null,"=",{"$f":"IF(J172>1,K177&K178&G170&\" \"&F172,IF(J173>1,K177&K178&G170&\" \"&F173,IF(J174>1,K177&K178&G170&\" \"&F174,IF(J176>1,K177&K178&G170&\" \"&F176,IF(J177>1,K177&K178&G170&\" \"&F177,IF(J178>1,K177&K178&G170&\" \"&F178,IF(N172>1,K177&K178&K170&\" \"&F172,IF(N173>1,K177&K178&K170&\" \"&F173,IF(N174>1,K177&K178&K170&\" \"&F174,\"\")))))))))","v":""}]
["Impossible d'avoir 3 non sur la même colonne  ",{"$f":"IF(AND('3 indices'!C160=\"x\",'3 indices'!C161=\"x\",'3 indices'!C162=\"x\"),$A181&'3 indices'!$C159&\" \"&'3 indices'!$A160,\"\")","v":""},{"$f":"IF(B181=\"\",1,2)","v":1},null,"=",{"$f":"IF(G175>1,K177&K179&E172&\" \"&G171,IF(H175>1,K177&K179&E172&\" \"&H171,IF(I175>1,K177&K179&E172&\" \"&I171,IF(K175>1,K177&K179&E172&\" \"&K171,IF(L175>1,K177&K179&E172&\" \"&L171,IF(M175>1,K177&K179&E172&\" \"&M171,IF(G179>1,K177&K179&E176&\" \"&G171,IF(H179>1,K177&K179&E176&\" \"&H171,IF(I179>1,K177&K179&E176&\" \"&I171,\"\")))))))))","v":""}]
[null,{"$f":"IF(AND('3 indices'!D160=\"x\",'3 indices'!D161=\"x\",'3 indices'!D162=\"x\"),$A181&'3 indices'!D159&\" \"&'3 indices'!$A160,\"\")","v":""},1]
[null,{"$f":"IF(AND('3 indices'!E160=\"x\",'3 indices'!E161=\"x\",'3 indices'!E162=\"x\"),$A181&'3 indices'!E159&\" \"&'3 indices'!$A160,\"\")","v":""},1]
[null,{"$f":"IF(AND('3 indices'!C163=\"x\",'3 indices'!C164=\"x\",'3 indices'!C165=\"x\"),$A181&'3 indices'!$C159&\" \"&'3 indices'!$A163,\"\")","v":""},1]
[null,{"$f":"IF(AND('3 indices'!D163=\"x\",'3 indices'!D164=\"x\",'3 indices'!D165=\"x\"),$A181&'3 indices'!D159&\" \"&'3 indices'!$A163,\"\")","v":""},1]
[null,{"$f":"IF(AND('3 indices'!E163=\"x\",'3 indices'!E164=\"x\",'3 indices'!E165=\"x\"),$A181&'3 indices'!E159&\" \"&'3 indices'!$A163,\"\")","v":""},1]
[null,{"$f":"IF(AND('3 indices'!F160=\"x\",'3 indices'!F161=\"x\",'3 indices'!F162=\"x\"),$A181&'3 indices'!$F159&\" \"&'3 indices'!$A160,\"\")","v":""},1]
[null,{"$f":"IF(AND('3 indices'!G160=\"x\",'3 indices'!G161=\"x\",'3 indices'!G162=\"x\"),$A181&'3 indices'!$G159&\" \"&'3 indices'!$A160,\"\")","v":""},1]
[null,{"$f":"IF(AND('3 indices'!H160=\"x\",'3 indices'!H161=\"x\",'3 indices'!H162=\"x\"),$A181&'3 indices'!$H159&\" \"&'3 indices'!$A160,\"\")","v":""},1]
[]
[]
[]
[{"$f":"'3 indices'!A177","v":"IX°/ Le salon de beauté :"},{"$f":"IF(C194=2,B194,IF(C195=2,B195,IF(C196=2,B196,IF(C197=2,B197,IF(C198=2,B198,IF(C199=2,B199,IF(C200=2,B200,IF(C201=2,B201,IF(C202=2,B202,\"\")))))))))","v":""}]
["Impossible d'avoir 3 non sur la même ligne ",{"$f":"IF(AND('3 indices'!$C182=\"x\",'3 indices'!$D182=\"x\",'3 indices'!$E182=\"x\"),$A194&'3 indices'!$C180&\" \"&'3 indices'!$B182,\"\")","v":""},{"$f":"IF(B194=\"\",1,2)","v":1},null,null,null,{"$f":"'3 indices'!C180","v":"Soins"},null,null,null,{"$f":"'3 indices'!F180","v":"Clientes"}]
[null,{"$f":"IF(AND('3 indices'!$C183=\"x\",'3 indices'!$D183=\"x\",'3 indices'!$E183=\"x\"),$A194&'3 indices'!$C180&\" \"&'3 indices'!$B183,\"\")","v":""},{"$f":"IF(B195=\"\",1,2)","v":1},null,null,null,{"$f":"'3 indices'!C181","v":"Coupe"},{"$f":"'3 indices'!D181","v":"Décoloration"},{"$f":"'3 indices'!E181","v":"Permanente"},null,{"$f":"'3 indices'!F181","v":"Jeanne"},{"$f":"'3 indices'!G181","v":"Michèle"},{"$f":"'3 indices'!H181","v":"Patricia"}]
[null,{"$f":"IF(AND('3 indices'!$C184=\"x\",'3 indices'!$D184=\"x\",'3 indices'!$E184=\"x\"),$A194&'3 indices'!$C180&\" \"&'3 indices'!$B184,\"\")","v":""},1,null,{"$f":"'3 indices'!A182","v":"Coiffeur"},{"$f":"'3 indices'!B182","v":"Alain"},{"$f":"IF('3 indices'!C182=\"o\",1,0)","v":0},{"$f":"IF('3 indices'!D182=\"o\",1,0)","v":0},{"$f":"IF('3 indices'!E182=\"o\",1,0)","v":0},{"$f":"SUM(G196:I196)","v":0},{"$f":"IF('3 indices'!F182=\"o\",1,0)","v":0},{"$f":"IF('3 indices'!G182=\"o\",1,0)","v":0},{"$f":"IF('3 indices'!H182=\"o\",1,0)","v":0},{"$f":"SUM(K196:M196)","v":0}]
[null,{"$f":"IF(AND('3 indices'!$C185=\"x\",'3 indices'!$D185=\"x\",'3 indices'!$E185=\"x\"),$A194&'3 indices'!$C180&\" \"&'3 indices'!$B185,\"\")","v":""},1,null,null,{"$f":"'3 indices'!B183","v":"Colette"},{"$f":"IF('3 indices'!C183=\"o\",1,0)","v":0},{"$f":"IF('3 indices'!D183=\"o\",1,0)","v":0},{"$f":"IF('3 indices'!E183=\"o\",1,0)","v":0},{"$f":"SUM(G197:I197)","v":0},{"$f":"IF('3 indices'!F183=\"o\",1,0)","v":0},{"$f":"IF('3 indices'!G183=\"o\",1,0)","v":0},{"$f":"IF('3 indices'!H183=\"o\",1,0)","v":0},{"$f":"SUM(K197:M197)","v":0}]
[null,{"$f":"IF(AND('3 indices'!$C186=\"x\",'3 indices'!$D186=\"x\",'3 indices'!$E186=\"x\"),$A194&'3 indices'!$C180&\" \"&'3 indices'!$B186,\"\")","v":""},1,null,null,{"$f":"'3 indices'!B184","v":"Fanny"},{"$f":"IF('3 indices'!C184=\"o\",1,0)","v":0},{"$f":"IF('3 indices'!D184=\"o\",1,0)","v":0},{"$f":"IF('3 indices'!E184=\"o\",1,0)","v":0},0,{"$f":"IF('3 indices'!F184=\"o\",1,0)","v":0},{"$f":"IF('3 indices'!G184=\"o\",1,0)","v":0},{"$f":"IF('3 indices'!H184=\"o\",1,0)","v":0},0]
[null,{"$f":"IF(AND('3 indices'!$C187=\"x\",'3 indices'!$D187=\"x\",'3 indices'!$E187=\"x\"),$A194&'3 indices'!$C180&\" \"&'3 indices'!$B187,\"\")","v":""},1,null,null,null,{"$f":"SUM(G196:G198)","v":0},{"$f":"SUM(H196:H198)","v":0},0,null,{"$f":"SUM(K196:K198)","v":0},{"$f":"SUM(L196:L198)","v":0},0]
[null,{"$f":"IF(AND('3 indices'!$F182=\"x\",'3 indices'!$G182=\"x\",'3 indices'!$H182=\"x\"),$A194&'3 indices'!$F180&\" \"&'3 indices'!$B182,\"\")","v":""},1,null,{"$f":"'3 indices'!A185","v":"Clientes"},{"$f":"'3 indices'!B185","v":"Jeanne"},{"$f":"IF('3 indices'!C185=\"o\",1,0)","v":0},{"$f":"IF('3 indices'!D185=\"o\",1,0)","v":0},{"$f":"IF('3 indices'!E185=\"o\",1,0)","v":0},{"$f":"SUM(G200:I200)","v":0}]
[null,{"$f":"IF(AND('3 indices'!$F183=\"x\",'3 indices'!$G183=\"x\",'3 indices'!$H183=\"x\"),$A194&'3 indices'!$F180&\" \"&'3 indices'!$B183,\"\")","v":""},1,null,null,{"$f":"'3 indices'!B186","v":"Michèle"},{"$f":"IF('3 indices'!C186=\"o\",1,0)","v":0},{"$f":"IF('3 indices'!D186=\"o\",1,0)","v":0},{"$f":"IF('3 indices'!E186=\"o\",1,0)","v":0},{"$f":"SUM(G201:I201)","v":0},"Impossible qu'il y ai plus de deux Oui "]
[null,{"$f":"IF(AND('3 indices'!$F184=\"x\",'3 indices'!$G184=\"x\",'3 indices'!$H184=\"x\"),$A194&'3 indices'!$F180&\" \"&'3 indices'!$B184,\"\")","v":""},1,null,null,{"$f":"'3 indices'!B187","v":"Patricia"},{"$f":"IF('3 indices'!C187=\"o\",1,0)","v":0},{"$f":"IF('3 indices'!D187=\"o\",1,0)","v":0},{"$f":"IF('3 indices'!E187=\"o\",1,0)","v":0},0," sur la ligne "]
[null,null,null,null,null,null,{"$f":"SUM(G200:G202)","v":0},{"$f":"SUM(H200:H202)","v":0},0,null," sur la colonne "]
[null,{"$f":"IF(C205=2,B205,IF(C206=2,B206,IF(C207=2,B207,IF(C208=2,B208,IF(C209=2,B209,IF(C210=2,B210,IF(C211=2,B211,IF(C212=2,B212,IF(C213=2,B213,\"\")))))))))","v":""},null,null,"=",{"$f":"IF(J196>1,K201&K202&G194&\" \"&F196,IF(J197>1,K201&K202&G194&\" \"&F197,IF(J198>1,K201&K202&G194&\" \"&F198,IF(J200>1,K201&K202&G194&\" \"&F200,IF(J201>1,K201&K202&G194&\" \"&F201,IF(J202>1,K201&K202&G194&\" \"&F202,IF(N196>1,K201&K202&K194&\" \"&F196,IF(N197>1,K201&K202&K194&\" \"&F197,IF(N198>1,K201&K202&K194&\" \"&F198,\"\")))))))))","v":""}]
["Impossible d'avoir 3 non sur la même colonne  ",{"$f":"IF(AND('3 indices'!C182=\"x\",'3 indices'!C183=\"x\",'3 indices'!C184=\"x\"),$A205&'3 indices'!$C181&\" \"&'3 indices'!$A182,\"\")","v":""},{"$f":"IF(B205=\"\",1,2)","v":1},null,"=",{"$f":"IF(G199>1,K201&K203&E196&\" \"&G195,IF(H199>1,K201&K203&E196&\" \"&H195,IF(I199>1,K201&K203&E196&\" \"&I195,IF(K199>1,K201&K203&E196&\" \"&K195,IF(L199>1,K201&K203&E196&\" \"&L195,IF(M199>1,K201&K203&E196&\" \"&M195,IF(G203>1,K201&K203&E200&\" \"&G195,IF(H203>1,K201&K203&E200&\" \"&H195,IF(I203>1,K201&K203&E200&\" \"&I195,\"\")))))))))","v":""}]
[null,{"$f":"IF(AND('3 indices'!D182=\"x\",'3 indices'!D183=\"x\",'3 indices'!D184=\"x\"),$A205&'3 indices'!D181&\" \"&'3 indices'!$A182,\"\")","v":""},1]
[null,{"$f":"IF(AND('3 indices'!E182=\"x\",'3 indices'!E183=\"x\",'3 indices'!E184=\"x\"),$A205&'3 indices'!E181&\" \"&'3 indices'!$A182,\"\")","v":""},1]
[null,{"$f":"IF(AND('3 indices'!C185=\"x\",'3 indices'!C186=\"x\",'3 indices'!C187=\"x\"),$A205&'3 indices'!$C181&\" \"&'3 indices'!$A185,\"\")","v":""},1]
[null,{"$f":"IF(AND('3 indices'!D185=\"x\",'3 indices'!D186=\"x\",'3 indices'!D187=\"x\"),$A205&'3 indices'!D181&\" \"&'3 indices'!$A185,\"\")","v":""},1]
[null,{"$f":"IF(AND('3 indices'!E185=\"x\",'3 indices'!E186=\"x\",'3 indices'!E187=\"x\"),$A205&'3 indices'!E181&\" \"&'3 indices'!$A185,\"\")","v":""},1]
[null,{"$f":"IF(AND('3 indices'!F182=\"x\",'3 indices'!F183=\"x\",'3 indices'!F184=\"x\"),$A205&'3 indices'!$F181&\" \"&'3 indices'!$A182,\"\")","v":""},1]
[null,{"$f":"IF(AND('3 indices'!G182=\"x\",'3 indices'!G183=\"x\",'3 indices'!G184=\"x\"),$A205&'3 indices'!$G181&\" \"&'3 indices'!$A182,\"\")","v":""},1]
[null,{"$f":"IF(AND('3 indices'!H182=\"x\",'3 indices'!H183=\"x\",'3 indices'!H184=\"x\"),$A205&'3 indices'!$H181&\" \"&'3 indices'!$A182,\"\")","v":""},1]
[]
[]
[]
[{"$f":"'3 indices'!A199","v":"X°/ Les supporters :"},{"$f":"IF(C218=2,B218,IF(C219=2,B219,IF(C220=2,B220,IF(C221=2,B221,IF(C222=2,B222,IF(C223=2,B223,IF(C224=2,B224,IF(C225=2,B225,IF(C226=2,B226,\"\")))))))))","v":""}]
["Impossible d'avoir 3 non sur la même ligne ",{"$f":"IF(AND('3 indices'!$C204=\"x\",'3 indices'!$D204=\"x\",'3 indices'!$E204=\"x\"),$A218&'3 indices'!$C202&\" \"&'3 indices'!$B204,\"\")","v":""},{"$f":"IF(B218=\"\",1,2)","v":1},null,null,null,{"$f":"'3 indices'!C202","v":"Couleurs"},null,null,null,{"$f":"'3 indices'!F202","v":"Club"}]
[null,{"$f":"IF(AND('3 indices'!$C205=\"x\",'3 indices'!$D205=\"x\",'3 indices'!$E205=\"x\"),$A218&'3 indices'!$C202&\" \"&'3 indices'!$B205,\"\")","v":""},{"$f":"IF(B219=\"\",1,2)","v":1},null,null,null,{"$f":"'3 indices'!C203","v":"Rouge"},{"$f":"'3 indices'!D203","v":"Bleu"},{"$f":"'3 indices'!E203","v":"Vert"},null,{"$f":"'3 indices'!F203","v":"USAP"},{"$f":"'3 indices'!G203","v":"UST"},{"$f":"'3 indices'!H203","v":"SAPC"}]
[null,{"$f":"IF(AND('3 indices'!$C206=\"x\",'3 indices'!$D206=\"x\",'3 indices'!$E206=\"x\"),$A218&'3 indices'!$C202&\" \"&'3 indices'!$B206,\"\")","v":""},1,null,{"$f":"'3 indices'!A204","v":"Prénom"},{"$f":"'3 indices'!B204","v":"Alban"},{"$f":"IF('3 indices'!C204=\"o\",1,0)","v":0},{"$f":"IF('3 indices'!D204=\"o\",1,0)","v":0},{"$f":"IF('3 indices'!E204=\"o\",1,0)","v":0},{"$f":"SUM(G220:I220)","v":0},{"$f":"IF('3 indices'!F204=\"o\",1,0)","v":0},{"$f":"IF('3 indices'!G204=\"o\",1,0)","v":0},{"$f":"IF('3 indices'!H204=\"o\",1,0)","v":0},{"$f":"SUM(K220:M220)","v":0}]
[null,{"$f":"IF(AND('3 indices'!$C207=\"x\",'3 indices'!$D207=\"x\",'3 indices'!$E207=\"x\"),$A218&'3 indices'!$C202&\" \"&'3 indices'!$B207,\"\")","v":""},1,null,null,{"$f":"'3 indices'!B205","v":"Charles"},{"$f":"IF('3 indices'!C205=\"o\",1,0)","v":0},{"$f":"IF('3 indices'!D205=\"o\",1,0)","v":0},{"$f":"IF('3 indices'!E205=\"o\",1,0)","v":0},{"$f":"SUM(G221:I221)","v":0},{"$f":"IF('3 indices'!F205=\"o\",1,0)","v":0},{"$f":"IF('3 indices'!G205=\"o\",1,0)","v":0},{"$f":"IF('3 indices'!H205=\"o\",1,0)","v":0},{"$f":"SUM(K221:M221)","v":0}]
[null,{"$f":"IF(AND('3 indices'!$C208=\"x\",'3 indices'!$D208=\"x\",'3 indices'!$E208=\"x\"),$A218&'3 indices'!$C202&\" \"&'3 indices'!$B208,\"\")","v":""},1,null,null,{"$f":"'3 indices'!B206","v":"Jordi"},{"$f":"IF('3 indices'!C206=\"o\",1,0)","v":0},{"$f":"IF('3 indices'!D206=\"o\",1,0)","v":0},{"$f":"IF('3 indices'!E206=\"o\",1,0)","v":0},0,{"$f":"IF('3 indices'!F206=\"o\",1,0)","v":0},{"$f":"IF('3 indices'!G206=\"o\",1,0)","v":0},{"$f":"IF('3 indices'!H206=\"o\",1,0)","v":0},0]
[null,{"$f":"IF(AND('3 indices'!$C209=\"x\",'3 indices'!$D209=\"x\",'3 indices'!$E209=\"x\"),$A218&'3 indices'!$C202&\" \"&'3 indices'!$B209,\"\")","v":""},1,null,null,null,{"$f":"SUM(G220:G222)","v":0},{"$f":"SUM(H220:H222)","v":0},0,null,{"$f":"SUM(K220:K222)","v":0},{"$f":"SUM(L220:L222)","v":0},0]
[null,{"$f":"IF(AND('3 indices'!$F204=\"x\",'3 indices'!$G204=\"x\",'3 indices'!$H204=\"x\"),$A218&'3 indices'!$F202&\" \"&'3 indices'!$B204,\"\")","v":""},1,null,{"$f":"'3 indices'!A207","v":"Club"},{"$f":"'3 indices'!B207","v":"USAP"},{"$f":"IF('3 indices'!C207=\"o\",1,0)","v":0},{"$f":"IF('3 indices'!D207=\"o\",1,0)","v":0},{"$f":"IF('3 indices'!E207=\"o\",1,0)","v":0},{"$f":"SUM(G224:I224)","v":0}]
[null,{"$f":"IF(AND('3 indices'!$F205=\"x\",'3 indices'!$G205=\"x\",'3 indices'!$H205=\"x\"),$A218&'3 indices'!$F202&\" \"&'3 indices'!$B205,\"\")","v":""},1,null,null,{"$f":"'3 indices'!B208","v":"UST"},{"$f":"IF('3 indices'!C208=\"o\",1,0)","v":0},{"$f":"IF('3 indices'!D208=\"o\",1,0)","v":0},{"$f":"IF('3 indices'!E208=\"o\",1,0)","v":0},{"$f":"SUM(G225:I225)","v":0},"Impossible qu'il y ai plus de deux Oui "]
[null,{"$f":"IF(AND('3 indices'!$F206=\"x\",'3 indices'!$G206=\"x\",'3 indices'!$H206=\"x\"),$A218&'3 indices'!$F202&\" \"&'3 indices'!$B206,\"\")","v":""},1,null,null,{"$f":"'3 indices'!B209","v":"SPAC"},{"$f":"IF('3 indices'!C209=\"o\",1,0)","v":0},{"$f":"IF('3 indices'!D209=\"o\",1,0)","v":0},{"$f":"IF('3 indices'!E209=\"o\",1,0)","v":0},0," sur la ligne "]
[null,null,null,null,null,null,{"$f":"SUM(G224:G226)","v":0},{"$f":"SUM(H224:H226)","v":0},0,null," sur la colonne "]
[null,{"$f":"IF(C229=2,B229,IF(C230=2,B230,IF(C231=2,B231,IF(C232=2,B232,IF(C233=2,B233,IF(C234=2,B234,IF(C235=2,B235,IF(C236=2,B236,IF(C237=2,B237,\"\")))))))))","v":""},null,null,"=",{"$f":"IF(J220>1,K225&K226&G218&\" \"&F220,IF(J221>1,K225&K226&G218&\" \"&F221,IF(J222>1,K225&K226&G218&\" \"&F222,IF(J224>1,K225&K226&G218&\" \"&F224,IF(J225>1,K225&K226&G218&\" \"&F225,IF(J226>1,K225&K226&G218&\" \"&F226,IF(N220>1,K225&K226&K218&\" \"&F220,IF(N221>1,K225&K226&K218&\" \"&F221,IF(N222>1,K225&K226&K218&\" \"&F222,\"\")))))))))","v":""}]
["Impossible d'avoir 3 non sur la même colonne  ",{"$f":"IF(AND('3 indices'!C204=\"x\",'3 indices'!C205=\"x\",'3 indices'!C206=\"x\"),$A229&'3 indices'!$C203&\" \"&'3 indices'!$A204,\"\")","v":""},{"$f":"IF(B229=\"\",1,2)","v":1},null,"=",{"$f":"IF(G223>1,K225&K227&E220&\" \"&G219,IF(H223>1,K225&K227&E220&\" \"&H219,IF(I223>1,K225&K227&E220&\" \"&I219,IF(K223>1,K225&K227&E220&\" \"&K219,IF(L223>1,K225&K227&E220&\" \"&L219,IF(M223>1,K225&K227&E220&\" \"&M219,IF(G227>1,K225&K227&E224&\" \"&G219,IF(H227>1,K225&K227&E224&\" \"&H219,IF(I227>1,K225&K227&E224&\" \"&I219,\"\")))))))))","v":""}]
[null,{"$f":"IF(AND('3 indices'!D204=\"x\",'3 indices'!D205=\"x\",'3 indices'!D206=\"x\"),$A229&'3 indices'!D203&\" \"&'3 indices'!$A204,\"\")","v":""},1]
[null,{"$f":"IF(AND('3 indices'!E204=\"x\",'3 indices'!E205=\"x\",'3 indices'!E206=\"x\"),$A229&'3 indices'!E203&\" \"&'3 indices'!$A204,\"\")","v":""},1]
[null,{"$f":"IF(AND('3 indices'!C207=\"x\",'3 indices'!C208=\"x\",'3 indices'!C209=\"x\"),$A229&'3 indices'!$C203&\" \"&'3 indices'!$A207,\"\")","v":""},1]
[null,{"$f":"IF(AND('3 indices'!D207=\"x\",'3 indices'!D208=\"x\",'3 indices'!D209=\"x\"),$A229&'3 indices'!D203&\" \"&'3 indices'!$A207,\"\")","v":""},1]
[null,{"$f":"IF(AND('3 indices'!E207=\"x\",'3 indices'!E208=\"x\",'3 indices'!E209=\"x\"),$A229&'3 indices'!E203&\" \"&'3 indices'!$A207,\"\")","v":""},1]
[null,{"$f":"IF(AND('3 indices'!F204=\"x\",'3 indices'!F205=\"x\",'3 indices'!F206=\"x\"),$A229&'3 indices'!$F203&\" \"&'3 indices'!$A204,\"\")","v":""},1]
[null,{"$f":"IF(AND('3 indices'!G204=\"x\",'3 indices'!G205=\"x\",'3 indices'!G206=\"x\"),$A229&'3 indices'!$G203&\" \"&'3 indices'!$A204,\"\")","v":""},1]
[null,{"$f":"IF(AND('3 indices'!H204=\"x\",'3 indices'!H205=\"x\",'3 indices'!H206=\"x\"),$A229&'3 indices'!$H203&\" \"&'3 indices'!$A204,\"\")","v":""},1]

{"sheet":"4 indices","index":3,"n_rows":248,"n_cols":42,"rows_kept":248,"cut":false,"hidden":false,"merged":[[245,2,245,5],[245,6,245,9],[245,10,245,13],[245,16,245,19],[245,20,245,23],[244,2,244,5],[247,2,247,5],[247,6,247,9],[247,10,247,13],[247,16,247,19],[247,20,247,23],[246,2,246,5],[246,6,246,9],[246,10,246,13],[246,16,246,19],[246,20,246,23],[244,6,244,9],[244,10,244,13],[244,16,244,19],[244,20,244,23],[244,24,244,27],[228,38,228,41],[229,15,229,24],[230,0,233,0],[230,28,233,28],[234,0,237,0],[234,28,237,28],[228,2,228,5],[228,6,228,9],[228,10,228,13],[228,30,228,33],[228,34,228,37],[238,0,241,0],[238,28,241,28],[239,7,240,12],[243,2,243,5],[243,6,243,9],[243,10,243,13],[243,16,243,19],[243,20,243,23],[243,24,243,27],[219,24,219,27],[220,24,220,27],[222,2,222,5],[222,6,222,9],[222,10,222,13],[222,16,222,19],[222,20,222,23],[221,2,221,5],[221,6,221,9],[221,10,221,13],[221,16,221,19],[221,20,221,23],[221,24,221,27],[222,24,222,27],[220,2,220,5],[220,6,220,9],[220,10,220,13],[220,16,220,19],[220,20,220,23],[219,2,219,5],[219,6,219,9],[219,10,219,13],[219,16,219,19],[219,20,219,23],[213,0,216,0],[213,28,216,28],[214,7,215,12],[218,2,218,5],[218,6,218,9],[218,10,218,13],[218,16,218,19],[218,20,218,23],[218,24,218,27],[203,38,203,41],[204,15,204,24],[205,0,208,0],[205,28,208,28],[209,0,212,0],[209,28,212,28],[203,2,203,5],[203,6,203,9],[203,10,203,13],[203,30,203,33],[203,34,203,37],[194,24,194,27],[195,24,195,27],[197,2,197,5],[197,6,197,9],[197,10,197,13],[197,16,197,19],[197,20,197,23],[196,2,196,5],[196,6,196,9],[196,10,196,13],[196,16,196,19],[196,20,196,23],[196,24,196,27],[197,24,197,27],[195,2,195,5],[195,6,195,9],[195,10,195,13],[195,16,195,19],[195,20,195,23],[194,2,194,5],[194,6,194,9],[194,10,194,13],[194,16,194,19],[194,20,194,23],[188,0,191,0],[188,28,191,28],[189,7,190,12],[193,2,193,5],[193,6,193,9],[193,10,193,13],[193,16,193,19],[193,20,193,23],[193,24,193,27],[178,38,178,41],[179,15,179,24],[180,0,183,0],[180,28,183,28],[184,0,187,0],[184,28,187,28],[178,2,178,5],[178,6,178,9],[178,10,178,13],[178,30,178,33],[178,34,178,37],[169,24,169,27],[170,24,170,27],[172,2,172,5],[172,6,172,9],[172,10,172,13],[172,16,172,19],[172,20,172,23],[171,2,171,5],[171,6,171,9],[171,10,171,13],[171,16,171,19],[171,20,171,23],[171,24,171,27],[172,24,172,27],[170,2,170,5],[170,6,170,9],[170,10,170,13],[170,16,170,19],[170,20,170,23],[169,2,169,5],[169,6,169,9],[169,10,169,13],[169,16,169,19],[169,20,169,23],[163,0,166,0],[163,28,166,28],[164,7,165,12],[168,2,168,5],[168,6,168,9],[168,10,168,13],[168,16,168,19],[168,20,168,23],[168,24,168,27],[153,38,153,41],[154,15,154,24],[155,0,158,0],[155,28,158,28],[159,0,162,0],[159,28,162,28],[153,2,153,5],[153,6,153,9],[153,10,153,13],[153,30,153,33],[153,34,153,37],[144,24,144,27],[145,24,145,27],[147,2,147,5],[147,6,147,9],[147,10,147,13],[147,16,147,19],[147,20,147,23],[146,2,146,5],[146,6,146,9],[146,10,146,13],[146,16,146,19],[146,20,146,23],[146,24,146,27],[147,24,147,27],[145,2,145,5],[145,6,145,9],[145,10,145,13],[145,16,145,19],[145,20,145,23],[144,2,144,5],[144,6,144,9],[144,10,144,13],[144,16,144,19],[144,20,144,23],[138,0,141,0],[138,28,141,28],[139,7,140,12],[143,2,143,5],[143,6,143,9],[143,10,143,13],[143,16,143,19],[143,20,143,23],[143,24,143,27],[121,24,121,27],[122,24,122,27],[128,38,128,41],[129,15,129,24],[130,0,133,0],[130,28,133,28],[134,0,137,0],[134,28,137,28],[128,2,128,5],[128,6,128,9],[128,10,128,13],[128,30,128,33],[128,34,128,37],[122,2,122,5],[122,6,122,9],[122,10,122,13],[122,16,122,19],[122,20,122,23],[121,2,121,5],[121,6,121,9],[121,10,121,13],[121,16,121,19],[121,20,121,23],[113,0,116,0],[113,28,116,28],[114,7,115,12],[118,2,118,5],[118,6,118,9],[118,10,118,13],[118,16,118,19],[118,20,118,23],[120,2,120,5],[120,6,120,9],[120,10,120,13],[120,16,120,19],[120,20,120,23],[119,2,119,5],[119,6,119,9],[119,10,119,13],[119,16,119,19],[119,20,119,23],[119,24,119,27],[120,24,120,27],[103,38,103,41],[104,15,104,24],[105,0,108,0],[105,28,108,28],[109,0,112,0],[109,28,112,28],[103,2,103,5],[103,6,103,9],[103,10,103,13],[103,30,103,33],[103,34,103,37],[97,2,97,5],[97,6,97,9],[97,10,97,13],[97,16,97,19],[97,20,97,23],[96,2,96,5],[96,6,96,9],[96,10,96,13],[96,16,96,19],[96,20,96,23],[88,0,91,0],[88,28,91,28],[89,7,90,12],[93,2,93,5],[93,6,93,9],[93,10,93,13],[93,16,93,19],[93,20,93,23],[95,2,95,5],[95,6,95,9],[95,10,95,13],[95,16,95,19],[95,20,95,23],[94,2,94,5],[94,6,94,9],[94,10,94,13],[94,16,94,19],[94,20,94,23],[78,38,78,41],[79,15,79,24],[80,0,83,0],[80,28,83,28],[84,0,87,0],[84,28,87,28],[78,2,78,5],[78,6,78,9],[78,10,78,13],[78,30,78,33],[78,34,78,37],[72,2,72,5],[72,6,72,9],[72,10,72,13],[72,16,72,19],[72,20,72,23],[71,2,71,5],[71,6,71,9],[71,10,71,13],[71,16,71,19],[71,20,71,23],[63,0,66,0],[63,28,66,28],[64,7,65,12],[68,2,68,5],[68,6,68,9],[68,10,68,13],[68,16,68,19],[68,20,68,23],[70,2,70,5],[70,6,70,9],[70,10,70,13],[70,16,70,19],[70,20,70,23],[69,2,69,5],[69,6,69,9],[69,10,69,13],[69,16,69,19],[69,20,69,23],[53,38,53,41],[54,15,54,24],[55,0,58,0],[55,28,58,28],[59,0,62,0],[59,28,62,28],[53,2,53,5],[53,6,53,9],[53,10,53,13],[53,30,53,33],[53,34,53,37],[3,30,3,33],[3,34,3,37],[3,38,3,41],[5,28,8,28],[21,20,21,23],[22,20,22,23],[21,10,21,13],[22,10,22,13],[19,16,19,19],[20,16,20,19],[21,16,21,19],[22,16,22,19],[13,0,16,0],[3,2,3,5],[5,0,8,0],[3,6,3,9],[3,10,3,13],[9,0,12,0],[4,15,4,24],[14,7,15,12],[9,28,12,28],[13,28,16,28],[18,2,18,5],[28,30,28,33],[18,6,18,9],[18,10,18,13],[18,16,18,19],[18,20,18,23],[20,10,20,13],[19,20,19,23],[20,20,20,23],[19,2,19,5],[20,2,20,5],[21,2,21,5],[22,2,22,5],[19,6,19,9],[20,6,20,9],[21,6,21,9],[22,6,22,9],[19,10,19,13],[43,2,43,5],[43,6,43,9],[43,10,43,13],[43,16,43,19],[43,20,43,23],[28,34,28,37],[28,38,28,41],[29,15,29,24],[30,0,33,0],[30,28,33,28],[34,0,37,0],[34,28,37,28],[38,0,41,0],[38,28,41,28],[39,7,40,12],[28,2,28,5],[28,6,28,9],[28,10,28,13],[45,2,45,5],[45,6,45,9],[45,10,45,13],[45,16,45,19],[45,20,45,23],[44,2,44,5],[44,6,44,9],[44,10,44,13],[44,16,44,19],[44,20,44,23],[47,2,47,5],[47,6,47,9],[47,10,47,13],[47,16,47,19],[47,20,47,23],[46,2,46,5],[46,6,46,9],[46,10,46,13],[46,16,46,19],[46,20,46,23],[245,24,245,27],[246,24,246,27],[247,24,247,27],[18,24,18,27],[19,24,19,27],[20,24,20,27],[21,24,21,27],[22,24,22,27],[43,24,43,27],[44,24,44,27],[45,24,45,27],[46,24,46,27],[47,24,47,27],[68,24,68,27],[69,24,69,27],[70,24,70,27],[71,24,71,27],[72,24,72,27],[93,24,93,27],[94,24,94,27],[95,24,95,27],[96,24,96,27],[97,24,97,27],[118,24,118,27]]}
["XI°/ Le collège :"]
[{"$f":"INDIRECT(\"'Calculs 4 indices'!B\"&A5)","v":""},null,null,null,null,null,null,null,null,null,null,null,null,{"$f":"INDIRECT(\"'Calculs 4 indices'!M\"&(A5+16))","v":""}]
[{"$f":"INDIRECT(\"'Calculs 4 indices'!B\"&(A5+26))","v":""},null,null,null,null,null,null,null,null,null,null,null,null,{"$f":"INDIRECT(\"'Calculs 4 indices'!M\"&(A5+17))","v":""}]
[null,null,"Matière",null,null,null,"Rang",null,null,null,"Moyenne",null,null,null,null,null,null,null,null,null,null,null,null,null,null,null,null,null,null,null,{"$f":"C4","v":"Matière"},null,null,null,{"$f":"G4","v":"Rang"},null,null,null,{"$f":"K4","v":"Moyenne"}]
[1,null,"Maths","Français","Physique","EPS","1e","3e","5e","6e",14,15,17,19,null,"Philippe, Viviane Mathilde et Anne sont dans la même classe, ils réussissent chacun dans des matières différentes avec des moyennes tout à fait honorables ce qui leur donne une bonne place dans la classe.",null,null,null,null,null,null,null,null,null,null,null,null,null,null,{"$f":"C5","v":"Maths"},{"$f":"D5","v":"Français"},"Physique","EPS","1e","3e","5e","6e",14,15,17,19]
["Elèves","Philippe",null,null,null,null,null,null,null,null,null,null,null,null,null,"1°/ L'élève qui réussit en maths a 17 de moyenne, n'est pas ",null,null,null,null,null,null,null,null,null,null,null,null,{"$f":"A6","v":"Elèves"},{"$f":"B6","v":"Philippe"},{"$f":"IF(OR(D6=\"o\",E6=\"o\",F6=\"o\",C7=\"o\",C8=\"o\",C9=\"o\",C6=\"x\"),\"x\",IF(OR(C6=\"o\",AND(D6=\"x\",E6=\"x\",F6=\"x\"),AND(C7=\"x\",C8=\"x\",C9=\"x\")),\"o\",\"\"))","v":""},{"$f":"IF(OR(C6=\"o\",E6=\"o\",F6=\"o\",D7=\"o\",D8=\"o\",D9=\"o\",D6=\"x\"),\"x\",IF(OR(D6=\"o\",AND(C6=\"x\",E6=\"x\",F6=\"x\"),AND(D7=\"x\",D8=\"x\",D9=\"x\")),\"o\",\"\"))","v":""},{"$f":"IF(OR(C6=\"o\",D6=\"o\",F6=\"o\",E7=\"o\",E8=\"o\",E9=\"o\",E6=\"x\"),\"x\",IF(OR(E6=\"o\",AND(C6=\"x\",D6=\"x\",F6=\"x\"),AND(E7=\"x\",E8=\"x\",E9=\"x\")),\"o\",\"\"))","v":""},{"$f":"IF(OR(C6=\"o\",D6=\"o\",E6=\"o\",F7=\"o\",F8=\"o\",F9=\"o\",F6=\"x\"),\"x\",IF(OR(F6=\"o\",AND(C6=\"x\",D6=\"x\",E6=\"x\"),AND(F7=\"x\",F8=\"x\",F9=\"x\")),\"o\",\"\"))","v":""},{"$f":"IF(OR(H6=\"o\",I6=\"o\",J6=\"o\",G7=\"o\",G8=\"o\",G9=\"o\",G6=\"x\"),\"x\",IF(OR(G6=\"o\",AND(H6=\"x\",I6=\"x\",J6=\"x\"),AND(G7=\"x\",G8=\"x\",G9=\"x\")),\"o\",\"\"))","v":""},{"$f":"IF(OR(G6=\"o\",I6=\"o\",J6=\"o\",H7=\"o\",H8=\"o\",H9=\"o\",H6=\"x\"),\"x\",IF(OR(H6=\"o\",AND(G6=\"x\",I6=\"x\",J6=\"x\"),AND(H7=\"x\",H8=\"x\",H9=\"x\")),\"o\",\"\"))","v":""},{"$f":"IF(OR(G6=\"o\",H6=\"o\",J6=\"o\",I7=\"o\",I8=\"o\",I9=\"o\",I6=\"x\"),\"x\",IF(OR(I6=\"o\",AND(G6=\"x\",H6=\"x\",J6=\"x\"),AND(I7=\"x\",I8=\"x\",I9=\"x\")),\"o\",\"\"))","v":""},{"$f":"IF(OR(G6=\"o\",H6=\"o\",I6=\"o\",J7=\"o\",J8=\"o\",J9=\"o\",J6=\"x\"),\"x\",IF(OR(J6=\"o\",AND(G6=\"x\",H6=\"x\",I6=\"x\"),AND(J7=\"x\",J8=\"x\",J9=\"x\")),\"o\",\"\"))","v":""},{"$f":"IF(OR(L6=\"o\",M6=\"o\",N6=\"o\",K7=\"o\",K8=\"o\",K9=\"o\",K6=\"x\"),\"x\",IF(OR(K6=\"o\",AND(L6=\"x\",M6=\"x\",N6=\"x\"),AND(K7=\"x\",K8=\"x\",K9=\"x\")),\"o\",\"\"))","v":""},{"$f":"IF(OR(K6=\"o\",M6=\"o\",N6=\"o\",L7=\"o\",L8=\"o\",L9=\"o\",L6=\"x\"),\"x\",IF(OR(L6=\"o\",AND(K6=\"x\",M6=\"x\",N6=\"x\"),AND(L7=\"x\",L8=\"x\",L9=\"x\")),\"o\",\"\"))","v":""},{"$f":"IF(OR(K6=\"o\",L6=\"o\",N6=\"o\",M7=\"o\",M8=\"o\",M9=\"o\",M6=\"x\"),\"x\",IF(OR(M6=\"o\",AND(K6=\"x\",L6=\"x\",N6=\"x\"),AND(M7=\"x\",M8=\"x\",M9=\"x\")),\"o\",\"\"))","v":""},{"$f":"IF(OR(K6=\"o\",L6=\"o\",M6=\"o\",N7=\"o\",N8=\"o\",N9=\"o\",N6=\"x\"),\"x\",IF(OR(N6=\"o\",AND(K6=\"x\",L6=\"x\",M6=\"x\"),AND(N7=\"x\",N8=\"x\",N9=\"x\")),\"o\",\"\"))","v":""}]
[null,"Viviane",null,null,null,null,null,null,null,null,null,null,null,null,null,"premier et s'entend bien avec Anne.",null,null,null,null,null,null,null,null,null,null,null,null,null,{"$f":"B7","v":"Viviane"},{"$f":"IF(OR(D7=\"o\",E7=\"o\",F7=\"o\",C6=\"o\",C8=\"o\",C9=\"o\",C7=\"x\"),\"x\",IF(OR(C7=\"o\",AND(D7=\"x\",E7=\"x\",F7=\"x\"),AND(C6=\"x\",C8=\"x\",C9=\"x\")),\"o\",\"\"))","v":""},{"$f":"IF(OR(C7=\"o\",E7=\"o\",F7=\"o\",D6=\"o\",D8=\"o\",D9=\"o\",D7=\"x\"),\"x\",IF(OR(D7=\"o\",AND(C7=\"x\",E7=\"x\",F7=\"x\"),AND(D6=\"x\",D8=\"x\",D9=\"x\")),\"o\",\"\"))","v":""},{"$f":"IF(OR(C7=\"o\",D7=\"o\",F7=\"o\",E6=\"o\",E8=\"o\",E9=\"o\",E7=\"x\"),\"x\",IF(OR(E7=\"o\",AND(C7=\"x\",D7=\"x\",F7=\"x\"),AND(E6=\"x\",E8=\"x\",E9=\"x\")),\"o\",\"\"))","v":""},{"$f":"IF(OR(C7=\"o\",D7=\"o\",E7=\"o\",F6=\"o\",F8=\"o\",F9=\"o\",F7=\"x\"),\"x\",IF(OR(F7=\"o\",AND(C7=\"x\",D7=\"x\",E7=\"x\"),AND(F6=\"x\",F8=\"x\",F9=\"x\")),\"o\",\"\"))","v":""},{"$f":"IF(OR(H7=\"o\",I7=\"o\",J7=\"o\",G6=\"o\",G8=\"o\",G9=\"o\",G7=\"x\"),\"x\",IF(OR(G7=\"o\",AND(H7=\"x\",I7=\"x\",J7=\"x\"),AND(G6=\"x\",G8=\"x\",G9=\"x\")),\"o\",\"\"))","v":""},{"$f":"IF(OR(G7=\"o\",I7=\"o\",J7=\"o\",H6=\"o\",H8=\"o\",H9=\"o\",H7=\"x\"),\"x\",IF(OR(H7=\"o\",AND(G7=\"x\",I7=\"x\",J7=\"x\"),AND(H6=\"x\",H8=\"x\",H9=\"x\")),\"o\",\"\"))","v":""},{"$f":"IF(OR(G7=\"o\",H7=\"o\",J7=\"o\",I6=\"o\",I8=\"o\",I9=\"o\",I7=\"x\"),\"x\",IF(OR(I7=\"o\",AND(G7=\"x\",H7=\"x\",J7=\"x\"),AND(I6=\"x\",I8=\"x\",I9=\"x\")),\"o\",\"\"))","v":""},{"$f":"IF(OR(G7=\"o\",H7=\"o\",I7=\"o\",J6=\"o\",J8=\"o\",J9=\"o\",J7=\"x\"),\"x\",IF(OR(J7=\"o\",AND(G7=\"x\",H7=\"x\",I7=\"x\"),AND(J6=\"x\",J8=\"x\",J9=\"x\")),\"o\",\"\"))","v":""},{"$f":"IF(OR(L7=\"o\",M7=\"o\",N7=\"o\",K6=\"o\",K8=\"o\",K9=\"o\",K7=\"x\"),\"x\",IF(OR(K7=\"o\",AND(L7=\"x\",M7=\"x\",N7=\"x\"),AND(K6=\"x\",K8=\"x\",K9=\"x\")),\"o\",\"\"))","v":""},{"$f":"IF(OR(K7=\"o\",M7=\"o\",N7=\"o\",L6=\"o\",L8=\"o\",L9=\"o\",L7=\"x\"),\"x\",IF(OR(L7=\"o\",AND(K7=\"x\",M7=\"x\",N7=\"x\"),AND(L6=\"x\",L8=\"x\",L9=\"x\")),\"o\",\"\"))","v":""},{"$f":"IF(OR(K7=\"o\",L7=\"o\",N7=\"o\",M6=\"o\",M8=\"o\",M9=\"o\",M7=\"x\"),\"x\",IF(OR(M7=\"o\",AND(K7=\"x\",L7=\"x\",N7=\"x\"),AND(M6=\"x\",M8=\"x\",M9=\"x\")),\"o\",\"\"))","v":""},{"$f":"IF(OR(K7=\"o\",L7=\"o\",M7=\"o\",N6=\"o\",N8=\"o\",N9=\"o\",N7=\"x\"),\"x\",IF(OR(N7=\"o\",AND(K7=\"x\",L7=\"x\",M7=\"x\"),AND(N6=\"x\",N8=\"x\",N9=\"x\")),\"o\",\"\"))","v":""}]
[null,"Mathilde",null,null,null,null,null,null,null,null,null,null,null,null,null,"2°/ L'élève qui réussit en Physiques n'est pas Philippe et",null,null,null,null,null,null,null,null,null,null,null,null,null,"Mathilde",{"$f":"IF(OR(D8=\"o\",E8=\"o\",F8=\"o\",C6=\"o\",C7=\"o\",C9=\"o\",C8=\"x\"),\"x\",IF(OR(C8=\"o\",AND(D8=\"x\",E8=\"x\",F8=\"x\"),AND(C6=\"x\",C7=\"x\",C9=\"x\")),\"o\",\"\"))","v":""},{"$f":"IF(OR(C8=\"o\",E8=\"o\",F8=\"o\",D6=\"o\",D7=\"o\",D9=\"o\",D8=\"x\"),\"x\",IF(OR(D8=\"o\",AND(C8=\"x\",E8=\"x\",F8=\"x\"),AND(D6=\"x\",D7=\"x\",D9=\"x\")),\"o\",\"\"))","v":""},{"$f":"IF(OR(C8=\"o\",D8=\"o\",F8=\"o\",E6=\"o\",E7=\"o\",E9=\"o\",E8=\"x\"),\"x\",IF(OR(E8=\"o\",AND(C8=\"x\",D8=\"x\",F8=\"x\"),AND(E6=\"x\",E7=\"x\",E9=\"x\")),\"o\",\"\"))","v":""},{"$f":"IF(OR(C8=\"o\",D8=\"o\",E8=\"o\",F6=\"o\",F7=\"o\",F9=\"o\",F8=\"x\"),\"x\",IF(OR(F8=\"o\",AND(C8=\"x\",D8=\"x\",E8=\"x\"),AND(F6=\"x\",F7=\"x\",F9=\"x\")),\"o\",\"\"))","v":""},{"$f":"IF(OR(H8=\"o\",I8=\"o\",J8=\"o\",G6=\"o\",G7=\"o\",G9=\"o\",G8=\"x\"),\"x\",IF(OR(G8=\"o\",AND(H8=\"x\",I8=\"x\",J8=\"x\"),AND(G6=\"x\",G7=\"x\",G9=\"x\")),\"o\",\"\"))","v":""},{"$f":"IF(OR(G8=\"o\",I8=\"o\",J8=\"o\",H6=\"o\",H7=\"o\",H9=\"o\",H8=\"x\"),\"x\",IF(OR(H8=\"o\",AND(G8=\"x\",I8=\"x\",J8=\"x\"),AND(H6=\"x\",H7=\"x\",H9=\"x\")),\"o\",\"\"))","v":""},{"$f":"IF(OR(G8=\"o\",H8=\"o\",J8=\"o\",I6=\"o\",I7=\"o\",I9=\"o\",I8=\"x\"),\"x\",IF(OR(I8=\"o\",AND(G8=\"x\",H8=\"x\",J8=\"x\"),AND(I6=\"x\",I7=\"x\",I9=\"x\")),\"o\",\"\"))","v":""},{"$f":"IF(OR(G8=\"o\",H8=\"o\",I8=\"o\",J6=\"o\",J7=\"o\",J9=\"o\",J8=\"x\"),\"x\",IF(OR(J8=\"o\",AND(G8=\"x\",H8=\"x\",I8=\"x\"),AND(J6=\"x\",J7=\"x\",J9=\"x\")),\"o\",\"\"))","v":""},{"$f":"IF(OR(L8=\"o\",M8=\"o\",N8=\"o\",K6=\"o\",K7=\"o\",K9=\"o\",K8=\"x\"),\"x\",IF(OR(K8=\"o\",AND(L8=\"x\",M8=\"x\",N8=\"x\"),AND(K6=\"x\",K7=\"x\",K9=\"x\")),\"o\",\"\"))","v":""},{"$f":"IF(OR(K8=\"o\",M8=\"o\",N8=\"o\",L6=\"o\",L7=\"o\",L9=\"o\",L8=\"x\"),\"x\",IF(OR(L8=\"o\",AND(K8=\"x\",M8=\"x\",N8=\"x\"),AND(L6=\"x\",L7=\"x\",L9=\"x\")),\"o\",\"\"))","v":""},{"$f":"IF(OR(K8=\"o\",L8=\"o\",N8=\"o\",M6=\"o\",M7=\"o\",M9=\"o\",M8=\"x\"),\"x\",IF(OR(M8=\"o\",AND(K8=\"x\",L8=\"x\",N8=\"x\"),AND(M6=\"x\",M7=\"x\",M9=\"x\")),\"o\",\"\"))","v":""},{"$f":"IF(OR(K8=\"o\",L8=\"o\",M8=\"o\",N6=\"o\",N7=\"o\",N9=\"o\",N8=\"x\"),\"x\",IF(OR(N8=\"o\",AND(K8=\"x\",L8=\"x\",M8=\"x\"),AND(N6=\"x\",N7=\"x\",N9=\"x\")),\"o\",\"\"))","v":""}]
[null,"Anne",null,null,null,null,null,null,null,null,null,null,null,null,null,"n'a ni la plus haute moyenne ni la plus basse moyenne.",null,null,null,null,null,null,null,null,null,null,null,null,null,"Anne",{"$f":"IF(OR(D9=\"o\",E9=\"o\",F9=\"o\",C6=\"o\",C7=\"o\",C8=\"o\",C9=\"x\"),\"x\",IF(OR(C9=\"o\",AND(D9=\"x\",E9=\"x\",F9=\"x\"),AND(C6=\"x\",C7=\"x\",C8=\"x\")),\"o\",\"\"))","v":""},{"$f":"IF(OR(C9=\"o\",E9=\"o\",F9=\"o\",D6=\"o\",D7=\"o\",D8=\"o\",D9=\"x\"),\"x\",IF(OR(D9=\"o\",AND(C9=\"x\",E9=\"x\",F9=\"x\"),AND(D6=\"x\",D7=\"x\",D8=\"x\")),\"o\",\"\"))","v":""},{"$f":"IF(OR(C9=\"o\",D9=\"o\",F9=\"o\",E6=\"o\",E7=\"o\",E8=\"o\",E9=\"x\"),\"x\",IF(OR(E9=\"o\",AND(C9=\"x\",D9=\"x\",F9=\"x\"),AND(E6=\"x\",E7=\"x\",E8=\"x\")),\"o\",\"\"))","v":""},{"$f":"IF(OR(C9=\"o\",D9=\"o\",E9=\"o\",F6=\"o\",F7=\"o\",F8=\"o\",F9=\"x\"),\"x\",IF(OR(F9=\"o\",AND(C9=\"x\",D9=\"x\",E9=\"x\"),AND(F6=\"x\",F7=\"x\",F8=\"x\")),\"o\",\"\"))","v":""},{"$f":"IF(OR(H9=\"o\",I9=\"o\",J9=\"o\",G6=\"o\",G7=\"o\",G8=\"o\",G9=\"x\"),\"x\",IF(OR(G9=\"o\",AND(H9=\"x\",I9=\"x\",J9=\"x\"),AND(G6=\"x\",G7=\"x\",G8=\"x\")),\"o\",\"\"))","v":""},{"$f":"IF(OR(G9=\"o\",I9=\"o\",J9=\"o\",H6=\"o\",H7=\"o\",H8=\"o\",H9=\"x\"),\"x\",IF(OR(H9=\"o\",AND(G9=\"x\",I9=\"x\",J9=\"x\"),AND(H6=\"x\",H7=\"x\",H8=\"x\")),\"o\",\"\"))","v":""},{"$f":"IF(OR(G9=\"o\",H9=\"o\",J9=\"o\",I6=\"o\",I7=\"o\",I8=\"o\",I9=\"x\"),\"x\",IF(OR(I9=\"o\",AND(G9=\"x\",H9=\"x\",J9=\"x\"),AND(I6=\"x\",I7=\"x\",I8=\"x\")),\"o\",\"\"))","v":""},{"$f":"IF(OR(G9=\"o\",H9=\"o\",I9=\"o\",J6=\"o\",J7=\"o\",J8=\"o\",J9=\"x\"),\"x\",IF(OR(J9=\"o\",AND(G9=\"x\",H9=\"x\",I9=\"x\"),AND(J6=\"x\",J7=\"x\",J8=\"x\")),\"o\",\"\"))","v":""},{"$f":"IF(OR(L9=\"o\",M9=\"o\",N9=\"o\",K6=\"o\",K7=\"o\",K8=\"o\",K9=\"x\"),\"x\",IF(OR(K9=\"o\",AND(L9=\"x\",M9=\"x\",N9=\"x\"),AND(K6=\"x\",K7=\"x\",K8=\"x\")),\"o\",\"\"))","v":""},{"$f":"IF(OR(K9=\"o\",M9=\"o\",N9=\"o\",L6=\"o\",L7=\"o\",L8=\"o\",L9=\"x\"),\"x\",IF(OR(L9=\"o\",AND(K9=\"x\",M9=\"x\",N9=\"x\"),AND(L6=\"x\",L7=\"x\",L8=\"x\")),\"o\",\"\"))","v":""},{"$f":"IF(OR(K9=\"o\",L9=\"o\",N9=\"o\",M6=\"o\",M7=\"o\",M8=\"o\",M9=\"x\"),\"x\",IF(OR(M9=\"o\",AND(K9=\"x\",L9=\"x\",N9=\"x\"),AND(M6=\"x\",M7=\"x\",M8=\"x\")),\"o\",\"\"))","v":""},{"$f":"IF(OR(K9=\"o\",L9=\"o\",M9=\"o\",N6=\"o\",N7=\"o\",N8=\"o\",N9=\"x\"),\"x\",IF(OR(N9=\"o\",AND(K9=\"x\",L9=\"x\",M9=\"x\"),AND(N6=\"x\",N7=\"x\",N8=\"x\")),\"o\",\"\"))","v":""}]
["Moyenne",14,null,null,null,null,null,null,null,null,null,null,null,null,null,"3°/ Mathilde réussit bien en Français mais elle n'est pas",null,null,null,null,null,null,null,null,null,null,null,null,{"$f":"A10","v":"Moyenne"},14,{"$f":"IF(OR(D10=\"o\",E10=\"o\",F10=\"o\",C11=\"o\",C12=\"o\",C13=\"o\",C10=\"x\"),\"x\",IF(OR(C10=\"o\",AND(D10=\"x\",E10=\"x\",F10=\"x\"),AND(C11=\"x\",C12=\"x\",C13=\"x\")),\"o\",\"\"))","v":""},{"$f":"IF(OR(C10=\"o\",E10=\"o\",F10=\"o\",D11=\"o\",D12=\"o\",D13=\"o\",D10=\"x\"),\"x\",IF(OR(D10=\"o\",AND(C10=\"x\",E10=\"x\",F10=\"x\"),AND(D11=\"x\",D12=\"x\",D13=\"x\")),\"o\",\"\"))","v":""},{"$f":"IF(OR(C10=\"o\",D10=\"o\",F10=\"o\",E11=\"o\",E12=\"o\",E13=\"o\",E10=\"x\"),\"x\",IF(OR(E10=\"o\",AND(C10=\"x\",D10=\"x\",F10=\"x\"),AND(E11=\"x\",E12=\"x\",E13=\"x\")),\"o\",\"\"))","v":""},{"$f":"IF(OR(C10=\"o\",D10=\"o\",E10=\"o\",F11=\"o\",F12=\"o\",F13=\"o\",F10=\"x\"),\"x\",IF(OR(F10=\"o\",AND(C10=\"x\",D10=\"x\",E10=\"x\"),AND(F11=\"x\",F12=\"x\",F13=\"x\")),\"o\",\"\"))","v":""},{"$f":"IF(OR(H10=\"o\",I10=\"o\",J10=\"o\",G11=\"o\",G12=\"o\",G13=\"o\",G10=\"x\"),\"x\",IF(OR(G10=\"o\",AND(H10=\"x\",I10=\"x\",J10=\"x\"),AND(G11=\"x\",G12=\"x\",G13=\"x\")),\"o\",\"\"))","v":""},{"$f":"IF(OR(G10=\"o\",I10=\"o\",J10=\"o\",H11=\"o\",H12=\"o\",H13=\"o\",H10=\"x\"),\"x\",IF(OR(H10=\"o\",AND(G10=\"x\",I10=\"x\",J10=\"x\"),AND(H11=\"x\",H12=\"x\",H13=\"x\")),\"o\",\"\"))","v":""},{"$f":"IF(OR(G10=\"o\",H10=\"o\",J10=\"o\",I11=\"o\",I12=\"o\",I13=\"o\",I10=\"x\"),\"x\",IF(OR(I10=\"o\",AND(G10=\"x\",H10=\"x\",J10=\"x\"),AND(I11=\"x\",I12=\"x\",I13=\"x\")),\"o\",\"\"))","v":""},{"$f":"IF(OR(G10=\"o\",H10=\"o\",I10=\"o\",J11=\"o\",J12=\"o\",J13=\"o\",J10=\"x\"),\"x\",IF(OR(J10=\"o\",AND(G10=\"x\",H10=\"x\",I10=\"x\"),AND(J11=\"x\",J12=\"x\",J13=\"x\")),\"o\",\"\"))","v":""}]
[null,15,null,null,null,null,null,null,null,null,null,null,null,null,null,"dans les trois premiers de sa classe.",null,null,null,null,null,null,null,null,null,null,null,null,null,15,{"$f":"IF(OR(D11=\"o\",E11=\"o\",F11=\"o\",C10=\"o\",C12=\"o\",C13=\"o\",C11=\"x\"),\"x\",IF(OR(C11=\"o\",AND(D11=\"x\",E11=\"x\",F11=\"x\"),AND(C10=\"x\",C12=\"x\",C13=\"x\")),\"o\",\"\"))","v":""},{"$f":"IF(OR(C11=\"o\",E11=\"o\",F11=\"o\",D10=\"o\",D12=\"o\",D13=\"o\",D11=\"x\"),\"x\",IF(OR(D11=\"o\",AND(C11=\"x\",E11=\"x\",F11=\"x\"),AND(D10=\"x\",D12=\"x\",D13=\"x\")),\"o\",\"\"))","v":""},{"$f":"IF(OR(C11=\"o\",D11=\"o\",F11=\"o\",E10=\"o\",E12=\"o\",E13=\"o\",E11=\"x\"),\"x\",IF(OR(E11=\"o\",AND(C11=\"x\",D11=\"x\",F11=\"x\"),AND(E10=\"x\",E12=\"x\",E13=\"x\")),\"o\",\"\"))","v":""},{"$f":"IF(OR(C11=\"o\",D11=\"o\",E11=\"o\",F10=\"o\",F12=\"o\",F13=\"o\",F11=\"x\"),\"x\",IF(OR(F11=\"o\",AND(C11=\"x\",D11=\"x\",E11=\"x\"),AND(F10=\"x\",F12=\"x\",F13=\"x\")),\"o\",\"\"))","v":""},{"$f":"IF(OR(H11=\"o\",I11=\"o\",J11=\"o\",G10=\"o\",G12=\"o\",G13=\"o\",G11=\"x\"),\"x\",IF(OR(G11=\"o\",AND(H11=\"x\",I11=\"x\",J11=\"x\"),AND(G10=\"x\",G12=\"x\",G13=\"x\")),\"o\",\"\"))","v":""},{"$f":"IF(OR(G11=\"o\",I11=\"o\",J11=\"o\",H10=\"o\",H12=\"o\",H13=\"o\",H11=\"x\"),\"x\",IF(OR(H11=\"o\",AND(G11=\"x\",I11=\"x\",J11=\"x\"),AND(H10=\"x\",H12=\"x\",H13=\"x\")),\"o\",\"\"))","v":""},{"$f":"IF(OR(G11=\"o\",H11=\"o\",J11=\"o\",I10=\"o\",I12=\"o\",I13=\"o\",I11=\"x\"),\"x\",IF(OR(I11=\"o\",AND(G11=\"x\",H11=\"x\",J11=\"x\"),AND(I10=\"x\",I12=\"x\",I13=\"x\")),\"o\",\"\"))","v":""},{"$f":"IF(OR(G11=\"o\",H11=\"o\",I11=\"o\",J10=\"o\",J12=\"o\",J13=\"o\",J11=\"x\"),\"x\",IF(OR(J11=\"o\",AND(G11=\"x\",H11=\"x\",I11=\"x\"),AND(J10=\"x\",J12=\"x\",J13=\"x\")),\"o\",\"\"))","v":""}]
[null,17,null,null,null,null,null,null,null,null,null,null,null,null,null,"4°/ Philippe a moins de 16 de moyenne dans sa matière ce",null,null,null,null,null,null,null,null,null,null,null,null,null,17,{"$f":"IF(OR(D12=\"o\",E12=\"o\",F12=\"o\",C10=\"o\",C11=\"o\",C13=\"o\",C12=\"x\"),\"x\",IF(OR(C12=\"o\",AND(D12=\"x\",E12=\"x\",F12=\"x\"),AND(C10=\"x\",C11=\"x\",C13=\"x\")),\"o\",\"\"))","v":""},{"$f":"IF(OR(C12=\"o\",E12=\"o\",F12=\"o\",D10=\"o\",D11=\"o\",D13=\"o\",D12=\"x\"),\"x\",IF(OR(D12=\"o\",AND(C12=\"x\",E12=\"x\",F12=\"x\"),AND(D10=\"x\",D11=\"x\",D13=\"x\")),\"o\",\"\"))","v":""},{"$f":"IF(OR(C12=\"o\",D12=\"o\",F12=\"o\",E10=\"o\",E11=\"o\",E13=\"o\",E12=\"x\"),\"x\",IF(OR(E12=\"o\",AND(C12=\"x\",D12=\"x\",F12=\"x\"),AND(E10=\"x\",E11=\"x\",E13=\"x\")),\"o\",\"\"))","v":""},{"$f":"IF(OR(C12=\"o\",D12=\"o\",E12=\"o\",F10=\"o\",F11=\"o\",F13=\"o\",F12=\"x\"),\"x\",IF(OR(F12=\"o\",AND(C12=\"x\",D12=\"x\",E12=\"x\"),AND(F10=\"x\",F11=\"x\",F13=\"x\")),\"o\",\"\"))","v":""},{"$f":"IF(OR(H12=\"o\",I12=\"o\",J12=\"o\",G10=\"o\",G11=\"o\",G13=\"o\",G12=\"x\"),\"x\",IF(OR(G12=\"o\",AND(H12=\"x\",I12=\"x\",J12=\"x\"),AND(G10=\"x\",G11=\"x\",G13=\"x\")),\"o\",\"\"))","v":""},{"$f":"IF(OR(G12=\"o\",I12=\"o\",J12=\"o\",H10=\"o\",H11=\"o\",H13=\"o\",H12=\"x\"),\"x\",IF(OR(H12=\"o\",AND(G12=\"x\",I12=\"x\",J12=\"x\"),AND(H10=\"x\",H11=\"x\",H13=\"x\")),\"o\",\"\"))","v":""},{"$f":"IF(OR(G12=\"o\",H12=\"o\",J12=\"o\",I10=\"o\",I11=\"o\",I13=\"o\",I12=\"x\"),\"x\",IF(OR(I12=\"o\",AND(G12=\"x\",H12=\"x\",J12=\"x\"),AND(I10=\"x\",I11=\"x\",I13=\"x\")),\"o\",\"\"))","v":""},{"$f":"IF(OR(G12=\"o\",H12=\"o\",I12=\"o\",J10=\"o\",J11=\"o\",J13=\"o\",J12=\"x\"),\"x\",IF(OR(J12=\"o\",AND(G12=\"x\",H12=\"x\",I12=\"x\"),AND(J10=\"x\",J11=\"x\",J13=\"x\")),\"o\",\"\"))","v":""}]
[null,19,null,null,null,null,null,null,null,null,null,null,null,null,null,"qui le met 6ème de sa classe.",null,null,null,null,null,null,null,null,null,null,null,null,null,19,{"$f":"IF(OR(D13=\"o\",E13=\"o\",F13=\"o\",C10=\"o\",C11=\"o\",C12=\"o\",C13=\"x\"),\"x\",IF(OR(C13=\"o\",AND(D13=\"x\",E13=\"x\",F13=\"x\"),AND(C10=\"x\",C11=\"x\",C12=\"x\")),\"o\",\"\"))","v":""},{"$f":"IF(OR(C13=\"o\",E13=\"o\",F13=\"o\",D10=\"o\",D11=\"o\",D12=\"o\",D13=\"x\"),\"x\",IF(OR(D13=\"o\",AND(C13=\"x\",E13=\"x\",F13=\"x\"),AND(D10=\"x\",D11=\"x\",D12=\"x\")),\"o\",\"\"))","v":""},{"$f":"IF(OR(C13=\"o\",D13=\"o\",F13=\"o\",E10=\"o\",E11=\"o\",E12=\"o\",E13=\"x\"),\"x\",IF(OR(E13=\"o\",AND(C13=\"x\",D13=\"x\",F13=\"x\"),AND(E10=\"x\",E11=\"x\",E12=\"x\")),\"o\",\"\"))","v":""},{"$f":"IF(OR(C13=\"o\",D13=\"o\",E13=\"o\",F10=\"o\",F11=\"o\",F12=\"o\",F13=\"x\"),\"x\",IF(OR(F13=\"o\",AND(C13=\"x\",D13=\"x\",E13=\"x\"),AND(F10=\"x\",F11=\"x\",F12=\"x\")),\"o\",\"\"))","v":""},{"$f":"IF(OR(H13=\"o\",I13=\"o\",J13=\"o\",G10=\"o\",G11=\"o\",G12=\"o\",G13=\"x\"),\"x\",IF(OR(G13=\"o\",AND(H13=\"x\",I13=\"x\",J13=\"x\"),AND(G10=\"x\",G11=\"x\",G12=\"x\")),\"o\",\"\"))","v":""},{"$f":"IF(OR(G13=\"o\",I13=\"o\",J13=\"o\",H10=\"o\",H11=\"o\",H12=\"o\",H13=\"x\"),\"x\",IF(OR(H13=\"o\",AND(G13=\"x\",I13=\"x\",J13=\"x\"),AND(H10=\"x\",H11=\"x\",H12=\"x\")),\"o\",\"\"))","v":""},{"$f":"IF(OR(G13=\"o\",H13=\"o\",J13=\"o\",I10=\"o\",I11=\"o\",I12=\"o\",I13=\"x\"),\"x\",IF(OR(I13=\"o\",AND(G13=\"x\",H13=\"x\",J13=\"x\"),AND(I10=\"x\",I11=\"x\",I12=\"x\")),\"o\",\"\"))","v":""},{"$f":"IF(OR(G13=\"o\",H13=\"o\",I13=\"o\",J10=\"o\",J11=\"o\",J12=\"o\",J13=\"x\"),\"x\",IF(OR(J13=\"o\",AND(G13=\"x\",H13=\"x\",I13=\"x\"),AND(J10=\"x\",J11=\"x\",J12=\"x\")),\"o\",\"\"))","v":""}]
["Rang","1e",null,null,null,null,null,null,null,null,null,null,null,null,null,null,null,null,null,null,null,null,null,null,null,null,null,null,{"$f":"A14","v":"Rang"},"1e",{"$f":"IF(OR(D14=\"o\",E14=\"o\",F14=\"o\",C15=\"o\",C16=\"o\",C17=\"o\",C14=\"x\"),\"x\",IF(OR(C14=\"o\",AND(D14=\"x\",E14=\"x\",F14=\"x\"),AND(C15=\"x\",C16=\"x\",C17=\"x\")),\"o\",\"\"))","v":""},{"$f":"IF(OR(C14=\"o\",E14=\"o\",F14=\"o\",D15=\"o\",D16=\"o\",D17=\"o\",D14=\"x\"),\"x\",IF(OR(D14=\"o\",AND(C14=\"x\",E14=\"x\",F14=\"x\"),AND(D15=\"x\",D16=\"x\",D17=\"x\")),\"o\",\"\"))","v":""},{"$f":"IF(OR(C14=\"o\",D14=\"o\",F14=\"o\",E15=\"o\",E16=\"o\",E17=\"o\",E14=\"x\"),\"x\",IF(OR(E14=\"o\",AND(C14=\"x\",D14=\"x\",F14=\"x\"),AND(E15=\"x\",E16=\"x\",E17=\"x\")),\"o\",\"\"))","v":""},{"$f":"IF(OR(C14=\"o\",D14=\"o\",E14=\"o\",F15=\"o\",F16=\"o\",F17=\"o\",F14=\"x\"),\"x\",IF(OR(F14=\"o\",AND(C14=\"x\",D14=\"x\",E14=\"x\"),AND(F15=\"x\",F16=\"x\",F17=\"x\")),\"o\",\"\"))","v":""}]
[null,"3e",null,null,null,null,null,{"$f":"IF(AND(C20=Q20,G20=U20,K20=Y20,C21=Q21,G21=U21,K21=Y21,C22=Q22,G22=U22,K22=Y22,C23=Q23,G23=U23,K23=Y23),\"BRAVO !!\",\"\")","v":""},null,null,null,null,null,null,null,null,null,null,null,null,null,null,null,null,null,null,null,null,null,"3e",{"$f":"IF(OR(D15=\"o\",E15=\"o\",F15=\"o\",C14=\"o\",C16=\"o\",C17=\"o\",C15=\"x\"),\"x\",IF(OR(C15=\"o\",AND(D15=\"x\",E15=\"x\",F15=\"x\"),AND(C14=\"x\",C16=\"x\",C17=\"x\")),\"o\",\"\"))","v":""},{"$f":"IF(OR(C15=\"o\",E15=\"o\",F15=\"o\",D14=\"o\",D16=\"o\",D17=\"o\",D15=\"x\"),\"x\",IF(OR(D15=\"o\",AND(C15=\"x\",E15=\"x\",F15=\"x\"),AND(D14=\"x\",D16=\"x\",D17=\"x\")),\"o\",\"\"))","v":""},{"$f":"IF(OR(C15=\"o\",D15=\"o\",F15=\"o\",E14=\"o\",E16=\"o\",E17=\"o\",E15=\"x\"),\"x\",IF(OR(E15=\"o\",AND(C15=\"x\",D15=\"x\",F15=\"x\"),AND(E14=\"x\",E16=\"x\",E17=\"x\")),\"o\",\"\"))","v":""},{"$f":"IF(OR(C15=\"o\",D15=\"o\",E15=\"o\",F14=\"o\",F16=\"o\",F17=\"o\",F15=\"x\"),\"x\",IF(OR(F15=\"o\",AND(C15=\"x\",D15=\"x\",E15=\"x\"),AND(F14=\"x\",F16=\"x\",F17=\"x\")),\"o\",\"\"))","v":""}]
[null,"5e",null,null,null,null,null,null,null,null,null,null,null,null,null,null,null,null,null,null,null,null,null,null,null,null,null,null,null,"5e",{"$f":"IF(OR(D16=\"o\",E16=\"o\",F16=\"o\",C14=\"o\",C15=\"o\",C17=\"o\",C16=\"x\"),\"x\",IF(OR(C16=\"o\",AND(D16=\"x\",E16=\"x\",F16=\"x\"),AND(C14=\"x\",C15=\"x\",C17=\"x\")),\"o\",\"\"))","v":""},{"$f":"IF(OR(C16=\"o\",E16=\"o\",F16=\"o\",D14=\"o\",D15=\"o\",D17=\"o\",D16=\"x\"),\"x\",IF(OR(D16=\"o\",AND(C16=\"x\",E16=\"x\",F16=\"x\"),AND(D14=\"x\",D15=\"x\",D17=\"x\")),\"o\",\"\"))","v":""},{"$f":"IF(OR(C16=\"o\",D16=\"o\",F16=\"o\",E14=\"o\",E15=\"o\",E17=\"o\",E16=\"x\"),\"x\",IF(OR(E16=\"o\",AND(C16=\"x\",D16=\"x\",F16=\"x\"),AND(E14=\"x\",E15=\"x\",E17=\"x\")),\"o\",\"\"))","v":""},{"$f":"IF(OR(C16=\"o\",D16=\"o\",E16=\"o\",F14=\"o\",F15=\"o\",F17=\"o\",F16=\"x\"),\"x\",IF(OR(F16=\"o\",AND(C16=\"x\",D16=\"x\",E16=\"x\"),AND(F14=\"x\",F15=\"x\",F17=\"x\")),\"o\",\"\"))","v":""}]
[null,"6e",null,null,null,null,null,null,null,null,null,null,null,null,null,null,null,null,null,null,null,null,null,null,null,null,null,null,null,"6e",{"$f":"IF(OR(D17=\"o\",E17=\"o\",F17=\"o\",C14=\"o\",C15=\"o\",C16=\"o\",C17=\"x\"),\"x\",IF(OR(C17=\"o\",AND(D17=\"x\",E17=\"x\",F17=\"x\"),AND(C14=\"x\",C15=\"x\",C16=\"x\")),\"o\",\"\"))","v":""},{"$f":"IF(OR(C17=\"o\",E17=\"o\",F17=\"o\",D14=\"o\",D15=\"o\",D16=\"o\",D17=\"x\"),\"x\",IF(OR(D17=\"o\",AND(C17=\"x\",E17=\"x\",F17=\"x\"),AND(D14=\"x\",D15=\"x\",D16=\"x\")),\"o\",\"\"))","v":""},{"$f":"IF(OR(C17=\"o\",D17=\"o\",F17=\"o\",E14=\"o\",E15=\"o\",E16=\"o\",E17=\"x\"),\"x\",IF(OR(E17=\"o\",AND(C17=\"x\",D17=\"x\",F17=\"x\"),AND(E14=\"x\",E15=\"x\",E16=\"x\")),\"o\",\"\"))","v":""},{"$f":"IF(OR(C17=\"o\",D17=\"o\",E17=\"o\",F14=\"o\",F15=\"o\",F16=\"o\",F17=\"x\"),\"x\",IF(OR(F17=\"o\",AND(C17=\"x\",D17=\"x\",E17=\"x\"),AND(F14=\"x\",F15=\"x\",F16=\"x\")),\"o\",\"\"))","v":""}]
[]
[null,"Réponses :",{"$f":"C4","v":"Matière"},null,null,null,{"$f":"G4","v":"Rang"},null,null,null,{"$f":"K4","v":"Moyenne"},null,null,null,null,null,{"$f":"C4","v":"Matière"},null,null,null,{"$f":"G4","v":"Rang"},null,null,null,{"$f":"K4","v":"Moyenne"}]
[null,{"$f":"B6","v":"Philippe"},{"$f":"IF(C6=\"o\",C5,IF(D6=\"o\",D5,IF(E6=\"o\",E5,IF(F6=\"o\",F5,\"\"))))","v":""},null,null,null,{"$f":"IF(G6=\"o\",G5,IF(H6=\"o\",H5,IF(I6=\"o\",I5,IF(J6=\"o\",J5,\"\"))))","v":""},null,null,null,{"$f":"IF(K6=\"o\",K5,IF(L6=\"o\",L5,IF(M6=\"o\",M5,IF(N6=\"o\",N5,\"\"))))","v":""},null,null,null,null,{"$f":"B6","v":"Philippe"},"EPS",null,null,null,"6e",null,null,null,14]
[null,{"$f":"B7","v":"Viviane"},{"$f":"IF(C7=\"o\",C5,IF(D7=\"o\",D5,IF(E7=\"o\",E5,IF(F7=\"o\",F5,\"\"))))","v":""},null,null,null,{"$f":"IF(G7=\"o\",G5,IF(H7=\"o\",H5,IF(I7=\"o\",I5,IF(J7=\"o\",J5,\"\"))))","v":""},null,null,null,{"$f":"IF(K7=\"o\",K5,IF(L7=\"o\",L5,IF(M7=\"o\",M5,IF(N7=\"o\",N5,\"\"))))","v":""},null,null,null,null,{"$f":"B7","v":"Viviane"},"Maths",null,null,null,"3e",null,null,null,17]
[null,{"$f":"B8","v":"Mathilde"},{"$f":"IF(C8=\"o\",C5,IF(D8=\"o\",D5,IF(E8=\"o\",E5,IF(F8=\"o\",F5,\"\"))))","v":""},null,null,null,{"$f":"IF(G8=\"o\",G5,IF(H8=\"o\",H5,IF(I8=\"o\",I5,IF(J8=\"o\",J5,\"\"))))","v":""},null,null,null,{"$f":"IF(K8=\"o\",K5,IF(L8=\"o\",L5,IF(M8=\"o\",M5,IF(N8=\"o\",N5,\"\"))))","v":""},null,null,null,null,{"$f":"B8","v":"Mathilde"},"Français",null,null,null,"5e",null,null,null,19]
[null,{"$f":"B9","v":"Anne"},{"$f":"IF(C9=\"o\",C5,IF(D9=\"o\",D5,IF(E9=\"o\",E5,IF(F9=\"o\",F5,\"\"))))","v":""},null,null,null,{"$f":"IF(G9=\"o\",G5,IF(H9=\"o\",H5,IF(I9=\"o\",I5,IF(J9=\"o\",J5,\"\"))))","v":""},null,null,null,{"$f":"IF(K9=\"o\",K5,IF(L9=\"o\",L5,IF(M9=\"o\",M5,IF(N9=\"o\",N5,\"\"))))","v":""},null,null,null,null,{"$f":"B9","v":"Anne"},"Physique",null,null,null,"1e",null,null,null,15]
[]
[]
["XII°/ Compétition de natation :"]
[{"$f":"INDIRECT(\"'Calculs 4 indices'!B\"&A30)","v":""},null,null,null,null,null,null,null,null,null,null,null,null,{"$f":"INDIRECT(\"'Calculs 4 indices'!M\"&(A30+16))","v":""}]
[{"$f":"INDIRECT(\"'Calculs 4 indices'!B\"&(A30+26))","v":""},null,null,null,null,null,null,null,null,null,null,null,null,{"$f":"INDIRECT(\"'Calculs 4 indices'!M\"&(A30+17))","v":""}]
[null,null,"Classement",null,null,null,{"$f":"A39","v":"Temps"},null,null,null,{"$f":"A35","v":"Nage"},null,null,null,null,null,null,null,null,null,null,null,null,null,null,null,null,null,null,null,{"$f":"C29","v":"Classement"},null,null,null,{"$f":"G29","v":"Temps"},null,null,null,{"$f":"K29","v":"Nage"}]
[{"$f":"A5+52","v":53},null,"1e","2e","3e","4e",{"$f":"B39","v":"1min04"},{"$f":"B40","v":"1min08"},{"$f":"B41","v":"1min10"},{"$f":"B42","v":"1min15"},{"$f":"B35","v":"papillon"},{"$f":"B36","v":"dos"},{"$f":"B37","v":"brasse"},{"$f":"B38","v":"crawl"},null,"Paul, Pierre, François, Fabien ont participé a une compétition de natation mais impossible de se rappeler exactement ce qu'ils ont nagé ni le temps qu'ils ont réalisé.",null,null,null,null,null,null,null,null,null,null,null,null,null,null,{"$f":"C30","v":"1e"},{"$f":"D30","v":"2e"},{"$f":"E30","v":"3e"},{"$f":"F30","v":"4e"},{"$f":"G30","v":"1min04"},{"$f":"H30","v":"1min08"},{"$f":"I30","v":"1min10"},{"$f":"J30","v":"1min15"},{"$f":"K30","v":"papillon"},{"$f":"L30","v":"dos"},{"$f":"M30","v":"brasse"},{"$f":"N30","v":"crawl"}]
["Nageurs","Paul",null,null,null,null,null,null,null,null,null,null,null,null,null,"1°/ Paul est arrivé 4e de sa course et il n'a été ni le plus",null,null,null,null,null,null,null,null,null,null,null,null,{"$f":"A31","v":"Nageurs"},{"$f":"B31","v":"Paul"},{"$f":"IF(OR(D31=\"o\",E31=\"o\",F31=\"o\",C32=\"o\",C33=\"o\",C34=\"o\",C31=\"x\"),\"x\",IF(OR(C31=\"o\",AND(D31=\"x\",E31=\"x\",F31=\"x\"),AND(C32=\"x\",C33=\"x\",C34=\"x\")),\"o\",\"\"))","v":""},{"$f":"IF(OR(C31=\"o\",E31=\"o\",F31=\"o\",D32=\"o\",D33=\"o\",D34=\"o\",D31=\"x\"),\"x\",IF(OR(D31=\"o\",AND(C31=\"x\",E31=\"x\",F31=\"x\"),AND(D32=\"x\",D33=\"x\",D34=\"x\")),\"o\",\"\"))","v":""},{"$f":"IF(OR(C31=\"o\",D31=\"o\",F31=\"o\",E32=\"o\",E33=\"o\",E34=\"o\",E31=\"x\"),\"x\",IF(OR(E31=\"o\",AND(C31=\"x\",D31=\"x\",F31=\"x\"),AND(E32=\"x\",E33=\"x\",E34=\"x\")),\"o\",\"\"))","v":""},{"$f":"IF(OR(C31=\"o\",D31=\"o\",E31=\"o\",F32=\"o\",F33=\"o\",F34=\"o\",F31=\"x\"),\"x\",IF(OR(F31=\"o\",AND(C31=\"x\",D31=\"x\",E31=\"x\"),AND(F32=\"x\",F33=\"x\",F34=\"x\")),\"o\",\"\"))","v":""},{"$f":"IF(OR(H31=\"o\",I31=\"o\",J31=\"o\",G32=\"o\",G33=\"o\",G34=\"o\",G31=\"x\"),\"x\",IF(OR(G31=\"o\",AND(H31=\"x\",I31=\"x\",J31=\"x\"),AND(G32=\"x\",G33=\"x\",G34=\"x\")),\"o\",\"\"))","v":""},{"$f":"IF(OR(G31=\"o\",I31=\"o\",J31=\"o\",H32=\"o\",H33=\"o\",H34=\"o\",H31=\"x\"),\"x\",IF(OR(H31=\"o\",AND(G31=\"x\",I31=\"x\",J31=\"x\"),AND(H32=\"x\",H33=\"x\",H34=\"x\")),\"o\",\"\"))","v":""},{"$f":"IF(OR(G31=\"o\",H31=\"o\",J31=\"o\",I32=\"o\",I33=\"o\",I34=\"o\",I31=\"x\"),\"x\",IF(OR(I31=\"o\",AND(G31=\"x\",H31=\"x\",J31=\"x\"),AND(I32=\"x\",I33=\"x\",I34=\"x\")),\"o\",\"\"))","v":""},{"$f":"IF(OR(G31=\"o\",H31=\"o\",I31=\"o\",J32=\"o\",J33=\"o\",J34=\"o\",J31=\"x\"),\"x\",IF(OR(J31=\"o\",AND(G31=\"x\",H31=\"x\",I31=\"x\"),AND(J32=\"x\",J33=\"x\",J34=\"x\")),\"o\",\"\"))","v":""},{"$f":"IF(OR(L31=\"o\",M31=\"o\",N31=\"o\",K32=\"o\",K33=\"o\",K34=\"o\",K31=\"x\"),\"x\",IF(OR(K31=\"o\",AND(L31=\"x\",M31=\"x\",N31=\"x\"),AND(K32=\"x\",K33=\"x\",K34=\"x\")),\"o\",\"\"))","v":""},{"$f":"IF(OR(K31=\"o\",M31=\"o\",N31=\"o\",L32=\"o\",L33=\"o\",L34=\"o\",L31=\"x\"),\"x\",IF(OR(L31=\"o\",AND(K31=\"x\",M31=\"x\",N31=\"x\"),AND(L32=\"x\",L33=\"x\",L34=\"x\")),\"o\",\"\"))","v":""},{"$f":"IF(OR(K31=\"o\",L31=\"o\",N31=\"o\",M32=\"o\",M33=\"o\",M34=\"o\",M31=\"x\"),\"x\",IF(OR(M31=\"o\",AND(K31=\"x\",L31=\"x\",N31=\"x\"),AND(M32=\"x\",M33=\"x\",M34=\"x\")),\"o\",\"\"))","v":""},{"$f":"IF(OR(K31=\"o\",L31=\"o\",M31=\"o\",N32=\"o\",N33=\"o\",N34=\"o\",N31=\"x\"),\"x\",IF(OR(N31=\"o\",AND(K31=\"x\",L31=\"x\",M31=\"x\"),AND(N32=\"x\",N33=\"x\",N34=\"x\")),\"o\",\"\"))","v":""}]
[null,"Pierre",null,null,null,null,null,null,null,null,null,null,null,null,null,"rapide,ni le plus lent.",null,null,null,null,null,null,null,null,null,null,null,null,null,{"$f":"B32","v":"Pierre"},{"$f":"IF(OR(D32=\"o\",E32=\"o\",F32=\"o\",C31=\"o\",C33=\"o\",C34=\"o\",C32=\"x\"),\"x\",IF(OR(C32=\"o\",AND(D32=\"x\",E32=\"x\",F32=\"x\"),AND(C31=\"x\",C33=\"x\",C34=\"x\")),\"o\",\"\"))","v":""},{"$f":"IF(OR(C32=\"o\",E32=\"o\",F32=\"o\",D31=\"o\",D33=\"o\",D34=\"o\",D32=\"x\"),\"x\",IF(OR(D32=\"o\",AND(C32=\"x\",E32=\"x\",F32=\"x\"),AND(D31=\"x\",D33=\"x\",D34=\"x\")),\"o\",\"\"))","v":""},{"$f":"IF(OR(C32=\"o\",D32=\"o\",F32=\"o\",E31=\"o\",E33=\"o\",E34=\"o\",E32=\"x\"),\"x\",IF(OR(E32=\"o\",AND(C32=\"x\",D32=\"x\",F32=\"x\"),AND(E31=\"x\",E33=\"x\",E34=\"x\")),\"o\",\"\"))","v":""},{"$f":"IF(OR(C32=\"o\",D32=\"o\",E32=\"o\",F31=\"o\",F33=\"o\",F34=\"o\",F32=\"x\"),\"x\",IF(OR(F32=\"o\",AND(C32=\"x\",D32=\"x\",E32=\"x\"),AND(F31=\"x\",F33=\"x\",F34=\"x\")),\"o\",\"\"))","v":""},{"$f":"IF(OR(H32=\"o\",I32=\"o\",J32=\"o\",G31=\"o\",G33=\"o\",G34=\"o\",G32=\"x\"),\"x\",IF(OR(G32=\"o\",AND(H32=\"x\",I32=\"x\",J32=\"x\"),AND(G31=\"x\",G33=\"x\",G34=\"x\")),\"o\",\"\"))","v":""},{"$f":"IF(OR(G32=\"o\",I32=\"o\",J32=\"o\",H31=\"o\",H33=\"o\",H34=\"o\",H32=\"x\"),\"x\",IF(OR(H32=\"o\",AND(G32=\"x\",I32=\"x\",J32=\"x\"),AND(H31=\"x\",H33=\"x\",H34=\"x\")),\"o\",\"\"))","v":""},{"$f":"IF(OR(G32=\"o\",H32=\"o\",J32=\"o\",I31=\"o\",I33=\"o\",I34=\"o\",I32=\"x\"),\"x\",IF(OR(I32=\"o\",AND(G32=\"x\",H32=\"x\",J32=\"x\"),AND(I31=\"x\",I33=\"x\",I34=\"x\")),\"o\",\"\"))","v":""},{"$f":"IF(OR(G32=\"o\",H32=\"o\",I32=\"o\",J31=\"o\",J33=\"o\",J34=\"o\",J32=\"x\"),\"x\",IF(OR(J32=\"o\",AND(G32=\"x\",H32=\"x\",I32=\"x\"),AND(J31=\"x\",J33=\"x\",J34=\"x\")),\"o\",\"\"))","v":""},{"$f":"IF(OR(L32=\"o\",M32=\"o\",N32=\"o\",K31=\"o\",K33=\"o\",K34=\"o\",K32=\"x\"),\"x\",IF(OR(K32=\"o\",AND(L32=\"x\",M32=\"x\",N32=\"x\"),AND(K31=\"x\",K33=\"x\",K34=\"x\")),\"o\",\"\"))","v":""},{"$f":"IF(OR(K32=\"o\",M32=\"o\",N32=\"o\",L31=\"o\",L33=\"o\",L34=\"o\",L32=\"x\"),\"x\",IF(OR(L32=\"o\",AND(K32=\"x\",M32=\"x\",N32=\"x\"),AND(L31=\"x\",L33=\"x\",L34=\"x\")),\"o\",\"\"))","v":""},{"$f":"IF(OR(K32=\"o\",L32=\"o\",N32=\"o\",M31=\"o\",M33=\"o\",M34=\"o\",M32=\"x\"),\"x\",IF(OR(M32=\"o\",AND(K32=\"x\",L32=\"x\",N32=\"x\"),AND(M31=\"x\",M33=\"x\",M34=\"x\")),\"o\",\"\"))","v":""},{"$f":"IF(OR(K32=\"o\",L32=\"o\",M32=\"o\",N31=\"o\",N33=\"o\",N34=\"o\",N32=\"x\"),\"x\",IF(OR(N32=\"o\",AND(K32=\"x\",L32=\"x\",M32=\"x\"),AND(N31=\"x\",N33=\"x\",N34=\"x\")),\"o\",\"\"))","v":""}]
[null,"François",null,null,null,null,null,null,null,null,null,null,null,null,null,"2°/François qui n'est pas arrivé dans les deux premiers, a",null,null,null,null,null,null,null,null,null,null,null,null,null,"François",{"$f":"IF(OR(D33=\"o\",E33=\"o\",F33=\"o\",C31=\"o\",C32=\"o\",C34=\"o\",C33=\"x\"),\"x\",IF(OR(C33=\"o\",AND(D33=\"x\",E33=\"x\",F33=\"x\"),AND(C31=\"x\",C32=\"x\",C34=\"x\")),\"o\",\"\"))","v":""},{"$f":"IF(OR(C33=\"o\",E33=\"o\",F33=\"o\",D31=\"o\",D32=\"o\",D34=\"o\",D33=\"x\"),\"x\",IF(OR(D33=\"o\",AND(C33=\"x\",E33=\"x\",F33=\"x\"),AND(D31=\"x\",D32=\"x\",D34=\"x\")),\"o\",\"\"))","v":""},{"$f":"IF(OR(C33=\"o\",D33=\"o\",F33=\"o\",E31=\"o\",E32=\"o\",E34=\"o\",E33=\"x\"),\"x\",IF(OR(E33=\"o\",AND(C33=\"x\",D33=\"x\",F33=\"x\"),AND(E31=\"x\",E32=\"x\",E34=\"x\")),\"o\",\"\"))","v":""},{"$f":"IF(OR(C33=\"o\",D33=\"o\",E33=\"o\",F31=\"o\",F32=\"o\",F34=\"o\",F33=\"x\"),\"x\",IF(OR(F33=\"o\",AND(C33=\"x\",D33=\"x\",E33=\"x\"),AND(F31=\"x\",F32=\"x\",F34=\"x\")),\"o\",\"\"))","v":""},{"$f":"IF(OR(H33=\"o\",I33=\"o\",J33=\"o\",G31=\"o\",G32=\"o\",G34=\"o\",G33=\"x\"),\"x\",IF(OR(G33=\"o\",AND(H33=\"x\",I33=\"x\",J33=\"x\"),AND(G31=\"x\",G32=\"x\",G34=\"x\")),\"o\",\"\"))","v":""},{"$f":"IF(OR(G33=\"o\",I33=\"o\",J33=\"o\",H31=\"o\",H32=\"o\",H34=\"o\",H33=\"x\"),\"x\",IF(OR(H33=\"o\",AND(G33=\"x\",I33=\"x\",J33=\"x\"),AND(H31=\"x\",H32=\"x\",H34=\"x\")),\"o\",\"\"))","v":""},{"$f":"IF(OR(G33=\"o\",H33=\"o\",J33=\"o\",I31=\"o\",I32=\"o\",I34=\"o\",I33=\"x\"),\"x\",IF(OR(I33=\"o\",AND(G33=\"x\",H33=\"x\",J33=\"x\"),AND(I31=\"x\",I32=\"x\",I34=\"x\")),\"o\",\"\"))","v":""},{"$f":"IF(OR(G33=\"o\",H33=\"o\",I33=\"o\",J31=\"o\",J32=\"o\",J34=\"o\",J33=\"x\"),\"x\",IF(OR(J33=\"o\",AND(G33=\"x\",H33=\"x\",I33=\"x\"),AND(J31=\"x\",J32=\"x\",J34=\"x\")),\"o\",\"\"))","v":""},{"$f":"IF(OR(L33=\"o\",M33=\"o\",N33=\"o\",K31=\"o\",K32=\"o\",K34=\"o\",K33=\"x\"),\"x\",IF(OR(K33=\"o\",AND(L33=\"x\",M33=\"x\",N33=\"x\"),AND(K31=\"x\",K32=\"x\",K34=\"x\")),\"o\",\"\"))","v":""},{"$f":"IF(OR(K33=\"o\",M33=\"o\",N33=\"o\",L31=\"o\",L32=\"o\",L34=\"o\",L33=\"x\"),\"x\",IF(OR(L33=\"o\",AND(K33=\"x\",M33=\"x\",N33=\"x\"),AND(L31=\"x\",L32=\"x\",L34=\"x\")),\"o\",\"\"))","v":""},{"$f":"IF(OR(K33=\"o\",L33=\"o\",N33=\"o\",M31=\"o\",M32=\"o\",M34=\"o\",M33=\"x\"),\"x\",IF(OR(M33=\"o\",AND(K33=\"x\",L33=\"x\",N33=\"x\"),AND(M31=\"x\",M32=\"x\",M34=\"x\")),\"o\",\"\"))","v":""},{"$f":"IF(OR(K33=\"o\",L33=\"o\",M33=\"o\",N31=\"o\",N32=\"o\",N34=\"o\",N33=\"x\"),\"x\",IF(OR(N33=\"o\",AND(K33=\"x\",L33=\"x\",M33=\"x\"),AND(N31=\"x\",N32=\"x\",N34=\"x\")),\"o\",\"\"))","v":""}]
[null,"Fabien",null,null,null,null,null,null,null,null,null,null,null,null,null,"nagé plus de 1:08 au 100 mètre papillon.",null,null,null,null,null,null,null,null,null,null,null,null,null,"Fabien",{"$f":"IF(OR(D34=\"o\",E34=\"o\",F34=\"o\",C31=\"o\",C32=\"o\",C33=\"o\",C34=\"x\"),\"x\",IF(OR(C34=\"o\",AND(D34=\"x\",E34=\"x\",F34=\"x\"),AND(C31=\"x\",C32=\"x\",C33=\"x\")),\"o\",\"\"))","v":""},{"$f":"IF(OR(C34=\"o\",E34=\"o\",F34=\"o\",D31=\"o\",D32=\"o\",D33=\"o\",D34=\"x\"),\"x\",IF(OR(D34=\"o\",AND(C34=\"x\",E34=\"x\",F34=\"x\"),AND(D31=\"x\",D32=\"x\",D33=\"x\")),\"o\",\"\"))","v":""},{"$f":"IF(OR(C34=\"o\",D34=\"o\",F34=\"o\",E31=\"o\",E32=\"o\",E33=\"o\",E34=\"x\"),\"x\",IF(OR(E34=\"o\",AND(C34=\"x\",D34=\"x\",F34=\"x\"),AND(E31=\"x\",E32=\"x\",E33=\"x\")),\"o\",\"\"))","v":""},{"$f":"IF(OR(C34=\"o\",D34=\"o\",E34=\"o\",F31=\"o\",F32=\"o\",F33=\"o\",F34=\"x\"),\"x\",IF(OR(F34=\"o\",AND(C34=\"x\",D34=\"x\",E34=\"x\"),AND(F31=\"x\",F32=\"x\",F33=\"x\")),\"o\",\"\"))","v":""},{"$f":"IF(OR(H34=\"o\",I34=\"o\",J34=\"o\",G31=\"o\",G32=\"o\",G33=\"o\",G34=\"x\"),\"x\",IF(OR(G34=\"o\",AND(H34=\"x\",I34=\"x\",J34=\"x\"),AND(G31=\"x\",G32=\"x\",G33=\"x\")),\"o\",\"\"))","v":""},{"$f":"IF(OR(G34=\"o\",I34=\"o\",J34=\"o\",H31=\"o\",H32=\"o\",H33=\"o\",H34=\"x\"),\"x\",IF(OR(H34=\"o\",AND(G34=\"x\",I34=\"x\",J34=\"x\"),AND(H31=\"x\",H32=\"x\",H33=\"x\")),\"o\",\"\"))","v":""},{"$f":"IF(OR(G34=\"o\",H34=\"o\",J34=\"o\",I31=\"o\",I32=\"o\",I33=\"o\",I34=\"x\"),\"x\",IF(OR(I34=\"o\",AND(G34=\"x\",H34=\"x\",J34=\"x\"),AND(I31=\"x\",I32=\"x\",I33=\"x\")),\"o\",\"\"))","v":""},{"$f":"IF(OR(G34=\"o\",H34=\"o\",I34=\"o\",J31=\"o\",J32=\"o\",J33=\"o\",J34=\"x\"),\"x\",IF(OR(J34=\"o\",AND(G34=\"x\",H34=\"x\",I34=\"x\"),AND(J31=\"x\",J32=\"x\",J33=\"x\")),\"o\",\"\"))","v":""},{"$f":"IF(OR(L34=\"o\",M34=\"o\",N34=\"o\",K31=\"o\",K32=\"o\",K33=\"o\",K34=\"x\"),\"x\",IF(OR(K34=\"o\",AND(L34=\"x\",M34=\"x\",N34=\"x\"),AND(K31=\"x\",K32=\"x\",K33=\"x\")),\"o\",\"\"))","v":""},{"$f":"IF(OR(K34=\"o\",M34=\"o\",N34=\"o\",L31=\"o\",L32=\"o\",L33=\"o\",L34=\"x\"),\"x\",IF(OR(L34=\"o\",AND(K34=\"x\",M34=\"x\",N34=\"x\"),AND(L31=\"x\",L32=\"x\",L33=\"x\")),\"o\",\"\"))","v":""},{"$f":"IF(OR(K34=\"o\",L34=\"o\",N34=\"o\",M31=\"o\",M32=\"o\",M33=\"o\",M34=\"x\"),\"x\",IF(OR(M34=\"o\",AND(K34=\"x\",L34=\"x\",N34=\"x\"),AND(M31=\"x\",M32=\"x\",M33=\"x\")),\"o\",\"\"))","v":""},{"$f":"IF(OR(K34=\"o\",L34=\"o\",M34=\"o\",N31=\"o\",N32=\"o\",N33=\"o\",N34=\"x\"),\"x\",IF(OR(N34=\"o\",AND(K34=\"x\",L34=\"x\",M34=\"x\"),AND(N31=\"x\",N32=\"x\",N33=\"x\")),\"o\",\"\"))","v":""}]
["Nage","papillon",null,null,null,null,null,null,null,null,null,null,null,null,null,"3°/ Celui qui a nagé le 100 mètre crawl est arrivé premier",null,null,null,null,null,null,null,null,null,null,null,null,{"$f":"A35","v":"Nage"},"papillon",{"$f":"IF(OR(D35=\"o\",E35=\"o\",F35=\"o\",C36=\"o\",C37=\"o\",C38=\"o\",C35=\"x\"),\"x\",IF(OR(C35=\"o\",AND(D35=\"x\",E35=\"x\",F35=\"x\"),AND(C36=\"x\",C37=\"x\",C38=\"x\")),\"o\",\"\"))","v":""},{"$f":"IF(OR(C35=\"o\",E35=\"o\",F35=\"o\",D36=\"o\",D37=\"o\",D38=\"o\",D35=\"x\"),\"x\",IF(OR(D35=\"o\",AND(C35=\"x\",E35=\"x\",F35=\"x\"),AND(D36=\"x\",D37=\"x\",D38=\"x\")),\"o\",\"\"))","v":""},{"$f":"IF(OR(C35=\"o\",D35=\"o\",F35=\"o\",E36=\"o\",E37=\"o\",E38=\"o\",E35=\"x\"),\"x\",IF(OR(E35=\"o\",AND(C35=\"x\",D35=\"x\",F35=\"x\"),AND(E36=\"x\",E37=\"x\",E38=\"x\")),\"o\",\"\"))","v":""},{"$f":"IF(OR(C35=\"o\",D35=\"o\",E35=\"o\",F36=\"o\",F37=\"o\",F38=\"o\",F35=\"x\"),\"x\",IF(OR(F35=\"o\",AND(C35=\"x\",D35=\"x\",E35=\"x\"),AND(F36=\"x\",F37=\"x\",F38=\"x\")),\"o\",\"\"))","v":""},{"$f":"IF(OR(H35=\"o\",I35=\"o\",J35=\"o\",G36=\"o\",G37=\"o\",G38=\"o\",G35=\"x\"),\"x\",IF(OR(G35=\"o\",AND(H35=\"x\",I35=\"x\",J35=\"x\"),AND(G36=\"x\",G37=\"x\",G38=\"x\")),\"o\",\"\"))","v":""},{"$f":"IF(OR(G35=\"o\",I35=\"o\",J35=\"o\",H36=\"o\",H37=\"o\",H38=\"o\",H35=\"x\"),\"x\",IF(OR(H35=\"o\",AND(G35=\"x\",I35=\"x\",J35=\"x\"),AND(H36=\"x\",H37=\"x\",H38=\"x\")),\"o\",\"\"))","v":""},{"$f":"IF(OR(G35=\"o\",H35=\"o\",J35=\"o\",I36=\"o\",I37=\"o\",I38=\"o\",I35=\"x\"),\"x\",IF(OR(I35=\"o\",AND(G35=\"x\",H35=\"x\",J35=\"x\"),AND(I36=\"x\",I37=\"x\",I38=\"x\")),\"o\",\"\"))","v":""},{"$f":"IF(OR(G35=\"o\",H35=\"o\",I35=\"o\",J36=\"o\",J37=\"o\",J38=\"o\",J35=\"x\"),\"x\",IF(OR(J35=\"o\",AND(G35=\"x\",H35=\"x\",I35=\"x\"),AND(J36=\"x\",J37=\"x\",J38=\"x\")),\"o\",\"\"))","v":""}]
[null,"dos",null,null,null,null,null,null,null,null,null,null,null,null,null,"mais pas dans le meilleur temps.",null,null,null,null,null,null,null,null,null,null,null,null,null,"dos",{"$f":"IF(OR(D36=\"o\",E36=\"o\",F36=\"o\",C35=\"o\",C37=\"o\",C38=\"o\",C36=\"x\"),\"x\",IF(OR(C36=\"o\",AND(D36=\"x\",E36=\"x\",F36=\"x\"),AND(C35=\"x\",C37=\"x\",C38=\"x\")),\"o\",\"\"))","v":""},{"$f":"IF(OR(C36=\"o\",E36=\"o\",F36=\"o\",D35=\"o\",D37=\"o\",D38=\"o\",D36=\"x\"),\"x\",IF(OR(D36=\"o\",AND(C36=\"x\",E36=\"x\",F36=\"x\"),AND(D35=\"x\",D37=\"x\",D38=\"x\")),\"o\",\"\"))","v":""},{"$f":"IF(OR(C36=\"o\",D36=\"o\",F36=\"o\",E35=\"o\",E37=\"o\",E38=\"o\",E36=\"x\"),\"x\",IF(OR(E36=\"o\",AND(C36=\"x\",D36=\"x\",F36=\"x\"),AND(E35=\"x\",E37=\"x\",E38=\"x\")),\"o\",\"\"))","v":""},{"$f":"IF(OR(C36=\"o\",D36=\"o\",E36=\"o\",F35=\"o\",F37=\"o\",F38=\"o\",F36=\"x\"),\"x\",IF(OR(F36=\"o\",AND(C36=\"x\",D36=\"x\",E36=\"x\"),AND(F35=\"x\",F37=\"x\",F38=\"x\")),\"o\",\"\"))","v":""},{"$f":"IF(OR(H36=\"o\",I36=\"o\",J36=\"o\",G35=\"o\",G37=\"o\",G38=\"o\",G36=\"x\"),\"x\",IF(OR(G36=\"o\",AND(H36=\"x\",I36=\"x\",J36=\"x\"),AND(G35=\"x\",G37=\"x\",G38=\"x\")),\"o\",\"\"))","v":""},{"$f":"IF(OR(G36=\"o\",I36=\"o\",J36=\"o\",H35=\"o\",H37=\"o\",H38=\"o\",H36=\"x\"),\"x\",IF(OR(H36=\"o\",AND(G36=\"x\",I36=\"x\",J36=\"x\"),AND(H35=\"x\",H37=\"x\",H38=\"x\")),\"o\",\"\"))","v":""},{"$f":"IF(OR(G36=\"o\",H36=\"o\",J36=\"o\",I35=\"o\",I37=\"o\",I38=\"o\",I36=\"x\"),\"x\",IF(OR(I36=\"o\",AND(G36=\"x\",H36=\"x\",J36=\"x\"),AND(I35=\"x\",I37=\"x\",I38=\"x\")),\"o\",\"\"))","v":""},{"$f":"IF(OR(G36=\"o\",H36=\"o\",I36=\"o\",J35=\"o\",J37=\"o\",J38=\"o\",J36=\"x\"),\"x\",IF(OR(J36=\"o\",AND(G36=\"x\",H36=\"x\",I36=\"x\"),AND(J35=\"x\",J37=\"x\",J38=\"x\")),\"o\",\"\"))","v":""}]
[null,"brasse",null,null,null,null,null,null,null,null,null,null,null,null,null,"4°/ Le 100 mètre dos a été nagé en 01:10",null,null,null,null,null,null,null,null,null,null,null,null,null,"brasse",{"$f":"IF(OR(D37=\"o\",E37=\"o\",F37=\"o\",C35=\"o\",C36=\"o\",C38=\"o\",C37=\"x\"),\"x\",IF(OR(C37=\"o\",AND(D37=\"x\",E37=\"x\",F37=\"x\"),AND(C35=\"x\",C36=\"x\",C38=\"x\")),\"o\",\"\"))","v":""},{"$f":"IF(OR(C37=\"o\",E37=\"o\",F37=\"o\",D35=\"o\",D36=\"o\",D38=\"o\",D37=\"x\"),\"x\",IF(OR(D37=\"o\",AND(C37=\"x\",E37=\"x\",F37=\"x\"),AND(D35=\"x\",D36=\"x\",D38=\"x\")),\"o\",\"\"))","v":""},{"$f":"IF(OR(C37=\"o\",D37=\"o\",F37=\"o\",E35=\"o\",E36=\"o\",E38=\"o\",E37=\"x\"),\"x\",IF(OR(E37=\"o\",AND(C37=\"x\",D37=\"x\",F37=\"x\"),AND(E35=\"x\",E36=\"x\",E38=\"x\")),\"o\",\"\"))","v":""},{"$f":"IF(OR(C37=\"o\",D37=\"o\",E37=\"o\",F35=\"o\",F36=\"o\",F38=\"o\",F37=\"x\"),\"x\",IF(OR(F37=\"o\",AND(C37=\"x\",D37=\"x\",E37=\"x\"),AND(F35=\"x\",F36=\"x\",F38=\"x\")),\"o\",\"\"))","v":""},{"$f":"IF(OR(H37=\"o\",I37=\"o\",J37=\"o\",G35=\"o\",G36=\"o\",G38=\"o\",G37=\"x\"),\"x\",IF(OR(G37=\"o\",AND(H37=\"x\",I37=\"x\",J37=\"x\"),AND(G35=\"x\",G36=\"x\",G38=\"x\")),\"o\",\"\"))","v":""},{"$f":"IF(OR(G37=\"o\",I37=\"o\",J37=\"o\",H35=\"o\",H36=\"o\",H38=\"o\",H37=\"x\"),\"x\",IF(OR(H37=\"o\",AND(G37=\"x\",I37=\"x\",J37=\"x\"),AND(H35=\"x\",H36=\"x\",H38=\"x\")),\"o\",\"\"))","v":""},{"$f":"IF(OR(G37=\"o\",H37=\"o\",J37=\"o\",I35=\"o\",I36=\"o\",I38=\"o\",I37=\"x\"),\"x\",IF(OR(I37=\"o\",AND(G37=\"x\",H37=\"x\",J37=\"x\"),AND(I35=\"x\",I36=\"x\",I38=\"x\")),\"o\",\"\"))","v":""},{"$f":"IF(OR(G37=\"o\",H37=\"o\",I37=\"o\",J35=\"o\",J36=\"o\",J38=\"o\",J37=\"x\"),\"x\",IF(OR(J37=\"o\",AND(G37=\"x\",H37=\"x\",I37=\"x\"),AND(J35=\"x\",J36=\"x\",J38=\"x\")),\"o\",\"\"))","v":""}]
[null,"crawl",null,null,null,null,null,null,null,null,null,null,null,null,null,"5°/Fabien n'est pas arrivé 2e",null,null,null,null,null,null,null,null,null,null,null,null,null,"crawl",{"$f":"IF(OR(D38=\"o\",E38=\"o\",F38=\"o\",C35=\"o\",C36=\"o\",C37=\"o\",C38=\"x\"),\"x\",IF(OR(C38=\"o\",AND(D38=\"x\",E38=\"x\",F38=\"x\"),AND(C35=\"x\",C36=\"x\",C37=\"x\")),\"o\",\"\"))","v":""},{"$f":"IF(OR(C38=\"o\",E38=\"o\",F38=\"o\",D35=\"o\",D36=\"o\",D37=\"o\",D38=\"x\"),\"x\",IF(OR(D38=\"o\",AND(C38=\"x\",E38=\"x\",F38=\"x\"),AND(D35=\"x\",D36=\"x\",D37=\"x\")),\"o\",\"\"))","v":""},{"$f":"IF(OR(C38=\"o\",D38=\"o\",F38=\"o\",E35=\"o\",E36=\"o\",E37=\"o\",E38=\"x\"),\"x\",IF(OR(E38=\"o\",AND(C38=\"x\",D38=\"x\",F38=\"x\"),AND(E35=\"x\",E36=\"x\",E37=\"x\")),\"o\",\"\"))","v":""},{"$f":"IF(OR(C38=\"o\",D38=\"o\",E38=\"o\",F35=\"o\",F36=\"o\",F37=\"o\",F38=\"x\"),\"x\",IF(OR(F38=\"o\",AND(C38=\"x\",D38=\"x\",E38=\"x\"),AND(F35=\"x\",F36=\"x\",F37=\"x\")),\"o\",\"\"))","v":""},{"$f":"IF(OR(H38=\"o\",I38=\"o\",J38=\"o\",G35=\"o\",G36=\"o\",G37=\"o\",G38=\"x\"),\"x\",IF(OR(G38=\"o\",AND(H38=\"x\",I38=\"x\",J38=\"x\"),AND(G35=\"x\",G36=\"x\",G37=\"x\")),\"o\",\"\"))","v":""},{"$f":"IF(OR(G38=\"o\",I38=\"o\",J38=\"o\",H35=\"o\",H36=\"o\",H37=\"o\",H38=\"x\"),\"x\",IF(OR(H38=\"o\",AND(G38=\"x\",I38=\"x\",J38=\"x\"),AND(H35=\"x\",H36=\"x\",H37=\"x\")),\"o\",\"\"))","v":""},{"$f":"IF(OR(G38=\"o\",H38=\"o\",J38=\"o\",I35=\"o\",I36=\"o\",I37=\"o\",I38=\"x\"),\"x\",IF(OR(I38=\"o\",AND(G38=\"x\",H38=\"x\",J38=\"x\"),AND(I35=\"x\",I36=\"x\",I37=\"x\")),\"o\",\"\"))","v":""},{"$f":"IF(OR(G38=\"o\",H38=\"o\",I38=\"o\",J35=\"o\",J36=\"o\",J37=\"o\",J38=\"x\"),\"x\",IF(OR(J38=\"o\",AND(G38=\"x\",H38=\"x\",I38=\"x\"),AND(J35=\"x\",J36=\"x\",J37=\"x\")),\"o\",\"\"))","v":""}]
["Temps","1min04",null,null,null,null,null,null,null,null,null,null,null,null,null,null,null,null,null,null,null,null,null,null,null,null,null,null,{"$f":"A39","v":"Temps"},"1min04",{"$f":"IF(OR(D39=\"o\",E39=\"o\",F39=\"o\",C40=\"o\",C41=\"o\",C42=\"o\",C39=\"x\"),\"x\",IF(OR(C39=\"o\",AND(D39=\"x\",E39=\"x\",F39=\"x\"),AND(C40=\"x\",C41=\"x\",C42=\"x\")),\"o\",\"\"))","v":""},{"$f":"IF(OR(C39=\"o\",E39=\"o\",F39=\"o\",D40=\"o\",D41=\"o\",D42=\"o\",D39=\"x\"),\"x\",IF(OR(D39=\"o\",AND(C39=\"x\",E39=\"x\",F39=\"x\"),AND(D40=\"x\",D41=\"x\",D42=\"x\")),\"o\",\"\"))","v":""},{"$f":"IF(OR(C39=\"o\",D39=\"o\",F39=\"o\",E40=\"o\",E41=\"o\",E42=\"o\",E39=\"x\"),\"x\",IF(OR(E39=\"o\",AND(C39=\"x\",D39=\"x\",F39=\"x\"),AND(E40=\"x\",E41=\"x\",E42=\"x\")),\"o\",\"\"))","v":""},{"$f":"IF(OR(C39=\"o\",D39=\"o\",E39=\"o\",F40=\"o\",F41=\"o\",F42=\"o\",F39=\"x\"),\"x\",IF(OR(F39=\"o\",AND(C39=\"x\",D39=\"x\",E39=\"x\"),AND(F40=\"x\",F41=\"x\",F42=\"x\")),\"o\",\"\"))","v":""}]
[null,"1min08",null,null,null,null,null,{"$f":"IF(AND(C45=Q45,G45=U45,K45=Y45,C46=Q46,G46=U46,K46=Y46,C47=Q47,G47=U47,K47=Y47,C48=Q48,G48=U48,K48=Y48),\"BRAVO !!\",\"\")","v":""},null,null,null,null,null,null,null,null,null,null,null,null,null,null,null,null,null,null,null,null,null,"1min08",{"$f":"IF(OR(D40=\"o\",E40=\"o\",F40=\"o\",C39=\"o\",C41=\"o\",C42=\"o\",C40=\"x\"),\"x\",IF(OR(C40=\"o\",AND(D40=\"x\",E40=\"x\",F40=\"x\"),AND(C39=\"x\",C41=\"x\",C42=\"x\")),\"o\",\"\"))","v":""},{"$f":"IF(OR(C40=\"o\",E40=\"o\",F40=\"o\",D39=\"o\",D41=\"o\",D42=\"o\",D40=\"x\"),\"x\",IF(OR(D40=\"o\",AND(C40=\"x\",E40=\"x\",F40=\"x\"),AND(D39=\"x\",D41=\"x\",D42=\"x\")),\"o\",\"\"))","v":""},{"$f":"IF(OR(C40=\"o\",D40=\"o\",F40=\"o\",E39=\"o\",E41=\"o\",E42=\"o\",E40=\"x\"),\"x\",IF(OR(E40=\"o\",AND(C40=\"x\",D40=\"x\",F40=\"x\"),AND(E39=\"x\",E41=\"x\",E42=\"x\")),\"o\",\"\"))","v":""},{"$f":"IF(OR(C40=\"o\",D40=\"o\",E40=\"o\",F39=\"o\",F41=\"o\",F42=\"o\",F40=\"x\"),\"x\",IF(OR(F40=\"o\",AND(C40=\"x\",D40=\"x\",E40=\"x\"),AND(F39=\"x\",F41=\"x\",F42=\"x\")),\"o\",\"\"))","v":""}]
[null,"1min10",null,null,null,null,null,null,null,null,null,null,null,null,null,null,null,null,null,null,null,null,null,null,null,null,null,null,null,"1min10",{"$f":"IF(OR(D41=\"o\",E41=\"o\",F41=\"o\",C39=\"o\",C40=\"o\",C42=\"o\",C41=\"x\"),\"x\",IF(OR(C41=\"o\",AND(D41=\"x\",E41=\"x\",F41=\"x\"),AND(C39=\"x\",C40=\"x\",C42=\"x\")),\"o\",\"\"))","v":""},{"$f":"IF(OR(C41=\"o\",E41=\"o\",F41=\"o\",D39=\"o\",D40=\"o\",D42=\"o\",D41=\"x\"),\"x\",IF(OR(D41=\"o\",AND(C41=\"x\",E41=\"x\",F41=\"x\"),AND(D39=\"x\",D40=\"x\",D42=\"x\")),\"o\",\"\"))","v":""},{"$f":"IF(OR(C41=\"o\",D41=\"o\",F41=\"o\",E39=\"o\",E40=\"o\",E42=\"o\",E41=\"x\"),\"x\",IF(OR(E41=\"o\",AND(C41=\"x\",D41=\"x\",F41=\"x\"),AND(E39=\"x\",E40=\"x\",E42=\"x\")),\"o\",\"\"))","v":""},{"$f":"IF(OR(C41=\"o\",D41=\"o\",E41=\"o\",F39=\"o\",F40=\"o\",F42=\"o\",F41=\"x\"),\"x\",IF(OR(F41=\"o\",AND(C41=\"x\",D41=\"x\",E41=\"x\"),AND(F39=\"x\",F40=\"x\",F42=\"x\")),\"o\",\"\"))","v":""}]
[null,"1min15",null,null,null,null,null,null,null,null,null,null,null,null,null,null,null,null,null,null,null,null,null,null,null,null,null,null,null,"1min15",{"$f":"IF(OR(D42=\"o\",E42=\"o\",F42=\"o\",C39=\"o\",C40=\"o\",C41=\"o\",C42=\"x\"),\"x\",IF(OR(C42=\"o\",AND(D42=\"x\",E42=\"x\",F42=\"x\"),AND(C39=\"x\",C40=\"x\",C41=\"x\")),\"o\",\"\"))","v":""},{"$f":"IF(OR(C42=\"o\",E42=\"o\",F42=\"o\",D39=\"o\",D40=\"o\",D41=\"o\",D42=\"x\"),\"x\",IF(OR(D42=\"o\",AND(C42=\"x\",E42=\"x\",F42=\"x\"),AND(D39=\"x\",D40=\"x\",D41=\"x\")),\"o\",\"\"))","v":""},{"$f":"IF(OR(C42=\"o\",D42=\"o\",F42=\"o\",E39=\"o\",E40=\"o\",E41=\"o\",E42=\"x\"),\"x\",IF(OR(E42=\"o\",AND(C42=\"x\",D42=\"x\",F42=\"x\"),AND(E39=\"x\",E40=\"x\",E41=\"x\")),\"o\",\"\"))","v":""},{"$f":"IF(OR(C42=\"o\",D42=\"o\",E42=\"o\",F39=\"o\",F40=\"o\",F41=\"o\",F42=\"x\"),\"x\",IF(OR(F42=\"o\",AND(C42=\"x\",D42=\"x\",E42=\"x\"),AND(F39=\"x\",F40=\"x\",F41=\"x\")),\"o\",\"\"))","v":""}]
[]
[null,"Réponses :",{"$f":"C29","v":"Classement"},null,null,null,{"$f":"G29","v":"Temps"},null,null,null,{"$f":"K29","v":"Nage"},null,null,null,null,null,{"$f":"C29","v":"Classement"},null,null,null,{"$f":"G29","v":"Temps"},null,null,null,{"$f":"K29","v":"Nage"}]
[null,{"$f":"B31","v":"Paul"},{"$f":"IF(C31=\"o\",C30,IF(D31=\"o\",D30,IF(E31=\"o\",E30,IF(F31=\"o\",F30,\"\"))))","v":""},null,null,null,{"$f":"IF(G31=\"o\",G30,IF(H31=\"o\",H30,IF(I31=\"o\",I30,IF(J31=\"o\",J30,\"\"))))","v":""},null,null,null,{"$f":"IF(K31=\"o\",K30,IF(L31=\"o\",L30,IF(M31=\"o\",M30,IF(N31=\"o\",N30,\"\"))))","v":""},null,null,null,null,{"$f":"B31","v":"Paul"},"4e",null,null,null,"1min10",null,null,null,"dos"]
[null,{"$f":"B32","v":"Pierre"},{"$f":"IF(C32=\"o\",C30,IF(D32=\"o\",D30,IF(E32=\"o\",E30,IF(F32=\"o\",F30,\"\"))))","v":""},null,null,null,{"$f":"IF(G32=\"o\",G30,IF(H32=\"o\",H30,IF(I32=\"o\",I30,IF(J32=\"o\",J30,\"\"))))","v":""},null,null,null,{"$f":"IF(K32=\"o\",K30,IF(L32=\"o\",L30,IF(M32=\"o\",M30,IF(N32=\"o\",N30,\"\"))))","v":""},null,null,null,null,{"$f":"B32","v":"Pierre"},"2e",null,null,null,"1min04",null,null,null,"brasse"]
[null,{"$f":"B33","v":"François"},{"$f":"IF(C33=\"o\",C30,IF(D33=\"o\",D30,IF(E33=\"o\",E30,IF(F33=\"o\",F30,\"\"))))","v":""},null,null,null,{"$f":"IF(G33=\"o\",G30,IF(H33=\"o\",H30,IF(I33=\"o\",I30,IF(J33=\"o\",J30,\"\"))))","v":""},null,null,null,{"$f":"IF(K33=\"o\",K30,IF(L33=\"o\",L30,IF(M33=\"o\",M30,IF(N33=\"o\",N30,\"\"))))","v":""},null,null,null,null,{"$f":"B33","v":"François"},"3e",null,null,null,"1min15",null,null,null,"papillon"]
[null,{"$f":"B34","v":"Fabien"},{"$f":"IF(C34=\"o\",C30,IF(D34=\"o\",D30,IF(E34=\"o\",E30,IF(F34=\"o\",F30,\"\"))))","v":""},null,null,null,{"$f":"IF(G34=\"o\",G30,IF(H34=\"o\",H30,IF(I34=\"o\",I30,IF(J34=\"o\",J30,\"\"))))","v":""},null,null,null,{"$f":"IF(K34=\"o\",K30,IF(L34=\"o\",L30,IF(M34=\"o\",M30,IF(N34=\"o\",N30,\"\"))))","v":""},null,null,null,null,{"$f":"B34","v":"Fabien"},"1e",null,null,null,"1min08",null,null,null,"crawl"]
[]
[]
["XIII°/ Le championnat :"]
[{"$f":"INDIRECT(\"'Calculs 4 indices'!B\"&A55)","v":""},null,null,null,null,null,null,null,null,null,null,null,null,{"$f":"INDIRECT(\"'Calculs 4 indices'!M\"&(A55+16))","v":""}]
[{"$f":"INDIRECT(\"'Calculs 4 indices'!B\"&(A55+26))","v":""},null,null,null,null,null,null,null,null,null,null,null,null,{"$f":"INDIRECT(\"'Calculs 4 indices'!M\"&(A55+17))","v":""}]
[null,null,"Âge",null,null,null,"Fanion",null,null,null,{"$f":"A60","v":"Classement"},null,null,null,null,null,null,null,null,null,null,null,null,null,null,null,null,null,null,null,{"$f":"C54","v":"Âge"},null,null,null,{"$f":"G54","v":"Fanion"},null,null,null,{"$f":"K54","v":"Classement"}]
[{"$f":"A30+52","v":105},null,"8 ans","9 ans","10 ans","11 ans",{"$f":"B64","v":"Bleu"},{"$f":"B65","v":"Vert"},{"$f":"B66","v":"Rouge"},{"$f":"B67","v":"Jaune"},"1e","2e","3e","4e",null,"L’école de Lola a organisé un championnat de jeux mathématiques par équipes. Chaque équipe,les loups, les lynx, les renards et les lions, est constituée de 3 enfants du même âge (8 ans, 9 ans, 10 ans et 11 ans) et ils ont un fanion de couleur.",null,null,null,null,null,null,null,null,null,null,null,null,null,null,{"$f":"C55","v":"8 ans"},{"$f":"D55","v":"9 ans"},{"$f":"E55","v":"10 ans"},{"$f":"F55","v":"11 ans"},{"$f":"G55","v":"Bleu"},{"$f":"H55","v":"Vert"},{"$f":"I55","v":"Rouge"},{"$f":"J55","v":"Jaune"},{"$f":"K55","v":"1e"},{"$f":"L55","v":"2e"},{"$f":"M55","v":"3e"},{"$f":"N55","v":"4e"}]
["Equipes","Loups",null,null,null,null,null,null,null,null,null,null,null,null,null,null,null,null,null,null,null,null,null,null,null,null,null,null,{"$f":"A56","v":"Equipes"},{"$f":"B56","v":"Loups"},{"$f":"IF(OR(D56=\"o\",E56=\"o\",F56=\"o\",C57=\"o\",C58=\"o\",C59=\"o\",C56=\"x\"),\"x\",IF(OR(C56=\"o\",AND(D56=\"x\",E56=\"x\",F56=\"x\"),AND(C57=\"x\",C58=\"x\",C59=\"x\")),\"o\",\"\"))","v":""},{"$f":"IF(OR(C56=\"o\",E56=\"o\",F56=\"o\",D57=\"o\",D58=\"o\",D59=\"o\",D56=\"x\"),\"x\",IF(OR(D56=\"o\",AND(C56=\"x\",E56=\"x\",F56=\"x\"),AND(D57=\"x\",D58=\"x\",D59=\"x\")),\"o\",\"\"))","v":""},{"$f":"IF(OR(C56=\"o\",D56=\"o\",F56=\"o\",E57=\"o\",E58=\"o\",E59=\"o\",E56=\"x\"),\"x\",IF(OR(E56=\"o\",AND(C56=\"x\",D56=\"x\",F56=\"x\"),AND(E57=\"x\",E58=\"x\",E59=\"x\")),\"o\",\"\"))","v":""},{"$f":"IF(OR(C56=\"o\",D56=\"o\",E56=\"o\",F57=\"o\",F58=\"o\",F59=\"o\",F56=\"x\"),\"x\",IF(OR(F56=\"o\",AND(C56=\"x\",D56=\"x\",E56=\"x\"),AND(F57=\"x\",F58=\"x\",F59=\"x\")),\"o\",\"\"))","v":""},{"$f":"IF(OR(H56=\"o\",I56=\"o\",J56=\"o\",G57=\"o\",G58=\"o\",G59=\"o\",G56=\"x\"),\"x\",IF(OR(G56=\"o\",AND(H56=\"x\",I56=\"x\",J56=\"x\"),AND(G57=\"x\",G58=\"x\",G59=\"x\")),\"o\",\"\"))","v":""},{"$f":"IF(OR(G56=\"o\",I56=\"o\",J56=\"o\",H57=\"o\",H58=\"o\",H59=\"o\",H56=\"x\"),\"x\",IF(OR(H56=\"o\",AND(G56=\"x\",I56=\"x\",J56=\"x\"),AND(H57=\"x\",H58=\"x\",H59=\"x\")),\"o\",\"\"))","v":""},{"$f":"IF(OR(G56=\"o\",H56=\"o\",J56=\"o\",I57=\"o\",I58=\"o\",I59=\"o\",I56=\"x\"),\"x\",IF(OR(I56=\"o\",AND(G56=\"x\",H56=\"x\",J56=\"x\"),AND(I57=\"x\",I58=\"x\",I59=\"x\")),\"o\",\"\"))","v":""},{"$f":"IF(OR(G56=\"o\",H56=\"o\",I56=\"o\",J57=\"o\",J58=\"o\",J59=\"o\",J56=\"x\"),\"x\",IF(OR(J56=\"o\",AND(G56=\"x\",H56=\"x\",I56=\"x\"),AND(J57=\"x\",J58=\"x\",J59=\"x\")),\"o\",\"\"))","v":""},{"$f":"IF(OR(L56=\"o\",M56=\"o\",N56=\"o\",K57=\"o\",K58=\"o\",K59=\"o\",K56=\"x\"),\"x\",IF(OR(K56=\"o\",AND(L56=\"x\",M56=\"x\",N56=\"x\"),AND(K57=\"x\",K58=\"x\",K59=\"x\")),\"o\",\"\"))","v":""},{"$f":"IF(OR(K56=\"o\",M56=\"o\",N56=\"o\",L57=\"o\",L58=\"o\",L59=\"o\",L56=\"x\"),\"x\",IF(OR(L56=\"o\",AND(K56=\"x\",M56=\"x\",N56=\"x\"),AND(L57=\"x\",L58=\"x\",L59=\"x\")),\"o\",\"\"))","v":""},{"$f":"IF(OR(K56=\"o\",L56=\"o\",N56=\"o\",M57=\"o\",M58=\"o\",M59=\"o\",M56=\"x\"),\"x\",IF(OR(M56=\"o\",AND(K56=\"x\",L56=\"x\",N56=\"x\"),AND(M57=\"x\",M58=\"x\",M59=\"x\")),\"o\",\"\"))","v":""},{"$f":"IF(OR(K56=\"o\",L56=\"o\",M56=\"o\",N57=\"o\",N58=\"o\",N59=\"o\",N56=\"x\"),\"x\",IF(OR(N56=\"o\",AND(K56=\"x\",L56=\"x\",M56=\"x\"),AND(N57=\"x\",N58=\"x\",N59=\"x\")),\"o\",\"\"))","v":""}]
[null,"Lynx",null,null,null,null,null,null,null,null,null,null,null,null,null,"1°/ L'équipe des plus vieux a un fanion bleu.",null,null,null,null,null,null,null,null,null,null,null,null,null,{"$f":"B57","v":"Lynx"},{"$f":"IF(OR(D57=\"o\",E57=\"o\",F57=\"o\",C56=\"o\",C58=\"o\",C59=\"o\",C57=\"x\"),\"x\",IF(OR(C57=\"o\",AND(D57=\"x\",E57=\"x\",F57=\"x\"),AND(C56=\"x\",C58=\"x\",C59=\"x\")),\"o\",\"\"))","v":""},{"$f":"IF(OR(C57=\"o\",E57=\"o\",F57=\"o\",D56=\"o\",D58=\"o\",D59=\"o\",D57=\"x\"),\"x\",IF(OR(D57=\"o\",AND(C57=\"x\",E57=\"x\",F57=\"x\"),AND(D56=\"x\",D58=\"x\",D59=\"x\")),\"o\",\"\"))","v":""},{"$f":"IF(OR(C57=\"o\",D57=\"o\",F57=\"o\",E56=\"o\",E58=\"o\",E59=\"o\",E57=\"x\"),\"x\",IF(OR(E57=\"o\",AND(C57=\"x\",D57=\"x\",F57=\"x\"),AND(E56=\"x\",E58=\"x\",E59=\"x\")),\"o\",\"\"))","v":""},{"$f":"IF(OR(C57=\"o\",D57=\"o\",E57=\"o\",F56=\"o\",F58=\"o\",F59=\"o\",F57=\"x\"),\"x\",IF(OR(F57=\"o\",AND(C57=\"x\",D57=\"x\",E57=\"x\"),AND(F56=\"x\",F58=\"x\",F59=\"x\")),\"o\",\"\"))","v":""},{"$f":"IF(OR(H57=\"o\",I57=\"o\",J57=\"o\",G56=\"o\",G58=\"o\",G59=\"o\",G57=\"x\"),\"x\",IF(OR(G57=\"o\",AND(H57=\"x\",I57=\"x\",J57=\"x\"),AND(G56=\"x\",G58=\"x\",G59=\"x\")),\"o\",\"\"))","v":""},{"$f":"IF(OR(G57=\"o\",I57=\"o\",J57=\"o\",H56=\"o\",H58=\"o\",H59=\"o\",H57=\"x\"),\"x\",IF(OR(H57=\"o\",AND(G57=\"x\",I57=\"x\",J57=\"x\"),AND(H56=\"x\",H58=\"x\",H59=\"x\")),\"o\",\"\"))","v":""},{"$f":"IF(OR(G57=\"o\",H57=\"o\",J57=\"o\",I56=\"o\",I58=\"o\",I59=\"o\",I57=\"x\"),\"x\",IF(OR(I57=\"o\",AND(G57=\"x\",H57=\"x\",J57=\"x\"),AND(I56=\"x\",I58=\"x\",I59=\"x\")),\"o\",\"\"))","v":""},{"$f":"IF(OR(G57=\"o\",H57=\"o\",I57=\"o\",J56=\"o\",J58=\"o\",J59=\"o\",J57=\"x\"),\"x\",IF(OR(J57=\"o\",AND(G57=\"x\",H57=\"x\",I57=\"x\"),AND(J56=\"x\",J58=\"x\",J59=\"x\")),\"o\",\"\"))","v":""},{"$f":"IF(OR(L57=\"o\",M57=\"o\",N57=\"o\",K56=\"o\",K58=\"o\",K59=\"o\",K57=\"x\"),\"x\",IF(OR(K57=\"o\",AND(L57=\"x\",M57=\"x\",N57=\"x\"),AND(K56=\"x\",K58=\"x\",K59=\"x\")),\"o\",\"\"))","v":""},{"$f":"IF(OR(K57=\"o\",M57=\"o\",N57=\"o\",L56=\"o\",L58=\"o\",L59=\"o\",L57=\"x\"),\"x\",IF(OR(L57=\"o\",AND(K57=\"x\",M57=\"x\",N57=\"x\"),AND(L56=\"x\",L58=\"x\",L59=\"x\")),\"o\",\"\"))","v":""},{"$f":"IF(OR(K57=\"o\",L57=\"o\",N57=\"o\",M56=\"o\",M58=\"o\",M59=\"o\",M57=\"x\"),\"x\",IF(OR(M57=\"o\",AND(K57=\"x\",L57=\"x\",N57=\"x\"),AND(M56=\"x\",M58=\"x\",M59=\"x\")),\"o\",\"\"))","v":""},{"$f":"IF(OR(K57=\"o\",L57=\"o\",M57=\"o\",N56=\"o\",N58=\"o\",N59=\"o\",N57=\"x\"),\"x\",IF(OR(N57=\"o\",AND(K57=\"x\",L57=\"x\",M57=\"x\"),AND(N56=\"x\",N58=\"x\",N59=\"x\")),\"o\",\"\"))","v":""}]
[null,"Renards",null,null,null,null,null,null,null,null,null,null,null,null,null,"2°/ Les loups n’ont pas 8 ans, ne sont pas classés 1ier et n'ont ",null,null,null,null,null,null,null,null,null,null,null,null,null,"Renards",{"$f":"IF(OR(D58=\"o\",E58=\"o\",F58=\"o\",C56=\"o\",C57=\"o\",C59=\"o\",C58=\"x\"),\"x\",IF(OR(C58=\"o\",AND(D58=\"x\",E58=\"x\",F58=\"x\"),AND(C56=\"x\",C57=\"x\",C59=\"x\")),\"o\",\"\"))","v":""},{"$f":"IF(OR(C58=\"o\",E58=\"o\",F58=\"o\",D56=\"o\",D57=\"o\",D59=\"o\",D58=\"x\"),\"x\",IF(OR(D58=\"o\",AND(C58=\"x\",E58=\"x\",F58=\"x\"),AND(D56=\"x\",D57=\"x\",D59=\"x\")),\"o\",\"\"))","v":""},{"$f":"IF(OR(C58=\"o\",D58=\"o\",F58=\"o\",E56=\"o\",E57=\"o\",E59=\"o\",E58=\"x\"),\"x\",IF(OR(E58=\"o\",AND(C58=\"x\",D58=\"x\",F58=\"x\"),AND(E56=\"x\",E57=\"x\",E59=\"x\")),\"o\",\"\"))","v":""},{"$f":"IF(OR(C58=\"o\",D58=\"o\",E58=\"o\",F56=\"o\",F57=\"o\",F59=\"o\",F58=\"x\"),\"x\",IF(OR(F58=\"o\",AND(C58=\"x\",D58=\"x\",E58=\"x\"),AND(F56=\"x\",F57=\"x\",F59=\"x\")),\"o\",\"\"))","v":""},{"$f":"IF(OR(H58=\"o\",I58=\"o\",J58=\"o\",G56=\"o\",G57=\"o\",G59=\"o\",G58=\"x\"),\"x\",IF(OR(G58=\"o\",AND(H58=\"x\",I58=\"x\",J58=\"x\"),AND(G56=\"x\",G57=\"x\",G59=\"x\")),\"o\",\"\"))","v":""},{"$f":"IF(OR(G58=\"o\",I58=\"o\",J58=\"o\",H56=\"o\",H57=\"o\",H59=\"o\",H58=\"x\"),\"x\",IF(OR(H58=\"o\",AND(G58=\"x\",I58=\"x\",J58=\"x\"),AND(H56=\"x\",H57=\"x\",H59=\"x\")),\"o\",\"\"))","v":""},{"$f":"IF(OR(G58=\"o\",H58=\"o\",J58=\"o\",I56=\"o\",I57=\"o\",I59=\"o\",I58=\"x\"),\"x\",IF(OR(I58=\"o\",AND(G58=\"x\",H58=\"x\",J58=\"x\"),AND(I56=\"x\",I57=\"x\",I59=\"x\")),\"o\",\"\"))","v":""},{"$f":"IF(OR(G58=\"o\",H58=\"o\",I58=\"o\",J56=\"o\",J57=\"o\",J59=\"o\",J58=\"x\"),\"x\",IF(OR(J58=\"o\",AND(G58=\"x\",H58=\"x\",I58=\"x\"),AND(J56=\"x\",J57=\"x\",J59=\"x\")),\"o\",\"\"))","v":""},{"$f":"IF(OR(L58=\"o\",M58=\"o\",N58=\"o\",K56=\"o\",K57=\"o\",K59=\"o\",K58=\"x\"),\"x\",IF(OR(K58=\"o\",AND(L58=\"x\",M58=\"x\",N58=\"x\"),AND(K56=\"x\",K57=\"x\",K59=\"x\")),\"o\",\"\"))","v":""},{"$f":"IF(OR(K58=\"o\",M58=\"o\",N58=\"o\",L56=\"o\",L57=\"o\",L59=\"o\",L58=\"x\"),\"x\",IF(OR(L58=\"o\",AND(K58=\"x\",M58=\"x\",N58=\"x\"),AND(L56=\"x\",L57=\"x\",L59=\"x\")),\"o\",\"\"))","v":""},{"$f":"IF(OR(K58=\"o\",L58=\"o\",N58=\"o\",M56=\"o\",M57=\"o\",M59=\"o\",M58=\"x\"),\"x\",IF(OR(M58=\"o\",AND(K58=\"x\",L58=\"x\",N58=\"x\"),AND(M56=\"x\",M57=\"x\",M59=\"x\")),\"o\",\"\"))","v":""},{"$f":"IF(OR(K58=\"o\",L58=\"o\",M58=\"o\",N56=\"o\",N57=\"o\",N59=\"o\",N58=\"x\"),\"x\",IF(OR(N58=\"o\",AND(K58=\"x\",L58=\"x\",M58=\"x\"),AND(N56=\"x\",N57=\"x\",N59=\"x\")),\"o\",\"\"))","v":""}]
[null,"Lions",null,null,null,null,null,null,null,null,null,null,null,null,null,"de fanion jaune. ",null,null,null,null,null,null,null,null,null,null,null,null,null,"Lions",{"$f":"IF(OR(D59=\"o\",E59=\"o\",F59=\"o\",C56=\"o\",C57=\"o\",C58=\"o\",C59=\"x\"),\"x\",IF(OR(C59=\"o\",AND(D59=\"x\",E59=\"x\",F59=\"x\"),AND(C56=\"x\",C57=\"x\",C58=\"x\")),\"o\",\"\"))","v":""},{"$f":"IF(OR(C59=\"o\",E59=\"o\",F59=\"o\",D56=\"o\",D57=\"o\",D58=\"o\",D59=\"x\"),\"x\",IF(OR(D59=\"o\",AND(C59=\"x\",E59=\"x\",F59=\"x\"),AND(D56=\"x\",D57=\"x\",D58=\"x\")),\"o\",\"\"))","v":""},{"$f":"IF(OR(C59=\"o\",D59=\"o\",F59=\"o\",E56=\"o\",E57=\"o\",E58=\"o\",E59=\"x\"),\"x\",IF(OR(E59=\"o\",AND(C59=\"x\",D59=\"x\",F59=\"x\"),AND(E56=\"x\",E57=\"x\",E58=\"x\")),\"o\",\"\"))","v":""},{"$f":"IF(OR(C59=\"o\",D59=\"o\",E59=\"o\",F56=\"o\",F57=\"o\",F58=\"o\",F59=\"x\"),\"x\",IF(OR(F59=\"o\",AND(C59=\"x\",D59=\"x\",E59=\"x\"),AND(F56=\"x\",F57=\"x\",F58=\"x\")),\"o\",\"\"))","v":""},{"$f":"IF(OR(H59=\"o\",I59=\"o\",J59=\"o\",G56=\"o\",G57=\"o\",G58=\"o\",G59=\"x\"),\"x\",IF(OR(G59=\"o\",AND(H59=\"x\",I59=\"x\",J59=\"x\"),AND(G56=\"x\",G57=\"x\",G58=\"x\")),\"o\",\"\"))","v":""},{"$f":"IF(OR(G59=\"o\",I59=\"o\",J59=\"o\",H56=\"o\",H57=\"o\",H58=\"o\",H59=\"x\"),\"x\",IF(OR(H59=\"o\",AND(G59=\"x\",I59=\"x\",J59=\"x\"),AND(H56=\"x\",H57=\"x\",H58=\"x\")),\"o\",\"\"))","v":""},{"$f":"IF(OR(G59=\"o\",H59=\"o\",J59=\"o\",I56=\"o\",I57=\"o\",I58=\"o\",I59=\"x\"),\"x\",IF(OR(I59=\"o\",AND(G59=\"x\",H59=\"x\",J59=\"x\"),AND(I56=\"x\",I57=\"x\",I58=\"x\")),\"o\",\"\"))","v":""},{"$f":"IF(OR(G59=\"o\",H59=\"o\",I59=\"o\",J56=\"o\",J57=\"o\",J58=\"o\",J59=\"x\"),\"x\",IF(OR(J59=\"o\",AND(G59=\"x\",H59=\"x\",I59=\"x\"),AND(J56=\"x\",J57=\"x\",J58=\"x\")),\"o\",\"\"))","v":""},{"$f":"IF(OR(L59=\"o\",M59=\"o\",N59=\"o\",K56=\"o\",K57=\"o\",K58=\"o\",K59=\"x\"),\"x\",IF(OR(K59=\"o\",AND(L59=\"x\",M59=\"x\",N59=\"x\"),AND(K56=\"x\",K57=\"x\",K58=\"x\")),\"o\",\"\"))","v":""},{"$f":"IF(OR(K59=\"o\",M59=\"o\",N59=\"o\",L56=\"o\",L57=\"o\",L58=\"o\",L59=\"x\"),\"x\",IF(OR(L59=\"o\",AND(K59=\"x\",M59=\"x\",N59=\"x\"),AND(L56=\"x\",L57=\"x\",L58=\"x\")),\"o\",\"\"))","v":""},{"$f":"IF(OR(K59=\"o\",L59=\"o\",N59=\"o\",M56=\"o\",M57=\"o\",M58=\"o\",M59=\"x\"),\"x\",IF(OR(M59=\"o\",AND(K59=\"x\",L59=\"x\",N59=\"x\"),AND(M56=\"x\",M57=\"x\",M58=\"x\")),\"o\",\"\"))","v":""},{"$f":"IF(OR(K59=\"o\",L59=\"o\",M59=\"o\",N56=\"o\",N57=\"o\",N58=\"o\",N59=\"x\"),\"x\",IF(OR(N59=\"o\",AND(K59=\"x\",L59=\"x\",M59=\"x\"),AND(N56=\"x\",N57=\"x\",N58=\"x\")),\"o\",\"\"))","v":""}]
["Classement","1e",null,null,null,null,null,null,null,null,null,null,null,null,null,"3°/ Les vainqueurs sont plus âgés que les derniers mais",null,null,null,null,null,null,null,null,null,null,null,null,{"$f":"A60","v":"Classement"},"1e",{"$f":"IF(OR(D60=\"o\",E60=\"o\",F60=\"o\",C61=\"o\",C62=\"o\",C63=\"o\",C60=\"x\"),\"x\",IF(OR(C60=\"o\",AND(D60=\"x\",E60=\"x\",F60=\"x\"),AND(C61=\"x\",C62=\"x\",C63=\"x\")),\"o\",\"\"))","v":""},{"$f":"IF(OR(C60=\"o\",E60=\"o\",F60=\"o\",D61=\"o\",D62=\"o\",D63=\"o\",D60=\"x\"),\"x\",IF(OR(D60=\"o\",AND(C60=\"x\",E60=\"x\",F60=\"x\"),AND(D61=\"x\",D62=\"x\",D63=\"x\")),\"o\",\"\"))","v":""},{"$f":"IF(OR(C60=\"o\",D60=\"o\",F60=\"o\",E61=\"o\",E62=\"o\",E63=\"o\",E60=\"x\"),\"x\",IF(OR(E60=\"o\",AND(C60=\"x\",D60=\"x\",F60=\"x\"),AND(E61=\"x\",E62=\"x\",E63=\"x\")),\"o\",\"\"))","v":""},{"$f":"IF(OR(C60=\"o\",D60=\"o\",E60=\"o\",F61=\"o\",F62=\"o\",F63=\"o\",F60=\"x\"),\"x\",IF(OR(F60=\"o\",AND(C60=\"x\",D60=\"x\",E60=\"x\"),AND(F61=\"x\",F62=\"x\",F63=\"x\")),\"o\",\"\"))","v":""},{"$f":"IF(OR(H60=\"o\",I60=\"o\",J60=\"o\",G61=\"o\",G62=\"o\",G63=\"o\",G60=\"x\"),\"x\",IF(OR(G60=\"o\",AND(H60=\"x\",I60=\"x\",J60=\"x\"),AND(G61=\"x\",G62=\"x\",G63=\"x\")),\"o\",\"\"))","v":""},{"$f":"IF(OR(G60=\"o\",I60=\"o\",J60=\"o\",H61=\"o\",H62=\"o\",H63=\"o\",H60=\"x\"),\"x\",IF(OR(H60=\"o\",AND(G60=\"x\",I60=\"x\",J60=\"x\"),AND(H61=\"x\",H62=\"x\",H63=\"x\")),\"o\",\"\"))","v":""},{"$f":"IF(OR(G60=\"o\",H60=\"o\",J60=\"o\",I61=\"o\",I62=\"o\",I63=\"o\",I60=\"x\"),\"x\",IF(OR(I60=\"o\",AND(G60=\"x\",H60=\"x\",J60=\"x\"),AND(I61=\"x\",I62=\"x\",I63=\"x\")),\"o\",\"\"))","v":""},{"$f":"IF(OR(G60=\"o\",H60=\"o\",I60=\"o\",J61=\"o\",J62=\"o\",J63=\"o\",J60=\"x\"),\"x\",IF(OR(J60=\"o\",AND(G60=\"x\",H60=\"x\",I60=\"x\"),AND(J61=\"x\",J62=\"x\",J63=\"x\")),\"o\",\"\"))","v":""}]
[null,"2e",null,null,null,null,null,null,null,null,null,null,null,null,null,"plus jeunes que les seconds.",null,null,null,null,null,null,null,null,null,null,null,null,null,"2e",{"$f":"IF(OR(D61=\"o\",E61=\"o\",F61=\"o\",C60=\"o\",C62=\"o\",C63=\"o\",C61=\"x\"),\"x\",IF(OR(C61=\"o\",AND(D61=\"x\",E61=\"x\",F61=\"x\"),AND(C60=\"x\",C62=\"x\",C63=\"x\")),\"o\",\"\"))","v":""},{"$f":"IF(OR(C61=\"o\",E61=\"o\",F61=\"o\",D60=\"o\",D62=\"o\",D63=\"o\",D61=\"x\"),\"x\",IF(OR(D61=\"o\",AND(C61=\"x\",E61=\"x\",F61=\"x\"),AND(D60=\"x\",D62=\"x\",D63=\"x\")),\"o\",\"\"))","v":""},{"$f":"IF(OR(C61=\"o\",D61=\"o\",F61=\"o\",E60=\"o\",E62=\"o\",E63=\"o\",E61=\"x\"),\"x\",IF(OR(E61=\"o\",AND(C61=\"x\",D61=\"x\",F61=\"x\"),AND(E60=\"x\",E62=\"x\",E63=\"x\")),\"o\",\"\"))","v":""},{"$f":"IF(OR(C61=\"o\",D61=\"o\",E61=\"o\",F60=\"o\",F62=\"o\",F63=\"o\",F61=\"x\"),\"x\",IF(OR(F61=\"o\",AND(C61=\"x\",D61=\"x\",E61=\"x\"),AND(F60=\"x\",F62=\"x\",F63=\"x\")),\"o\",\"\"))","v":""},{"$f":"IF(OR(H61=\"o\",I61=\"o\",J61=\"o\",G60=\"o\",G62=\"o\",G63=\"o\",G61=\"x\"),\"x\",IF(OR(G61=\"o\",AND(H61=\"x\",I61=\"x\",J61=\"x\"),AND(G60=\"x\",G62=\"x\",G63=\"x\")),\"o\",\"\"))","v":""},{"$f":"IF(OR(G61=\"o\",I61=\"o\",J61=\"o\",H60=\"o\",H62=\"o\",H63=\"o\",H61=\"x\"),\"x\",IF(OR(H61=\"o\",AND(G61=\"x\",I61=\"x\",J61=\"x\"),AND(H60=\"x\",H62=\"x\",H63=\"x\")),\"o\",\"\"))","v":""},{"$f":"IF(OR(G61=\"o\",H61=\"o\",J61=\"o\",I60=\"o\",I62=\"o\",I63=\"o\",I61=\"x\"),\"x\",IF(OR(I61=\"o\",AND(G61=\"x\",H61=\"x\",J61=\"x\"),AND(I60=\"x\",I62=\"x\",I63=\"x\")),\"o\",\"\"))","v":""},{"$f":"IF(OR(G61=\"o\",H61=\"o\",I61=\"o\",J60=\"o\",J62=\"o\",J63=\"o\",J61=\"x\"),\"x\",IF(OR(J61=\"o\",AND(G61=\"x\",H61=\"x\",I61=\"x\"),AND(J60=\"x\",J62=\"x\",J63=\"x\")),\"o\",\"\"))","v":""}]
[null,"3e",null,null,null,null,null,null,null,null,null,null,null,null,null,"4°/ Les lynx sont 3èmes avec leur fanion rouge et les lions ont",null,null,null,null,null,null,null,null,null,null,null,null,null,"3e",{"$f":"IF(OR(D62=\"o\",E62=\"o\",F62=\"o\",C60=\"o\",C61=\"o\",C63=\"o\",C62=\"x\"),\"x\",IF(OR(C62=\"o\",AND(D62=\"x\",E62=\"x\",F62=\"x\"),AND(C60=\"x\",C61=\"x\",C63=\"x\")),\"o\",\"\"))","v":""},{"$f":"IF(OR(C62=\"o\",E62=\"o\",F62=\"o\",D60=\"o\",D61=\"o\",D63=\"o\",D62=\"x\"),\"x\",IF(OR(D62=\"o\",AND(C62=\"x\",E62=\"x\",F62=\"x\"),AND(D60=\"x\",D61=\"x\",D63=\"x\")),\"o\",\"\"))","v":""},{"$f":"IF(OR(C62=\"o\",D62=\"o\",F62=\"o\",E60=\"o\",E61=\"o\",E63=\"o\",E62=\"x\"),\"x\",IF(OR(E62=\"o\",AND(C62=\"x\",D62=\"x\",F62=\"x\"),AND(E60=\"x\",E61=\"x\",E63=\"x\")),\"o\",\"\"))","v":""},{"$f":"IF(OR(C62=\"o\",D62=\"o\",E62=\"o\",F60=\"o\",F61=\"o\",F63=\"o\",F62=\"x\"),\"x\",IF(OR(F62=\"o\",AND(C62=\"x\",D62=\"x\",E62=\"x\"),AND(F60=\"x\",F61=\"x\",F63=\"x\")),\"o\",\"\"))","v":""},{"$f":"IF(OR(H62=\"o\",I62=\"o\",J62=\"o\",G60=\"o\",G61=\"o\",G63=\"o\",G62=\"x\"),\"x\",IF(OR(G62=\"o\",AND(H62=\"x\",I62=\"x\",J62=\"x\"),AND(G60=\"x\",G61=\"x\",G63=\"x\")),\"o\",\"\"))","v":""},{"$f":"IF(OR(G62=\"o\",I62=\"o\",J62=\"o\",H60=\"o\",H61=\"o\",H63=\"o\",H62=\"x\"),\"x\",IF(OR(H62=\"o\",AND(G62=\"x\",I62=\"x\",J62=\"x\"),AND(H60=\"x\",H61=\"x\",H63=\"x\")),\"o\",\"\"))","v":""},{"$f":"IF(OR(G62=\"o\",H62=\"o\",J62=\"o\",I60=\"o\",I61=\"o\",I63=\"o\",I62=\"x\"),\"x\",IF(OR(I62=\"o\",AND(G62=\"x\",H62=\"x\",J62=\"x\"),AND(I60=\"x\",I61=\"x\",I63=\"x\")),\"o\",\"\"))","v":""},{"$f":"IF(OR(G62=\"o\",H62=\"o\",I62=\"o\",J60=\"o\",J61=\"o\",J63=\"o\",J62=\"x\"),\"x\",IF(OR(J62=\"o\",AND(G62=\"x\",H62=\"x\",I62=\"x\"),AND(J60=\"x\",J61=\"x\",J63=\"x\")),\"o\",\"\"))","v":""}]
[null,"4e",null,null,null,null,null,null,null,null,null,null,null,null,null,"11 ans mais n'ont pas de fanion vert.",null,null,null,null,null,null,null,null,null,null,null,null,null,"4e",{"$f":"IF(OR(D63=\"o\",E63=\"o\",F63=\"o\",C60=\"o\",C61=\"o\",C62=\"o\",C63=\"x\"),\"x\",IF(OR(C63=\"o\",AND(D63=\"x\",E63=\"x\",F63=\"x\"),AND(C60=\"x\",C61=\"x\",C62=\"x\")),\"o\",\"\"))","v":""},{"$f":"IF(OR(C63=\"o\",E63=\"o\",F63=\"o\",D60=\"o\",D61=\"o\",D62=\"o\",D63=\"x\"),\"x\",IF(OR(D63=\"o\",AND(C63=\"x\",E63=\"x\",F63=\"x\"),AND(D60=\"x\",D61=\"x\",D62=\"x\")),\"o\",\"\"))","v":""},{"$f":"IF(OR(C63=\"o\",D63=\"o\",F63=\"o\",E60=\"o\",E61=\"o\",E62=\"o\",E63=\"x\"),\"x\",IF(OR(E63=\"o\",AND(C63=\"x\",D63=\"x\",F63=\"x\"),AND(E60=\"x\",E61=\"x\",E62=\"x\")),\"o\",\"\"))","v":""},{"$f":"IF(OR(C63=\"o\",D63=\"o\",E63=\"o\",F60=\"o\",F61=\"o\",F62=\"o\",F63=\"x\"),\"x\",IF(OR(F63=\"o\",AND(C63=\"x\",D63=\"x\",E63=\"x\"),AND(F60=\"x\",F61=\"x\",F62=\"x\")),\"o\",\"\"))","v":""},{"$f":"IF(OR(H63=\"o\",I63=\"o\",J63=\"o\",G60=\"o\",G61=\"o\",G62=\"o\",G63=\"x\"),\"x\",IF(OR(G63=\"o\",AND(H63=\"x\",I63=\"x\",J63=\"x\"),AND(G60=\"x\",G61=\"x\",G62=\"x\")),\"o\",\"\"))","v":""},{"$f":"IF(OR(G63=\"o\",I63=\"o\",J63=\"o\",H60=\"o\",H61=\"o\",H62=\"o\",H63=\"x\"),\"x\",IF(OR(H63=\"o\",AND(G63=\"x\",I63=\"x\",J63=\"x\"),AND(H60=\"x\",H61=\"x\",H62=\"x\")),\"o\",\"\"))","v":""},{"$f":"IF(OR(G63=\"o\",H63=\"o\",J63=\"o\",I60=\"o\",I61=\"o\",I62=\"o\",I63=\"x\"),\"x\",IF(OR(I63=\"o\",AND(G63=\"x\",H63=\"x\",J63=\"x\"),AND(I60=\"x\",I61=\"x\",I62=\"x\")),\"o\",\"\"))","v":""},{"$f":"IF(OR(G63=\"o\",H63=\"o\",I63=\"o\",J60=\"o\",J61=\"o\",J62=\"o\",J63=\"x\"),\"x\",IF(OR(J63=\"o\",AND(G63=\"x\",H63=\"x\",I63=\"x\"),AND(J60=\"x\",J61=\"x\",J62=\"x\")),\"o\",\"\"))","v":""}]
["Fanion","Bleu",null,null,null,null,null,null,null,null,null,null,null,null,null,null,null,null,null,null,null,null,null,null,null,null,null,null,{"$f":"A64","v":"Fanion"},"Bleu",{"$f":"IF(OR(D64=\"o\",E64=\"o\",F64=\"o\",C65=\"o\",C66=\"o\",C67=\"o\",C64=\"x\"),\"x\",IF(OR(C64=\"o\",AND(D64=\"x\",E64=\"x\",F64=\"x\"),AND(C65=\"x\",C66=\"x\",C67=\"x\")),\"o\",\"\"))","v":""},{"$f":"IF(OR(C64=\"o\",E64=\"o\",F64=\"o\",D65=\"o\",D66=\"o\",D67=\"o\",D64=\"x\"),\"x\",IF(OR(D64=\"o\",AND(C64=\"x\",E64=\"x\",F64=\"x\"),AND(D65=\"x\",D66=\"x\",D67=\"x\")),\"o\",\"\"))","v":""},{"$f":"IF(OR(C64=\"o\",D64=\"o\",F64=\"o\",E65=\"o\",E66=\"o\",E67=\"o\",E64=\"x\"),\"x\",IF(OR(E64=\"o\",AND(C64=\"x\",D64=\"x\",F64=\"x\"),AND(E65=\"x\",E66=\"x\",E67=\"x\")),\"o\",\"\"))","v":""},{"$f":"IF(OR(C64=\"o\",D64=\"o\",E64=\"o\",F65=\"o\",F66=\"o\",F67=\"o\",F64=\"x\"),\"x\",IF(OR(F64=\"o\",AND(C64=\"x\",D64=\"x\",E64=\"x\"),AND(F65=\"x\",F66=\"x\",F67=\"x\")),\"o\",\"\"))","v":""}]
[null,"Vert",null,null,null,null,null,null,null,null,null,null,null,null,null,"Pour chaque équipe, donner le classement et l’âge des",null,null,null,null,null,null,null,null,null,null,null,null,null,"Vert",{"$f":"IF(OR(D65=\"o\",E65=\"o\",F65=\"o\",C64=\"o\",C66=\"o\",C67=\"o\",C65=\"x\"),\"x\",IF(OR(C65=\"o\",AND(D65=\"x\",E65=\"x\",F65=\"x\"),AND(C64=\"x\",C66=\"x\",C67=\"x\")),\"o\",\"\"))","v":""},{"$f":"IF(OR(C65=\"o\",E65=\"o\",F65=\"o\",D64=\"o\",D66=\"o\",D67=\"o\",D65=\"x\"),\"x\",IF(OR(D65=\"o\",AND(C65=\"x\",E65=\"x\",F65=\"x\"),AND(D64=\"x\",D66=\"x\",D67=\"x\")),\"o\",\"\"))","v":""},{"$f":"IF(OR(C65=\"o\",D65=\"o\",F65=\"o\",E64=\"o\",E66=\"o\",E67=\"o\",E65=\"x\"),\"x\",IF(OR(E65=\"o\",AND(C65=\"x\",D65=\"x\",F65=\"x\"),AND(E64=\"x\",E66=\"x\",E67=\"x\")),\"o\",\"\"))","v":""},{"$f":"IF(OR(C65=\"o\",D65=\"o\",E65=\"o\",F64=\"o\",F66=\"o\",F67=\"o\",F65=\"x\"),\"x\",IF(OR(F65=\"o\",AND(C65=\"x\",D65=\"x\",E65=\"x\"),AND(F64=\"x\",F66=\"x\",F67=\"x\")),\"o\",\"\"))","v":""}]
[null,"Rouge",null,null,null,null,null,null,null,null,null,null,null,null,null,"enfants.",null,null,null,null,null,null,null,null,null,null,null,null,null,"Rouge",{"$f":"IF(OR(D66=\"o\",E66=\"o\",F66=\"o\",C64=\"o\",C65=\"o\",C67=\"o\",C66=\"x\"),\"x\",IF(OR(C66=\"o\",AND(D66=\"x\",E66=\"x\",F66=\"x\"),AND(C64=\"x\",C65=\"x\",C67=\"x\")),\"o\",\"\"))","v":""},{"$f":"IF(OR(C66=\"o\",E66=\"o\",F66=\"o\",D64=\"o\",D65=\"o\",D67=\"o\",D66=\"x\"),\"x\",IF(OR(D66=\"o\",AND(C66=\"x\",E66=\"x\",F66=\"x\"),AND(D64=\"x\",D65=\"x\",D67=\"x\")),\"o\",\"\"))","v":""},{"$f":"IF(OR(C66=\"o\",D66=\"o\",F66=\"o\",E64=\"o\",E65=\"o\",E67=\"o\",E66=\"x\"),\"x\",IF(OR(E66=\"o\",AND(C66=\"x\",D66=\"x\",F66=\"x\"),AND(E64=\"x\",E65=\"x\",E67=\"x\")),\"o\",\"\"))","v":""},{"$f":"IF(OR(C66=\"o\",D66=\"o\",E66=\"o\",F64=\"o\",F65=\"o\",F67=\"o\",F66=\"x\"),\"x\",IF(OR(F66=\"o\",AND(C66=\"x\",D66=\"x\",E66=\"x\"),AND(F64=\"x\",F65=\"x\",F67=\"x\")),\"o\",\"\"))","v":""}]
[null,"Jaune",null,null,null,null,null,null,null,null,null,null,null,null,null,null,null,null,null,null,null,null,null,null,null,null,null,null,null,"Jaune",{"$f":"IF(OR(D67=\"o\",E67=\"o\",F67=\"o\",C64=\"o\",C65=\"o\",C66=\"o\",C67=\"x\"),\"x\",IF(OR(C67=\"o\",AND(D67=\"x\",E67=\"x\",F67=\"x\"),AND(C64=\"x\",C65=\"x\",C66=\"x\")),\"o\",\"\"))","v":""},{"$f":"IF(OR(C67=\"o\",E67=\"o\",F67=\"o\",D64=\"o\",D65=\"o\",D66=\"o\",D67=\"x\"),\"x\",IF(OR(D67=\"o\",AND(C67=\"x\",E67=\"x\",F67=\"x\"),AND(D64=\"x\",D65=\"x\",D66=\"x\")),\"o\",\"\"))","v":""},{"$f":"IF(OR(C67=\"o\",D67=\"o\",F67=\"o\",E64=\"o\",E65=\"o\",E66=\"o\",E67=\"x\"),\"x\",IF(OR(E67=\"o\",AND(C67=\"x\",D67=\"x\",F67=\"x\"),AND(E64=\"x\",E65=\"x\",E66=\"x\")),\"o\",\"\"))","v":""},{"$f":"IF(OR(C67=\"o\",D67=\"o\",E67=\"o\",F64=\"o\",F65=\"o\",F66=\"o\",F67=\"x\"),\"x\",IF(OR(F67=\"o\",AND(C67=\"x\",D67=\"x\",E67=\"x\"),AND(F64=\"x\",F65=\"x\",F66=\"x\")),\"o\",\"\"))","v":""}]
[]
[null,"Réponses :",null,null,null,null,{"$f":"G54","v":"Fanion"},null,null,null,{"$f":"K54","v":"Classement"},null,null,null,null,null,{"$f":"C54","v":"Âge"},null,null,null,{"$f":"G54","v":"Fanion"},null,null,null,{"$f":"K54","v":"Classement"}]
[null,{"$f":"B56","v":"Loups"},{"$f":"IF(C56=\"o\",C55,IF(D56=\"o\",D55,IF(E56=\"o\",E55,IF(F56=\"o\",F55,\"\"))))","v":""},null,null,null,{"$f":"IF(G56=\"o\",G55,IF(H56=\"o\",H55,IF(I56=\"o\",I55,IF(J56=\"o\",J55,\"\"))))","v":""},null,null,null,{"$f":"IF(K56=\"o\",K55,IF(L56=\"o\",L55,IF(M56=\"o\",M55,IF(N56=\"o\",N55,\"\"))))","v":""},null,null,null,null,{"$f":"B56","v":"Loups"},"9 ans",null,null,null,"Vert",null,null,null,"4e"]
[null,{"$f":"B57","v":"Lynx"},{"$f":"IF(C57=\"o\",C55,IF(D57=\"o\",D55,IF(E57=\"o\",E55,IF(F57=\"o\",F55,\"\"))))","v":""},null,null,null,{"$f":"IF(G57=\"o\",G55,IF(H57=\"o\",H55,IF(I57=\"o\",I55,IF(J57=\"o\",J55,\"\"))))","v":""},null,null,null,{"$f":"IF(K57=\"o\",K55,IF(L57=\"o\",L55,IF(M57=\"o\",M55,IF(N57=\"o\",N55,\"\"))))","v":""},null,null,null,null,{"$f":"B57","v":"Lynx"},"8 ans",null,null,null,"Rouge",null,null,null,"3e"]
[null,{"$f":"B58","v":"Renards"},{"$f":"IF(C58=\"o\",C55,IF(D58=\"o\",D55,IF(E58=\"o\",E55,IF(F58=\"o\",F55,\"\"))))","v":""},null,null,null,{"$f":"IF(G58=\"o\",G55,IF(H58=\"o\",H55,IF(I58=\"o\",I55,IF(J58=\"o\",J55,\"\"))))","v":""},null,null,null,{"$f":"IF(K58=\"o\",K55,IF(L58=\"o\",L55,IF(M58=\"o\",M55,IF(N58=\"o\",N55,\"\"))))","v":""},null,null,null,null,{"$f":"B58","v":"Renards"},"10 ans",null,null,null,"Jaune",null,null,null,"1e"]
[null,{"$f":"B59","v":"Lions"},{"$f":"IF(C59=\"o\",C55,IF(D59=\"o\",D55,IF(E59=\"o\",E55,IF(F59=\"o\",F55,\"\"))))","v":""},null,null,null,{"$f":"IF(G59=\"o\",G55,IF(H59=\"o\",H55,IF(I59=\"o\",I55,IF(J59=\"o\",J55,\"\"))))","v":""},null,null,null,{"$f":"IF(K59=\"o\",K55,IF(L59=\"o\",L55,IF(M59=\"o\",M55,IF(N59=\"o\",N55,\"\"))))","v":""},null,null,null,null,{"$f":"B59","v":"Lions"},"11 ans",null,null,null,"Bleu",null,null,null,"2e"]
[]
[]
["XIV°/  Fashion mode :"]
[{"$f":"INDIRECT(\"'Calculs 4 indices'!B\"&A80)","v":""},null,null,null,null,null,null,null,null,null,null,null,null,{"$f":"INDIRECT(\"'Calculs 4 indices'!M\"&(A80+16))","v":""}]
[{"$f":"INDIRECT(\"'Calculs 4 indices'!B\"&(A80+26))","v":""},null,null,null,null,null,null,null,null,null,null,null,null,{"$f":"INDIRECT(\"'Calculs 4 indices'!M\"&(A80+17))","v":""}]
[null,null,"Casquette",null,null,null,{"$f":"A89","v":"T-shirt"},null,null,null,{"$f":"A85","v":"Pantalon"},null,null,null,null,null,null,null,null,null,null,null,null,null,null,null,null,null,null,null,{"$f":"C79","v":"Casquette"},null,null,null,{"$f":"G79","v":"T-shirt"},null,null,null,{"$f":"K79","v":"Pantalon"}]
[{"$f":"A55+52","v":157},null,"Blanche","Jaune","Rose","Rouge",{"$f":"B89","v":"Blanc"},{"$f":"B90","v":"Bleu"},{"$f":"B91","v":"Orange"},{"$f":"B92","v":"Rouge"},{"$f":"B85","v":"Bleu"},{"$f":"B86","v":"Rose"},{"$f":"B87","v":"Vert"},{"$f":"B88","v":"Blanc"},null,"Lola, Lise, Nina et Inès se promènent. Leurs pantalons sont : blanc, bleu, rose et vert. Leurs t-shirts sont : blanc, bleu, orange et rouge. Et leurs casquettes sont : blanche, jaune, rose et rouge.",null,null,null,null,null,null,null,null,null,null,null,null,null,null,{"$f":"C80","v":"Blanche"},{"$f":"D80","v":"Jaune"},{"$f":"E80","v":"Rose"},{"$f":"F80","v":"Rouge"},{"$f":"G80","v":"Blanc"},{"$f":"H80","v":"Bleu"},{"$f":"I80","v":"Orange"},{"$f":"J80","v":"Rouge"},{"$f":"K80","v":"Bleu"},{"$f":"L80","v":"Rose"},{"$f":"M80","v":"Vert"},{"$f":"N80","v":"Blanc"}]
["Prénom","Lola",null,null,null,null,null,null,null,null,null,null,null,null,null,null,null,null,null,null,null,null,null,null,null,null,null,null,{"$f":"A81","v":"Prénom"},{"$f":"B81","v":"Lola"},{"$f":"IF(OR(D81=\"o\",E81=\"o\",F81=\"o\",C82=\"o\",C83=\"o\",C84=\"o\",C81=\"x\"),\"x\",IF(OR(C81=\"o\",AND(D81=\"x\",E81=\"x\",F81=\"x\"),AND(C82=\"x\",C83=\"x\",C84=\"x\")),\"o\",\"\"))","v":""},{"$f":"IF(OR(C81=\"o\",E81=\"o\",F81=\"o\",D82=\"o\",D83=\"o\",D84=\"o\",D81=\"x\"),\"x\",IF(OR(D81=\"o\",AND(C81=\"x\",E81=\"x\",F81=\"x\"),AND(D82=\"x\",D83=\"x\",D84=\"x\")),\"o\",\"\"))","v":""},{"$f":"IF(OR(C81=\"o\",D81=\"o\",F81=\"o\",E82=\"o\",E83=\"o\",E84=\"o\",E81=\"x\"),\"x\",IF(OR(E81=\"o\",AND(C81=\"x\",D81=\"x\",F81=\"x\"),AND(E82=\"x\",E83=\"x\",E84=\"x\")),\"o\",\"\"))","v":""},{"$f":"IF(OR(C81=\"o\",D81=\"o\",E81=\"o\",F82=\"o\",F83=\"o\",F84=\"o\",F81=\"x\"),\"x\",IF(OR(F81=\"o\",AND(C81=\"x\",D81=\"x\",E81=\"x\"),AND(F82=\"x\",F83=\"x\",F84=\"x\")),\"o\",\"\"))","v":""},{"$f":"IF(OR(H81=\"o\",I81=\"o\",J81=\"o\",G82=\"o\",G83=\"o\",G84=\"o\",G81=\"x\"),\"x\",IF(OR(G81=\"o\",AND(H81=\"x\",I81=\"x\",J81=\"x\"),AND(G82=\"x\",G83=\"x\",G84=\"x\")),\"o\",\"\"))","v":""},{"$f":"IF(OR(G81=\"o\",I81=\"o\",J81=\"o\",H82=\"o\",H83=\"o\",H84=\"o\",H81=\"x\"),\"x\",IF(OR(H81=\"o\",AND(G81=\"x\",I81=\"x\",J81=\"x\"),AND(H82=\"x\",H83=\"x\",H84=\"x\")),\"o\",\"\"))","v":""},{"$f":"IF(OR(G81=\"o\",H81=\"o\",J81=\"o\",I82=\"o\",I83=\"o\",I84=\"o\",I81=\"x\"),\"x\",IF(OR(I81=\"o\",AND(G81=\"x\",H81=\"x\",J81=\"x\"),AND(I82=\"x\",I83=\"x\",I84=\"x\")),\"o\",\"\"))","v":""},{"$f":"IF(OR(G81=\"o\",H81=\"o\",I81=\"o\",J82=\"o\",J83=\"o\",J84=\"o\",J81=\"x\"),\"x\",IF(OR(J81=\"o\",AND(G81=\"x\",H81=\"x\",I81=\"x\"),AND(J82=\"x\",J83=\"x\",J84=\"x\")),\"o\",\"\"))","v":""},{"$f":"IF(OR(L81=\"o\",M81=\"o\",N81=\"o\",K82=\"o\",K83=\"o\",K84=\"o\",K81=\"x\"),\"x\",IF(OR(K81=\"o\",AND(L81=\"x\",M81=\"x\",N81=\"x\"),AND(K82=\"x\",K83=\"x\",K84=\"x\")),\"o\",\"\"))","v":""},{"$f":"IF(OR(K81=\"o\",M81=\"o\",N81=\"o\",L82=\"o\",L83=\"o\",L84=\"o\",L81=\"x\"),\"x\",IF(OR(L81=\"o\",AND(K81=\"x\",M81=\"x\",N81=\"x\"),AND(L82=\"x\",L83=\"x\",L84=\"x\")),\"o\",\"\"))","v":""},{"$f":"IF(OR(K81=\"o\",L81=\"o\",N81=\"o\",M82=\"o\",M83=\"o\",M84=\"o\",M81=\"x\"),\"x\",IF(OR(M81=\"o\",AND(K81=\"x\",L81=\"x\",N81=\"x\"),AND(M82=\"x\",M83=\"x\",M84=\"x\")),\"o\",\"\"))","v":""},{"$f":"IF(OR(K81=\"o\",L81=\"o\",M81=\"o\",N82=\"o\",N83=\"o\",N84=\"o\",N81=\"x\"),\"x\",IF(OR(N81=\"o\",AND(K81=\"x\",L81=\"x\",M81=\"x\"),AND(N82=\"x\",N83=\"x\",N84=\"x\")),\"o\",\"\"))","v":""}]
[null,"Lise",null,null,null,null,null,null,null,null,null,null,null,null,null,"1°/ Lola a un t-shirt et une casquette de la même couleur.",null,null,null,null,null,null,null,null,null,null,null,null,null,{"$f":"B82","v":"Lise"},{"$f":"IF(OR(D82=\"o\",E82=\"o\",F82=\"o\",C81=\"o\",C83=\"o\",C84=\"o\",C82=\"x\"),\"x\",IF(OR(C82=\"o\",AND(D82=\"x\",E82=\"x\",F82=\"x\"),AND(C81=\"x\",C83=\"x\",C84=\"x\")),\"o\",\"\"))","v":""},{"$f":"IF(OR(C82=\"o\",E82=\"o\",F82=\"o\",D81=\"o\",D83=\"o\",D84=\"o\",D82=\"x\"),\"x\",IF(OR(D82=\"o\",AND(C82=\"x\",E82=\"x\",F82=\"x\"),AND(D81=\"x\",D83=\"x\",D84=\"x\")),\"o\",\"\"))","v":""},{"$f":"IF(OR(C82=\"o\",D82=\"o\",F82=\"o\",E81=\"o\",E83=\"o\",E84=\"o\",E82=\"x\"),\"x\",IF(OR(E82=\"o\",AND(C82=\"x\",D82=\"x\",F82=\"x\"),AND(E81=\"x\",E83=\"x\",E84=\"x\")),\"o\",\"\"))","v":""},{"$f":"IF(OR(C82=\"o\",D82=\"o\",E82=\"o\",F81=\"o\",F83=\"o\",F84=\"o\",F82=\"x\"),\"x\",IF(OR(F82=\"o\",AND(C82=\"x\",D82=\"x\",E82=\"x\"),AND(F81=\"x\",F83=\"x\",F84=\"x\")),\"o\",\"\"))","v":""},{"$f":"IF(OR(H82=\"o\",I82=\"o\",J82=\"o\",G81=\"o\",G83=\"o\",G84=\"o\",G82=\"x\"),\"x\",IF(OR(G82=\"o\",AND(H82=\"x\",I82=\"x\",J82=\"x\"),AND(G81=\"x\",G83=\"x\",G84=\"x\")),\"o\",\"\"))","v":""},{"$f":"IF(OR(G82=\"o\",I82=\"o\",J82=\"o\",H81=\"o\",H83=\"o\",H84=\"o\",H82=\"x\"),\"x\",IF(OR(H82=\"o\",AND(G82=\"x\",I82=\"x\",J82=\"x\"),AND(H81=\"x\",H83=\"x\",H84=\"x\")),\"o\",\"\"))","v":""},{"$f":"IF(OR(G82=\"o\",H82=\"o\",J82=\"o\",I81=\"o\",I83=\"o\",I84=\"o\",I82=\"x\"),\"x\",IF(OR(I82=\"o\",AND(G82=\"x\",H82=\"x\",J82=\"x\"),AND(I81=\"x\",I83=\"x\",I84=\"x\")),\"o\",\"\"))","v":""},{"$f":"IF(OR(G82=\"o\",H82=\"o\",I82=\"o\",J81=\"o\",J83=\"o\",J84=\"o\",J82=\"x\"),\"x\",IF(OR(J82=\"o\",AND(G82=\"x\",H82=\"x\",I82=\"x\"),AND(J81=\"x\",J83=\"x\",J84=\"x\")),\"o\",\"\"))","v":""},{"$f":"IF(OR(L82=\"o\",M82=\"o\",N82=\"o\",K81=\"o\",K83=\"o\",K84=\"o\",K82=\"x\"),\"x\",IF(OR(K82=\"o\",AND(L82=\"x\",M82=\"x\",N82=\"x\"),AND(K81=\"x\",K83=\"x\",K84=\"x\")),\"o\",\"\"))","v":""},{"$f":"IF(OR(K82=\"o\",M82=\"o\",N82=\"o\",L81=\"o\",L83=\"o\",L84=\"o\",L82=\"x\"),\"x\",IF(OR(L82=\"o\",AND(K82=\"x\",M82=\"x\",N82=\"x\"),AND(L81=\"x\",L83=\"x\",L84=\"x\")),\"o\",\"\"))","v":""},{"$f":"IF(OR(K82=\"o\",L82=\"o\",N82=\"o\",M81=\"o\",M83=\"o\",M84=\"o\",M82=\"x\"),\"x\",IF(OR(M82=\"o\",AND(K82=\"x\",L82=\"x\",N82=\"x\"),AND(M81=\"x\",M83=\"x\",M84=\"x\")),\"o\",\"\"))","v":""},{"$f":"IF(OR(K82=\"o\",L82=\"o\",M82=\"o\",N81=\"o\",N83=\"o\",N84=\"o\",N82=\"x\"),\"x\",IF(OR(N82=\"o\",AND(K82=\"x\",L82=\"x\",M82=\"x\"),AND(N81=\"x\",N83=\"x\",N84=\"x\")),\"o\",\"\"))","v":""}]
[null,"Ninon",null,null,null,null,null,null,null,null,null,null,null,null,null,"2°/ Le pantalon de Ninon est de la même couleur que le ",null,null,null,null,null,null,null,null,null,null,null,null,null,"Ninon",{"$f":"IF(OR(D83=\"o\",E83=\"o\",F83=\"o\",C81=\"o\",C82=\"o\",C84=\"o\",C83=\"x\"),\"x\",IF(OR(C83=\"o\",AND(D83=\"x\",E83=\"x\",F83=\"x\"),AND(C81=\"x\",C82=\"x\",C84=\"x\")),\"o\",\"\"))","v":""},{"$f":"IF(OR(C83=\"o\",E83=\"o\",F83=\"o\",D81=\"o\",D82=\"o\",D84=\"o\",D83=\"x\"),\"x\",IF(OR(D83=\"o\",AND(C83=\"x\",E83=\"x\",F83=\"x\"),AND(D81=\"x\",D82=\"x\",D84=\"x\")),\"o\",\"\"))","v":""},{"$f":"IF(OR(C83=\"o\",D83=\"o\",F83=\"o\",E81=\"o\",E82=\"o\",E84=\"o\",E83=\"x\"),\"x\",IF(OR(E83=\"o\",AND(C83=\"x\",D83=\"x\",F83=\"x\"),AND(E81=\"x\",E82=\"x\",E84=\"x\")),\"o\",\"\"))","v":""},{"$f":"IF(OR(C83=\"o\",D83=\"o\",E83=\"o\",F81=\"o\",F82=\"o\",F84=\"o\",F83=\"x\"),\"x\",IF(OR(F83=\"o\",AND(C83=\"x\",D83=\"x\",E83=\"x\"),AND(F81=\"x\",F82=\"x\",F84=\"x\")),\"o\",\"\"))","v":""},{"$f":"IF(OR(H83=\"o\",I83=\"o\",J83=\"o\",G81=\"o\",G82=\"o\",G84=\"o\",G83=\"x\"),\"x\",IF(OR(G83=\"o\",AND(H83=\"x\",I83=\"x\",J83=\"x\"),AND(G81=\"x\",G82=\"x\",G84=\"x\")),\"o\",\"\"))","v":""},{"$f":"IF(OR(G83=\"o\",I83=\"o\",J83=\"o\",H81=\"o\",H82=\"o\",H84=\"o\",H83=\"x\"),\"x\",IF(OR(H83=\"o\",AND(G83=\"x\",I83=\"x\",J83=\"x\"),AND(H81=\"x\",H82=\"x\",H84=\"x\")),\"o\",\"\"))","v":""},{"$f":"IF(OR(G83=\"o\",H83=\"o\",J83=\"o\",I81=\"o\",I82=\"o\",I84=\"o\",I83=\"x\"),\"x\",IF(OR(I83=\"o\",AND(G83=\"x\",H83=\"x\",J83=\"x\"),AND(I81=\"x\",I82=\"x\",I84=\"x\")),\"o\",\"\"))","v":""},{"$f":"IF(OR(G83=\"o\",H83=\"o\",I83=\"o\",J81=\"o\",J82=\"o\",J84=\"o\",J83=\"x\"),\"x\",IF(OR(J83=\"o\",AND(G83=\"x\",H83=\"x\",I83=\"x\"),AND(J81=\"x\",J82=\"x\",J84=\"x\")),\"o\",\"\"))","v":""},{"$f":"IF(OR(L83=\"o\",M83=\"o\",N83=\"o\",K81=\"o\",K82=\"o\",K84=\"o\",K83=\"x\"),\"x\",IF(OR(K83=\"o\",AND(L83=\"x\",M83=\"x\",N83=\"x\"),AND(K81=\"x\",K82=\"x\",K84=\"x\")),\"o\",\"\"))","v":""},{"$f":"IF(OR(K83=\"o\",M83=\"o\",N83=\"o\",L81=\"o\",L82=\"o\",L84=\"o\",L83=\"x\"),\"x\",IF(OR(L83=\"o\",AND(K83=\"x\",M83=\"x\",N83=\"x\"),AND(L81=\"x\",L82=\"x\",L84=\"x\")),\"o\",\"\"))","v":""},{"$f":"IF(OR(K83=\"o\",L83=\"o\",N83=\"o\",M81=\"o\",M82=\"o\",M84=\"o\",M83=\"x\"),\"x\",IF(OR(M83=\"o\",AND(K83=\"x\",L83=\"x\",N83=\"x\"),AND(M81=\"x\",M82=\"x\",M84=\"x\")),\"o\",\"\"))","v":""},{"$f":"IF(OR(K83=\"o\",L83=\"o\",M83=\"o\",N81=\"o\",N82=\"o\",N84=\"o\",N83=\"x\"),\"x\",IF(OR(N83=\"o\",AND(K83=\"x\",L83=\"x\",M83=\"x\"),AND(N81=\"x\",N82=\"x\",N84=\"x\")),\"o\",\"\"))","v":""}]
[null,"Inès",null,null,null,null,null,null,null,null,null,null,null,null,null,"t-shirt d’Inès. ",null,null,null,null,null,null,null,null,null,null,null,null,null,"Inès",{"$f":"IF(OR(D84=\"o\",E84=\"o\",F84=\"o\",C81=\"o\",C82=\"o\",C83=\"o\",C84=\"x\"),\"x\",IF(OR(C84=\"o\",AND(D84=\"x\",E84=\"x\",F84=\"x\"),AND(C81=\"x\",C82=\"x\",C83=\"x\")),\"o\",\"\"))","v":""},{"$f":"IF(OR(C84=\"o\",E84=\"o\",F84=\"o\",D81=\"o\",D82=\"o\",D83=\"o\",D84=\"x\"),\"x\",IF(OR(D84=\"o\",AND(C84=\"x\",E84=\"x\",F84=\"x\"),AND(D81=\"x\",D82=\"x\",D83=\"x\")),\"o\",\"\"))","v":""},{"$f":"IF(OR(C84=\"o\",D84=\"o\",F84=\"o\",E81=\"o\",E82=\"o\",E83=\"o\",E84=\"x\"),\"x\",IF(OR(E84=\"o\",AND(C84=\"x\",D84=\"x\",F84=\"x\"),AND(E81=\"x\",E82=\"x\",E83=\"x\")),\"o\",\"\"))","v":""},{"$f":"IF(OR(C84=\"o\",D84=\"o\",E84=\"o\",F81=\"o\",F82=\"o\",F83=\"o\",F84=\"x\"),\"x\",IF(OR(F84=\"o\",AND(C84=\"x\",D84=\"x\",E84=\"x\"),AND(F81=\"x\",F82=\"x\",F83=\"x\")),\"o\",\"\"))","v":""},{"$f":"IF(OR(H84=\"o\",I84=\"o\",J84=\"o\",G81=\"o\",G82=\"o\",G83=\"o\",G84=\"x\"),\"x\",IF(OR(G84=\"o\",AND(H84=\"x\",I84=\"x\",J84=\"x\"),AND(G81=\"x\",G82=\"x\",G83=\"x\")),\"o\",\"\"))","v":""},{"$f":"IF(OR(G84=\"o\",I84=\"o\",J84=\"o\",H81=\"o\",H82=\"o\",H83=\"o\",H84=\"x\"),\"x\",IF(OR(H84=\"o\",AND(G84=\"x\",I84=\"x\",J84=\"x\"),AND(H81=\"x\",H82=\"x\",H83=\"x\")),\"o\",\"\"))","v":""},{"$f":"IF(OR(G84=\"o\",H84=\"o\",J84=\"o\",I81=\"o\",I82=\"o\",I83=\"o\",I84=\"x\"),\"x\",IF(OR(I84=\"o\",AND(G84=\"x\",H84=\"x\",J84=\"x\"),AND(I81=\"x\",I82=\"x\",I83=\"x\")),\"o\",\"\"))","v":""},{"$f":"IF(OR(G84=\"o\",H84=\"o\",I84=\"o\",J81=\"o\",J82=\"o\",J83=\"o\",J84=\"x\"),\"x\",IF(OR(J84=\"o\",AND(G84=\"x\",H84=\"x\",I84=\"x\"),AND(J81=\"x\",J82=\"x\",J83=\"x\")),\"o\",\"\"))","v":""},{"$f":"IF(OR(L84=\"o\",M84=\"o\",N84=\"o\",K81=\"o\",K82=\"o\",K83=\"o\",K84=\"x\"),\"x\",IF(OR(K84=\"o\",AND(L84=\"x\",M84=\"x\",N84=\"x\"),AND(K81=\"x\",K82=\"x\",K83=\"x\")),\"o\",\"\"))","v":""},{"$f":"IF(OR(K84=\"o\",M84=\"o\",N84=\"o\",L81=\"o\",L82=\"o\",L83=\"o\",L84=\"x\"),\"x\",IF(OR(L84=\"o\",AND(K84=\"x\",M84=\"x\",N84=\"x\"),AND(L81=\"x\",L82=\"x\",L83=\"x\")),\"o\",\"\"))","v":""},{"$f":"IF(OR(K84=\"o\",L84=\"o\",N84=\"o\",M81=\"o\",M82=\"o\",M83=\"o\",M84=\"x\"),\"x\",IF(OR(M84=\"o\",AND(K84=\"x\",L84=\"x\",N84=\"x\"),AND(M81=\"x\",M82=\"x\",M83=\"x\")),\"o\",\"\"))","v":""},{"$f":"IF(OR(K84=\"o\",L84=\"o\",M84=\"o\",N81=\"o\",N82=\"o\",N83=\"o\",N84=\"x\"),\"x\",IF(OR(N84=\"o\",AND(K84=\"x\",L84=\"x\",M84=\"x\"),AND(N81=\"x\",N82=\"x\",N83=\"x\")),\"o\",\"\"))","v":""}]
["Pantalon","Bleu",null,null,null,null,null,null,null,null,null,null,null,null,null,"3°/ La fillette qui porte un pantalon vert a mis une ",null,null,null,null,null,null,null,null,null,null,null,null,{"$f":"A85","v":"Pantalon"},"Bleu",{"$f":"IF(OR(D85=\"o\",E85=\"o\",F85=\"o\",C86=\"o\",C87=\"o\",C88=\"o\",C85=\"x\"),\"x\",IF(OR(C85=\"o\",AND(D85=\"x\",E85=\"x\",F85=\"x\"),AND(C86=\"x\",C87=\"x\",C88=\"x\")),\"o\",\"\"))","v":""},{"$f":"IF(OR(C85=\"o\",E85=\"o\",F85=\"o\",D86=\"o\",D87=\"o\",D88=\"o\",D85=\"x\"),\"x\",IF(OR(D85=\"o\",AND(C85=\"x\",E85=\"x\",F85=\"x\"),AND(D86=\"x\",D87=\"x\",D88=\"x\")),\"o\",\"\"))","v":""},{"$f":"IF(OR(C85=\"o\",D85=\"o\",F85=\"o\",E86=\"o\",E87=\"o\",E88=\"o\",E85=\"x\"),\"x\",IF(OR(E85=\"o\",AND(C85=\"x\",D85=\"x\",F85=\"x\"),AND(E86=\"x\",E87=\"x\",E88=\"x\")),\"o\",\"\"))","v":""},{"$f":"IF(OR(C85=\"o\",D85=\"o\",E85=\"o\",F86=\"o\",F87=\"o\",F88=\"o\",F85=\"x\"),\"x\",IF(OR(F85=\"o\",AND(C85=\"x\",D85=\"x\",E85=\"x\"),AND(F86=\"x\",F87=\"x\",F88=\"x\")),\"o\",\"\"))","v":""},{"$f":"IF(OR(H85=\"o\",I85=\"o\",J85=\"o\",G86=\"o\",G87=\"o\",G88=\"o\",G85=\"x\"),\"x\",IF(OR(G85=\"o\",AND(H85=\"x\",I85=\"x\",J85=\"x\"),AND(G86=\"x\",G87=\"x\",G88=\"x\")),\"o\",\"\"))","v":""},{"$f":"IF(OR(G85=\"o\",I85=\"o\",J85=\"o\",H86=\"o\",H87=\"o\",H88=\"o\",H85=\"x\"),\"x\",IF(OR(H85=\"o\",AND(G85=\"x\",I85=\"x\",J85=\"x\"),AND(H86=\"x\",H87=\"x\",H88=\"x\")),\"o\",\"\"))","v":""},{"$f":"IF(OR(G85=\"o\",H85=\"o\",J85=\"o\",I86=\"o\",I87=\"o\",I88=\"o\",I85=\"x\"),\"x\",IF(OR(I85=\"o\",AND(G85=\"x\",H85=\"x\",J85=\"x\"),AND(I86=\"x\",I87=\"x\",I88=\"x\")),\"o\",\"\"))","v":""},{"$f":"IF(OR(G85=\"o\",H85=\"o\",I85=\"o\",J86=\"o\",J87=\"o\",J88=\"o\",J85=\"x\"),\"x\",IF(OR(J85=\"o\",AND(G85=\"x\",H85=\"x\",I85=\"x\"),AND(J86=\"x\",J87=\"x\",J88=\"x\")),\"o\",\"\"))","v":""}]
[null,"Rose",null,null,null,null,null,null,null,null,null,null,null,null,null,"casquette blanche.",null,null,null,null,null,null,null,null,null,null,null,null,null,"Rose",{"$f":"IF(OR(D86=\"o\",E86=\"o\",F86=\"o\",C85=\"o\",C87=\"o\",C88=\"o\",C86=\"x\"),\"x\",IF(OR(C86=\"o\",AND(D86=\"x\",E86=\"x\",F86=\"x\"),AND(C85=\"x\",C87=\"x\",C88=\"x\")),\"o\",\"\"))","v":""},{"$f":"IF(OR(C86=\"o\",E86=\"o\",F86=\"o\",D85=\"o\",D87=\"o\",D88=\"o\",D86=\"x\"),\"x\",IF(OR(D86=\"o\",AND(C86=\"x\",E86=\"x\",F86=\"x\"),AND(D85=\"x\",D87=\"x\",D88=\"x\")),\"o\",\"\"))","v":""},{"$f":"IF(OR(C86=\"o\",D86=\"o\",F86=\"o\",E85=\"o\",E87=\"o\",E88=\"o\",E86=\"x\"),\"x\",IF(OR(E86=\"o\",AND(C86=\"x\",D86=\"x\",F86=\"x\"),AND(E85=\"x\",E87=\"x\",E88=\"x\")),\"o\",\"\"))","v":""},{"$f":"IF(OR(C86=\"o\",D86=\"o\",E86=\"o\",F85=\"o\",F87=\"o\",F88=\"o\",F86=\"x\"),\"x\",IF(OR(F86=\"o\",AND(C86=\"x\",D86=\"x\",E86=\"x\"),AND(F85=\"x\",F87=\"x\",F88=\"x\")),\"o\",\"\"))","v":""},{"$f":"IF(OR(H86=\"o\",I86=\"o\",J86=\"o\",G85=\"o\",G87=\"o\",G88=\"o\",G86=\"x\"),\"x\",IF(OR(G86=\"o\",AND(H86=\"x\",I86=\"x\",J86=\"x\"),AND(G85=\"x\",G87=\"x\",G88=\"x\")),\"o\",\"\"))","v":""},{"$f":"IF(OR(G86=\"o\",I86=\"o\",J86=\"o\",H85=\"o\",H87=\"o\",H88=\"o\",H86=\"x\"),\"x\",IF(OR(H86=\"o\",AND(G86=\"x\",I86=\"x\",J86=\"x\"),AND(H85=\"x\",H87=\"x\",H88=\"x\")),\"o\",\"\"))","v":""},{"$f":"IF(OR(G86=\"o\",H86=\"o\",J86=\"o\",I85=\"o\",I87=\"o\",I88=\"o\",I86=\"x\"),\"x\",IF(OR(I86=\"o\",AND(G86=\"x\",H86=\"x\",J86=\"x\"),AND(I85=\"x\",I87=\"x\",I88=\"x\")),\"o\",\"\"))","v":""},{"$f":"IF(OR(G86=\"o\",H86=\"o\",I86=\"o\",J85=\"o\",J87=\"o\",J88=\"o\",J86=\"x\"),\"x\",IF(OR(J86=\"o\",AND(G86=\"x\",H86=\"x\",I86=\"x\"),AND(J85=\"x\",J87=\"x\",J88=\"x\")),\"o\",\"\"))","v":""}]
[null,"Vert",null,null,null,null,null,null,null,null,null,null,null,null,null,"4°/ Lise ne met jamais de rose ni de jaune. Elle porte une",null,null,null,null,null,null,null,null,null,null,null,null,null,"Vert",{"$f":"IF(OR(D87=\"o\",E87=\"o\",F87=\"o\",C85=\"o\",C86=\"o\",C88=\"o\",C87=\"x\"),\"x\",IF(OR(C87=\"o\",AND(D87=\"x\",E87=\"x\",F87=\"x\"),AND(C85=\"x\",C86=\"x\",C88=\"x\")),\"o\",\"\"))","v":""},{"$f":"IF(OR(C87=\"o\",E87=\"o\",F87=\"o\",D85=\"o\",D86=\"o\",D88=\"o\",D87=\"x\"),\"x\",IF(OR(D87=\"o\",AND(C87=\"x\",E87=\"x\",F87=\"x\"),AND(D85=\"x\",D86=\"x\",D88=\"x\")),\"o\",\"\"))","v":""},{"$f":"IF(OR(C87=\"o\",D87=\"o\",F87=\"o\",E85=\"o\",E86=\"o\",E88=\"o\",E87=\"x\"),\"x\",IF(OR(E87=\"o\",AND(C87=\"x\",D87=\"x\",F87=\"x\"),AND(E85=\"x\",E86=\"x\",E88=\"x\")),\"o\",\"\"))","v":""},{"$f":"IF(OR(C87=\"o\",D87=\"o\",E87=\"o\",F85=\"o\",F86=\"o\",F88=\"o\",F87=\"x\"),\"x\",IF(OR(F87=\"o\",AND(C87=\"x\",D87=\"x\",E87=\"x\"),AND(F85=\"x\",F86=\"x\",F88=\"x\")),\"o\",\"\"))","v":""},{"$f":"IF(OR(H87=\"o\",I87=\"o\",J87=\"o\",G85=\"o\",G86=\"o\",G88=\"o\",G87=\"x\"),\"x\",IF(OR(G87=\"o\",AND(H87=\"x\",I87=\"x\",J87=\"x\"),AND(G85=\"x\",G86=\"x\",G88=\"x\")),\"o\",\"\"))","v":""},{"$f":"IF(OR(G87=\"o\",I87=\"o\",J87=\"o\",H85=\"o\",H86=\"o\",H88=\"o\",H87=\"x\"),\"x\",IF(OR(H87=\"o\",AND(G87=\"x\",I87=\"x\",J87=\"x\"),AND(H85=\"x\",H86=\"x\",H88=\"x\")),\"o\",\"\"))","v":""},{"$f":"IF(OR(G87=\"o\",H87=\"o\",J87=\"o\",I85=\"o\",I86=\"o\",I88=\"o\",I87=\"x\"),\"x\",IF(OR(I87=\"o\",AND(G87=\"x\",H87=\"x\",J87=\"x\"),AND(I85=\"x\",I86=\"x\",I88=\"x\")),\"o\",\"\"))","v":""},{"$f":"IF(OR(G87=\"o\",H87=\"o\",I87=\"o\",J85=\"o\",J86=\"o\",J88=\"o\",J87=\"x\"),\"x\",IF(OR(J87=\"o\",AND(G87=\"x\",H87=\"x\",I87=\"x\"),AND(J85=\"x\",J86=\"x\",J88=\"x\")),\"o\",\"\"))","v":""}]
[null,"Blanc",null,null,null,null,null,null,null,null,null,null,null,null,null,"casquette de la même couleur que le pantalon d’Inès. ",null,null,null,null,null,null,null,null,null,null,null,null,null,"Blanc",{"$f":"IF(OR(D88=\"o\",E88=\"o\",F88=\"o\",C85=\"o\",C86=\"o\",C87=\"o\",C88=\"x\"),\"x\",IF(OR(C88=\"o\",AND(D88=\"x\",E88=\"x\",F88=\"x\"),AND(C85=\"x\",C86=\"x\",C87=\"x\")),\"o\",\"\"))","v":""},{"$f":"IF(OR(C88=\"o\",E88=\"o\",F88=\"o\",D85=\"o\",D86=\"o\",D87=\"o\",D88=\"x\"),\"x\",IF(OR(D88=\"o\",AND(C88=\"x\",E88=\"x\",F88=\"x\"),AND(D85=\"x\",D86=\"x\",D87=\"x\")),\"o\",\"\"))","v":""},{"$f":"IF(OR(C88=\"o\",D88=\"o\",F88=\"o\",E85=\"o\",E86=\"o\",E87=\"o\",E88=\"x\"),\"x\",IF(OR(E88=\"o\",AND(C88=\"x\",D88=\"x\",F88=\"x\"),AND(E85=\"x\",E86=\"x\",E87=\"x\")),\"o\",\"\"))","v":""},{"$f":"IF(OR(C88=\"o\",D88=\"o\",E88=\"o\",F85=\"o\",F86=\"o\",F87=\"o\",F88=\"x\"),\"x\",IF(OR(F88=\"o\",AND(C88=\"x\",D88=\"x\",E88=\"x\"),AND(F85=\"x\",F86=\"x\",F87=\"x\")),\"o\",\"\"))","v":""},{"$f":"IF(OR(H88=\"o\",I88=\"o\",J88=\"o\",G85=\"o\",G86=\"o\",G87=\"o\",G88=\"x\"),\"x\",IF(OR(G88=\"o\",AND(H88=\"x\",I88=\"x\",J88=\"x\"),AND(G85=\"x\",G86=\"x\",G87=\"x\")),\"o\",\"\"))","v":""},{"$f":"IF(OR(G88=\"o\",I88=\"o\",J88=\"o\",H85=\"o\",H86=\"o\",H87=\"o\",H88=\"x\"),\"x\",IF(OR(H88=\"o\",AND(G88=\"x\",I88=\"x\",J88=\"x\"),AND(H85=\"x\",H86=\"x\",H87=\"x\")),\"o\",\"\"))","v":""},{"$f":"IF(OR(G88=\"o\",H88=\"o\",J88=\"o\",I85=\"o\",I86=\"o\",I87=\"o\",I88=\"x\"),\"x\",IF(OR(I88=\"o\",AND(G88=\"x\",H88=\"x\",J88=\"x\"),AND(I85=\"x\",I86=\"x\",I87=\"x\")),\"o\",\"\"))","v":""},{"$f":"IF(OR(G88=\"o\",H88=\"o\",I88=\"o\",J85=\"o\",J86=\"o\",J87=\"o\",J88=\"x\"),\"x\",IF(OR(J88=\"o\",AND(G88=\"x\",H88=\"x\",I88=\"x\"),AND(J85=\"x\",J86=\"x\",J87=\"x\")),\"o\",\"\"))","v":""}]
["T-shirt","Blanc",null,null,null,null,null,null,null,null,null,null,null,null,null,"5°/ Celle qui a mis un pantalon bleu ne porte pas de t-shirt",null,null,null,null,null,null,null,null,null,null,null,null,{"$f":"A89","v":"T-shirt"},"Blanc",{"$f":"IF(OR(D89=\"o\",E89=\"o\",F89=\"o\",C90=\"o\",C91=\"o\",C92=\"o\",C89=\"x\"),\"x\",IF(OR(C89=\"o\",AND(D89=\"x\",E89=\"x\",F89=\"x\"),AND(C90=\"x\",C91=\"x\",C92=\"x\")),\"o\",\"\"))","v":""},{"$f":"IF(OR(C89=\"o\",E89=\"o\",F89=\"o\",D90=\"o\",D91=\"o\",D92=\"o\",D89=\"x\"),\"x\",IF(OR(D89=\"o\",AND(C89=\"x\",E89=\"x\",F89=\"x\"),AND(D90=\"x\",D91=\"x\",D92=\"x\")),\"o\",\"\"))","v":""},{"$f":"IF(OR(C89=\"o\",D89=\"o\",F89=\"o\",E90=\"o\",E91=\"o\",E92=\"o\",E89=\"x\"),\"x\",IF(OR(E89=\"o\",AND(C89=\"x\",D89=\"x\",F89=\"x\"),AND(E90=\"x\",E91=\"x\",E92=\"x\")),\"o\",\"\"))","v":""},{"$f":"IF(OR(C89=\"o\",D89=\"o\",E89=\"o\",F90=\"o\",F91=\"o\",F92=\"o\",F89=\"x\"),\"x\",IF(OR(F89=\"o\",AND(C89=\"x\",D89=\"x\",E89=\"x\"),AND(F90=\"x\",F91=\"x\",F92=\"x\")),\"o\",\"\"))","v":""}]
[null,"Bleu",null,null,null,null,null,{"$f":"IF(AND(C95=Q95,G95=U95,K95=Y95,C96=Q96,G96=U96,K96=Y96,C97=Q97,G97=U97,K97=Y97,C98=Q98,G98=U98,K98=Y98),\"BRAVO !!\",\"\")","v":""},null,null,null,null,null,null,null,"orange ni de casquette jaune.",null,null,null,null,null,null,null,null,null,null,null,null,null,"Bleu",{"$f":"IF(OR(D90=\"o\",E90=\"o\",F90=\"o\",C89=\"o\",C91=\"o\",C92=\"o\",C90=\"x\"),\"x\",IF(OR(C90=\"o\",AND(D90=\"x\",E90=\"x\",F90=\"x\"),AND(C89=\"x\",C91=\"x\",C92=\"x\")),\"o\",\"\"))","v":""},{"$f":"IF(OR(C90=\"o\",E90=\"o\",F90=\"o\",D89=\"o\",D91=\"o\",D92=\"o\",D90=\"x\"),\"x\",IF(OR(D90=\"o\",AND(C90=\"x\",E90=\"x\",F90=\"x\"),AND(D89=\"x\",D91=\"x\",D92=\"x\")),\"o\",\"\"))","v":""},{"$f":"IF(OR(C90=\"o\",D90=\"o\",F90=\"o\",E89=\"o\",E91=\"o\",E92=\"o\",E90=\"x\"),\"x\",IF(OR(E90=\"o\",AND(C90=\"x\",D90=\"x\",F90=\"x\"),AND(E89=\"x\",E91=\"x\",E92=\"x\")),\"o\",\"\"))","v":""},{"$f":"IF(OR(C90=\"o\",D90=\"o\",E90=\"o\",F89=\"o\",F91=\"o\",F92=\"o\",F90=\"x\"),\"x\",IF(OR(F90=\"o\",AND(C90=\"x\",D90=\"x\",E90=\"x\"),AND(F89=\"x\",F91=\"x\",F92=\"x\")),\"o\",\"\"))","v":""}]
[null,"Orange",null,null,null,null,null,null,null,null,null,null,null,null,null,"Donne les couleurs des casquettes, pantalons et t-shirts.",null,null,null,null,null,null,null,null,null,null,null,null,null,"Orange",{"$f":"IF(OR(D91=\"o\",E91=\"o\",F91=\"o\",C89=\"o\",C90=\"o\",C92=\"o\",C91=\"x\"),\"x\",IF(OR(C91=\"o\",AND(D91=\"x\",E91=\"x\",F91=\"x\"),AND(C89=\"x\",C90=\"x\",C92=\"x\")),\"o\",\"\"))","v":""},{"$f":"IF(OR(C91=\"o\",E91=\"o\",F91=\"o\",D89=\"o\",D90=\"o\",D92=\"o\",D91=\"x\"),\"x\",IF(OR(D91=\"o\",AND(C91=\"x\",E91=\"x\",F91=\"x\"),AND(D89=\"x\",D90=\"x\",D92=\"x\")),\"o\",\"\"))","v":""},{"$f":"IF(OR(C91=\"o\",D91=\"o\",F91=\"o\",E89=\"o\",E90=\"o\",E92=\"o\",E91=\"x\"),\"x\",IF(OR(E91=\"o\",AND(C91=\"x\",D91=\"x\",F91=\"x\"),AND(E89=\"x\",E90=\"x\",E92=\"x\")),\"o\",\"\"))","v":""},{"$f":"IF(OR(C91=\"o\",D91=\"o\",E91=\"o\",F89=\"o\",F90=\"o\",F92=\"o\",F91=\"x\"),\"x\",IF(OR(F91=\"o\",AND(C91=\"x\",D91=\"x\",E91=\"x\"),AND(F89=\"x\",F90=\"x\",F92=\"x\")),\"o\",\"\"))","v":""}]
[null,"Rouge",null,null,null,null,null,null,null,null,null,null,null,null,null,null,null,null,null,null,null,null,null,null,null,null,null,null,null,"Rouge",{"$f":"IF(OR(D92=\"o\",E92=\"o\",F92=\"o\",C89=\"o\",C90=\"o\",C91=\"o\",C92=\"x\"),\"x\",IF(OR(C92=\"o\",AND(D92=\"x\",E92=\"x\",F92=\"x\"),AND(C89=\"x\",C90=\"x\",C91=\"x\")),\"o\",\"\"))","v":""},{"$f":"IF(OR(C92=\"o\",E92=\"o\",F92=\"o\",D89=\"o\",D90=\"o\",D91=\"o\",D92=\"x\"),\"x\",IF(OR(D92=\"o\",AND(C92=\"x\",E92=\"x\",F92=\"x\"),AND(D89=\"x\",D90=\"x\",D91=\"x\")),\"o\",\"\"))","v":""},{"$f":"IF(OR(C92=\"o\",D92=\"o\",F92=\"o\",E89=\"o\",E90=\"o\",E91=\"o\",E92=\"x\"),\"x\",IF(OR(E92=\"o\",AND(C92=\"x\",D92=\"x\",F92=\"x\"),AND(E89=\"x\",E90=\"x\",E91=\"x\")),\"o\",\"\"))","v":""},{"$f":"IF(OR(C92=\"o\",D92=\"o\",E92=\"o\",F89=\"o\",F90=\"o\",F91=\"o\",F92=\"x\"),\"x\",IF(OR(F92=\"o\",AND(C92=\"x\",D92=\"x\",E92=\"x\"),AND(F89=\"x\",F90=\"x\",F91=\"x\")),\"o\",\"\"))","v":""}]
[]
[null,"Réponses :",{"$f":"C79","v":"Casquette"},null,null,null,{"$f":"G79","v":"T-shirt"},null,null,null,{"$f":"K79","v":"Pantalon"},null,null,null,null,null,{"$f":"C79","v":"Casquette"},null,null,null,{"$f":"G79","v":"T-shirt"},null,null,null,{"$f":"K79","v":"Pantalon"}]
[null,{"$f":"B81","v":"Lola"},{"$f":"IF(C81=\"o\",C80,IF(D81=\"o\",D80,IF(E81=\"o\",E80,IF(F81=\"o\",F80,\"\"))))","v":""},null,null,null,{"$f":"IF(G81=\"o\",G80,IF(H81=\"o\",H80,IF(I81=\"o\",I80,IF(J81=\"o\",J80,\"\"))))","v":""},null,null,null,{"$f":"IF(K81=\"o\",K80,IF(L81=\"o\",L80,IF(M81=\"o\",M80,IF(N81=\"o\",N80,\"\"))))","v":""},null,null,null,null,{"$f":"B81","v":"Lola"},"Rouge",null,null,null,"Rouge",null,null,null,"Rose"]
[null,{"$f":"B82","v":"Lise"},{"$f":"IF(C82=\"o\",C80,IF(D82=\"o\",D80,IF(E82=\"o\",E80,IF(F82=\"o\",F80,\"\"))))","v":""},null,null,null,{"$f":"IF(G82=\"o\",G80,IF(H82=\"o\",H80,IF(I82=\"o\",I80,IF(J82=\"o\",J80,\"\"))))","v":""},null,null,null,{"$f":"IF(K82=\"o\",K80,IF(L82=\"o\",L80,IF(M82=\"o\",M80,IF(N82=\"o\",N80,\"\"))))","v":""},null,null,null,null,{"$f":"B82","v":"Lise"},"Blanche",null,null,null,"Orange",null,null,null,"Vert"]
[null,{"$f":"B83","v":"Ninon"},{"$f":"IF(C83=\"o\",C80,IF(D83=\"o\",D80,IF(E83=\"o\",E80,IF(F83=\"o\",F80,\"\"))))","v":""},null,null,null,{"$f":"IF(G83=\"o\",G80,IF(H83=\"o\",H80,IF(I83=\"o\",I80,IF(J83=\"o\",J80,\"\"))))","v":""},null,null,null,{"$f":"IF(K83=\"o\",K80,IF(L83=\"o\",L80,IF(M83=\"o\",M80,IF(N83=\"o\",N80,\"\"))))","v":""},null,null,null,null,{"$f":"B83","v":"Ninon"},"Rose",null,null,null,"Blanc",null,null,null,"Bleu"]
[null,{"$f":"B84","v":"Inès"},{"$f":"IF(C84=\"o\",C80,IF(D84=\"o\",D80,IF(E84=\"o\",E80,IF(F84=\"o\",F80,\"\"))))","v":""},null,null,null,{"$f":"IF(G84=\"o\",G80,IF(H84=\"o\",H80,IF(I84=\"o\",I80,IF(J84=\"o\",J80,\"\"))))","v":""},null,null,null,{"$f":"IF(K84=\"o\",K80,IF(L84=\"o\",L80,IF(M84=\"o\",M80,IF(N84=\"o\",N80,\"\"))))","v":""},null,null,null,null,{"$f":"B84","v":"Inès"},"Jaune",null,null,null,"Bleu",null,null,null,"Blanc"]
[]
[]
["XV°/ Divisibles :"]
[{"$f":"INDIRECT(\"'Calculs 4 indices'!B\"&A105)","v":""},null,null,null,null,null,null,null,null,null,null,null,null,{"$f":"INDIRECT(\"'Calculs 4 indices'!M\"&(A105+16))","v":""}]
[{"$f":"INDIRECT(\"'Calculs 4 indices'!B\"&(A105+26))","v":""},null,null,null,null,null,null,null,null,null,null,null,null,{"$f":"INDIRECT(\"'Calculs 4 indices'!M\"&(A105+17))","v":""}]
[null,null,"Classement",null,null,null,{"$f":"A114","v":"Diviseur"},null,null,null,{"$f":"A110","v":"Unité"},null,null,null,null,null,null,null,null,null,null,null,null,null,null,null,null,null,null,null,{"$f":"C104","v":"Classement"},null,null,null,{"$f":"G104","v":"Diviseur"},null,null,null,{"$f":"K104","v":"Unité"}]
[{"$f":"A80+52","v":209},null,"1e","2e","3e","4e",{"$f":"B114","v":3},{"$f":"B115","v":7},{"$f":"B116","v":11},{"$f":"B117","v":13},{"$f":"B110","v":2},{"$f":"B111","v":5},{"$f":"B112","v":6},{"$f":"B113","v":8},null,"Retrouvez les 4 entiers naturels A, B, C et D qui sont compris entre 0 et 60 en déterminant le diviseur et le chiffre des unités de chacun d'eux ainsi que leur rang si on les range du plus petit au plus grand.",null,null,null,null,null,null,null,null,null,null,null,null,null,null,{"$f":"C105","v":"1e"},{"$f":"D105","v":"2e"},{"$f":"E105","v":"3e"},{"$f":"F105","v":"4e"},{"$f":"G105","v":3},{"$f":"H105","v":7},{"$f":"I105","v":11},{"$f":"J105","v":13},{"$f":"K105","v":2},{"$f":"L105","v":5},{"$f":"M105","v":6},{"$f":"N105","v":8}]
["Entier","A",null,null,null,null,null,null,null,null,null,null,null,null,null,null,null,null,null,null,null,null,null,null,null,null,null,null,{"$f":"A106","v":"Entier"},{"$f":"B106","v":"A"},{"$f":"IF(OR(D106=\"o\",E106=\"o\",F106=\"o\",C107=\"o\",C108=\"o\",C109=\"o\",C106=\"x\"),\"x\",IF(OR(C106=\"o\",AND(D106=\"x\",E106=\"x\",F106=\"x\"),AND(C107=\"x\",C108=\"x\",C109=\"x\")),\"o\",\"\"))","v":""},{"$f":"IF(OR(C106=\"o\",E106=\"o\",F106=\"o\",D107=\"o\",D108=\"o\",D109=\"o\",D106=\"x\"),\"x\",IF(OR(D106=\"o\",AND(C106=\"x\",E106=\"x\",F106=\"x\"),AND(D107=\"x\",D108=\"x\",D109=\"x\")),\"o\",\"\"))","v":""},{"$f":"IF(OR(C106=\"o\",D106=\"o\",F106=\"o\",E107=\"o\",E108=\"o\",E109=\"o\",E106=\"x\"),\"x\",IF(OR(E106=\"o\",AND(C106=\"x\",D106=\"x\",F106=\"x\"),AND(E107=\"x\",E108=\"x\",E109=\"x\")),\"o\",\"\"))","v":""},{"$f":"IF(OR(C106=\"o\",D106=\"o\",E106=\"o\",F107=\"o\",F108=\"o\",F109=\"o\",F106=\"x\"),\"x\",IF(OR(F106=\"o\",AND(C106=\"x\",D106=\"x\",E106=\"x\"),AND(F107=\"x\",F108=\"x\",F109=\"x\")),\"o\",\"\"))","v":""},{"$f":"IF(OR(H106=\"o\",I106=\"o\",J106=\"o\",G107=\"o\",G108=\"o\",G109=\"o\",G106=\"x\"),\"x\",IF(OR(G106=\"o\",AND(H106=\"x\",I106=\"x\",J106=\"x\"),AND(G107=\"x\",G108=\"x\",G109=\"x\")),\"o\",\"\"))","v":""},{"$f":"IF(OR(G106=\"o\",I106=\"o\",J106=\"o\",H107=\"o\",H108=\"o\",H109=\"o\",H106=\"x\"),\"x\",IF(OR(H106=\"o\",AND(G106=\"x\",I106=\"x\",J106=\"x\"),AND(H107=\"x\",H108=\"x\",H109=\"x\")),\"o\",\"\"))","v":""},{"$f":"IF(OR(G106=\"o\",H106=\"o\",J106=\"o\",I107=\"o\",I108=\"o\",I109=\"o\",I106=\"x\"),\"x\",IF(OR(I106=\"o\",AND(G106=\"x\",H106=\"x\",J106=\"x\"),AND(I107=\"x\",I108=\"x\",I109=\"x\")),\"o\",\"\"))","v":""},{"$f":"IF(OR(G106=\"o\",H106=\"o\",I106=\"o\",J107=\"o\",J108=\"o\",J109=\"o\",J106=\"x\"),\"x\",IF(OR(J106=\"o\",AND(G106=\"x\",H106=\"x\",I106=\"x\"),AND(J107=\"x\",J108=\"x\",J109=\"x\")),\"o\",\"\"))","v":""},{"$f":"IF(OR(L106=\"o\",M106=\"o\",N106=\"o\",K107=\"o\",K108=\"o\",K109=\"o\",K106=\"x\"),\"x\",IF(OR(K106=\"o\",AND(L106=\"x\",M106=\"x\",N106=\"x\"),AND(K107=\"x\",K108=\"x\",K109=\"x\")),\"o\",\"\"))","v":""},{"$f":"IF(OR(K106=\"o\",M106=\"o\",N106=\"o\",L107=\"o\",L108=\"o\",L109=\"o\",L106=\"x\"),\"x\",IF(OR(L106=\"o\",AND(K106=\"x\",M106=\"x\",N106=\"x\"),AND(L107=\"x\",L108=\"x\",L109=\"x\")),\"o\",\"\"))","v":""},{"$f":"IF(OR(K106=\"o\",L106=\"o\",N106=\"o\",M107=\"o\",M108=\"o\",M109=\"o\",M106=\"x\"),\"x\",IF(OR(M106=\"o\",AND(K106=\"x\",L106=\"x\",N106=\"x\"),AND(M107=\"x\",M108=\"x\",M109=\"x\")),\"o\",\"\"))","v":""},{"$f":"IF(OR(K106=\"o\",L106=\"o\",M106=\"o\",N107=\"o\",N108=\"o\",N109=\"o\",N106=\"x\"),\"x\",IF(OR(N106=\"o\",AND(K106=\"x\",L106=\"x\",M106=\"x\"),AND(N107=\"x\",N108=\"x\",N109=\"x\")),\"o\",\"\"))","v":""}]
[null,"B",null,null,null,null,null,null,null,null,null,null,null,null,null,"1°/ A est multiple de 7, se termine par un chiffre plus",null,null,null,null,null,null,null,null,null,null,null,null,null,{"$f":"B107","v":"B"},{"$f":"IF(OR(D107=\"o\",E107=\"o\",F107=\"o\",C106=\"o\",C108=\"o\",C109=\"o\",C107=\"x\"),\"x\",IF(OR(C107=\"o\",AND(D107=\"x\",E107=\"x\",F107=\"x\"),AND(C106=\"x\",C108=\"x\",C109=\"x\")),\"o\",\"\"))","v":""},{"$f":"IF(OR(C107=\"o\",E107=\"o\",F107=\"o\",D106=\"o\",D108=\"o\",D109=\"o\",D107=\"x\"),\"x\",IF(OR(D107=\"o\",AND(C107=\"x\",E107=\"x\",F107=\"x\"),AND(D106=\"x\",D108=\"x\",D109=\"x\")),\"o\",\"\"))","v":""},{"$f":"IF(OR(C107=\"o\",D107=\"o\",F107=\"o\",E106=\"o\",E108=\"o\",E109=\"o\",E107=\"x\"),\"x\",IF(OR(E107=\"o\",AND(C107=\"x\",D107=\"x\",F107=\"x\"),AND(E106=\"x\",E108=\"x\",E109=\"x\")),\"o\",\"\"))","v":""},{"$f":"IF(OR(C107=\"o\",D107=\"o\",E107=\"o\",F106=\"o\",F108=\"o\",F109=\"o\",F107=\"x\"),\"x\",IF(OR(F107=\"o\",AND(C107=\"x\",D107=\"x\",E107=\"x\"),AND(F106=\"x\",F108=\"x\",F109=\"x\")),\"o\",\"\"))","v":""},{"$f":"IF(OR(H107=\"o\",I107=\"o\",J107=\"o\",G106=\"o\",G108=\"o\",G109=\"o\",G107=\"x\"),\"x\",IF(OR(G107=\"o\",AND(H107=\"x\",I107=\"x\",J107=\"x\"),AND(G106=\"x\",G108=\"x\",G109=\"x\")),\"o\",\"\"))","v":""},{"$f":"IF(OR(G107=\"o\",I107=\"o\",J107=\"o\",H106=\"o\",H108=\"o\",H109=\"o\",H107=\"x\"),\"x\",IF(OR(H107=\"o\",AND(G107=\"x\",I107=\"x\",J107=\"x\"),AND(H106=\"x\",H108=\"x\",H109=\"x\")),\"o\",\"\"))","v":""},{"$f":"IF(OR(G107=\"o\",H107=\"o\",J107=\"o\",I106=\"o\",I108=\"o\",I109=\"o\",I107=\"x\"),\"x\",IF(OR(I107=\"o\",AND(G107=\"x\",H107=\"x\",J107=\"x\"),AND(I106=\"x\",I108=\"x\",I109=\"x\")),\"o\",\"\"))","v":""},{"$f":"IF(OR(G107=\"o\",H107=\"o\",I107=\"o\",J106=\"o\",J108=\"o\",J109=\"o\",J107=\"x\"),\"x\",IF(OR(J107=\"o\",AND(G107=\"x\",H107=\"x\",I107=\"x\"),AND(J106=\"x\",J108=\"x\",J109=\"x\")),\"o\",\"\"))","v":""},{"$f":"IF(OR(L107=\"o\",M107=\"o\",N107=\"o\",K106=\"o\",K108=\"o\",K109=\"o\",K107=\"x\"),\"x\",IF(OR(K107=\"o\",AND(L107=\"x\",M107=\"x\",N107=\"x\"),AND(K106=\"x\",K108=\"x\",K109=\"x\")),\"o\",\"\"))","v":""},{"$f":"IF(OR(K107=\"o\",M107=\"o\",N107=\"o\",L106=\"o\",L108=\"o\",L109=\"o\",L107=\"x\"),\"x\",IF(OR(L107=\"o\",AND(K107=\"x\",M107=\"x\",N107=\"x\"),AND(L106=\"x\",L108=\"x\",L109=\"x\")),\"o\",\"\"))","v":""},{"$f":"IF(OR(K107=\"o\",L107=\"o\",N107=\"o\",M106=\"o\",M108=\"o\",M109=\"o\",M107=\"x\"),\"x\",IF(OR(M107=\"o\",AND(K107=\"x\",L107=\"x\",N107=\"x\"),AND(M106=\"x\",M108=\"x\",M109=\"x\")),\"o\",\"\"))","v":""},{"$f":"IF(OR(K107=\"o\",L107=\"o\",M107=\"o\",N106=\"o\",N108=\"o\",N109=\"o\",N107=\"x\"),\"x\",IF(OR(N107=\"o\",AND(K107=\"x\",L107=\"x\",M107=\"x\"),AND(N106=\"x\",N108=\"x\",N109=\"x\")),\"o\",\"\"))","v":""}]
[null,"C",null,null,null,null,null,null,null,null,null,null,null,null,null,"grand que 5, mais il n'est ni au 2ème ni au 4 ème rang.",null,null,null,null,null,null,null,null,null,null,null,null,null,"C",{"$f":"IF(OR(D108=\"o\",E108=\"o\",F108=\"o\",C106=\"o\",C107=\"o\",C109=\"o\",C108=\"x\"),\"x\",IF(OR(C108=\"o\",AND(D108=\"x\",E108=\"x\",F108=\"x\"),AND(C106=\"x\",C107=\"x\",C109=\"x\")),\"o\",\"\"))","v":""},{"$f":"IF(OR(C108=\"o\",E108=\"o\",F108=\"o\",D106=\"o\",D107=\"o\",D109=\"o\",D108=\"x\"),\"x\",IF(OR(D108=\"o\",AND(C108=\"x\",E108=\"x\",F108=\"x\"),AND(D106=\"x\",D107=\"x\",D109=\"x\")),\"o\",\"\"))","v":""},{"$f":"IF(OR(C108=\"o\",D108=\"o\",F108=\"o\",E106=\"o\",E107=\"o\",E109=\"o\",E108=\"x\"),\"x\",IF(OR(E108=\"o\",AND(C108=\"x\",D108=\"x\",F108=\"x\"),AND(E106=\"x\",E107=\"x\",E109=\"x\")),\"o\",\"\"))","v":""},{"$f":"IF(OR(C108=\"o\",D108=\"o\",E108=\"o\",F106=\"o\",F107=\"o\",F109=\"o\",F108=\"x\"),\"x\",IF(OR(F108=\"o\",AND(C108=\"x\",D108=\"x\",E108=\"x\"),AND(F106=\"x\",F107=\"x\",F109=\"x\")),\"o\",\"\"))","v":""},{"$f":"IF(OR(H108=\"o\",I108=\"o\",J108=\"o\",G106=\"o\",G107=\"o\",G109=\"o\",G108=\"x\"),\"x\",IF(OR(G108=\"o\",AND(H108=\"x\",I108=\"x\",J108=\"x\"),AND(G106=\"x\",G107=\"x\",G109=\"x\")),\"o\",\"\"))","v":""},{"$f":"IF(OR(G108=\"o\",I108=\"o\",J108=\"o\",H106=\"o\",H107=\"o\",H109=\"o\",H108=\"x\"),\"x\",IF(OR(H108=\"o\",AND(G108=\"x\",I108=\"x\",J108=\"x\"),AND(H106=\"x\",H107=\"x\",H109=\"x\")),\"o\",\"\"))","v":""},{"$f":"IF(OR(G108=\"o\",H108=\"o\",J108=\"o\",I106=\"o\",I107=\"o\",I109=\"o\",I108=\"x\"),\"x\",IF(OR(I108=\"o\",AND(G108=\"x\",H108=\"x\",J108=\"x\"),AND(I106=\"x\",I107=\"x\",I109=\"x\")),\"o\",\"\"))","v":""},{"$f":"IF(OR(G108=\"o\",H108=\"o\",I108=\"o\",J106=\"o\",J107=\"o\",J109=\"o\",J108=\"x\"),\"x\",IF(OR(J108=\"o\",AND(G108=\"x\",H108=\"x\",I108=\"x\"),AND(J106=\"x\",J107=\"x\",J109=\"x\")),\"o\",\"\"))","v":""},{"$f":"IF(OR(L108=\"o\",M108=\"o\",N108=\"o\",K106=\"o\",K107=\"o\",K109=\"o\",K108=\"x\"),\"x\",IF(OR(K108=\"o\",AND(L108=\"x\",M108=\"x\",N108=\"x\"),AND(K106=\"x\",K107=\"x\",K109=\"x\")),\"o\",\"\"))","v":""},{"$f":"IF(OR(K108=\"o\",M108=\"o\",N108=\"o\",L106=\"o\",L107=\"o\",L109=\"o\",L108=\"x\"),\"x\",IF(OR(L108=\"o\",AND(K108=\"x\",M108=\"x\",N108=\"x\"),AND(L106=\"x\",L107=\"x\",L109=\"x\")),\"o\",\"\"))","v":""},{"$f":"IF(OR(K108=\"o\",L108=\"o\",N108=\"o\",M106=\"o\",M107=\"o\",M109=\"o\",M108=\"x\"),\"x\",IF(OR(M108=\"o\",AND(K108=\"x\",L108=\"x\",N108=\"x\"),AND(M106=\"x\",M107=\"x\",M109=\"x\")),\"o\",\"\"))","v":""},{"$f":"IF(OR(K108=\"o\",L108=\"o\",M108=\"o\",N106=\"o\",N107=\"o\",N109=\"o\",N108=\"x\"),\"x\",IF(OR(N108=\"o\",AND(K108=\"x\",L108=\"x\",M108=\"x\"),AND(N106=\"x\",N107=\"x\",N109=\"x\")),\"o\",\"\"))","v":""}]
[null,"D",null,null,null,null,null,null,null,null,null,null,null,null,null,"2°/ Le nombre multiple de 13 est au 3 ème rang , mais",null,null,null,null,null,null,null,null,null,null,null,null,null,"D",{"$f":"IF(OR(D109=\"o\",E109=\"o\",F109=\"o\",C106=\"o\",C107=\"o\",C108=\"o\",C109=\"x\"),\"x\",IF(OR(C109=\"o\",AND(D109=\"x\",E109=\"x\",F109=\"x\"),AND(C106=\"x\",C107=\"x\",C108=\"x\")),\"o\",\"\"))","v":""},{"$f":"IF(OR(C109=\"o\",E109=\"o\",F109=\"o\",D106=\"o\",D107=\"o\",D108=\"o\",D109=\"x\"),\"x\",IF(OR(D109=\"o\",AND(C109=\"x\",E109=\"x\",F109=\"x\"),AND(D106=\"x\",D107=\"x\",D108=\"x\")),\"o\",\"\"))","v":""},{"$f":"IF(OR(C109=\"o\",D109=\"o\",F109=\"o\",E106=\"o\",E107=\"o\",E108=\"o\",E109=\"x\"),\"x\",IF(OR(E109=\"o\",AND(C109=\"x\",D109=\"x\",F109=\"x\"),AND(E106=\"x\",E107=\"x\",E108=\"x\")),\"o\",\"\"))","v":""},{"$f":"IF(OR(C109=\"o\",D109=\"o\",E109=\"o\",F106=\"o\",F107=\"o\",F108=\"o\",F109=\"x\"),\"x\",IF(OR(F109=\"o\",AND(C109=\"x\",D109=\"x\",E109=\"x\"),AND(F106=\"x\",F107=\"x\",F108=\"x\")),\"o\",\"\"))","v":""},{"$f":"IF(OR(H109=\"o\",I109=\"o\",J109=\"o\",G106=\"o\",G107=\"o\",G108=\"o\",G109=\"x\"),\"x\",IF(OR(G109=\"o\",AND(H109=\"x\",I109=\"x\",J109=\"x\"),AND(G106=\"x\",G107=\"x\",G108=\"x\")),\"o\",\"\"))","v":""},{"$f":"IF(OR(G109=\"o\",I109=\"o\",J109=\"o\",H106=\"o\",H107=\"o\",H108=\"o\",H109=\"x\"),\"x\",IF(OR(H109=\"o\",AND(G109=\"x\",I109=\"x\",J109=\"x\"),AND(H106=\"x\",H107=\"x\",H108=\"x\")),\"o\",\"\"))","v":""},{"$f":"IF(OR(G109=\"o\",H109=\"o\",J109=\"o\",I106=\"o\",I107=\"o\",I108=\"o\",I109=\"x\"),\"x\",IF(OR(I109=\"o\",AND(G109=\"x\",H109=\"x\",J109=\"x\"),AND(I106=\"x\",I107=\"x\",I108=\"x\")),\"o\",\"\"))","v":""},{"$f":"IF(OR(G109=\"o\",H109=\"o\",I109=\"o\",J106=\"o\",J107=\"o\",J108=\"o\",J109=\"x\"),\"x\",IF(OR(J109=\"o\",AND(G109=\"x\",H109=\"x\",I109=\"x\"),AND(J106=\"x\",J107=\"x\",J108=\"x\")),\"o\",\"\"))","v":""},{"$f":"IF(OR(L109=\"o\",M109=\"o\",N109=\"o\",K106=\"o\",K107=\"o\",K108=\"o\",K109=\"x\"),\"x\",IF(OR(K109=\"o\",AND(L109=\"x\",M109=\"x\",N109=\"x\"),AND(K106=\"x\",K107=\"x\",K108=\"x\")),\"o\",\"\"))","v":""},{"$f":"IF(OR(K109=\"o\",M109=\"o\",N109=\"o\",L106=\"o\",L107=\"o\",L108=\"o\",L109=\"x\"),\"x\",IF(OR(L109=\"o\",AND(K109=\"x\",M109=\"x\",N109=\"x\"),AND(L106=\"x\",L107=\"x\",L108=\"x\")),\"o\",\"\"))","v":""},{"$f":"IF(OR(K109=\"o\",L109=\"o\",N109=\"o\",M106=\"o\",M107=\"o\",M108=\"o\",M109=\"x\"),\"x\",IF(OR(M109=\"o\",AND(K109=\"x\",L109=\"x\",N109=\"x\"),AND(M106=\"x\",M107=\"x\",M108=\"x\")),\"o\",\"\"))","v":""},{"$f":"IF(OR(K109=\"o\",L109=\"o\",M109=\"o\",N106=\"o\",N107=\"o\",N108=\"o\",N109=\"x\"),\"x\",IF(OR(N109=\"o\",AND(K109=\"x\",L109=\"x\",M109=\"x\"),AND(N106=\"x\",N107=\"x\",N108=\"x\")),\"o\",\"\"))","v":""}]
["Unité",2,null,null,null,null,null,null,null,null,null,null,null,null,null,"ce n'est ni le nombre B, ni le nombre C.",null,null,null,null,null,null,null,null,null,null,null,null,{"$f":"A110","v":"Unité"},2,{"$f":"IF(OR(D110=\"o\",E110=\"o\",F110=\"o\",C111=\"o\",C112=\"o\",C113=\"o\",C110=\"x\"),\"x\",IF(OR(C110=\"o\",AND(D110=\"x\",E110=\"x\",F110=\"x\"),AND(C111=\"x\",C112=\"x\",C113=\"x\")),\"o\",\"\"))","v":""},{"$f":"IF(OR(C110=\"o\",E110=\"o\",F110=\"o\",D111=\"o\",D112=\"o\",D113=\"o\",D110=\"x\"),\"x\",IF(OR(D110=\"o\",AND(C110=\"x\",E110=\"x\",F110=\"x\"),AND(D111=\"x\",D112=\"x\",D113=\"x\")),\"o\",\"\"))","v":""},{"$f":"IF(OR(C110=\"o\",D110=\"o\",F110=\"o\",E111=\"o\",E112=\"o\",E113=\"o\",E110=\"x\"),\"x\",IF(OR(E110=\"o\",AND(C110=\"x\",D110=\"x\",F110=\"x\"),AND(E111=\"x\",E112=\"x\",E113=\"x\")),\"o\",\"\"))","v":""},{"$f":"IF(OR(C110=\"o\",D110=\"o\",E110=\"o\",F111=\"o\",F112=\"o\",F113=\"o\",F110=\"x\"),\"x\",IF(OR(F110=\"o\",AND(C110=\"x\",D110=\"x\",E110=\"x\"),AND(F111=\"x\",F112=\"x\",F113=\"x\")),\"o\",\"\"))","v":""},{"$f":"IF(OR(H110=\"o\",I110=\"o\",J110=\"o\",G111=\"o\",G112=\"o\",G113=\"o\",G110=\"x\"),\"x\",IF(OR(G110=\"o\",AND(H110=\"x\",I110=\"x\",J110=\"x\"),AND(G111=\"x\",G112=\"x\",G113=\"x\")),\"o\",\"\"))","v":""},{"$f":"IF(OR(G110=\"o\",I110=\"o\",J110=\"o\",H111=\"o\",H112=\"o\",H113=\"o\",H110=\"x\"),\"x\",IF(OR(H110=\"o\",AND(G110=\"x\",I110=\"x\",J110=\"x\"),AND(H111=\"x\",H112=\"x\",H113=\"x\")),\"o\",\"\"))","v":""},{"$f":"IF(OR(G110=\"o\",H110=\"o\",J110=\"o\",I111=\"o\",I112=\"o\",I113=\"o\",I110=\"x\"),\"x\",IF(OR(I110=\"o\",AND(G110=\"x\",H110=\"x\",J110=\"x\"),AND(I111=\"x\",I112=\"x\",I113=\"x\")),\"o\",\"\"))","v":""},{"$f":"IF(OR(G110=\"o\",H110=\"o\",I110=\"o\",J111=\"o\",J112=\"o\",J113=\"o\",J110=\"x\"),\"x\",IF(OR(J110=\"o\",AND(G110=\"x\",H110=\"x\",I110=\"x\"),AND(J111=\"x\",J112=\"x\",J113=\"x\")),\"o\",\"\"))","v":""}]
[null,5,null,null,null,null,null,null,null,null,null,null,null,null,null,"3°/ Le nombre B qui n'est pas au deuxième rang a son",null,null,null,null,null,null,null,null,null,null,null,null,null,5,{"$f":"IF(OR(D111=\"o\",E111=\"o\",F111=\"o\",C110=\"o\",C112=\"o\",C113=\"o\",C111=\"x\"),\"x\",IF(OR(C111=\"o\",AND(D111=\"x\",E111=\"x\",F111=\"x\"),AND(C110=\"x\",C112=\"x\",C113=\"x\")),\"o\",\"\"))","v":""},{"$f":"IF(OR(C111=\"o\",E111=\"o\",F111=\"o\",D110=\"o\",D112=\"o\",D113=\"o\",D111=\"x\"),\"x\",IF(OR(D111=\"o\",AND(C111=\"x\",E111=\"x\",F111=\"x\"),AND(D110=\"x\",D112=\"x\",D113=\"x\")),\"o\",\"\"))","v":""},{"$f":"IF(OR(C111=\"o\",D111=\"o\",F111=\"o\",E110=\"o\",E112=\"o\",E113=\"o\",E111=\"x\"),\"x\",IF(OR(E111=\"o\",AND(C111=\"x\",D111=\"x\",F111=\"x\"),AND(E110=\"x\",E112=\"x\",E113=\"x\")),\"o\",\"\"))","v":""},{"$f":"IF(OR(C111=\"o\",D111=\"o\",E111=\"o\",F110=\"o\",F112=\"o\",F113=\"o\",F111=\"x\"),\"x\",IF(OR(F111=\"o\",AND(C111=\"x\",D111=\"x\",E111=\"x\"),AND(F110=\"x\",F112=\"x\",F113=\"x\")),\"o\",\"\"))","v":""},{"$f":"IF(OR(H111=\"o\",I111=\"o\",J111=\"o\",G110=\"o\",G112=\"o\",G113=\"o\",G111=\"x\"),\"x\",IF(OR(G111=\"o\",AND(H111=\"x\",I111=\"x\",J111=\"x\"),AND(G110=\"x\",G112=\"x\",G113=\"x\")),\"o\",\"\"))","v":""},{"$f":"IF(OR(G111=\"o\",I111=\"o\",J111=\"o\",H110=\"o\",H112=\"o\",H113=\"o\",H111=\"x\"),\"x\",IF(OR(H111=\"o\",AND(G111=\"x\",I111=\"x\",J111=\"x\"),AND(H110=\"x\",H112=\"x\",H113=\"x\")),\"o\",\"\"))","v":""},{"$f":"IF(OR(G111=\"o\",H111=\"o\",J111=\"o\",I110=\"o\",I112=\"o\",I113=\"o\",I111=\"x\"),\"x\",IF(OR(I111=\"o\",AND(G111=\"x\",H111=\"x\",J111=\"x\"),AND(I110=\"x\",I112=\"x\",I113=\"x\")),\"o\",\"\"))","v":""},{"$f":"IF(OR(G111=\"o\",H111=\"o\",I111=\"o\",J110=\"o\",J112=\"o\",J113=\"o\",J111=\"x\"),\"x\",IF(OR(J111=\"o\",AND(G111=\"x\",H111=\"x\",I111=\"x\"),AND(J110=\"x\",J112=\"x\",J113=\"x\")),\"o\",\"\"))","v":""}]
[null,6,null,null,null,null,null,null,null,null,null,null,null,null,null,"chiffre des unités plus grand que 2.",null,null,null,null,null,null,null,null,null,null,null,null,null,6,{"$f":"IF(OR(D112=\"o\",E112=\"o\",F112=\"o\",C110=\"o\",C111=\"o\",C113=\"o\",C112=\"x\"),\"x\",IF(OR(C112=\"o\",AND(D112=\"x\",E112=\"x\",F112=\"x\"),AND(C110=\"x\",C111=\"x\",C113=\"x\")),\"o\",\"\"))","v":""},{"$f":"IF(OR(C112=\"o\",E112=\"o\",F112=\"o\",D110=\"o\",D111=\"o\",D113=\"o\",D112=\"x\"),\"x\",IF(OR(D112=\"o\",AND(C112=\"x\",E112=\"x\",F112=\"x\"),AND(D110=\"x\",D111=\"x\",D113=\"x\")),\"o\",\"\"))","v":""},{"$f":"IF(OR(C112=\"o\",D112=\"o\",F112=\"o\",E110=\"o\",E111=\"o\",E113=\"o\",E112=\"x\"),\"x\",IF(OR(E112=\"o\",AND(C112=\"x\",D112=\"x\",F112=\"x\"),AND(E110=\"x\",E111=\"x\",E113=\"x\")),\"o\",\"\"))","v":""},{"$f":"IF(OR(C112=\"o\",D112=\"o\",E112=\"o\",F110=\"o\",F111=\"o\",F113=\"o\",F112=\"x\"),\"x\",IF(OR(F112=\"o\",AND(C112=\"x\",D112=\"x\",E112=\"x\"),AND(F110=\"x\",F111=\"x\",F113=\"x\")),\"o\",\"\"))","v":""},{"$f":"IF(OR(H112=\"o\",I112=\"o\",J112=\"o\",G110=\"o\",G111=\"o\",G113=\"o\",G112=\"x\"),\"x\",IF(OR(G112=\"o\",AND(H112=\"x\",I112=\"x\",J112=\"x\"),AND(G110=\"x\",G111=\"x\",G113=\"x\")),\"o\",\"\"))","v":""},{"$f":"IF(OR(G112=\"o\",I112=\"o\",J112=\"o\",H110=\"o\",H111=\"o\",H113=\"o\",H112=\"x\"),\"x\",IF(OR(H112=\"o\",AND(G112=\"x\",I112=\"x\",J112=\"x\"),AND(H110=\"x\",H111=\"x\",H113=\"x\")),\"o\",\"\"))","v":""},{"$f":"IF(OR(G112=\"o\",H112=\"o\",J112=\"o\",I110=\"o\",I111=\"o\",I113=\"o\",I112=\"x\"),\"x\",IF(OR(I112=\"o\",AND(G112=\"x\",H112=\"x\",J112=\"x\"),AND(I110=\"x\",I111=\"x\",I113=\"x\")),\"o\",\"\"))","v":""},{"$f":"IF(OR(G112=\"o\",H112=\"o\",I112=\"o\",J110=\"o\",J111=\"o\",J113=\"o\",J112=\"x\"),\"x\",IF(OR(J112=\"o\",AND(G112=\"x\",H112=\"x\",I112=\"x\"),AND(J110=\"x\",J111=\"x\",J113=\"x\")),\"o\",\"\"))","v":""}]
[null,8,null,null,null,null,null,null,null,null,null,null,null,null,null,"4°/ Le nombre divisible par 3 et finissant par 6 n'est pas B.",null,null,null,null,null,null,null,null,null,null,null,null,null,8,{"$f":"IF(OR(D113=\"o\",E113=\"o\",F113=\"o\",C110=\"o\",C111=\"o\",C112=\"o\",C113=\"x\"),\"x\",IF(OR(C113=\"o\",AND(D113=\"x\",E113=\"x\",F113=\"x\"),AND(C110=\"x\",C111=\"x\",C112=\"x\")),\"o\",\"\"))","v":""},{"$f":"IF(OR(C113=\"o\",E113=\"o\",F113=\"o\",D110=\"o\",D111=\"o\",D112=\"o\",D113=\"x\"),\"x\",IF(OR(D113=\"o\",AND(C113=\"x\",E113=\"x\",F113=\"x\"),AND(D110=\"x\",D111=\"x\",D112=\"x\")),\"o\",\"\"))","v":""},{"$f":"IF(OR(C113=\"o\",D113=\"o\",F113=\"o\",E110=\"o\",E111=\"o\",E112=\"o\",E113=\"x\"),\"x\",IF(OR(E113=\"o\",AND(C113=\"x\",D113=\"x\",F113=\"x\"),AND(E110=\"x\",E111=\"x\",E112=\"x\")),\"o\",\"\"))","v":""},{"$f":"IF(OR(C113=\"o\",D113=\"o\",E113=\"o\",F110=\"o\",F111=\"o\",F112=\"o\",F113=\"x\"),\"x\",IF(OR(F113=\"o\",AND(C113=\"x\",D113=\"x\",E113=\"x\"),AND(F110=\"x\",F111=\"x\",F112=\"x\")),\"o\",\"\"))","v":""},{"$f":"IF(OR(H113=\"o\",I113=\"o\",J113=\"o\",G110=\"o\",G111=\"o\",G112=\"o\",G113=\"x\"),\"x\",IF(OR(G113=\"o\",AND(H113=\"x\",I113=\"x\",J113=\"x\"),AND(G110=\"x\",G111=\"x\",G112=\"x\")),\"o\",\"\"))","v":""},{"$f":"IF(OR(G113=\"o\",I113=\"o\",J113=\"o\",H110=\"o\",H111=\"o\",H112=\"o\",H113=\"x\"),\"x\",IF(OR(H113=\"o\",AND(G113=\"x\",I113=\"x\",J113=\"x\"),AND(H110=\"x\",H111=\"x\",H112=\"x\")),\"o\",\"\"))","v":""},{"$f":"IF(OR(G113=\"o\",H113=\"o\",J113=\"o\",I110=\"o\",I111=\"o\",I112=\"o\",I113=\"x\"),\"x\",IF(OR(I113=\"o\",AND(G113=\"x\",H113=\"x\",J113=\"x\"),AND(I110=\"x\",I111=\"x\",I112=\"x\")),\"o\",\"\"))","v":""},{"$f":"IF(OR(G113=\"o\",H113=\"o\",I113=\"o\",J110=\"o\",J111=\"o\",J112=\"o\",J113=\"x\"),\"x\",IF(OR(J113=\"o\",AND(G113=\"x\",H113=\"x\",I113=\"x\"),AND(J110=\"x\",J111=\"x\",J112=\"x\")),\"o\",\"\"))","v":""}]
["Diviseur",3,null,null,null,null,null,null,null,null,null,null,null,null,null,"Retrouvez ces 4 nombres entiers et leurs caractéristiques.",null,null,null,null,null,null,null,null,null,null,null,null,{"$f":"A114","v":"Diviseur"},3,{"$f":"IF(OR(D114=\"o\",E114=\"o\",F114=\"o\",C115=\"o\",C116=\"o\",C117=\"o\",C114=\"x\"),\"x\",IF(OR(C114=\"o\",AND(D114=\"x\",E114=\"x\",F114=\"x\"),AND(C115=\"x\",C116=\"x\",C117=\"x\")),\"o\",\"\"))","v":""},{"$f":"IF(OR(C114=\"o\",E114=\"o\",F114=\"o\",D115=\"o\",D116=\"o\",D117=\"o\",D114=\"x\"),\"x\",IF(OR(D114=\"o\",AND(C114=\"x\",E114=\"x\",F114=\"x\"),AND(D115=\"x\",D116=\"x\",D117=\"x\")),\"o\",\"\"))","v":""},{"$f":"IF(OR(C114=\"o\",D114=\"o\",F114=\"o\",E115=\"o\",E116=\"o\",E117=\"o\",E114=\"x\"),\"x\",IF(OR(E114=\"o\",AND(C114=\"x\",D114=\"x\",F114=\"x\"),AND(E115=\"x\",E116=\"x\",E117=\"x\")),\"o\",\"\"))","v":""},{"$f":"IF(OR(C114=\"o\",D114=\"o\",E114=\"o\",F115=\"o\",F116=\"o\",F117=\"o\",F114=\"x\"),\"x\",IF(OR(F114=\"o\",AND(C114=\"x\",D114=\"x\",E114=\"x\"),AND(F115=\"x\",F116=\"x\",F117=\"x\")),\"o\",\"\"))","v":""}]
[null,7,null,null,null,null,null,{"$f":"IF(AND(C120=Q120,G120=U120,K120=Y120,C121=Q121,G121=U121,K121=Y121,C122=Q122,G122=U122,K122=Y122,C123=Q123,G123=U123,K123=Y123),\"BRAVO !!\",\"\")","v":""},null,null,null,null,null,null,null,null,null,null,null,null,null,null,null,null,null,null,null,null,null,7,{"$f":"IF(OR(D115=\"o\",E115=\"o\",F115=\"o\",C114=\"o\",C116=\"o\",C117=\"o\",C115=\"x\"),\"x\",IF(OR(C115=\"o\",AND(D115=\"x\",E115=\"x\",F115=\"x\"),AND(C114=\"x\",C116=\"x\",C117=\"x\")),\"o\",\"\"))","v":""},{"$f":"IF(OR(C115=\"o\",E115=\"o\",F115=\"o\",D114=\"o\",D116=\"o\",D117=\"o\",D115=\"x\"),\"x\",IF(OR(D115=\"o\",AND(C115=\"x\",E115=\"x\",F115=\"x\"),AND(D114=\"x\",D116=\"x\",D117=\"x\")),\"o\",\"\"))","v":""},{"$f":"IF(OR(C115=\"o\",D115=\"o\",F115=\"o\",E114=\"o\",E116=\"o\",E117=\"o\",E115=\"x\"),\"x\",IF(OR(E115=\"o\",AND(C115=\"x\",D115=\"x\",F115=\"x\"),AND(E114=\"x\",E116=\"x\",E117=\"x\")),\"o\",\"\"))","v":""},{"$f":"IF(OR(C115=\"o\",D115=\"o\",E115=\"o\",F114=\"o\",F116=\"o\",F117=\"o\",F115=\"x\"),\"x\",IF(OR(F115=\"o\",AND(C115=\"x\",D115=\"x\",E115=\"x\"),AND(F114=\"x\",F116=\"x\",F117=\"x\")),\"o\",\"\"))","v":""}]
[null,11,null,null,null,null,null,null,null,null,null,null,null,null,null,null,null,null,null,null,null,null,null,null,null,null,null,null,null,11,{"$f":"IF(OR(D116=\"o\",E116=\"o\",F116=\"o\",C114=\"o\",C115=\"o\",C117=\"o\",C116=\"x\"),\"x\",IF(OR(C116=\"o\",AND(D116=\"x\",E116=\"x\",F116=\"x\"),AND(C114=\"x\",C115=\"x\",C117=\"x\")),\"o\",\"\"))","v":""},{"$f":"IF(OR(C116=\"o\",E116=\"o\",F116=\"o\",D114=\"o\",D115=\"o\",D117=\"o\",D116=\"x\"),\"x\",IF(OR(D116=\"o\",AND(C116=\"x\",E116=\"x\",F116=\"x\"),AND(D114=\"x\",D115=\"x\",D117=\"x\")),\"o\",\"\"))","v":""},{"$f":"IF(OR(C116=\"o\",D116=\"o\",F116=\"o\",E114=\"o\",E115=\"o\",E117=\"o\",E116=\"x\"),\"x\",IF(OR(E116=\"o\",AND(C116=\"x\",D116=\"x\",F116=\"x\"),AND(E114=\"x\",E115=\"x\",E117=\"x\")),\"o\",\"\"))","v":""},{"$f":"IF(OR(C116=\"o\",D116=\"o\",E116=\"o\",F114=\"o\",F115=\"o\",F117=\"o\",F116=\"x\"),\"x\",IF(OR(F116=\"o\",AND(C116=\"x\",D116=\"x\",E116=\"x\"),AND(F114=\"x\",F115=\"x\",F117=\"x\")),\"o\",\"\"))","v":""}]
[null,13,null,null,null,null,null,null,null,null,null,null,null,null,null,null,null,null,null,null,null,null,null,null,null,null,null,null,null,13,{"$f":"IF(OR(D117=\"o\",E117=\"o\",F117=\"o\",C114=\"o\",C115=\"o\",C116=\"o\",C117=\"x\"),\"x\",IF(OR(C117=\"o\",AND(D117=\"x\",E117=\"x\",F117=\"x\"),AND(C114=\"x\",C115=\"x\",C116=\"x\")),\"o\",\"\"))","v":""},{"$f":"IF(OR(C117=\"o\",E117=\"o\",F117=\"o\",D114=\"o\",D115=\"o\",D116=\"o\",D117=\"x\"),\"x\",IF(OR(D117=\"o\",AND(C117=\"x\",E117=\"x\",F117=\"x\"),AND(D114=\"x\",D115=\"x\",D116=\"x\")),\"o\",\"\"))","v":""},{"$f":"IF(OR(C117=\"o\",D117=\"o\",F117=\"o\",E114=\"o\",E115=\"o\",E116=\"o\",E117=\"x\"),\"x\",IF(OR(E117=\"o\",AND(C117=\"x\",D117=\"x\",F117=\"x\"),AND(E114=\"x\",E115=\"x\",E116=\"x\")),\"o\",\"\"))","v":""},{"$f":"IF(OR(C117=\"o\",D117=\"o\",E117=\"o\",F114=\"o\",F115=\"o\",F116=\"o\",F117=\"x\"),\"x\",IF(OR(F117=\"o\",AND(C117=\"x\",D117=\"x\",E117=\"x\"),AND(F114=\"x\",F115=\"x\",F116=\"x\")),\"o\",\"\"))","v":""}]
[]
[null,"Réponses :",{"$f":"C104","v":"Classement"},null,null,null,{"$f":"G104","v":"Diviseur"},null,null,null,{"$f":"K104","v":"Unité"},null,null,null,null,null,{"$f":"C104","v":"Classement"},null,null,null,{"$f":"G104","v":"Diviseur"},null,null,null,{"$f":"K104","v":"Unité"}]
[null,{"$f":"B106","v":"A"},{"$f":"IF(C106=\"o\",C105,IF(D106=\"o\",D105,IF(E106=\"o\",E105,IF(F106=\"o\",F105,\"\"))))","v":""},null,null,null,{"$f":"IF(G106=\"o\",G105,IF(H106=\"o\",H105,IF(I106=\"o\",I105,IF(J106=\"o\",J105,\"\"))))","v":""},null,null,null,{"$f":"IF(K106=\"o\",K105,IF(L106=\"o\",L105,IF(M106=\"o\",M105,IF(N106=\"o\",N105,\"\"))))","v":""},null,null,null,null,{"$f":"B106","v":"A"},"1e",null,null,null,7,null,null,null,8]
[null,{"$f":"B107","v":"B"},{"$f":"IF(C107=\"o\",C105,IF(D107=\"o\",D105,IF(E107=\"o\",E105,IF(F107=\"o\",F105,\"\"))))","v":""},null,null,null,{"$f":"IF(G107=\"o\",G105,IF(H107=\"o\",H105,IF(I107=\"o\",I105,IF(J107=\"o\",J105,\"\"))))","v":""},null,null,null,{"$f":"IF(K107=\"o\",K105,IF(L107=\"o\",L105,IF(M107=\"o\",M105,IF(N107=\"o\",N105,\"\"))))","v":""},null,null,null,null,{"$f":"B107","v":"B"},"4e",null,null,null,11,null,null,null,5]
[null,{"$f":"B108","v":"C"},{"$f":"IF(C108=\"o\",C105,IF(D108=\"o\",D105,IF(E108=\"o\",E105,IF(F108=\"o\",F105,\"\"))))","v":""},null,null,null,{"$f":"IF(G108=\"o\",G105,IF(H108=\"o\",H105,IF(I108=\"o\",I105,IF(J108=\"o\",J105,\"\"))))","v":""},null,null,null,{"$f":"IF(K108=\"o\",K105,IF(L108=\"o\",L105,IF(M108=\"o\",M105,IF(N108=\"o\",N105,\"\"))))","v":""},null,null,null,null,{"$f":"B108","v":"C"},"2e",null,null,null,3,null,null,null,6]
[null,{"$f":"B109","v":"D"},{"$f":"IF(C109=\"o\",C105,IF(D109=\"o\",D105,IF(E109=\"o\",E105,IF(F109=\"o\",F105,\"\"))))","v":""},null,null,null,{"$f":"IF(G109=\"o\",G105,IF(H109=\"o\",H105,IF(I109=\"o\",I105,IF(J109=\"o\",J105,\"\"))))","v":""},null,null,null,{"$f":"IF(K109=\"o\",K105,IF(L109=\"o\",L105,IF(M109=\"o\",M105,IF(N109=\"o\",N105,\"\"))))","v":""},null,null,null,null,{"$f":"B109","v":"D"},"3e",null,null,null,13,null,null,null,2]
[null,null,null,null,null,null,null,null,null,null,null,null,null,null,null,"Les 4 nombres sont: 28, 36, 52 et 55."]
[]
["XVI°/  Les gaz inertes :"]
[{"$f":"INDIRECT(\"'Calculs 4 indices'!B\"&A130)","v":""},null,null,null,null,null,null,null,null,null,null,null,null,{"$f":"INDIRECT(\"'Calculs 4 indices'!M\"&(A130+16))","v":""}]
[{"$f":"INDIRECT(\"'Calculs 4 indices'!B\"&(A130+26))","v":""},null,null,null,null,null,null,null,null,null,null,null,null,{"$f":"INDIRECT(\"'Calculs 4 indices'!M\"&(A130+17))","v":""}]
[null,null,"En Grec",null,null,null,{"$f":"A139","v":"Découverte"},null,null,null,{"$f":"A135","v":"Utilisation"},null,null,null,null,null,null,null,null,null,null,null,null,null,null,null,null,null,null,null,{"$f":"C129","v":"En Grec"},null,null,null,{"$f":"G129","v":"Découverte"},null,null,null,{"$f":"K129","v":"Utilisation"}]
[{"$f":"A105+52","v":261},null,"Etranger","Inactif","Rayon","Soleil",{"$f":"B139","v":1868},{"$f":"B140","v":1894},{"$f":"B141","v":1898},{"$f":"B142","v":1900},{"$f":"B135","v":"Anesthésie"},{"$f":"B136","v":"Cryogénie"},{"$f":"B137","v":"Datation"},{"$f":"B138","v":"Prévention séisme"},null,"Voici 4 gaz inertes, quand les a t-on découvert et d'où vient leur nom et quelle est une de leur utilisation.",null,null,null,null,null,null,null,null,null,null,null,null,null,null,{"$f":"C130","v":"Etranger"},{"$f":"D130","v":"Inactif"},{"$f":"E130","v":"Rayon"},{"$f":"F130","v":"Soleil"},{"$f":"G130","v":1868},{"$f":"H130","v":1894},{"$f":"I130","v":1898},{"$f":"J130","v":1900},{"$f":"K130","v":"Anesthésie"},{"$f":"L130","v":"Cryogénie"},{"$f":"M130","v":"Datation"},{"$f":"N130","v":"Prévention séisme"}]
["GAZ","Argon",null,null,null,null,null,null,null,null,null,null,null,null,null,null,null,null,null,null,null,null,null,null,null,null,null,null,{"$f":"A131","v":"GAZ"},{"$f":"B131","v":"Argon"},{"$f":"IF(OR(D131=\"o\",E131=\"o\",F131=\"o\",C132=\"o\",C133=\"o\",C134=\"o\",C131=\"x\"),\"x\",IF(OR(C131=\"o\",AND(D131=\"x\",E131=\"x\",F131=\"x\"),AND(C132=\"x\",C133=\"x\",C134=\"x\")),\"o\",\"\"))","v":""},{"$f":"IF(OR(C131=\"o\",E131=\"o\",F131=\"o\",D132=\"o\",D133=\"o\",D134=\"o\",D131=\"x\"),\"x\",IF(OR(D131=\"o\",AND(C131=\"x\",E131=\"x\",F131=\"x\"),AND(D132=\"x\",D133=\"x\",D134=\"x\")),\"o\",\"\"))","v":""},{"$f":"IF(OR(C131=\"o\",D131=\"o\",F131=\"o\",E132=\"o\",E133=\"o\",E134=\"o\",E131=\"x\"),\"x\",IF(OR(E131=\"o\",AND(C131=\"x\",D131=\"x\",F131=\"x\"),AND(E132=\"x\",E133=\"x\",E134=\"x\")),\"o\",\"\"))","v":""},{"$f":"IF(OR(C131=\"o\",D131=\"o\",E131=\"o\",F132=\"o\",F133=\"o\",F134=\"o\",F131=\"x\"),\"x\",IF(OR(F131=\"o\",AND(C131=\"x\",D131=\"x\",E131=\"x\"),AND(F132=\"x\",F133=\"x\",F134=\"x\")),\"o\",\"\"))","v":""},{"$f":"IF(OR(H131=\"o\",I131=\"o\",J131=\"o\",G132=\"o\",G133=\"o\",G134=\"o\",G131=\"x\"),\"x\",IF(OR(G131=\"o\",AND(H131=\"x\",I131=\"x\",J131=\"x\"),AND(G132=\"x\",G133=\"x\",G134=\"x\")),\"o\",\"\"))","v":""},{"$f":"IF(OR(G131=\"o\",I131=\"o\",J131=\"o\",H132=\"o\",H133=\"o\",H134=\"o\",H131=\"x\"),\"x\",IF(OR(H131=\"o\",AND(G131=\"x\",I131=\"x\",J131=\"x\"),AND(H132=\"x\",H133=\"x\",H134=\"x\")),\"o\",\"\"))","v":""},{"$f":"IF(OR(G131=\"o\",H131=\"o\",J131=\"o\",I132=\"o\",I133=\"o\",I134=\"o\",I131=\"x\"),\"x\",IF(OR(I131=\"o\",AND(G131=\"x\",H131=\"x\",J131=\"x\"),AND(I132=\"x\",I133=\"x\",I134=\"x\")),\"o\",\"\"))","v":""},{"$f":"IF(OR(G131=\"o\",H131=\"o\",I131=\"o\",J132=\"o\",J133=\"o\",J134=\"o\",J131=\"x\"),\"x\",IF(OR(J131=\"o\",AND(G131=\"x\",H131=\"x\",I131=\"x\"),AND(J132=\"x\",J133=\"x\",J134=\"x\")),\"o\",\"\"))","v":""},{"$f":"IF(OR(L131=\"o\",M131=\"o\",N131=\"o\",K132=\"o\",K133=\"o\",K134=\"o\",K131=\"x\"),\"x\",IF(OR(K131=\"o\",AND(L131=\"x\",M131=\"x\",N131=\"x\"),AND(K132=\"x\",K133=\"x\",K134=\"x\")),\"o\",\"\"))","v":""},{"$f":"IF(OR(K131=\"o\",M131=\"o\",N131=\"o\",L132=\"o\",L133=\"o\",L134=\"o\",L131=\"x\"),\"x\",IF(OR(L131=\"o\",AND(K131=\"x\",M131=\"x\",N131=\"x\"),AND(L132=\"x\",L133=\"x\",L134=\"x\")),\"o\",\"\"))","v":""},{"$f":"IF(OR(K131=\"o\",L131=\"o\",N131=\"o\",M132=\"o\",M133=\"o\",M134=\"o\",M131=\"x\"),\"x\",IF(OR(M131=\"o\",AND(K131=\"x\",L131=\"x\",N131=\"x\"),AND(M132=\"x\",M133=\"x\",M134=\"x\")),\"o\",\"\"))","v":""},{"$f":"IF(OR(K131=\"o\",L131=\"o\",M131=\"o\",N132=\"o\",N133=\"o\",N134=\"o\",N131=\"x\"),\"x\",IF(OR(N131=\"o\",AND(K131=\"x\",L131=\"x\",M131=\"x\"),AND(N132=\"x\",N133=\"x\",N134=\"x\")),\"o\",\"\"))","v":""}]
[null,"Hélium",null,null,null,null,null,null,null,null,null,null,null,null,null,"1°/ Le Xénon découvert en 1898 ( du grec : étranger ) n'est",null,null,null,null,null,null,null,null,null,null,null,null,null,{"$f":"B132","v":"Hélium"},{"$f":"IF(OR(D132=\"o\",E132=\"o\",F132=\"o\",C131=\"o\",C133=\"o\",C134=\"o\",C132=\"x\"),\"x\",IF(OR(C132=\"o\",AND(D132=\"x\",E132=\"x\",F132=\"x\"),AND(C131=\"x\",C133=\"x\",C134=\"x\")),\"o\",\"\"))","v":""},{"$f":"IF(OR(C132=\"o\",E132=\"o\",F132=\"o\",D131=\"o\",D133=\"o\",D134=\"o\",D132=\"x\"),\"x\",IF(OR(D132=\"o\",AND(C132=\"x\",E132=\"x\",F132=\"x\"),AND(D131=\"x\",D133=\"x\",D134=\"x\")),\"o\",\"\"))","v":""},{"$f":"IF(OR(C132=\"o\",D132=\"o\",F132=\"o\",E131=\"o\",E133=\"o\",E134=\"o\",E132=\"x\"),\"x\",IF(OR(E132=\"o\",AND(C132=\"x\",D132=\"x\",F132=\"x\"),AND(E131=\"x\",E133=\"x\",E134=\"x\")),\"o\",\"\"))","v":""},{"$f":"IF(OR(C132=\"o\",D132=\"o\",E132=\"o\",F131=\"o\",F133=\"o\",F134=\"o\",F132=\"x\"),\"x\",IF(OR(F132=\"o\",AND(C132=\"x\",D132=\"x\",E132=\"x\"),AND(F131=\"x\",F133=\"x\",F134=\"x\")),\"o\",\"\"))","v":""},{"$f":"IF(OR(H132=\"o\",I132=\"o\",J132=\"o\",G131=\"o\",G133=\"o\",G134=\"o\",G132=\"x\"),\"x\",IF(OR(G132=\"o\",AND(H132=\"x\",I132=\"x\",J132=\"x\"),AND(G131=\"x\",G133=\"x\",G134=\"x\")),\"o\",\"\"))","v":""},{"$f":"IF(OR(G132=\"o\",I132=\"o\",J132=\"o\",H131=\"o\",H133=\"o\",H134=\"o\",H132=\"x\"),\"x\",IF(OR(H132=\"o\",AND(G132=\"x\",I132=\"x\",J132=\"x\"),AND(H131=\"x\",H133=\"x\",H134=\"x\")),\"o\",\"\"))","v":""},{"$f":"IF(OR(G132=\"o\",H132=\"o\",J132=\"o\",I131=\"o\",I133=\"o\",I134=\"o\",I132=\"x\"),\"x\",IF(OR(I132=\"o\",AND(G132=\"x\",H132=\"x\",J132=\"x\"),AND(I131=\"x\",I133=\"x\",I134=\"x\")),\"o\",\"\"))","v":""},{"$f":"IF(OR(G132=\"o\",H132=\"o\",I132=\"o\",J131=\"o\",J133=\"o\",J134=\"o\",J132=\"x\"),\"x\",IF(OR(J132=\"o\",AND(G132=\"x\",H132=\"x\",I132=\"x\"),AND(J131=\"x\",J133=\"x\",J134=\"x\")),\"o\",\"\"))","v":""},{"$f":"IF(OR(L132=\"o\",M132=\"o\",N132=\"o\",K131=\"o\",K133=\"o\",K134=\"o\",K132=\"x\"),\"x\",IF(OR(K132=\"o\",AND(L132=\"x\",M132=\"x\",N132=\"x\"),AND(K131=\"x\",K133=\"x\",K134=\"x\")),\"o\",\"\"))","v":""},{"$f":"IF(OR(K132=\"o\",M132=\"o\",N132=\"o\",L131=\"o\",L133=\"o\",L134=\"o\",L132=\"x\"),\"x\",IF(OR(L132=\"o\",AND(K132=\"x\",M132=\"x\",N132=\"x\"),AND(L131=\"x\",L133=\"x\",L134=\"x\")),\"o\",\"\"))","v":""},{"$f":"IF(OR(K132=\"o\",L132=\"o\",N132=\"o\",M131=\"o\",M133=\"o\",M134=\"o\",M132=\"x\"),\"x\",IF(OR(M132=\"o\",AND(K132=\"x\",L132=\"x\",N132=\"x\"),AND(M131=\"x\",M133=\"x\",M134=\"x\")),\"o\",\"\"))","v":""},{"$f":"IF(OR(K132=\"o\",L132=\"o\",M132=\"o\",N131=\"o\",N133=\"o\",N134=\"o\",N132=\"x\"),\"x\",IF(OR(N132=\"o\",AND(K132=\"x\",L132=\"x\",M132=\"x\"),AND(N131=\"x\",N133=\"x\",N134=\"x\")),\"o\",\"\"))","v":""}]
[null,"Radon",null,null,null,null,null,null,null,null,null,null,null,null,null,"pas utilisé en cryogénie. ",null,null,null,null,null,null,null,null,null,null,null,null,null,"Radon",{"$f":"IF(OR(D133=\"o\",E133=\"o\",F133=\"o\",C131=\"o\",C132=\"o\",C134=\"o\",C133=\"x\"),\"x\",IF(OR(C133=\"o\",AND(D133=\"x\",E133=\"x\",F133=\"x\"),AND(C131=\"x\",C132=\"x\",C134=\"x\")),\"o\",\"\"))","v":""},{"$f":"IF(OR(C133=\"o\",E133=\"o\",F133=\"o\",D131=\"o\",D132=\"o\",D134=\"o\",D133=\"x\"),\"x\",IF(OR(D133=\"o\",AND(C133=\"x\",E133=\"x\",F133=\"x\"),AND(D131=\"x\",D132=\"x\",D134=\"x\")),\"o\",\"\"))","v":""},{"$f":"IF(OR(C133=\"o\",D133=\"o\",F133=\"o\",E131=\"o\",E132=\"o\",E134=\"o\",E133=\"x\"),\"x\",IF(OR(E133=\"o\",AND(C133=\"x\",D133=\"x\",F133=\"x\"),AND(E131=\"x\",E132=\"x\",E134=\"x\")),\"o\",\"\"))","v":""},{"$f":"IF(OR(C133=\"o\",D133=\"o\",E133=\"o\",F131=\"o\",F132=\"o\",F134=\"o\",F133=\"x\"),\"x\",IF(OR(F133=\"o\",AND(C133=\"x\",D133=\"x\",E133=\"x\"),AND(F131=\"x\",F132=\"x\",F134=\"x\")),\"o\",\"\"))","v":""},{"$f":"IF(OR(H133=\"o\",I133=\"o\",J133=\"o\",G131=\"o\",G132=\"o\",G134=\"o\",G133=\"x\"),\"x\",IF(OR(G133=\"o\",AND(H133=\"x\",I133=\"x\",J133=\"x\"),AND(G131=\"x\",G132=\"x\",G134=\"x\")),\"o\",\"\"))","v":""},{"$f":"IF(OR(G133=\"o\",I133=\"o\",J133=\"o\",H131=\"o\",H132=\"o\",H134=\"o\",H133=\"x\"),\"x\",IF(OR(H133=\"o\",AND(G133=\"x\",I133=\"x\",J133=\"x\"),AND(H131=\"x\",H132=\"x\",H134=\"x\")),\"o\",\"\"))","v":""},{"$f":"IF(OR(G133=\"o\",H133=\"o\",J133=\"o\",I131=\"o\",I132=\"o\",I134=\"o\",I133=\"x\"),\"x\",IF(OR(I133=\"o\",AND(G133=\"x\",H133=\"x\",J133=\"x\"),AND(I131=\"x\",I132=\"x\",I134=\"x\")),\"o\",\"\"))","v":""},{"$f":"IF(OR(G133=\"o\",H133=\"o\",I133=\"o\",J131=\"o\",J132=\"o\",J134=\"o\",J133=\"x\"),\"x\",IF(OR(J133=\"o\",AND(G133=\"x\",H133=\"x\",I133=\"x\"),AND(J131=\"x\",J132=\"x\",J134=\"x\")),\"o\",\"\"))","v":""},{"$f":"IF(OR(L133=\"o\",M133=\"o\",N133=\"o\",K131=\"o\",K132=\"o\",K134=\"o\",K133=\"x\"),\"x\",IF(OR(K133=\"o\",AND(L133=\"x\",M133=\"x\",N133=\"x\"),AND(K131=\"x\",K132=\"x\",K134=\"x\")),\"o\",\"\"))","v":""},{"$f":"IF(OR(K133=\"o\",M133=\"o\",N133=\"o\",L131=\"o\",L132=\"o\",L134=\"o\",L133=\"x\"),\"x\",IF(OR(L133=\"o\",AND(K133=\"x\",M133=\"x\",N133=\"x\"),AND(L131=\"x\",L132=\"x\",L134=\"x\")),\"o\",\"\"))","v":""},{"$f":"IF(OR(K133=\"o\",L133=\"o\",N133=\"o\",M131=\"o\",M132=\"o\",M134=\"o\",M133=\"x\"),\"x\",IF(OR(M133=\"o\",AND(K133=\"x\",L133=\"x\",N133=\"x\"),AND(M131=\"x\",M132=\"x\",M134=\"x\")),\"o\",\"\"))","v":""},{"$f":"IF(OR(K133=\"o\",L133=\"o\",M133=\"o\",N131=\"o\",N132=\"o\",N134=\"o\",N133=\"x\"),\"x\",IF(OR(N133=\"o\",AND(K133=\"x\",L133=\"x\",M133=\"x\"),AND(N131=\"x\",N132=\"x\",N134=\"x\")),\"o\",\"\"))","v":""}]
[null,"Xénon",null,null,null,null,null,null,null,null,null,null,null,null,null,"2°/ Le gaz \" inactif \" ne sert pas en cryogénie ni en",null,null,null,null,null,null,null,null,null,null,null,null,null,"Xénon",{"$f":"IF(OR(D134=\"o\",E134=\"o\",F134=\"o\",C131=\"o\",C132=\"o\",C133=\"o\",C134=\"x\"),\"x\",IF(OR(C134=\"o\",AND(D134=\"x\",E134=\"x\",F134=\"x\"),AND(C131=\"x\",C132=\"x\",C133=\"x\")),\"o\",\"\"))","v":""},{"$f":"IF(OR(C134=\"o\",E134=\"o\",F134=\"o\",D131=\"o\",D132=\"o\",D133=\"o\",D134=\"x\"),\"x\",IF(OR(D134=\"o\",AND(C134=\"x\",E134=\"x\",F134=\"x\"),AND(D131=\"x\",D132=\"x\",D133=\"x\")),\"o\",\"\"))","v":""},{"$f":"IF(OR(C134=\"o\",D134=\"o\",F134=\"o\",E131=\"o\",E132=\"o\",E133=\"o\",E134=\"x\"),\"x\",IF(OR(E134=\"o\",AND(C134=\"x\",D134=\"x\",F134=\"x\"),AND(E131=\"x\",E132=\"x\",E133=\"x\")),\"o\",\"\"))","v":""},{"$f":"IF(OR(C134=\"o\",D134=\"o\",E134=\"o\",F131=\"o\",F132=\"o\",F133=\"o\",F134=\"x\"),\"x\",IF(OR(F134=\"o\",AND(C134=\"x\",D134=\"x\",E134=\"x\"),AND(F131=\"x\",F132=\"x\",F133=\"x\")),\"o\",\"\"))","v":""},{"$f":"IF(OR(H134=\"o\",I134=\"o\",J134=\"o\",G131=\"o\",G132=\"o\",G133=\"o\",G134=\"x\"),\"x\",IF(OR(G134=\"o\",AND(H134=\"x\",I134=\"x\",J134=\"x\"),AND(G131=\"x\",G132=\"x\",G133=\"x\")),\"o\",\"\"))","v":""},{"$f":"IF(OR(G134=\"o\",I134=\"o\",J134=\"o\",H131=\"o\",H132=\"o\",H133=\"o\",H134=\"x\"),\"x\",IF(OR(H134=\"o\",AND(G134=\"x\",I134=\"x\",J134=\"x\"),AND(H131=\"x\",H132=\"x\",H133=\"x\")),\"o\",\"\"))","v":""},{"$f":"IF(OR(G134=\"o\",H134=\"o\",J134=\"o\",I131=\"o\",I132=\"o\",I133=\"o\",I134=\"x\"),\"x\",IF(OR(I134=\"o\",AND(G134=\"x\",H134=\"x\",J134=\"x\"),AND(I131=\"x\",I132=\"x\",I133=\"x\")),\"o\",\"\"))","v":""},{"$f":"IF(OR(G134=\"o\",H134=\"o\",I134=\"o\",J131=\"o\",J132=\"o\",J133=\"o\",J134=\"x\"),\"x\",IF(OR(J134=\"o\",AND(G134=\"x\",H134=\"x\",I134=\"x\"),AND(J131=\"x\",J132=\"x\",J133=\"x\")),\"o\",\"\"))","v":""},{"$f":"IF(OR(L134=\"o\",M134=\"o\",N134=\"o\",K131=\"o\",K132=\"o\",K133=\"o\",K134=\"x\"),\"x\",IF(OR(K134=\"o\",AND(L134=\"x\",M134=\"x\",N134=\"x\"),AND(K131=\"x\",K132=\"x\",K133=\"x\")),\"o\",\"\"))","v":""},{"$f":"IF(OR(K134=\"o\",M134=\"o\",N134=\"o\",L131=\"o\",L132=\"o\",L133=\"o\",L134=\"x\"),\"x\",IF(OR(L134=\"o\",AND(K134=\"x\",M134=\"x\",N134=\"x\"),AND(L131=\"x\",L132=\"x\",L133=\"x\")),\"o\",\"\"))","v":""},{"$f":"IF(OR(K134=\"o\",L134=\"o\",N134=\"o\",M131=\"o\",M132=\"o\",M133=\"o\",M134=\"x\"),\"x\",IF(OR(M134=\"o\",AND(K134=\"x\",L134=\"x\",N134=\"x\"),AND(M131=\"x\",M132=\"x\",M133=\"x\")),\"o\",\"\"))","v":""},{"$f":"IF(OR(K134=\"o\",L134=\"o\",M134=\"o\",N131=\"o\",N132=\"o\",N133=\"o\",N134=\"x\"),\"x\",IF(OR(N134=\"o\",AND(K134=\"x\",L134=\"x\",M134=\"x\"),AND(N131=\"x\",N132=\"x\",N133=\"x\")),\"o\",\"\"))","v":""}]
["Utilisation","Anesthésie",null,null,null,null,null,null,null,null,null,null,null,null,null,"anesthésie, il n'est pas le premier gaz inerte découvert ",null,null,null,null,null,null,null,null,null,null,null,null,{"$f":"A135","v":"Utilisation"},"Anesthésie",{"$f":"IF(OR(D135=\"o\",E135=\"o\",F135=\"o\",C136=\"o\",C137=\"o\",C138=\"o\",C135=\"x\"),\"x\",IF(OR(C135=\"o\",AND(D135=\"x\",E135=\"x\",F135=\"x\"),AND(C136=\"x\",C137=\"x\",C138=\"x\")),\"o\",\"\"))","v":""},{"$f":"IF(OR(C135=\"o\",E135=\"o\",F135=\"o\",D136=\"o\",D137=\"o\",D138=\"o\",D135=\"x\"),\"x\",IF(OR(D135=\"o\",AND(C135=\"x\",E135=\"x\",F135=\"x\"),AND(D136=\"x\",D137=\"x\",D138=\"x\")),\"o\",\"\"))","v":""},{"$f":"IF(OR(C135=\"o\",D135=\"o\",F135=\"o\",E136=\"o\",E137=\"o\",E138=\"o\",E135=\"x\"),\"x\",IF(OR(E135=\"o\",AND(C135=\"x\",D135=\"x\",F135=\"x\"),AND(E136=\"x\",E137=\"x\",E138=\"x\")),\"o\",\"\"))","v":""},{"$f":"IF(OR(C135=\"o\",D135=\"o\",E135=\"o\",F136=\"o\",F137=\"o\",F138=\"o\",F135=\"x\"),\"x\",IF(OR(F135=\"o\",AND(C135=\"x\",D135=\"x\",E135=\"x\"),AND(F136=\"x\",F137=\"x\",F138=\"x\")),\"o\",\"\"))","v":""},{"$f":"IF(OR(H135=\"o\",I135=\"o\",J135=\"o\",G136=\"o\",G137=\"o\",G138=\"o\",G135=\"x\"),\"x\",IF(OR(G135=\"o\",AND(H135=\"x\",I135=\"x\",J135=\"x\"),AND(G136=\"x\",G137=\"x\",G138=\"x\")),\"o\",\"\"))","v":""},{"$f":"IF(OR(G135=\"o\",I135=\"o\",J135=\"o\",H136=\"o\",H137=\"o\",H138=\"o\",H135=\"x\"),\"x\",IF(OR(H135=\"o\",AND(G135=\"x\",I135=\"x\",J135=\"x\"),AND(H136=\"x\",H137=\"x\",H138=\"x\")),\"o\",\"\"))","v":""},{"$f":"IF(OR(G135=\"o\",H135=\"o\",J135=\"o\",I136=\"o\",I137=\"o\",I138=\"o\",I135=\"x\"),\"x\",IF(OR(I135=\"o\",AND(G135=\"x\",H135=\"x\",J135=\"x\"),AND(I136=\"x\",I137=\"x\",I138=\"x\")),\"o\",\"\"))","v":""},{"$f":"IF(OR(G135=\"o\",H135=\"o\",I135=\"o\",J136=\"o\",J137=\"o\",J138=\"o\",J135=\"x\"),\"x\",IF(OR(J135=\"o\",AND(G135=\"x\",H135=\"x\",I135=\"x\"),AND(J136=\"x\",J137=\"x\",J138=\"x\")),\"o\",\"\"))","v":""}]
[null,"Cryogénie",null,null,null,null,null,null,null,null,null,null,null,null,null,"ni de l'Hélium.",null,null,null,null,null,null,null,null,null,null,null,null,null,"Cryogénie",{"$f":"IF(OR(D136=\"o\",E136=\"o\",F136=\"o\",C135=\"o\",C137=\"o\",C138=\"o\",C136=\"x\"),\"x\",IF(OR(C136=\"o\",AND(D136=\"x\",E136=\"x\",F136=\"x\"),AND(C135=\"x\",C137=\"x\",C138=\"x\")),\"o\",\"\"))","v":""},{"$f":"IF(OR(C136=\"o\",E136=\"o\",F136=\"o\",D135=\"o\",D137=\"o\",D138=\"o\",D136=\"x\"),\"x\",IF(OR(D136=\"o\",AND(C136=\"x\",E136=\"x\",F136=\"x\"),AND(D135=\"x\",D137=\"x\",D138=\"x\")),\"o\",\"\"))","v":""},{"$f":"IF(OR(C136=\"o\",D136=\"o\",F136=\"o\",E135=\"o\",E137=\"o\",E138=\"o\",E136=\"x\"),\"x\",IF(OR(E136=\"o\",AND(C136=\"x\",D136=\"x\",F136=\"x\"),AND(E135=\"x\",E137=\"x\",E138=\"x\")),\"o\",\"\"))","v":""},{"$f":"IF(OR(C136=\"o\",D136=\"o\",E136=\"o\",F135=\"o\",F137=\"o\",F138=\"o\",F136=\"x\"),\"x\",IF(OR(F136=\"o\",AND(C136=\"x\",D136=\"x\",E136=\"x\"),AND(F135=\"x\",F137=\"x\",F138=\"x\")),\"o\",\"\"))","v":""},{"$f":"IF(OR(H136=\"o\",I136=\"o\",J136=\"o\",G135=\"o\",G137=\"o\",G138=\"o\",G136=\"x\"),\"x\",IF(OR(G136=\"o\",AND(H136=\"x\",I136=\"x\",J136=\"x\"),AND(G135=\"x\",G137=\"x\",G138=\"x\")),\"o\",\"\"))","v":""},{"$f":"IF(OR(G136=\"o\",I136=\"o\",J136=\"o\",H135=\"o\",H137=\"o\",H138=\"o\",H136=\"x\"),\"x\",IF(OR(H136=\"o\",AND(G136=\"x\",I136=\"x\",J136=\"x\"),AND(H135=\"x\",H137=\"x\",H138=\"x\")),\"o\",\"\"))","v":""},{"$f":"IF(OR(G136=\"o\",H136=\"o\",J136=\"o\",I135=\"o\",I137=\"o\",I138=\"o\",I136=\"x\"),\"x\",IF(OR(I136=\"o\",AND(G136=\"x\",H136=\"x\",J136=\"x\"),AND(I135=\"x\",I137=\"x\",I138=\"x\")),\"o\",\"\"))","v":""},{"$f":"IF(OR(G136=\"o\",H136=\"o\",I136=\"o\",J135=\"o\",J137=\"o\",J138=\"o\",J136=\"x\"),\"x\",IF(OR(J136=\"o\",AND(G136=\"x\",H136=\"x\",I136=\"x\"),AND(J135=\"x\",J137=\"x\",J138=\"x\")),\"o\",\"\"))","v":""}]
[null,"Datation",null,null,null,null,null,null,null,null,null,null,null,null,null,"3°/ Le Radon qui ne signifie pas inactif ni soleil et a été",null,null,null,null,null,null,null,null,null,null,null,null,null,"Datation",{"$f":"IF(OR(D137=\"o\",E137=\"o\",F137=\"o\",C135=\"o\",C136=\"o\",C138=\"o\",C137=\"x\"),\"x\",IF(OR(C137=\"o\",AND(D137=\"x\",E137=\"x\",F137=\"x\"),AND(C135=\"x\",C136=\"x\",C138=\"x\")),\"o\",\"\"))","v":""},{"$f":"IF(OR(C137=\"o\",E137=\"o\",F137=\"o\",D135=\"o\",D136=\"o\",D138=\"o\",D137=\"x\"),\"x\",IF(OR(D137=\"o\",AND(C137=\"x\",E137=\"x\",F137=\"x\"),AND(D135=\"x\",D136=\"x\",D138=\"x\")),\"o\",\"\"))","v":""},{"$f":"IF(OR(C137=\"o\",D137=\"o\",F137=\"o\",E135=\"o\",E136=\"o\",E138=\"o\",E137=\"x\"),\"x\",IF(OR(E137=\"o\",AND(C137=\"x\",D137=\"x\",F137=\"x\"),AND(E135=\"x\",E136=\"x\",E138=\"x\")),\"o\",\"\"))","v":""},{"$f":"IF(OR(C137=\"o\",D137=\"o\",E137=\"o\",F135=\"o\",F136=\"o\",F138=\"o\",F137=\"x\"),\"x\",IF(OR(F137=\"o\",AND(C137=\"x\",D137=\"x\",E137=\"x\"),AND(F135=\"x\",F136=\"x\",F138=\"x\")),\"o\",\"\"))","v":""},{"$f":"IF(OR(H137=\"o\",I137=\"o\",J137=\"o\",G135=\"o\",G136=\"o\",G138=\"o\",G137=\"x\"),\"x\",IF(OR(G137=\"o\",AND(H137=\"x\",I137=\"x\",J137=\"x\"),AND(G135=\"x\",G136=\"x\",G138=\"x\")),\"o\",\"\"))","v":""},{"$f":"IF(OR(G137=\"o\",I137=\"o\",J137=\"o\",H135=\"o\",H136=\"o\",H138=\"o\",H137=\"x\"),\"x\",IF(OR(H137=\"o\",AND(G137=\"x\",I137=\"x\",J137=\"x\"),AND(H135=\"x\",H136=\"x\",H138=\"x\")),\"o\",\"\"))","v":""},{"$f":"IF(OR(G137=\"o\",H137=\"o\",J137=\"o\",I135=\"o\",I136=\"o\",I138=\"o\",I137=\"x\"),\"x\",IF(OR(I137=\"o\",AND(G137=\"x\",H137=\"x\",J137=\"x\"),AND(I135=\"x\",I136=\"x\",I138=\"x\")),\"o\",\"\"))","v":""},{"$f":"IF(OR(G137=\"o\",H137=\"o\",I137=\"o\",J135=\"o\",J136=\"o\",J138=\"o\",J137=\"x\"),\"x\",IF(OR(J137=\"o\",AND(G137=\"x\",H137=\"x\",I137=\"x\"),AND(J135=\"x\",J136=\"x\",J138=\"x\")),\"o\",\"\"))","v":""}]
[null,"Prévention séisme",null,null,null,null,null,null,null,null,null,null,null,null,null,"découvert après 1894, il est utilisé pour la prévention",null,null,null,null,null,null,null,null,null,null,null,null,null,"Prévention séisme",{"$f":"IF(OR(D138=\"o\",E138=\"o\",F138=\"o\",C135=\"o\",C136=\"o\",C137=\"o\",C138=\"x\"),\"x\",IF(OR(C138=\"o\",AND(D138=\"x\",E138=\"x\",F138=\"x\"),AND(C135=\"x\",C136=\"x\",C137=\"x\")),\"o\",\"\"))","v":""},{"$f":"IF(OR(C138=\"o\",E138=\"o\",F138=\"o\",D135=\"o\",D136=\"o\",D137=\"o\",D138=\"x\"),\"x\",IF(OR(D138=\"o\",AND(C138=\"x\",E138=\"x\",F138=\"x\"),AND(D135=\"x\",D136=\"x\",D137=\"x\")),\"o\",\"\"))","v":""},{"$f":"IF(OR(C138=\"o\",D138=\"o\",F138=\"o\",E135=\"o\",E136=\"o\",E137=\"o\",E138=\"x\"),\"x\",IF(OR(E138=\"o\",AND(C138=\"x\",D138=\"x\",F138=\"x\"),AND(E135=\"x\",E136=\"x\",E137=\"x\")),\"o\",\"\"))","v":""},{"$f":"IF(OR(C138=\"o\",D138=\"o\",E138=\"o\",F135=\"o\",F136=\"o\",F137=\"o\",F138=\"x\"),\"x\",IF(OR(F138=\"o\",AND(C138=\"x\",D138=\"x\",E138=\"x\"),AND(F135=\"x\",F136=\"x\",F137=\"x\")),\"o\",\"\"))","v":""},{"$f":"IF(OR(H138=\"o\",I138=\"o\",J138=\"o\",G135=\"o\",G136=\"o\",G137=\"o\",G138=\"x\"),\"x\",IF(OR(G138=\"o\",AND(H138=\"x\",I138=\"x\",J138=\"x\"),AND(G135=\"x\",G136=\"x\",G137=\"x\")),\"o\",\"\"))","v":""},{"$f":"IF(OR(G138=\"o\",I138=\"o\",J138=\"o\",H135=\"o\",H136=\"o\",H137=\"o\",H138=\"x\"),\"x\",IF(OR(H138=\"o\",AND(G138=\"x\",I138=\"x\",J138=\"x\"),AND(H135=\"x\",H136=\"x\",H137=\"x\")),\"o\",\"\"))","v":""},{"$f":"IF(OR(G138=\"o\",H138=\"o\",J138=\"o\",I135=\"o\",I136=\"o\",I137=\"o\",I138=\"x\"),\"x\",IF(OR(I138=\"o\",AND(G138=\"x\",H138=\"x\",J138=\"x\"),AND(I135=\"x\",I136=\"x\",I137=\"x\")),\"o\",\"\"))","v":""},{"$f":"IF(OR(G138=\"o\",H138=\"o\",I138=\"o\",J135=\"o\",J136=\"o\",J137=\"o\",J138=\"x\"),\"x\",IF(OR(J138=\"o\",AND(G138=\"x\",H138=\"x\",I138=\"x\"),AND(J135=\"x\",J136=\"x\",J137=\"x\")),\"o\",\"\"))","v":""}]
["Découverte",1868,null,null,null,null,null,null,null,null,null,null,null,null,null,"des séismes.",null,null,null,null,null,null,null,null,null,null,null,null,{"$f":"A139","v":"Découverte"},1868,{"$f":"IF(OR(D139=\"o\",E139=\"o\",F139=\"o\",C140=\"o\",C141=\"o\",C142=\"o\",C139=\"x\"),\"x\",IF(OR(C139=\"o\",AND(D139=\"x\",E139=\"x\",F139=\"x\"),AND(C140=\"x\",C141=\"x\",C142=\"x\")),\"o\",\"\"))","v":""},{"$f":"IF(OR(C139=\"o\",E139=\"o\",F139=\"o\",D140=\"o\",D141=\"o\",D142=\"o\",D139=\"x\"),\"x\",IF(OR(D139=\"o\",AND(C139=\"x\",E139=\"x\",F139=\"x\"),AND(D140=\"x\",D141=\"x\",D142=\"x\")),\"o\",\"\"))","v":""},{"$f":"IF(OR(C139=\"o\",D139=\"o\",F139=\"o\",E140=\"o\",E141=\"o\",E142=\"o\",E139=\"x\"),\"x\",IF(OR(E139=\"o\",AND(C139=\"x\",D139=\"x\",F139=\"x\"),AND(E140=\"x\",E141=\"x\",E142=\"x\")),\"o\",\"\"))","v":""},{"$f":"IF(OR(C139=\"o\",D139=\"o\",E139=\"o\",F140=\"o\",F141=\"o\",F142=\"o\",F139=\"x\"),\"x\",IF(OR(F139=\"o\",AND(C139=\"x\",D139=\"x\",E139=\"x\"),AND(F140=\"x\",F141=\"x\",F142=\"x\")),\"o\",\"\"))","v":""}]
[null,1894,null,null,null,null,null,{"$f":"IF(AND(C145=Q145,G145=U145,K145=Y145,C146=Q146,G146=U146,K146=Y146,C147=Q147,G147=U147,K147=Y147,C148=Q148,G148=U148,K148=Y148),\"BRAVO !!\",\"\")","v":""},null,null,null,null,null,null,null,null,null,null,null,null,null,null,null,null,null,null,null,null,null,1894,{"$f":"IF(OR(D140=\"o\",E140=\"o\",F140=\"o\",C139=\"o\",C141=\"o\",C142=\"o\",C140=\"x\"),\"x\",IF(OR(C140=\"o\",AND(D140=\"x\",E140=\"x\",F140=\"x\"),AND(C139=\"x\",C141=\"x\",C142=\"x\")),\"o\",\"\"))","v":""},{"$f":"IF(OR(C140=\"o\",E140=\"o\",F140=\"o\",D139=\"o\",D141=\"o\",D142=\"o\",D140=\"x\"),\"x\",IF(OR(D140=\"o\",AND(C140=\"x\",E140=\"x\",F140=\"x\"),AND(D139=\"x\",D141=\"x\",D142=\"x\")),\"o\",\"\"))","v":""},{"$f":"IF(OR(C140=\"o\",D140=\"o\",F140=\"o\",E139=\"o\",E141=\"o\",E142=\"o\",E140=\"x\"),\"x\",IF(OR(E140=\"o\",AND(C140=\"x\",D140=\"x\",F140=\"x\"),AND(E139=\"x\",E141=\"x\",E142=\"x\")),\"o\",\"\"))","v":""},{"$f":"IF(OR(C140=\"o\",D140=\"o\",E140=\"o\",F139=\"o\",F141=\"o\",F142=\"o\",F140=\"x\"),\"x\",IF(OR(F140=\"o\",AND(C140=\"x\",D140=\"x\",E140=\"x\"),AND(F139=\"x\",F141=\"x\",F142=\"x\")),\"o\",\"\"))","v":""}]
[null,1898,null,null,null,null,null,null,null,null,null,null,null,null,null,null,null,null,null,null,null,null,null,null,null,null,null,null,null,1898,{"$f":"IF(OR(D141=\"o\",E141=\"o\",F141=\"o\",C139=\"o\",C140=\"o\",C142=\"o\",C141=\"x\"),\"x\",IF(OR(C141=\"o\",AND(D141=\"x\",E141=\"x\",F141=\"x\"),AND(C139=\"x\",C140=\"x\",C142=\"x\")),\"o\",\"\"))","v":""},{"$f":"IF(OR(C141=\"o\",E141=\"o\",F141=\"o\",D139=\"o\",D140=\"o\",D142=\"o\",D141=\"x\"),\"x\",IF(OR(D141=\"o\",AND(C141=\"x\",E141=\"x\",F141=\"x\"),AND(D139=\"x\",D140=\"x\",D142=\"x\")),\"o\",\"\"))","v":""},{"$f":"IF(OR(C141=\"o\",D141=\"o\",F141=\"o\",E139=\"o\",E140=\"o\",E142=\"o\",E141=\"x\"),\"x\",IF(OR(E141=\"o\",AND(C141=\"x\",D141=\"x\",F141=\"x\"),AND(E139=\"x\",E140=\"x\",E142=\"x\")),\"o\",\"\"))","v":""},{"$f":"IF(OR(C141=\"o\",D141=\"o\",E141=\"o\",F139=\"o\",F140=\"o\",F142=\"o\",F141=\"x\"),\"x\",IF(OR(F141=\"o\",AND(C141=\"x\",D141=\"x\",E141=\"x\"),AND(F139=\"x\",F140=\"x\",F142=\"x\")),\"o\",\"\"))","v":""}]
[null,1900,null,null,null,null,null,null,null,null,null,null,null,null,null,null,null,null,null,null,null,null,null,null,null,null,null,null,null,1900,{"$f":"IF(OR(D142=\"o\",E142=\"o\",F142=\"o\",C139=\"o\",C140=\"o\",C141=\"o\",C142=\"x\"),\"x\",IF(OR(C142=\"o\",AND(D142=\"x\",E142=\"x\",F142=\"x\"),AND(C139=\"x\",C140=\"x\",C141=\"x\")),\"o\",\"\"))","v":""},{"$f":"IF(OR(C142=\"o\",E142=\"o\",F142=\"o\",D139=\"o\",D140=\"o\",D141=\"o\",D142=\"x\"),\"x\",IF(OR(D142=\"o\",AND(C142=\"x\",E142=\"x\",F142=\"x\"),AND(D139=\"x\",D140=\"x\",D141=\"x\")),\"o\",\"\"))","v":""},{"$f":"IF(OR(C142=\"o\",D142=\"o\",F142=\"o\",E139=\"o\",E140=\"o\",E141=\"o\",E142=\"x\"),\"x\",IF(OR(E142=\"o\",AND(C142=\"x\",D142=\"x\",F142=\"x\"),AND(E139=\"x\",E140=\"x\",E141=\"x\")),\"o\",\"\"))","v":""},{"$f":"IF(OR(C142=\"o\",D142=\"o\",E142=\"o\",F139=\"o\",F140=\"o\",F141=\"o\",F142=\"x\"),\"x\",IF(OR(F142=\"o\",AND(C142=\"x\",D142=\"x\",E142=\"x\"),AND(F139=\"x\",F140=\"x\",F141=\"x\")),\"o\",\"\"))","v":""}]
[]
[null,"Réponses :",{"$f":"C129","v":"En Grec"},null,null,null,{"$f":"G129","v":"Découverte"},null,null,null,{"$f":"K129","v":"Utilisation"},null,null,null,null,null,{"$f":"C129","v":"En Grec"},null,null,null,{"$f":"G129","v":"Découverte"},null,null,null,{"$f":"K129","v":"Utilisation"}]
[null,{"$f":"B131","v":"Argon"},{"$f":"IF(C131=\"o\",C130,IF(D131=\"o\",D130,IF(E131=\"o\",E130,IF(F131=\"o\",F130,\"\"))))","v":""},null,null,null,{"$f":"IF(G131=\"o\",G130,IF(H131=\"o\",H130,IF(I131=\"o\",I130,IF(J131=\"o\",J130,\"\"))))","v":""},null,null,null,{"$f":"IF(K131=\"o\",K130,IF(L131=\"o\",L130,IF(M131=\"o\",M130,IF(N131=\"o\",N130,\"\"))))","v":""},null,null,null,null,{"$f":"B131","v":"Argon"},"Inactif",null,null,null,1894,null,null,null,"Datation"]
[null,{"$f":"B132","v":"Hélium"},{"$f":"IF(C132=\"o\",C130,IF(D132=\"o\",D130,IF(E132=\"o\",E130,IF(F132=\"o\",F130,\"\"))))","v":""},null,null,null,{"$f":"IF(G132=\"o\",G130,IF(H132=\"o\",H130,IF(I132=\"o\",I130,IF(J132=\"o\",J130,\"\"))))","v":""},null,null,null,{"$f":"IF(K132=\"o\",K130,IF(L132=\"o\",L130,IF(M132=\"o\",M130,IF(N132=\"o\",N130,\"\"))))","v":""},null,null,null,null,{"$f":"B132","v":"Hélium"},"Soleil",null,null,null,1868,null,null,null,"Cryogénie"]
[null,{"$f":"B133","v":"Radon"},{"$f":"IF(C133=\"o\",C130,IF(D133=\"o\",D130,IF(E133=\"o\",E130,IF(F133=\"o\",F130,\"\"))))","v":""},null,null,null,{"$f":"IF(G133=\"o\",G130,IF(H133=\"o\",H130,IF(I133=\"o\",I130,IF(J133=\"o\",J130,\"\"))))","v":""},null,null,null,{"$f":"IF(K133=\"o\",K130,IF(L133=\"o\",L130,IF(M133=\"o\",M130,IF(N133=\"o\",N130,\"\"))))","v":""},null,null,null,null,{"$f":"B133","v":"Radon"},"Rayon",null,null,null,1900,null,null,null,"Prévention séisme"]
[null,{"$f":"B134","v":"Xénon"},{"$f":"IF(C134=\"o\",C130,IF(D134=\"o\",D130,IF(E134=\"o\",E130,IF(F134=\"o\",F130,\"\"))))","v":""},null,null,null,{"$f":"IF(G134=\"o\",G130,IF(H134=\"o\",H130,IF(I134=\"o\",I130,IF(J134=\"o\",J130,\"\"))))","v":""},null,null,null,{"$f":"IF(K134=\"o\",K130,IF(L134=\"o\",L130,IF(M134=\"o\",M130,IF(N134=\"o\",N130,\"\"))))","v":""},null,null,null,null,{"$f":"B134","v":"Xénon"},"Etranger",null,null,null,1898,null,null,null,"Anesthésie"]
[]
[]
["XVII°/ les Maîtresses de Louis XIV :"]
[{"$f":"INDIRECT(\"'Calculs 4 indices'!B\"&A155)","v":""},null,null,null,null,null,null,null,null,null,null,null,null,{"$f":"INDIRECT(\"'Calculs 4 indices'!M\"&(A155+16))","v":""}]
[{"$f":"INDIRECT(\"'Calculs 4 indices'!B\"&(A155+26))","v":""},null,null,null,null,null,null,null,null,null,null,null,null,{"$f":"INDIRECT(\"'Calculs 4 indices'!M\"&(A155+17))","v":""}]
[null,null,"Mortes à",null,null,null,{"$f":"A164","v":"Enfants"},null,null,null,{"$f":"A160","v":"Rang"},null,null,null,null,null,null,null,null,null,null,null,null,null,null,null,null,null,null,null,{"$f":"C154","v":"Mortes à"},null,null,null,{"$f":"G154","v":"Enfants"},null,null,null,{"$f":"K154","v":"Rang"}]
[{"$f":"A130+52","v":313},null,20,66,67,84,0,1,6,8,1,2,3,4,null,"Louis IV a eu plusieurs maîtresses parmi lesquelles Madame de Maintenon , Madame de Montespan , Louise de La Vallière ainsi que Marie Angélique de Fontanges, mais combien d'enfants a t-il eu avec chacune d'elle ? dans quel ordre les a t-il rencontré ? à quel âge sont elles mortes ?",null,null,null,null,null,null,null,null,null,null,null,null,null,null,{"$f":"C155","v":20},{"$f":"D155","v":66},{"$f":"E155","v":67},{"$f":"F155","v":84},{"$f":"G155","v":0},{"$f":"H155","v":1},{"$f":"I155","v":6},{"$f":"J155","v":8},{"$f":"K155","v":1},{"$f":"L155","v":2},{"$f":"M155","v":3},{"$f":"N155","v":4}]
["Maîtresses","Louise de La Vallière",null,null,null,null,null,null,null,null,null,null,null,null,null,null,null,null,null,null,null,null,null,null,null,null,null,null,{"$f":"A156","v":"Maîtresses"},{"$f":"B156","v":"Louise de La Vallière"},{"$f":"IF(OR(D156=\"o\",E156=\"o\",F156=\"o\",C157=\"o\",C158=\"o\",C159=\"o\",C156=\"x\"),\"x\",IF(OR(C156=\"o\",AND(D156=\"x\",E156=\"x\",F156=\"x\"),AND(C157=\"x\",C158=\"x\",C159=\"x\")),\"o\",\"\"))","v":""},{"$f":"IF(OR(C156=\"o\",E156=\"o\",F156=\"o\",D157=\"o\",D158=\"o\",D159=\"o\",D156=\"x\"),\"x\",IF(OR(D156=\"o\",AND(C156=\"x\",E156=\"x\",F156=\"x\"),AND(D157=\"x\",D158=\"x\",D159=\"x\")),\"o\",\"\"))","v":""},{"$f":"IF(OR(C156=\"o\",D156=\"o\",F156=\"o\",E157=\"o\",E158=\"o\",E159=\"o\",E156=\"x\"),\"x\",IF(OR(E156=\"o\",AND(C156=\"x\",D156=\"x\",F156=\"x\"),AND(E157=\"x\",E158=\"x\",E159=\"x\")),\"o\",\"\"))","v":""},{"$f":"IF(OR(C156=\"o\",D156=\"o\",E156=\"o\",F157=\"o\",F158=\"o\",F159=\"o\",F156=\"x\"),\"x\",IF(OR(F156=\"o\",AND(C156=\"x\",D156=\"x\",E156=\"x\"),AND(F157=\"x\",F158=\"x\",F159=\"x\")),\"o\",\"\"))","v":""},{"$f":"IF(OR(H156=\"o\",I156=\"o\",J156=\"o\",G157=\"o\",G158=\"o\",G159=\"o\",G156=\"x\"),\"x\",IF(OR(G156=\"o\",AND(H156=\"x\",I156=\"x\",J156=\"x\"),AND(G157=\"x\",G158=\"x\",G159=\"x\")),\"o\",\"\"))","v":""},{"$f":"IF(OR(G156=\"o\",I156=\"o\",J156=\"o\",H157=\"o\",H158=\"o\",H159=\"o\",H156=\"x\"),\"x\",IF(OR(H156=\"o\",AND(G156=\"x\",I156=\"x\",J156=\"x\"),AND(H157=\"x\",H158=\"x\",H159=\"x\")),\"o\",\"\"))","v":""},{"$f":"IF(OR(G156=\"o\",H156=\"o\",J156=\"o\",I157=\"o\",I158=\"o\",I159=\"o\",I156=\"x\"),\"x\",IF(OR(I156=\"o\",AND(G156=\"x\",H156=\"x\",J156=\"x\"),AND(I157=\"x\",I158=\"x\",I159=\"x\")),\"o\",\"\"))","v":""},{"$f":"IF(OR(G156=\"o\",H156=\"o\",I156=\"o\",J157=\"o\",J158=\"o\",J159=\"o\",J156=\"x\"),\"x\",IF(OR(J156=\"o\",AND(G156=\"x\",H156=\"x\",I156=\"x\"),AND(J157=\"x\",J158=\"x\",J159=\"x\")),\"o\",\"\"))","v":""},{"$f":"IF(OR(L156=\"o\",M156=\"o\",N156=\"o\",K157=\"o\",K158=\"o\",K159=\"o\",K156=\"x\"),\"x\",IF(OR(K156=\"o\",AND(L156=\"x\",M156=\"x\",N156=\"x\"),AND(K157=\"x\",K158=\"x\",K159=\"x\")),\"o\",\"\"))","v":""},{"$f":"IF(OR(K156=\"o\",M156=\"o\",N156=\"o\",L157=\"o\",L158=\"o\",L159=\"o\",L156=\"x\"),\"x\",IF(OR(L156=\"o\",AND(K156=\"x\",M156=\"x\",N156=\"x\"),AND(L157=\"x\",L158=\"x\",L159=\"x\")),\"o\",\"\"))","v":""},{"$f":"IF(OR(K156=\"o\",L156=\"o\",N156=\"o\",M157=\"o\",M158=\"o\",M159=\"o\",M156=\"x\"),\"x\",IF(OR(M156=\"o\",AND(K156=\"x\",L156=\"x\",N156=\"x\"),AND(M157=\"x\",M158=\"x\",M159=\"x\")),\"o\",\"\"))","v":""},{"$f":"IF(OR(K156=\"o\",L156=\"o\",M156=\"o\",N157=\"o\",N158=\"o\",N159=\"o\",N156=\"x\"),\"x\",IF(OR(N156=\"o\",AND(K156=\"x\",L156=\"x\",M156=\"x\"),AND(N157=\"x\",N158=\"x\",N159=\"x\")),\"o\",\"\"))","v":""}]
[null,"Madame de Montespan",null,null,null,null,null,null,null,null,null,null,null,null,null,"1°/ La maîtresse qui a vécu jusqu'à 67 ans n'est pas Louise",null,null,null,null,null,null,null,null,null,null,null,null,null,{"$f":"B157","v":"Madame de Montespan"},{"$f":"IF(OR(D157=\"o\",E157=\"o\",F157=\"o\",C156=\"o\",C158=\"o\",C159=\"o\",C157=\"x\"),\"x\",IF(OR(C157=\"o\",AND(D157=\"x\",E157=\"x\",F157=\"x\"),AND(C156=\"x\",C158=\"x\",C159=\"x\")),\"o\",\"\"))","v":""},{"$f":"IF(OR(C157=\"o\",E157=\"o\",F157=\"o\",D156=\"o\",D158=\"o\",D159=\"o\",D157=\"x\"),\"x\",IF(OR(D157=\"o\",AND(C157=\"x\",E157=\"x\",F157=\"x\"),AND(D156=\"x\",D158=\"x\",D159=\"x\")),\"o\",\"\"))","v":""},{"$f":"IF(OR(C157=\"o\",D157=\"o\",F157=\"o\",E156=\"o\",E158=\"o\",E159=\"o\",E157=\"x\"),\"x\",IF(OR(E157=\"o\",AND(C157=\"x\",D157=\"x\",F157=\"x\"),AND(E156=\"x\",E158=\"x\",E159=\"x\")),\"o\",\"\"))","v":""},{"$f":"IF(OR(C157=\"o\",D157=\"o\",E157=\"o\",F156=\"o\",F158=\"o\",F159=\"o\",F157=\"x\"),\"x\",IF(OR(F157=\"o\",AND(C157=\"x\",D157=\"x\",E157=\"x\"),AND(F156=\"x\",F158=\"x\",F159=\"x\")),\"o\",\"\"))","v":""},{"$f":"IF(OR(H157=\"o\",I157=\"o\",J157=\"o\",G156=\"o\",G158=\"o\",G159=\"o\",G157=\"x\"),\"x\",IF(OR(G157=\"o\",AND(H157=\"x\",I157=\"x\",J157=\"x\"),AND(G156=\"x\",G158=\"x\",G159=\"x\")),\"o\",\"\"))","v":""},{"$f":"IF(OR(G157=\"o\",I157=\"o\",J157=\"o\",H156=\"o\",H158=\"o\",H159=\"o\",H157=\"x\"),\"x\",IF(OR(H157=\"o\",AND(G157=\"x\",I157=\"x\",J157=\"x\"),AND(H156=\"x\",H158=\"x\",H159=\"x\")),\"o\",\"\"))","v":""},{"$f":"IF(OR(G157=\"o\",H157=\"o\",J157=\"o\",I156=\"o\",I158=\"o\",I159=\"o\",I157=\"x\"),\"x\",IF(OR(I157=\"o\",AND(G157=\"x\",H157=\"x\",J157=\"x\"),AND(I156=\"x\",I158=\"x\",I159=\"x\")),\"o\",\"\"))","v":""},{"$f":"IF(OR(G157=\"o\",H157=\"o\",I157=\"o\",J156=\"o\",J158=\"o\",J159=\"o\",J157=\"x\"),\"x\",IF(OR(J157=\"o\",AND(G157=\"x\",H157=\"x\",I157=\"x\"),AND(J156=\"x\",J158=\"x\",J159=\"x\")),\"o\",\"\"))","v":""},{"$f":"IF(OR(L157=\"o\",M157=\"o\",N157=\"o\",K156=\"o\",K158=\"o\",K159=\"o\",K157=\"x\"),\"x\",IF(OR(K157=\"o\",AND(L157=\"x\",M157=\"x\",N157=\"x\"),AND(K156=\"x\",K158=\"x\",K159=\"x\")),\"o\",\"\"))","v":""},{"$f":"IF(OR(K157=\"o\",M157=\"o\",N157=\"o\",L156=\"o\",L158=\"o\",L159=\"o\",L157=\"x\"),\"x\",IF(OR(L157=\"o\",AND(K157=\"x\",M157=\"x\",N157=\"x\"),AND(L156=\"x\",L158=\"x\",L159=\"x\")),\"o\",\"\"))","v":""},{"$f":"IF(OR(K157=\"o\",L157=\"o\",N157=\"o\",M156=\"o\",M158=\"o\",M159=\"o\",M157=\"x\"),\"x\",IF(OR(M157=\"o\",AND(K157=\"x\",L157=\"x\",N157=\"x\"),AND(M156=\"x\",M158=\"x\",M159=\"x\")),\"o\",\"\"))","v":""},{"$f":"IF(OR(K157=\"o\",L157=\"o\",M157=\"o\",N156=\"o\",N158=\"o\",N159=\"o\",N157=\"x\"),\"x\",IF(OR(N157=\"o\",AND(K157=\"x\",L157=\"x\",M157=\"x\"),AND(N156=\"x\",N158=\"x\",N159=\"x\")),\"o\",\"\"))","v":""}]
[null,"Madame de Maintenon",null,null,null,null,null,null,null,null,null,null,null,null,null,"de La Vallière, n'a pas eu 6 enfants avec Louis XIV et n'est",null,null,null,null,null,null,null,null,null,null,null,null,null,"Madame de Maintenon",{"$f":"IF(OR(D158=\"o\",E158=\"o\",F158=\"o\",C156=\"o\",C157=\"o\",C159=\"o\",C158=\"x\"),\"x\",IF(OR(C158=\"o\",AND(D158=\"x\",E158=\"x\",F158=\"x\"),AND(C156=\"x\",C157=\"x\",C159=\"x\")),\"o\",\"\"))","v":""},{"$f":"IF(OR(C158=\"o\",E158=\"o\",F158=\"o\",D156=\"o\",D157=\"o\",D159=\"o\",D158=\"x\"),\"x\",IF(OR(D158=\"o\",AND(C158=\"x\",E158=\"x\",F158=\"x\"),AND(D156=\"x\",D157=\"x\",D159=\"x\")),\"o\",\"\"))","v":""},{"$f":"IF(OR(C158=\"o\",D158=\"o\",F158=\"o\",E156=\"o\",E157=\"o\",E159=\"o\",E158=\"x\"),\"x\",IF(OR(E158=\"o\",AND(C158=\"x\",D158=\"x\",F158=\"x\"),AND(E156=\"x\",E157=\"x\",E159=\"x\")),\"o\",\"\"))","v":""},{"$f":"IF(OR(C158=\"o\",D158=\"o\",E158=\"o\",F156=\"o\",F157=\"o\",F159=\"o\",F158=\"x\"),\"x\",IF(OR(F158=\"o\",AND(C158=\"x\",D158=\"x\",E158=\"x\"),AND(F156=\"x\",F157=\"x\",F159=\"x\")),\"o\",\"\"))","v":""},{"$f":"IF(OR(H158=\"o\",I158=\"o\",J158=\"o\",G156=\"o\",G157=\"o\",G159=\"o\",G158=\"x\"),\"x\",IF(OR(G158=\"o\",AND(H158=\"x\",I158=\"x\",J158=\"x\"),AND(G156=\"x\",G157=\"x\",G159=\"x\")),\"o\",\"\"))","v":""},{"$f":"IF(OR(G158=\"o\",I158=\"o\",J158=\"o\",H156=\"o\",H157=\"o\",H159=\"o\",H158=\"x\"),\"x\",IF(OR(H158=\"o\",AND(G158=\"x\",I158=\"x\",J158=\"x\"),AND(H156=\"x\",H157=\"x\",H159=\"x\")),\"o\",\"\"))","v":""},{"$f":"IF(OR(G158=\"o\",H158=\"o\",J158=\"o\",I156=\"o\",I157=\"o\",I159=\"o\",I158=\"x\"),\"x\",IF(OR(I158=\"o\",AND(G158=\"x\",H158=\"x\",J158=\"x\"),AND(I156=\"x\",I157=\"x\",I159=\"x\")),\"o\",\"\"))","v":""},{"$f":"IF(OR(G158=\"o\",H158=\"o\",I158=\"o\",J156=\"o\",J157=\"o\",J159=\"o\",J158=\"x\"),\"x\",IF(OR(J158=\"o\",AND(G158=\"x\",H158=\"x\",I158=\"x\"),AND(J156=\"x\",J157=\"x\",J159=\"x\")),\"o\",\"\"))","v":""},{"$f":"IF(OR(L158=\"o\",M158=\"o\",N158=\"o\",K156=\"o\",K157=\"o\",K159=\"o\",K158=\"x\"),\"x\",IF(OR(K158=\"o\",AND(L158=\"x\",M158=\"x\",N158=\"x\"),AND(K156=\"x\",K157=\"x\",K159=\"x\")),\"o\",\"\"))","v":""},{"$f":"IF(OR(K158=\"o\",M158=\"o\",N158=\"o\",L156=\"o\",L157=\"o\",L159=\"o\",L158=\"x\"),\"x\",IF(OR(L158=\"o\",AND(K158=\"x\",M158=\"x\",N158=\"x\"),AND(L156=\"x\",L157=\"x\",L159=\"x\")),\"o\",\"\"))","v":""},{"$f":"IF(OR(K158=\"o\",L158=\"o\",N158=\"o\",M156=\"o\",M157=\"o\",M159=\"o\",M158=\"x\"),\"x\",IF(OR(M158=\"o\",AND(K158=\"x\",L158=\"x\",N158=\"x\"),AND(M156=\"x\",M157=\"x\",M159=\"x\")),\"o\",\"\"))","v":""},{"$f":"IF(OR(K158=\"o\",L158=\"o\",M158=\"o\",N156=\"o\",N157=\"o\",N159=\"o\",N158=\"x\"),\"x\",IF(OR(N158=\"o\",AND(K158=\"x\",L158=\"x\",M158=\"x\"),AND(N156=\"x\",N157=\"x\",N159=\"x\")),\"o\",\"\"))","v":""}]
[null,"Marie Angélique de Fontanges",null,null,null,null,null,null,null,null,null,null,null,null,null,"pas la première maîtresse de Louis XIV.",null,null,null,null,null,null,null,null,null,null,null,null,null,"Marie Angélique de Fontanges",{"$f":"IF(OR(D159=\"o\",E159=\"o\",F159=\"o\",C156=\"o\",C157=\"o\",C158=\"o\",C159=\"x\"),\"x\",IF(OR(C159=\"o\",AND(D159=\"x\",E159=\"x\",F159=\"x\"),AND(C156=\"x\",C157=\"x\",C158=\"x\")),\"o\",\"\"))","v":""},{"$f":"IF(OR(C159=\"o\",E159=\"o\",F159=\"o\",D156=\"o\",D157=\"o\",D158=\"o\",D159=\"x\"),\"x\",IF(OR(D159=\"o\",AND(C159=\"x\",E159=\"x\",F159=\"x\"),AND(D156=\"x\",D157=\"x\",D158=\"x\")),\"o\",\"\"))","v":""},{"$f":"IF(OR(C159=\"o\",D159=\"o\",F159=\"o\",E156=\"o\",E157=\"o\",E158=\"o\",E159=\"x\"),\"x\",IF(OR(E159=\"o\",AND(C159=\"x\",D159=\"x\",F159=\"x\"),AND(E156=\"x\",E157=\"x\",E158=\"x\")),\"o\",\"\"))","v":""},{"$f":"IF(OR(C159=\"o\",D159=\"o\",E159=\"o\",F156=\"o\",F157=\"o\",F158=\"o\",F159=\"x\"),\"x\",IF(OR(F159=\"o\",AND(C159=\"x\",D159=\"x\",E159=\"x\"),AND(F156=\"x\",F157=\"x\",F158=\"x\")),\"o\",\"\"))","v":""},{"$f":"IF(OR(H159=\"o\",I159=\"o\",J159=\"o\",G156=\"o\",G157=\"o\",G158=\"o\",G159=\"x\"),\"x\",IF(OR(G159=\"o\",AND(H159=\"x\",I159=\"x\",J159=\"x\"),AND(G156=\"x\",G157=\"x\",G158=\"x\")),\"o\",\"\"))","v":""},{"$f":"IF(OR(G159=\"o\",I159=\"o\",J159=\"o\",H156=\"o\",H157=\"o\",H158=\"o\",H159=\"x\"),\"x\",IF(OR(H159=\"o\",AND(G159=\"x\",I159=\"x\",J159=\"x\"),AND(H156=\"x\",H157=\"x\",H158=\"x\")),\"o\",\"\"))","v":""},{"$f":"IF(OR(G159=\"o\",H159=\"o\",J159=\"o\",I156=\"o\",I157=\"o\",I158=\"o\",I159=\"x\"),\"x\",IF(OR(I159=\"o\",AND(G159=\"x\",H159=\"x\",J159=\"x\"),AND(I156=\"x\",I157=\"x\",I158=\"x\")),\"o\",\"\"))","v":""},{"$f":"IF(OR(G159=\"o\",H159=\"o\",I159=\"o\",J156=\"o\",J157=\"o\",J158=\"o\",J159=\"x\"),\"x\",IF(OR(J159=\"o\",AND(G159=\"x\",H159=\"x\",I159=\"x\"),AND(J156=\"x\",J157=\"x\",J158=\"x\")),\"o\",\"\"))","v":""},{"$f":"IF(OR(L159=\"o\",M159=\"o\",N159=\"o\",K156=\"o\",K157=\"o\",K158=\"o\",K159=\"x\"),\"x\",IF(OR(K159=\"o\",AND(L159=\"x\",M159=\"x\",N159=\"x\"),AND(K156=\"x\",K157=\"x\",K158=\"x\")),\"o\",\"\"))","v":""},{"$f":"IF(OR(K159=\"o\",M159=\"o\",N159=\"o\",L156=\"o\",L157=\"o\",L158=\"o\",L159=\"x\"),\"x\",IF(OR(L159=\"o\",AND(K159=\"x\",M159=\"x\",N159=\"x\"),AND(L156=\"x\",L157=\"x\",L158=\"x\")),\"o\",\"\"))","v":""},{"$f":"IF(OR(K159=\"o\",L159=\"o\",N159=\"o\",M156=\"o\",M157=\"o\",M158=\"o\",M159=\"x\"),\"x\",IF(OR(M159=\"o\",AND(K159=\"x\",L159=\"x\",N159=\"x\"),AND(M156=\"x\",M157=\"x\",M158=\"x\")),\"o\",\"\"))","v":""},{"$f":"IF(OR(K159=\"o\",L159=\"o\",M159=\"o\",N156=\"o\",N157=\"o\",N158=\"o\",N159=\"x\"),\"x\",IF(OR(N159=\"o\",AND(K159=\"x\",L159=\"x\",M159=\"x\"),AND(N156=\"x\",N157=\"x\",N158=\"x\")),\"o\",\"\"))","v":""}]
["Rang",1,null,null,null,null,null,null,null,null,null,null,null,null,null,"2°/ La dernière maîtresse de Louis XIV, qui a vécu le moins",null,null,null,null,null,null,null,null,null,null,null,null,{"$f":"A160","v":"Rang"},1,{"$f":"IF(OR(D160=\"o\",E160=\"o\",F160=\"o\",C161=\"o\",C162=\"o\",C163=\"o\",C160=\"x\"),\"x\",IF(OR(C160=\"o\",AND(D160=\"x\",E160=\"x\",F160=\"x\"),AND(C161=\"x\",C162=\"x\",C163=\"x\")),\"o\",\"\"))","v":""},{"$f":"IF(OR(C160=\"o\",E160=\"o\",F160=\"o\",D161=\"o\",D162=\"o\",D163=\"o\",D160=\"x\"),\"x\",IF(OR(D160=\"o\",AND(C160=\"x\",E160=\"x\",F160=\"x\"),AND(D161=\"x\",D162=\"x\",D163=\"x\")),\"o\",\"\"))","v":""},{"$f":"IF(OR(C160=\"o\",D160=\"o\",F160=\"o\",E161=\"o\",E162=\"o\",E163=\"o\",E160=\"x\"),\"x\",IF(OR(E160=\"o\",AND(C160=\"x\",D160=\"x\",F160=\"x\"),AND(E161=\"x\",E162=\"x\",E163=\"x\")),\"o\",\"\"))","v":""},{"$f":"IF(OR(C160=\"o\",D160=\"o\",E160=\"o\",F161=\"o\",F162=\"o\",F163=\"o\",F160=\"x\"),\"x\",IF(OR(F160=\"o\",AND(C160=\"x\",D160=\"x\",E160=\"x\"),AND(F161=\"x\",F162=\"x\",F163=\"x\")),\"o\",\"\"))","v":""},{"$f":"IF(OR(H160=\"o\",I160=\"o\",J160=\"o\",G161=\"o\",G162=\"o\",G163=\"o\",G160=\"x\"),\"x\",IF(OR(G160=\"o\",AND(H160=\"x\",I160=\"x\",J160=\"x\"),AND(G161=\"x\",G162=\"x\",G163=\"x\")),\"o\",\"\"))","v":""},{"$f":"IF(OR(G160=\"o\",I160=\"o\",J160=\"o\",H161=\"o\",H162=\"o\",H163=\"o\",H160=\"x\"),\"x\",IF(OR(H160=\"o\",AND(G160=\"x\",I160=\"x\",J160=\"x\"),AND(H161=\"x\",H162=\"x\",H163=\"x\")),\"o\",\"\"))","v":""},{"$f":"IF(OR(G160=\"o\",H160=\"o\",J160=\"o\",I161=\"o\",I162=\"o\",I163=\"o\",I160=\"x\"),\"x\",IF(OR(I160=\"o\",AND(G160=\"x\",H160=\"x\",J160=\"x\"),AND(I161=\"x\",I162=\"x\",I163=\"x\")),\"o\",\"\"))","v":""},{"$f":"IF(OR(G160=\"o\",H160=\"o\",I160=\"o\",J161=\"o\",J162=\"o\",J163=\"o\",J160=\"x\"),\"x\",IF(OR(J160=\"o\",AND(G160=\"x\",H160=\"x\",I160=\"x\"),AND(J161=\"x\",J162=\"x\",J163=\"x\")),\"o\",\"\"))","v":""}]
[null,2,null,null,null,null,null,null,null,null,null,null,null,null,null,"longtemps, n'est ni Louise de La Vallière ni Madame de",null,null,null,null,null,null,null,null,null,null,null,null,null,2,{"$f":"IF(OR(D161=\"o\",E161=\"o\",F161=\"o\",C160=\"o\",C162=\"o\",C163=\"o\",C161=\"x\"),\"x\",IF(OR(C161=\"o\",AND(D161=\"x\",E161=\"x\",F161=\"x\"),AND(C160=\"x\",C162=\"x\",C163=\"x\")),\"o\",\"\"))","v":""},{"$f":"IF(OR(C161=\"o\",E161=\"o\",F161=\"o\",D160=\"o\",D162=\"o\",D163=\"o\",D161=\"x\"),\"x\",IF(OR(D161=\"o\",AND(C161=\"x\",E161=\"x\",F161=\"x\"),AND(D160=\"x\",D162=\"x\",D163=\"x\")),\"o\",\"\"))","v":""},{"$f":"IF(OR(C161=\"o\",D161=\"o\",F161=\"o\",E160=\"o\",E162=\"o\",E163=\"o\",E161=\"x\"),\"x\",IF(OR(E161=\"o\",AND(C161=\"x\",D161=\"x\",F161=\"x\"),AND(E160=\"x\",E162=\"x\",E163=\"x\")),\"o\",\"\"))","v":""},{"$f":"IF(OR(C161=\"o\",D161=\"o\",E161=\"o\",F160=\"o\",F162=\"o\",F163=\"o\",F161=\"x\"),\"x\",IF(OR(F161=\"o\",AND(C161=\"x\",D161=\"x\",E161=\"x\"),AND(F160=\"x\",F162=\"x\",F163=\"x\")),\"o\",\"\"))","v":""},{"$f":"IF(OR(H161=\"o\",I161=\"o\",J161=\"o\",G160=\"o\",G162=\"o\",G163=\"o\",G161=\"x\"),\"x\",IF(OR(G161=\"o\",AND(H161=\"x\",I161=\"x\",J161=\"x\"),AND(G160=\"x\",G162=\"x\",G163=\"x\")),\"o\",\"\"))","v":""},{"$f":"IF(OR(G161=\"o\",I161=\"o\",J161=\"o\",H160=\"o\",H162=\"o\",H163=\"o\",H161=\"x\"),\"x\",IF(OR(H161=\"o\",AND(G161=\"x\",I161=\"x\",J161=\"x\"),AND(H160=\"x\",H162=\"x\",H163=\"x\")),\"o\",\"\"))","v":""},{"$f":"IF(OR(G161=\"o\",H161=\"o\",J161=\"o\",I160=\"o\",I162=\"o\",I163=\"o\",I161=\"x\"),\"x\",IF(OR(I161=\"o\",AND(G161=\"x\",H161=\"x\",J161=\"x\"),AND(I160=\"x\",I162=\"x\",I163=\"x\")),\"o\",\"\"))","v":""},{"$f":"IF(OR(G161=\"o\",H161=\"o\",I161=\"o\",J160=\"o\",J162=\"o\",J163=\"o\",J161=\"x\"),\"x\",IF(OR(J161=\"o\",AND(G161=\"x\",H161=\"x\",I161=\"x\"),AND(J160=\"x\",J162=\"x\",J163=\"x\")),\"o\",\"\"))","v":""}]
[null,3,null,null,null,null,null,null,null,null,null,null,null,null,null,"Montespan et n'a eu ni 8, ni 6 enfants.",null,null,null,null,null,null,null,null,null,null,null,null,null,3,{"$f":"IF(OR(D162=\"o\",E162=\"o\",F162=\"o\",C160=\"o\",C161=\"o\",C163=\"o\",C162=\"x\"),\"x\",IF(OR(C162=\"o\",AND(D162=\"x\",E162=\"x\",F162=\"x\"),AND(C160=\"x\",C161=\"x\",C163=\"x\")),\"o\",\"\"))","v":""},{"$f":"IF(OR(C162=\"o\",E162=\"o\",F162=\"o\",D160=\"o\",D161=\"o\",D163=\"o\",D162=\"x\"),\"x\",IF(OR(D162=\"o\",AND(C162=\"x\",E162=\"x\",F162=\"x\"),AND(D160=\"x\",D161=\"x\",D163=\"x\")),\"o\",\"\"))","v":""},{"$f":"IF(OR(C162=\"o\",D162=\"o\",F162=\"o\",E160=\"o\",E161=\"o\",E163=\"o\",E162=\"x\"),\"x\",IF(OR(E162=\"o\",AND(C162=\"x\",D162=\"x\",F162=\"x\"),AND(E160=\"x\",E161=\"x\",E163=\"x\")),\"o\",\"\"))","v":""},{"$f":"IF(OR(C162=\"o\",D162=\"o\",E162=\"o\",F160=\"o\",F161=\"o\",F163=\"o\",F162=\"x\"),\"x\",IF(OR(F162=\"o\",AND(C162=\"x\",D162=\"x\",E162=\"x\"),AND(F160=\"x\",F161=\"x\",F163=\"x\")),\"o\",\"\"))","v":""},{"$f":"IF(OR(H162=\"o\",I162=\"o\",J162=\"o\",G160=\"o\",G161=\"o\",G163=\"o\",G162=\"x\"),\"x\",IF(OR(G162=\"o\",AND(H162=\"x\",I162=\"x\",J162=\"x\"),AND(G160=\"x\",G161=\"x\",G163=\"x\")),\"o\",\"\"))","v":""},{"$f":"IF(OR(G162=\"o\",I162=\"o\",J162=\"o\",H160=\"o\",H161=\"o\",H163=\"o\",H162=\"x\"),\"x\",IF(OR(H162=\"o\",AND(G162=\"x\",I162=\"x\",J162=\"x\"),AND(H160=\"x\",H161=\"x\",H163=\"x\")),\"o\",\"\"))","v":""},{"$f":"IF(OR(G162=\"o\",H162=\"o\",J162=\"o\",I160=\"o\",I161=\"o\",I163=\"o\",I162=\"x\"),\"x\",IF(OR(I162=\"o\",AND(G162=\"x\",H162=\"x\",J162=\"x\"),AND(I160=\"x\",I161=\"x\",I163=\"x\")),\"o\",\"\"))","v":""},{"$f":"IF(OR(G162=\"o\",H162=\"o\",I162=\"o\",J160=\"o\",J161=\"o\",J163=\"o\",J162=\"x\"),\"x\",IF(OR(J162=\"o\",AND(G162=\"x\",H162=\"x\",I162=\"x\"),AND(J160=\"x\",J161=\"x\",J163=\"x\")),\"o\",\"\"))","v":""}]
[null,4,null,null,null,null,null,null,null,null,null,null,null,null,null,"3°/ Madame de Maintenon morte a 84 ans n'a pas eu",null,null,null,null,null,null,null,null,null,null,null,null,null,4,{"$f":"IF(OR(D163=\"o\",E163=\"o\",F163=\"o\",C160=\"o\",C161=\"o\",C162=\"o\",C163=\"x\"),\"x\",IF(OR(C163=\"o\",AND(D163=\"x\",E163=\"x\",F163=\"x\"),AND(C160=\"x\",C161=\"x\",C162=\"x\")),\"o\",\"\"))","v":""},{"$f":"IF(OR(C163=\"o\",E163=\"o\",F163=\"o\",D160=\"o\",D161=\"o\",D162=\"o\",D163=\"x\"),\"x\",IF(OR(D163=\"o\",AND(C163=\"x\",E163=\"x\",F163=\"x\"),AND(D160=\"x\",D161=\"x\",D162=\"x\")),\"o\",\"\"))","v":""},{"$f":"IF(OR(C163=\"o\",D163=\"o\",F163=\"o\",E160=\"o\",E161=\"o\",E162=\"o\",E163=\"x\"),\"x\",IF(OR(E163=\"o\",AND(C163=\"x\",D163=\"x\",F163=\"x\"),AND(E160=\"x\",E161=\"x\",E162=\"x\")),\"o\",\"\"))","v":""},{"$f":"IF(OR(C163=\"o\",D163=\"o\",E163=\"o\",F160=\"o\",F161=\"o\",F162=\"o\",F163=\"x\"),\"x\",IF(OR(F163=\"o\",AND(C163=\"x\",D163=\"x\",E163=\"x\"),AND(F160=\"x\",F161=\"x\",F162=\"x\")),\"o\",\"\"))","v":""},{"$f":"IF(OR(H163=\"o\",I163=\"o\",J163=\"o\",G160=\"o\",G161=\"o\",G162=\"o\",G163=\"x\"),\"x\",IF(OR(G163=\"o\",AND(H163=\"x\",I163=\"x\",J163=\"x\"),AND(G160=\"x\",G161=\"x\",G162=\"x\")),\"o\",\"\"))","v":""},{"$f":"IF(OR(G163=\"o\",I163=\"o\",J163=\"o\",H160=\"o\",H161=\"o\",H162=\"o\",H163=\"x\"),\"x\",IF(OR(H163=\"o\",AND(G163=\"x\",I163=\"x\",J163=\"x\"),AND(H160=\"x\",H161=\"x\",H162=\"x\")),\"o\",\"\"))","v":""},{"$f":"IF(OR(G163=\"o\",H163=\"o\",J163=\"o\",I160=\"o\",I161=\"o\",I162=\"o\",I163=\"x\"),\"x\",IF(OR(I163=\"o\",AND(G163=\"x\",H163=\"x\",J163=\"x\"),AND(I160=\"x\",I161=\"x\",I162=\"x\")),\"o\",\"\"))","v":""},{"$f":"IF(OR(G163=\"o\",H163=\"o\",I163=\"o\",J160=\"o\",J161=\"o\",J162=\"o\",J163=\"x\"),\"x\",IF(OR(J163=\"o\",AND(G163=\"x\",H163=\"x\",I163=\"x\"),AND(J160=\"x\",J161=\"x\",J162=\"x\")),\"o\",\"\"))","v":""}]
["Enfants","0 enfant",null,null,null,null,null,null,null,null,null,null,null,null,null,"d'enfant avec Louis XIV , elle n'est ni la deuxième ni la",null,null,null,null,null,null,null,null,null,null,null,null,{"$f":"A164","v":"Enfants"},"0 enfant",{"$f":"IF(OR(D164=\"o\",E164=\"o\",F164=\"o\",C165=\"o\",C166=\"o\",C167=\"o\",C164=\"x\"),\"x\",IF(OR(C164=\"o\",AND(D164=\"x\",E164=\"x\",F164=\"x\"),AND(C165=\"x\",C166=\"x\",C167=\"x\")),\"o\",\"\"))","v":""},{"$f":"IF(OR(C164=\"o\",E164=\"o\",F164=\"o\",D165=\"o\",D166=\"o\",D167=\"o\",D164=\"x\"),\"x\",IF(OR(D164=\"o\",AND(C164=\"x\",E164=\"x\",F164=\"x\"),AND(D165=\"x\",D166=\"x\",D167=\"x\")),\"o\",\"\"))","v":""},{"$f":"IF(OR(C164=\"o\",D164=\"o\",F164=\"o\",E165=\"o\",E166=\"o\",E167=\"o\",E164=\"x\"),\"x\",IF(OR(E164=\"o\",AND(C164=\"x\",D164=\"x\",F164=\"x\"),AND(E165=\"x\",E166=\"x\",E167=\"x\")),\"o\",\"\"))","v":""},{"$f":"IF(OR(C164=\"o\",D164=\"o\",E164=\"o\",F165=\"o\",F166=\"o\",F167=\"o\",F164=\"x\"),\"x\",IF(OR(F164=\"o\",AND(C164=\"x\",D164=\"x\",E164=\"x\"),AND(F165=\"x\",F166=\"x\",F167=\"x\")),\"o\",\"\"))","v":""}]
[null,"1 enfant",null,null,null,null,null,{"$f":"IF(AND(C170=Q170,G170=U170,K170=Y170,C171=Q171,G171=U171,K171=Y171,C172=Q172,G172=U172,K172=Y172,C173=Q173,G173=U173,K173=Y173),\"BRAVO !!\",\"\")","v":""},null,null,null,null,null,null,null,"première maîtresse de Louis.",null,null,null,null,null,null,null,null,null,null,null,null,null,"1 enfant",{"$f":"IF(OR(D165=\"o\",E165=\"o\",F165=\"o\",C164=\"o\",C166=\"o\",C167=\"o\",C165=\"x\"),\"x\",IF(OR(C165=\"o\",AND(D165=\"x\",E165=\"x\",F165=\"x\"),AND(C164=\"x\",C166=\"x\",C167=\"x\")),\"o\",\"\"))","v":""},{"$f":"IF(OR(C165=\"o\",E165=\"o\",F165=\"o\",D164=\"o\",D166=\"o\",D167=\"o\",D165=\"x\"),\"x\",IF(OR(D165=\"o\",AND(C165=\"x\",E165=\"x\",F165=\"x\"),AND(D164=\"x\",D166=\"x\",D167=\"x\")),\"o\",\"\"))","v":""},{"$f":"IF(OR(C165=\"o\",D165=\"o\",F165=\"o\",E164=\"o\",E166=\"o\",E167=\"o\",E165=\"x\"),\"x\",IF(OR(E165=\"o\",AND(C165=\"x\",D165=\"x\",F165=\"x\"),AND(E164=\"x\",E166=\"x\",E167=\"x\")),\"o\",\"\"))","v":""},{"$f":"IF(OR(C165=\"o\",D165=\"o\",E165=\"o\",F164=\"o\",F166=\"o\",F167=\"o\",F165=\"x\"),\"x\",IF(OR(F165=\"o\",AND(C165=\"x\",D165=\"x\",E165=\"x\"),AND(F164=\"x\",F166=\"x\",F167=\"x\")),\"o\",\"\"))","v":""}]
[null,"6 enfants",null,null,null,null,null,null,null,null,null,null,null,null,null,null,null,null,null,null,null,null,null,null,null,null,null,null,null,"6 enfants",{"$f":"IF(OR(D166=\"o\",E166=\"o\",F166=\"o\",C164=\"o\",C165=\"o\",C167=\"o\",C166=\"x\"),\"x\",IF(OR(C166=\"o\",AND(D166=\"x\",E166=\"x\",F166=\"x\"),AND(C164=\"x\",C165=\"x\",C167=\"x\")),\"o\",\"\"))","v":""},{"$f":"IF(OR(C166=\"o\",E166=\"o\",F166=\"o\",D164=\"o\",D165=\"o\",D167=\"o\",D166=\"x\"),\"x\",IF(OR(D166=\"o\",AND(C166=\"x\",E166=\"x\",F166=\"x\"),AND(D164=\"x\",D165=\"x\",D167=\"x\")),\"o\",\"\"))","v":""},{"$f":"IF(OR(C166=\"o\",D166=\"o\",F166=\"o\",E164=\"o\",E165=\"o\",E167=\"o\",E166=\"x\"),\"x\",IF(OR(E166=\"o\",AND(C166=\"x\",D166=\"x\",F166=\"x\"),AND(E164=\"x\",E165=\"x\",E167=\"x\")),\"o\",\"\"))","v":""},{"$f":"IF(OR(C166=\"o\",D166=\"o\",E166=\"o\",F164=\"o\",F165=\"o\",F167=\"o\",F166=\"x\"),\"x\",IF(OR(F166=\"o\",AND(C166=\"x\",D166=\"x\",E166=\"x\"),AND(F164=\"x\",F165=\"x\",F167=\"x\")),\"o\",\"\"))","v":""}]
[null,"8 enfants",null,null,null,null,null,null,null,null,null,null,null,null,null,null,null,null,null,null,null,null,null,null,null,null,null,null,null,"8 enfants",{"$f":"IF(OR(D167=\"o\",E167=\"o\",F167=\"o\",C164=\"o\",C165=\"o\",C166=\"o\",C167=\"x\"),\"x\",IF(OR(C167=\"o\",AND(D167=\"x\",E167=\"x\",F167=\"x\"),AND(C164=\"x\",C165=\"x\",C166=\"x\")),\"o\",\"\"))","v":""},{"$f":"IF(OR(C167=\"o\",E167=\"o\",F167=\"o\",D164=\"o\",D165=\"o\",D166=\"o\",D167=\"x\"),\"x\",IF(OR(D167=\"o\",AND(C167=\"x\",E167=\"x\",F167=\"x\"),AND(D164=\"x\",D165=\"x\",D166=\"x\")),\"o\",\"\"))","v":""},{"$f":"IF(OR(C167=\"o\",D167=\"o\",F167=\"o\",E164=\"o\",E165=\"o\",E166=\"o\",E167=\"x\"),\"x\",IF(OR(E167=\"o\",AND(C167=\"x\",D167=\"x\",F167=\"x\"),AND(E164=\"x\",E165=\"x\",E166=\"x\")),\"o\",\"\"))","v":""},{"$f":"IF(OR(C167=\"o\",D167=\"o\",E167=\"o\",F164=\"o\",F165=\"o\",F166=\"o\",F167=\"x\"),\"x\",IF(OR(F167=\"o\",AND(C167=\"x\",D167=\"x\",E167=\"x\"),AND(F164=\"x\",F165=\"x\",F166=\"x\")),\"o\",\"\"))","v":""}]
[]
[null,"Réponses :",{"$f":"C154","v":"Mortes à"},null,null,null,{"$f":"G154","v":"Enfants"},null,null,null,{"$f":"K154","v":"Rang"},null,null,null,null,null,{"$f":"C154","v":"Mortes à"},null,null,null,{"$f":"G154","v":"Enfants"},null,null,null,{"$f":"K154","v":"Rang"}]
[null,{"$f":"B156","v":"Louise de La Vallière"},{"$f":"IF(C156=\"o\",C155,IF(D156=\"o\",D155,IF(E156=\"o\",E155,IF(F156=\"o\",F155,\"\"))))","v":""},null,null,null,{"$f":"IF(G156=\"o\",G155,IF(H156=\"o\",H155,IF(I156=\"o\",I155,IF(J156=\"o\",J155,\"\"))))","v":""},null,null,null,{"$f":"IF(K156=\"o\",K155,IF(L156=\"o\",L155,IF(M156=\"o\",M155,IF(N156=\"o\",N155,\"\"))))","v":""},null,null,null,null,{"$f":"B156","v":"Louise de La Vallière"},66,null,null,null,6,null,null,null,1]
[null,{"$f":"B157","v":"Madame de Montespan"},{"$f":"IF(C157=\"o\",C155,IF(D157=\"o\",D155,IF(E157=\"o\",E155,IF(F157=\"o\",F155,\"\"))))","v":""},null,null,null,{"$f":"IF(G157=\"o\",G155,IF(H157=\"o\",H155,IF(I157=\"o\",I155,IF(J157=\"o\",J155,\"\"))))","v":""},null,null,null,{"$f":"IF(K157=\"o\",K155,IF(L157=\"o\",L155,IF(M157=\"o\",M155,IF(N157=\"o\",N155,\"\"))))","v":""},null,null,null,null,{"$f":"B157","v":"Madame de Montespan"},67,null,null,null,8,null,null,null,2]
[null,{"$f":"B158","v":"Madame de Maintenon"},{"$f":"IF(C158=\"o\",C155,IF(D158=\"o\",D155,IF(E158=\"o\",E155,IF(F158=\"o\",F155,\"\"))))","v":""},null,null,null,{"$f":"IF(G158=\"o\",G155,IF(H158=\"o\",H155,IF(I158=\"o\",I155,IF(J158=\"o\",J155,\"\"))))","v":""},null,null,null,{"$f":"IF(K158=\"o\",K155,IF(L158=\"o\",L155,IF(M158=\"o\",M155,IF(N158=\"o\",N155,\"\"))))","v":""},null,null,null,null,{"$f":"B158","v":"Madame de Maintenon"},84,null,null,null,0,null,null,null,3]
[null,{"$f":"B159","v":"Marie Angélique de Fontanges"},{"$f":"IF(C159=\"o\",C155,IF(D159=\"o\",D155,IF(E159=\"o\",E155,IF(F159=\"o\",F155,\"\"))))","v":""},null,null,null,{"$f":"IF(G159=\"o\",G155,IF(H159=\"o\",H155,IF(I159=\"o\",I155,IF(J159=\"o\",J155,\"\"))))","v":""},null,null,null,{"$f":"IF(K159=\"o\",K155,IF(L159=\"o\",L155,IF(M159=\"o\",M155,IF(N159=\"o\",N155,\"\"))))","v":""},null,null,null,null,{"$f":"B159","v":"Marie Angélique de Fontanges"},20,null,null,null,1,null,null,null,4]
[]
[]
["XVIII°/ Les atomes :"]
[{"$f":"INDIRECT(\"'Calculs 4 indices'!B\"&A180)","v":""},null,null,null,null,null,null,null,null,null,null,null,null,{"$f":"INDIRECT(\"'Calculs 4 indices'!M\"&(A180+16))","v":""}]
[{"$f":"INDIRECT(\"'Calculs 4 indices'!B\"&(A180+26))","v":""},null,null,null,null,null,null,null,null,null,null,null,null,{"$f":"INDIRECT(\"'Calculs 4 indices'!M\"&(A180+17))","v":""}]
[null,null,"Symbole",null,null,null,{"$f":"A189","v":"Densité"},null,null,null,{"$f":"A185","v":"NA"},null,null,null,null,null,null,null,null,null,null,null,null,null,null,null,null,null,null,null,{"$f":"C179","v":"Symbole"},null,null,null,{"$f":"G179","v":"Densité"},null,null,null,{"$f":"K179","v":"NA"}]
[{"$f":"A155+52","v":365},null,"Sb","Au","Hg","W",{"$f":"B189","v":"6,68 g/cm3"},{"$f":"B190","v":"13,55 g/cm3"},{"$f":"B191","v":"19,32 g/cm3"},{"$f":"B192","v":"19,35 g/cm3"},{"$f":"B185","v":51},{"$f":"B186","v":74},{"$f":"B187","v":79},{"$f":"B188","v":80},null,"Retrouvez les symboles, les numéros atomiques NA et les densités des 4 atomes suivants.",null,null,null,null,null,null,null,null,null,null,null,null,null,null,{"$f":"C180","v":"Sb"},{"$f":"D180","v":"Au"},{"$f":"E180","v":"Hg"},{"$f":"F180","v":"W"},{"$f":"G180","v":"6,68 g/cm3"},{"$f":"H180","v":"13,55 g/cm3"},{"$f":"I180","v":"19,32 g/cm3"},{"$f":"J180","v":"19,35 g/cm3"},{"$f":"K180","v":51},{"$f":"L180","v":74},{"$f":"M180","v":79},{"$f":"N180","v":80}]
["Atome","Tungstène",null,null,null,null,null,null,null,null,null,null,null,null,null,null,null,null,null,null,null,null,null,null,null,null,null,null,{"$f":"A181","v":"Atome"},{"$f":"B181","v":"Tungstène"},{"$f":"IF(OR(D181=\"o\",E181=\"o\",F181=\"o\",C182=\"o\",C183=\"o\",C184=\"o\",C181=\"x\"),\"x\",IF(OR(C181=\"o\",AND(D181=\"x\",E181=\"x\",F181=\"x\"),AND(C182=\"x\",C183=\"x\",C184=\"x\")),\"o\",\"\"))","v":""},{"$f":"IF(OR(C181=\"o\",E181=\"o\",F181=\"o\",D182=\"o\",D183=\"o\",D184=\"o\",D181=\"x\"),\"x\",IF(OR(D181=\"o\",AND(C181=\"x\",E181=\"x\",F181=\"x\"),AND(D182=\"x\",D183=\"x\",D184=\"x\")),\"o\",\"\"))","v":""},{"$f":"IF(OR(C181=\"o\",D181=\"o\",F181=\"o\",E182=\"o\",E183=\"o\",E184=\"o\",E181=\"x\"),\"x\",IF(OR(E181=\"o\",AND(C181=\"x\",D181=\"x\",F181=\"x\"),AND(E182=\"x\",E183=\"x\",E184=\"x\")),\"o\",\"\"))","v":""},{"$f":"IF(OR(C181=\"o\",D181=\"o\",E181=\"o\",F182=\"o\",F183=\"o\",F184=\"o\",F181=\"x\"),\"x\",IF(OR(F181=\"o\",AND(C181=\"x\",D181=\"x\",E181=\"x\"),AND(F182=\"x\",F183=\"x\",F184=\"x\")),\"o\",\"\"))","v":""},{"$f":"IF(OR(H181=\"o\",I181=\"o\",J181=\"o\",G182=\"o\",G183=\"o\",G184=\"o\",G181=\"x\"),\"x\",IF(OR(G181=\"o\",AND(H181=\"x\",I181=\"x\",J181=\"x\"),AND(G182=\"x\",G183=\"x\",G184=\"x\")),\"o\",\"\"))","v":""},{"$f":"IF(OR(G181=\"o\",I181=\"o\",J181=\"o\",H182=\"o\",H183=\"o\",H184=\"o\",H181=\"x\"),\"x\",IF(OR(H181=\"o\",AND(G181=\"x\",I181=\"x\",J181=\"x\"),AND(H182=\"x\",H183=\"x\",H184=\"x\")),\"o\",\"\"))","v":""},{"$f":"IF(OR(G181=\"o\",H181=\"o\",J181=\"o\",I182=\"o\",I183=\"o\",I184=\"o\",I181=\"x\"),\"x\",IF(OR(I181=\"o\",AND(G181=\"x\",H181=\"x\",J181=\"x\"),AND(I182=\"x\",I183=\"x\",I184=\"x\")),\"o\",\"\"))","v":""},{"$f":"IF(OR(G181=\"o\",H181=\"o\",I181=\"o\",J182=\"o\",J183=\"o\",J184=\"o\",J181=\"x\"),\"x\",IF(OR(J181=\"o\",AND(G181=\"x\",H181=\"x\",I181=\"x\"),AND(J182=\"x\",J183=\"x\",J184=\"x\")),\"o\",\"\"))","v":""},{"$f":"IF(OR(L181=\"o\",M181=\"o\",N181=\"o\",K182=\"o\",K183=\"o\",K184=\"o\",K181=\"x\"),\"x\",IF(OR(K181=\"o\",AND(L181=\"x\",M181=\"x\",N181=\"x\"),AND(K182=\"x\",K183=\"x\",K184=\"x\")),\"o\",\"\"))","v":""},{"$f":"IF(OR(K181=\"o\",M181=\"o\",N181=\"o\",L182=\"o\",L183=\"o\",L184=\"o\",L181=\"x\"),\"x\",IF(OR(L181=\"o\",AND(K181=\"x\",M181=\"x\",N181=\"x\"),AND(L182=\"x\",L183=\"x\",L184=\"x\")),\"o\",\"\"))","v":""},{"$f":"IF(OR(K181=\"o\",L181=\"o\",N181=\"o\",M182=\"o\",M183=\"o\",M184=\"o\",M181=\"x\"),\"x\",IF(OR(M181=\"o\",AND(K181=\"x\",L181=\"x\",N181=\"x\"),AND(M182=\"x\",M183=\"x\",M184=\"x\")),\"o\",\"\"))","v":""},{"$f":"IF(OR(K181=\"o\",L181=\"o\",M181=\"o\",N182=\"o\",N183=\"o\",N184=\"o\",N181=\"x\"),\"x\",IF(OR(N181=\"o\",AND(K181=\"x\",L181=\"x\",M181=\"x\"),AND(N182=\"x\",N183=\"x\",N184=\"x\")),\"o\",\"\"))","v":""}]
[null,"Mercure",null,null,null,null,null,null,null,null,null,null,null,null,null,"1°/ L' Antimoine de symbole Sb a un numéro atomique plus",null,null,null,null,null,null,null,null,null,null,null,null,null,{"$f":"B182","v":"Mercure"},{"$f":"IF(OR(D182=\"o\",E182=\"o\",F182=\"o\",C181=\"o\",C183=\"o\",C184=\"o\",C182=\"x\"),\"x\",IF(OR(C182=\"o\",AND(D182=\"x\",E182=\"x\",F182=\"x\"),AND(C181=\"x\",C183=\"x\",C184=\"x\")),\"o\",\"\"))","v":""},{"$f":"IF(OR(C182=\"o\",E182=\"o\",F182=\"o\",D181=\"o\",D183=\"o\",D184=\"o\",D182=\"x\"),\"x\",IF(OR(D182=\"o\",AND(C182=\"x\",E182=\"x\",F182=\"x\"),AND(D181=\"x\",D183=\"x\",D184=\"x\")),\"o\",\"\"))","v":""},{"$f":"IF(OR(C182=\"o\",D182=\"o\",F182=\"o\",E181=\"o\",E183=\"o\",E184=\"o\",E182=\"x\"),\"x\",IF(OR(E182=\"o\",AND(C182=\"x\",D182=\"x\",F182=\"x\"),AND(E181=\"x\",E183=\"x\",E184=\"x\")),\"o\",\"\"))","v":""},{"$f":"IF(OR(C182=\"o\",D182=\"o\",E182=\"o\",F181=\"o\",F183=\"o\",F184=\"o\",F182=\"x\"),\"x\",IF(OR(F182=\"o\",AND(C182=\"x\",D182=\"x\",E182=\"x\"),AND(F181=\"x\",F183=\"x\",F184=\"x\")),\"o\",\"\"))","v":""},{"$f":"IF(OR(H182=\"o\",I182=\"o\",J182=\"o\",G181=\"o\",G183=\"o\",G184=\"o\",G182=\"x\"),\"x\",IF(OR(G182=\"o\",AND(H182=\"x\",I182=\"x\",J182=\"x\"),AND(G181=\"x\",G183=\"x\",G184=\"x\")),\"o\",\"\"))","v":""},{"$f":"IF(OR(G182=\"o\",I182=\"o\",J182=\"o\",H181=\"o\",H183=\"o\",H184=\"o\",H182=\"x\"),\"x\",IF(OR(H182=\"o\",AND(G182=\"x\",I182=\"x\",J182=\"x\"),AND(H181=\"x\",H183=\"x\",H184=\"x\")),\"o\",\"\"))","v":""},{"$f":"IF(OR(G182=\"o\",H182=\"o\",J182=\"o\",I181=\"o\",I183=\"o\",I184=\"o\",I182=\"x\"),\"x\",IF(OR(I182=\"o\",AND(G182=\"x\",H182=\"x\",J182=\"x\"),AND(I181=\"x\",I183=\"x\",I184=\"x\")),\"o\",\"\"))","v":""},{"$f":"IF(OR(G182=\"o\",H182=\"o\",I182=\"o\",J181=\"o\",J183=\"o\",J184=\"o\",J182=\"x\"),\"x\",IF(OR(J182=\"o\",AND(G182=\"x\",H182=\"x\",I182=\"x\"),AND(J181=\"x\",J183=\"x\",J184=\"x\")),\"o\",\"\"))","v":""},{"$f":"IF(OR(L182=\"o\",M182=\"o\",N182=\"o\",K181=\"o\",K183=\"o\",K184=\"o\",K182=\"x\"),\"x\",IF(OR(K182=\"o\",AND(L182=\"x\",M182=\"x\",N182=\"x\"),AND(K181=\"x\",K183=\"x\",K184=\"x\")),\"o\",\"\"))","v":""},{"$f":"IF(OR(K182=\"o\",M182=\"o\",N182=\"o\",L181=\"o\",L183=\"o\",L184=\"o\",L182=\"x\"),\"x\",IF(OR(L182=\"o\",AND(K182=\"x\",M182=\"x\",N182=\"x\"),AND(L181=\"x\",L183=\"x\",L184=\"x\")),\"o\",\"\"))","v":""},{"$f":"IF(OR(K182=\"o\",L182=\"o\",N182=\"o\",M181=\"o\",M183=\"o\",M184=\"o\",M182=\"x\"),\"x\",IF(OR(M182=\"o\",AND(K182=\"x\",L182=\"x\",N182=\"x\"),AND(M181=\"x\",M183=\"x\",M184=\"x\")),\"o\",\"\"))","v":""},{"$f":"IF(OR(K182=\"o\",L182=\"o\",M182=\"o\",N181=\"o\",N183=\"o\",N184=\"o\",N182=\"x\"),\"x\",IF(OR(N182=\"o\",AND(K182=\"x\",L182=\"x\",M182=\"x\"),AND(N181=\"x\",N183=\"x\",N184=\"x\")),\"o\",\"\"))","v":""}]
[null,"Antimoine",null,null,null,null,null,null,null,null,null,null,null,null,null,"petit que 79 et une densité de 6,68 g/cm3",null,null,null,null,null,null,null,null,null,null,null,null,null,"Antimoine",{"$f":"IF(OR(D183=\"o\",E183=\"o\",F183=\"o\",C181=\"o\",C182=\"o\",C184=\"o\",C183=\"x\"),\"x\",IF(OR(C183=\"o\",AND(D183=\"x\",E183=\"x\",F183=\"x\"),AND(C181=\"x\",C182=\"x\",C184=\"x\")),\"o\",\"\"))","v":""},{"$f":"IF(OR(C183=\"o\",E183=\"o\",F183=\"o\",D181=\"o\",D182=\"o\",D184=\"o\",D183=\"x\"),\"x\",IF(OR(D183=\"o\",AND(C183=\"x\",E183=\"x\",F183=\"x\"),AND(D181=\"x\",D182=\"x\",D184=\"x\")),\"o\",\"\"))","v":""},{"$f":"IF(OR(C183=\"o\",D183=\"o\",F183=\"o\",E181=\"o\",E182=\"o\",E184=\"o\",E183=\"x\"),\"x\",IF(OR(E183=\"o\",AND(C183=\"x\",D183=\"x\",F183=\"x\"),AND(E181=\"x\",E182=\"x\",E184=\"x\")),\"o\",\"\"))","v":""},{"$f":"IF(OR(C183=\"o\",D183=\"o\",E183=\"o\",F181=\"o\",F182=\"o\",F184=\"o\",F183=\"x\"),\"x\",IF(OR(F183=\"o\",AND(C183=\"x\",D183=\"x\",E183=\"x\"),AND(F181=\"x\",F182=\"x\",F184=\"x\")),\"o\",\"\"))","v":""},{"$f":"IF(OR(H183=\"o\",I183=\"o\",J183=\"o\",G181=\"o\",G182=\"o\",G184=\"o\",G183=\"x\"),\"x\",IF(OR(G183=\"o\",AND(H183=\"x\",I183=\"x\",J183=\"x\"),AND(G181=\"x\",G182=\"x\",G184=\"x\")),\"o\",\"\"))","v":""},{"$f":"IF(OR(G183=\"o\",I183=\"o\",J183=\"o\",H181=\"o\",H182=\"o\",H184=\"o\",H183=\"x\"),\"x\",IF(OR(H183=\"o\",AND(G183=\"x\",I183=\"x\",J183=\"x\"),AND(H181=\"x\",H182=\"x\",H184=\"x\")),\"o\",\"\"))","v":""},{"$f":"IF(OR(G183=\"o\",H183=\"o\",J183=\"o\",I181=\"o\",I182=\"o\",I184=\"o\",I183=\"x\"),\"x\",IF(OR(I183=\"o\",AND(G183=\"x\",H183=\"x\",J183=\"x\"),AND(I181=\"x\",I182=\"x\",I184=\"x\")),\"o\",\"\"))","v":""},{"$f":"IF(OR(G183=\"o\",H183=\"o\",I183=\"o\",J181=\"o\",J182=\"o\",J184=\"o\",J183=\"x\"),\"x\",IF(OR(J183=\"o\",AND(G183=\"x\",H183=\"x\",I183=\"x\"),AND(J181=\"x\",J182=\"x\",J184=\"x\")),\"o\",\"\"))","v":""},{"$f":"IF(OR(L183=\"o\",M183=\"o\",N183=\"o\",K181=\"o\",K182=\"o\",K184=\"o\",K183=\"x\"),\"x\",IF(OR(K183=\"o\",AND(L183=\"x\",M183=\"x\",N183=\"x\"),AND(K181=\"x\",K182=\"x\",K184=\"x\")),\"o\",\"\"))","v":""},{"$f":"IF(OR(K183=\"o\",M183=\"o\",N183=\"o\",L181=\"o\",L182=\"o\",L184=\"o\",L183=\"x\"),\"x\",IF(OR(L183=\"o\",AND(K183=\"x\",M183=\"x\",N183=\"x\"),AND(L181=\"x\",L182=\"x\",L184=\"x\")),\"o\",\"\"))","v":""},{"$f":"IF(OR(K183=\"o\",L183=\"o\",N183=\"o\",M181=\"o\",M182=\"o\",M184=\"o\",M183=\"x\"),\"x\",IF(OR(M183=\"o\",AND(K183=\"x\",L183=\"x\",N183=\"x\"),AND(M181=\"x\",M182=\"x\",M184=\"x\")),\"o\",\"\"))","v":""},{"$f":"IF(OR(K183=\"o\",L183=\"o\",M183=\"o\",N181=\"o\",N182=\"o\",N184=\"o\",N183=\"x\"),\"x\",IF(OR(N183=\"o\",AND(K183=\"x\",L183=\"x\",M183=\"x\"),AND(N181=\"x\",N182=\"x\",N184=\"x\")),\"o\",\"\"))","v":""}]
[null,"Or",null,null,null,null,null,null,null,null,null,null,null,null,null,"2°/ L'atome qui a pour symbole W a pour numéro",null,null,null,null,null,null,null,null,null,null,null,null,null,"Or",{"$f":"IF(OR(D184=\"o\",E184=\"o\",F184=\"o\",C181=\"o\",C182=\"o\",C183=\"o\",C184=\"x\"),\"x\",IF(OR(C184=\"o\",AND(D184=\"x\",E184=\"x\",F184=\"x\"),AND(C181=\"x\",C182=\"x\",C183=\"x\")),\"o\",\"\"))","v":""},{"$f":"IF(OR(C184=\"o\",E184=\"o\",F184=\"o\",D181=\"o\",D182=\"o\",D183=\"o\",D184=\"x\"),\"x\",IF(OR(D184=\"o\",AND(C184=\"x\",E184=\"x\",F184=\"x\"),AND(D181=\"x\",D182=\"x\",D183=\"x\")),\"o\",\"\"))","v":""},{"$f":"IF(OR(C184=\"o\",D184=\"o\",F184=\"o\",E181=\"o\",E182=\"o\",E183=\"o\",E184=\"x\"),\"x\",IF(OR(E184=\"o\",AND(C184=\"x\",D184=\"x\",F184=\"x\"),AND(E181=\"x\",E182=\"x\",E183=\"x\")),\"o\",\"\"))","v":""},{"$f":"IF(OR(C184=\"o\",D184=\"o\",E184=\"o\",F181=\"o\",F182=\"o\",F183=\"o\",F184=\"x\"),\"x\",IF(OR(F184=\"o\",AND(C184=\"x\",D184=\"x\",E184=\"x\"),AND(F181=\"x\",F182=\"x\",F183=\"x\")),\"o\",\"\"))","v":""},{"$f":"IF(OR(H184=\"o\",I184=\"o\",J184=\"o\",G181=\"o\",G182=\"o\",G183=\"o\",G184=\"x\"),\"x\",IF(OR(G184=\"o\",AND(H184=\"x\",I184=\"x\",J184=\"x\"),AND(G181=\"x\",G182=\"x\",G183=\"x\")),\"o\",\"\"))","v":""},{"$f":"IF(OR(G184=\"o\",I184=\"o\",J184=\"o\",H181=\"o\",H182=\"o\",H183=\"o\",H184=\"x\"),\"x\",IF(OR(H184=\"o\",AND(G184=\"x\",I184=\"x\",J184=\"x\"),AND(H181=\"x\",H182=\"x\",H183=\"x\")),\"o\",\"\"))","v":""},{"$f":"IF(OR(G184=\"o\",H184=\"o\",J184=\"o\",I181=\"o\",I182=\"o\",I183=\"o\",I184=\"x\"),\"x\",IF(OR(I184=\"o\",AND(G184=\"x\",H184=\"x\",J184=\"x\"),AND(I181=\"x\",I182=\"x\",I183=\"x\")),\"o\",\"\"))","v":""},{"$f":"IF(OR(G184=\"o\",H184=\"o\",I184=\"o\",J181=\"o\",J182=\"o\",J183=\"o\",J184=\"x\"),\"x\",IF(OR(J184=\"o\",AND(G184=\"x\",H184=\"x\",I184=\"x\"),AND(J181=\"x\",J182=\"x\",J183=\"x\")),\"o\",\"\"))","v":""},{"$f":"IF(OR(L184=\"o\",M184=\"o\",N184=\"o\",K181=\"o\",K182=\"o\",K183=\"o\",K184=\"x\"),\"x\",IF(OR(K184=\"o\",AND(L184=\"x\",M184=\"x\",N184=\"x\"),AND(K181=\"x\",K182=\"x\",K183=\"x\")),\"o\",\"\"))","v":""},{"$f":"IF(OR(K184=\"o\",M184=\"o\",N184=\"o\",L181=\"o\",L182=\"o\",L183=\"o\",L184=\"x\"),\"x\",IF(OR(L184=\"o\",AND(K184=\"x\",M184=\"x\",N184=\"x\"),AND(L181=\"x\",L182=\"x\",L183=\"x\")),\"o\",\"\"))","v":""},{"$f":"IF(OR(K184=\"o\",L184=\"o\",N184=\"o\",M181=\"o\",M182=\"o\",M183=\"o\",M184=\"x\"),\"x\",IF(OR(M184=\"o\",AND(K184=\"x\",L184=\"x\",N184=\"x\"),AND(M181=\"x\",M182=\"x\",M183=\"x\")),\"o\",\"\"))","v":""},{"$f":"IF(OR(K184=\"o\",L184=\"o\",M184=\"o\",N181=\"o\",N182=\"o\",N183=\"o\",N184=\"x\"),\"x\",IF(OR(N184=\"o\",AND(K184=\"x\",L184=\"x\",M184=\"x\"),AND(N181=\"x\",N182=\"x\",N183=\"x\")),\"o\",\"\"))","v":""}]
["NA",51,null,null,null,null,null,null,null,null,null,null,null,null,null,"atomique 74, mais ce n'est pas le Mercure ni l'Or.",null,null,null,null,null,null,null,null,null,null,null,null,{"$f":"A185","v":"NA"},51,{"$f":"IF(OR(D185=\"o\",E185=\"o\",F185=\"o\",C186=\"o\",C187=\"o\",C188=\"o\",C185=\"x\"),\"x\",IF(OR(C185=\"o\",AND(D185=\"x\",E185=\"x\",F185=\"x\"),AND(C186=\"x\",C187=\"x\",C188=\"x\")),\"o\",\"\"))","v":""},{"$f":"IF(OR(C185=\"o\",E185=\"o\",F185=\"o\",D186=\"o\",D187=\"o\",D188=\"o\",D185=\"x\"),\"x\",IF(OR(D185=\"o\",AND(C185=\"x\",E185=\"x\",F185=\"x\"),AND(D186=\"x\",D187=\"x\",D188=\"x\")),\"o\",\"\"))","v":""},{"$f":"IF(OR(C185=\"o\",D185=\"o\",F185=\"o\",E186=\"o\",E187=\"o\",E188=\"o\",E185=\"x\"),\"x\",IF(OR(E185=\"o\",AND(C185=\"x\",D185=\"x\",F185=\"x\"),AND(E186=\"x\",E187=\"x\",E188=\"x\")),\"o\",\"\"))","v":""},{"$f":"IF(OR(C185=\"o\",D185=\"o\",E185=\"o\",F186=\"o\",F187=\"o\",F188=\"o\",F185=\"x\"),\"x\",IF(OR(F185=\"o\",AND(C185=\"x\",D185=\"x\",E185=\"x\"),AND(F186=\"x\",F187=\"x\",F188=\"x\")),\"o\",\"\"))","v":""},{"$f":"IF(OR(H185=\"o\",I185=\"o\",J185=\"o\",G186=\"o\",G187=\"o\",G188=\"o\",G185=\"x\"),\"x\",IF(OR(G185=\"o\",AND(H185=\"x\",I185=\"x\",J185=\"x\"),AND(G186=\"x\",G187=\"x\",G188=\"x\")),\"o\",\"\"))","v":""},{"$f":"IF(OR(G185=\"o\",I185=\"o\",J185=\"o\",H186=\"o\",H187=\"o\",H188=\"o\",H185=\"x\"),\"x\",IF(OR(H185=\"o\",AND(G185=\"x\",I185=\"x\",J185=\"x\"),AND(H186=\"x\",H187=\"x\",H188=\"x\")),\"o\",\"\"))","v":""},{"$f":"IF(OR(G185=\"o\",H185=\"o\",J185=\"o\",I186=\"o\",I187=\"o\",I188=\"o\",I185=\"x\"),\"x\",IF(OR(I185=\"o\",AND(G185=\"x\",H185=\"x\",J185=\"x\"),AND(I186=\"x\",I187=\"x\",I188=\"x\")),\"o\",\"\"))","v":""},{"$f":"IF(OR(G185=\"o\",H185=\"o\",I185=\"o\",J186=\"o\",J187=\"o\",J188=\"o\",J185=\"x\"),\"x\",IF(OR(J185=\"o\",AND(G185=\"x\",H185=\"x\",I185=\"x\"),AND(J186=\"x\",J187=\"x\",J188=\"x\")),\"o\",\"\"))","v":""}]
[null,74,null,null,null,null,null,null,null,null,null,null,null,null,null,"3°/ L' atome de symbole Au n'a pas une densité de",null,null,null,null,null,null,null,null,null,null,null,null,null,74,{"$f":"IF(OR(D186=\"o\",E186=\"o\",F186=\"o\",C185=\"o\",C187=\"o\",C188=\"o\",C186=\"x\"),\"x\",IF(OR(C186=\"o\",AND(D186=\"x\",E186=\"x\",F186=\"x\"),AND(C185=\"x\",C187=\"x\",C188=\"x\")),\"o\",\"\"))","v":""},{"$f":"IF(OR(C186=\"o\",E186=\"o\",F186=\"o\",D185=\"o\",D187=\"o\",D188=\"o\",D186=\"x\"),\"x\",IF(OR(D186=\"o\",AND(C186=\"x\",E186=\"x\",F186=\"x\"),AND(D185=\"x\",D187=\"x\",D188=\"x\")),\"o\",\"\"))","v":""},{"$f":"IF(OR(C186=\"o\",D186=\"o\",F186=\"o\",E185=\"o\",E187=\"o\",E188=\"o\",E186=\"x\"),\"x\",IF(OR(E186=\"o\",AND(C186=\"x\",D186=\"x\",F186=\"x\"),AND(E185=\"x\",E187=\"x\",E188=\"x\")),\"o\",\"\"))","v":""},{"$f":"IF(OR(C186=\"o\",D186=\"o\",E186=\"o\",F185=\"o\",F187=\"o\",F188=\"o\",F186=\"x\"),\"x\",IF(OR(F186=\"o\",AND(C186=\"x\",D186=\"x\",E186=\"x\"),AND(F185=\"x\",F187=\"x\",F188=\"x\")),\"o\",\"\"))","v":""},{"$f":"IF(OR(H186=\"o\",I186=\"o\",J186=\"o\",G185=\"o\",G187=\"o\",G188=\"o\",G186=\"x\"),\"x\",IF(OR(G186=\"o\",AND(H186=\"x\",I186=\"x\",J186=\"x\"),AND(G185=\"x\",G187=\"x\",G188=\"x\")),\"o\",\"\"))","v":""},{"$f":"IF(OR(G186=\"o\",I186=\"o\",J186=\"o\",H185=\"o\",H187=\"o\",H188=\"o\",H186=\"x\"),\"x\",IF(OR(H186=\"o\",AND(G186=\"x\",I186=\"x\",J186=\"x\"),AND(H185=\"x\",H187=\"x\",H188=\"x\")),\"o\",\"\"))","v":""},{"$f":"IF(OR(G186=\"o\",H186=\"o\",J186=\"o\",I185=\"o\",I187=\"o\",I188=\"o\",I186=\"x\"),\"x\",IF(OR(I186=\"o\",AND(G186=\"x\",H186=\"x\",J186=\"x\"),AND(I185=\"x\",I187=\"x\",I188=\"x\")),\"o\",\"\"))","v":""},{"$f":"IF(OR(G186=\"o\",H186=\"o\",I186=\"o\",J185=\"o\",J187=\"o\",J188=\"o\",J186=\"x\"),\"x\",IF(OR(J186=\"o\",AND(G186=\"x\",H186=\"x\",I186=\"x\"),AND(J185=\"x\",J187=\"x\",J188=\"x\")),\"o\",\"\"))","v":""}]
[null,79,null,null,null,null,null,null,null,null,null,null,null,null,null,"13,55 g/cm3 n'est pas le Mercure et n'a pas 80 comme",null,null,null,null,null,null,null,null,null,null,null,null,null,79,{"$f":"IF(OR(D187=\"o\",E187=\"o\",F187=\"o\",C185=\"o\",C186=\"o\",C188=\"o\",C187=\"x\"),\"x\",IF(OR(C187=\"o\",AND(D187=\"x\",E187=\"x\",F187=\"x\"),AND(C185=\"x\",C186=\"x\",C188=\"x\")),\"o\",\"\"))","v":""},{"$f":"IF(OR(C187=\"o\",E187=\"o\",F187=\"o\",D185=\"o\",D186=\"o\",D188=\"o\",D187=\"x\"),\"x\",IF(OR(D187=\"o\",AND(C187=\"x\",E187=\"x\",F187=\"x\"),AND(D185=\"x\",D186=\"x\",D188=\"x\")),\"o\",\"\"))","v":""},{"$f":"IF(OR(C187=\"o\",D187=\"o\",F187=\"o\",E185=\"o\",E186=\"o\",E188=\"o\",E187=\"x\"),\"x\",IF(OR(E187=\"o\",AND(C187=\"x\",D187=\"x\",F187=\"x\"),AND(E185=\"x\",E186=\"x\",E188=\"x\")),\"o\",\"\"))","v":""},{"$f":"IF(OR(C187=\"o\",D187=\"o\",E187=\"o\",F185=\"o\",F186=\"o\",F188=\"o\",F187=\"x\"),\"x\",IF(OR(F187=\"o\",AND(C187=\"x\",D187=\"x\",E187=\"x\"),AND(F185=\"x\",F186=\"x\",F188=\"x\")),\"o\",\"\"))","v":""},{"$f":"IF(OR(H187=\"o\",I187=\"o\",J187=\"o\",G185=\"o\",G186=\"o\",G188=\"o\",G187=\"x\"),\"x\",IF(OR(G187=\"o\",AND(H187=\"x\",I187=\"x\",J187=\"x\"),AND(G185=\"x\",G186=\"x\",G188=\"x\")),\"o\",\"\"))","v":""},{"$f":"IF(OR(G187=\"o\",I187=\"o\",J187=\"o\",H185=\"o\",H186=\"o\",H188=\"o\",H187=\"x\"),\"x\",IF(OR(H187=\"o\",AND(G187=\"x\",I187=\"x\",J187=\"x\"),AND(H185=\"x\",H186=\"x\",H188=\"x\")),\"o\",\"\"))","v":""},{"$f":"IF(OR(G187=\"o\",H187=\"o\",J187=\"o\",I185=\"o\",I186=\"o\",I188=\"o\",I187=\"x\"),\"x\",IF(OR(I187=\"o\",AND(G187=\"x\",H187=\"x\",J187=\"x\"),AND(I185=\"x\",I186=\"x\",I188=\"x\")),\"o\",\"\"))","v":""},{"$f":"IF(OR(G187=\"o\",H187=\"o\",I187=\"o\",J185=\"o\",J186=\"o\",J188=\"o\",J187=\"x\"),\"x\",IF(OR(J187=\"o\",AND(G187=\"x\",H187=\"x\",I187=\"x\"),AND(J185=\"x\",J186=\"x\",J188=\"x\")),\"o\",\"\"))","v":""}]
[null,80,null,null,null,null,null,null,null,null,null,null,null,null,null,"numéro atomique.",null,null,null,null,null,null,null,null,null,null,null,null,null,80,{"$f":"IF(OR(D188=\"o\",E188=\"o\",F188=\"o\",C185=\"o\",C186=\"o\",C187=\"o\",C188=\"x\"),\"x\",IF(OR(C188=\"o\",AND(D188=\"x\",E188=\"x\",F188=\"x\"),AND(C185=\"x\",C186=\"x\",C187=\"x\")),\"o\",\"\"))","v":""},{"$f":"IF(OR(C188=\"o\",E188=\"o\",F188=\"o\",D185=\"o\",D186=\"o\",D187=\"o\",D188=\"x\"),\"x\",IF(OR(D188=\"o\",AND(C188=\"x\",E188=\"x\",F188=\"x\"),AND(D185=\"x\",D186=\"x\",D187=\"x\")),\"o\",\"\"))","v":""},{"$f":"IF(OR(C188=\"o\",D188=\"o\",F188=\"o\",E185=\"o\",E186=\"o\",E187=\"o\",E188=\"x\"),\"x\",IF(OR(E188=\"o\",AND(C188=\"x\",D188=\"x\",F188=\"x\"),AND(E185=\"x\",E186=\"x\",E187=\"x\")),\"o\",\"\"))","v":""},{"$f":"IF(OR(C188=\"o\",D188=\"o\",E188=\"o\",F185=\"o\",F186=\"o\",F187=\"o\",F188=\"x\"),\"x\",IF(OR(F188=\"o\",AND(C188=\"x\",D188=\"x\",E188=\"x\"),AND(F185=\"x\",F186=\"x\",F187=\"x\")),\"o\",\"\"))","v":""},{"$f":"IF(OR(H188=\"o\",I188=\"o\",J188=\"o\",G185=\"o\",G186=\"o\",G187=\"o\",G188=\"x\"),\"x\",IF(OR(G188=\"o\",AND(H188=\"x\",I188=\"x\",J188=\"x\"),AND(G185=\"x\",G186=\"x\",G187=\"x\")),\"o\",\"\"))","v":""},{"$f":"IF(OR(G188=\"o\",I188=\"o\",J188=\"o\",H185=\"o\",H186=\"o\",H187=\"o\",H188=\"x\"),\"x\",IF(OR(H188=\"o\",AND(G188=\"x\",I188=\"x\",J188=\"x\"),AND(H185=\"x\",H186=\"x\",H187=\"x\")),\"o\",\"\"))","v":""},{"$f":"IF(OR(G188=\"o\",H188=\"o\",J188=\"o\",I185=\"o\",I186=\"o\",I187=\"o\",I188=\"x\"),\"x\",IF(OR(I188=\"o\",AND(G188=\"x\",H188=\"x\",J188=\"x\"),AND(I185=\"x\",I186=\"x\",I187=\"x\")),\"o\",\"\"))","v":""},{"$f":"IF(OR(G188=\"o\",H188=\"o\",I188=\"o\",J185=\"o\",J186=\"o\",J187=\"o\",J188=\"x\"),\"x\",IF(OR(J188=\"o\",AND(G188=\"x\",H188=\"x\",I188=\"x\"),AND(J185=\"x\",J186=\"x\",J187=\"x\")),\"o\",\"\"))","v":""}]
["Densité","6,68 g/cm3",null,null,null,null,null,null,null,null,null,null,null,null,null,"4°/ Le Tungstène est plus dense que le mercure et que l'or.",null,null,null,null,null,null,null,null,null,null,null,null,{"$f":"A189","v":"Densité"},"6,68 g/cm3",{"$f":"IF(OR(D189=\"o\",E189=\"o\",F189=\"o\",C190=\"o\",C191=\"o\",C192=\"o\",C189=\"x\"),\"x\",IF(OR(C189=\"o\",AND(D189=\"x\",E189=\"x\",F189=\"x\"),AND(C190=\"x\",C191=\"x\",C192=\"x\")),\"o\",\"\"))","v":""},{"$f":"IF(OR(C189=\"o\",E189=\"o\",F189=\"o\",D190=\"o\",D191=\"o\",D192=\"o\",D189=\"x\"),\"x\",IF(OR(D189=\"o\",AND(C189=\"x\",E189=\"x\",F189=\"x\"),AND(D190=\"x\",D191=\"x\",D192=\"x\")),\"o\",\"\"))","v":""},{"$f":"IF(OR(C189=\"o\",D189=\"o\",F189=\"o\",E190=\"o\",E191=\"o\",E192=\"o\",E189=\"x\"),\"x\",IF(OR(E189=\"o\",AND(C189=\"x\",D189=\"x\",F189=\"x\"),AND(E190=\"x\",E191=\"x\",E192=\"x\")),\"o\",\"\"))","v":""},{"$f":"IF(OR(C189=\"o\",D189=\"o\",E189=\"o\",F190=\"o\",F191=\"o\",F192=\"o\",F189=\"x\"),\"x\",IF(OR(F189=\"o\",AND(C189=\"x\",D189=\"x\",E189=\"x\"),AND(F190=\"x\",F191=\"x\",F192=\"x\")),\"o\",\"\"))","v":""}]
[null,"13,55 g/cm3",null,null,null,null,null,{"$f":"IF(AND(C195=Q195,G195=U195,K195=Y195,C196=Q196,G196=U196,K196=Y196,C197=Q197,G197=U197,K197=Y197,C198=Q198,G198=U198,K198=Y198),\"BRAVO !!\",\"\")","v":""},null,null,null,null,null,null,null,null,null,null,null,null,null,null,null,null,null,null,null,null,null,"13,55 g/cm3",{"$f":"IF(OR(D190=\"o\",E190=\"o\",F190=\"o\",C189=\"o\",C191=\"o\",C192=\"o\",C190=\"x\"),\"x\",IF(OR(C190=\"o\",AND(D190=\"x\",E190=\"x\",F190=\"x\"),AND(C189=\"x\",C191=\"x\",C192=\"x\")),\"o\",\"\"))","v":""},{"$f":"IF(OR(C190=\"o\",E190=\"o\",F190=\"o\",D189=\"o\",D191=\"o\",D192=\"o\",D190=\"x\"),\"x\",IF(OR(D190=\"o\",AND(C190=\"x\",E190=\"x\",F190=\"x\"),AND(D189=\"x\",D191=\"x\",D192=\"x\")),\"o\",\"\"))","v":""},{"$f":"IF(OR(C190=\"o\",D190=\"o\",F190=\"o\",E189=\"o\",E191=\"o\",E192=\"o\",E190=\"x\"),\"x\",IF(OR(E190=\"o\",AND(C190=\"x\",D190=\"x\",F190=\"x\"),AND(E189=\"x\",E191=\"x\",E192=\"x\")),\"o\",\"\"))","v":""},{"$f":"IF(OR(C190=\"o\",D190=\"o\",E190=\"o\",F189=\"o\",F191=\"o\",F192=\"o\",F190=\"x\"),\"x\",IF(OR(F190=\"o\",AND(C190=\"x\",D190=\"x\",E190=\"x\"),AND(F189=\"x\",F191=\"x\",F192=\"x\")),\"o\",\"\"))","v":""}]
[null,"19,32 g/cm3",null,null,null,null,null,null,null,null,null,null,null,null,null,null,null,null,null,null,null,null,null,null,null,null,null,null,null,"19,32 g/cm3",{"$f":"IF(OR(D191=\"o\",E191=\"o\",F191=\"o\",C189=\"o\",C190=\"o\",C192=\"o\",C191=\"x\"),\"x\",IF(OR(C191=\"o\",AND(D191=\"x\",E191=\"x\",F191=\"x\"),AND(C189=\"x\",C190=\"x\",C192=\"x\")),\"o\",\"\"))","v":""},{"$f":"IF(OR(C191=\"o\",E191=\"o\",F191=\"o\",D189=\"o\",D190=\"o\",D192=\"o\",D191=\"x\"),\"x\",IF(OR(D191=\"o\",AND(C191=\"x\",E191=\"x\",F191=\"x\"),AND(D189=\"x\",D190=\"x\",D192=\"x\")),\"o\",\"\"))","v":""},{"$f":"IF(OR(C191=\"o\",D191=\"o\",F191=\"o\",E189=\"o\",E190=\"o\",E192=\"o\",E191=\"x\"),\"x\",IF(OR(E191=\"o\",AND(C191=\"x\",D191=\"x\",F191=\"x\"),AND(E189=\"x\",E190=\"x\",E192=\"x\")),\"o\",\"\"))","v":""},{"$f":"IF(OR(C191=\"o\",D191=\"o\",E191=\"o\",F189=\"o\",F190=\"o\",F192=\"o\",F191=\"x\"),\"x\",IF(OR(F191=\"o\",AND(C191=\"x\",D191=\"x\",E191=\"x\"),AND(F189=\"x\",F190=\"x\",F192=\"x\")),\"o\",\"\"))","v":""}]
[null,"19,35 g/cm3",null,null,null,null,null,null,null,null,null,null,null,null,null,null,null,null,null,null,null,null,null,null,null,null,null,null,null,"19,35 g/cm3",{"$f":"IF(OR(D192=\"o\",E192=\"o\",F192=\"o\",C189=\"o\",C190=\"o\",C191=\"o\",C192=\"x\"),\"x\",IF(OR(C192=\"o\",AND(D192=\"x\",E192=\"x\",F192=\"x\"),AND(C189=\"x\",C190=\"x\",C191=\"x\")),\"o\",\"\"))","v":""},{"$f":"IF(OR(C192=\"o\",E192=\"o\",F192=\"o\",D189=\"o\",D190=\"o\",D191=\"o\",D192=\"x\"),\"x\",IF(OR(D192=\"o\",AND(C192=\"x\",E192=\"x\",F192=\"x\"),AND(D189=\"x\",D190=\"x\",D191=\"x\")),\"o\",\"\"))","v":""},{"$f":"IF(OR(C192=\"o\",D192=\"o\",F192=\"o\",E189=\"o\",E190=\"o\",E191=\"o\",E192=\"x\"),\"x\",IF(OR(E192=\"o\",AND(C192=\"x\",D192=\"x\",F192=\"x\"),AND(E189=\"x\",E190=\"x\",E191=\"x\")),\"o\",\"\"))","v":""},{"$f":"IF(OR(C192=\"o\",D192=\"o\",E192=\"o\",F189=\"o\",F190=\"o\",F191=\"o\",F192=\"x\"),\"x\",IF(OR(F192=\"o\",AND(C192=\"x\",D192=\"x\",E192=\"x\"),AND(F189=\"x\",F190=\"x\",F191=\"x\")),\"o\",\"\"))","v":""}]
[]
[null,"Réponses :",{"$f":"C179","v":"Symbole"},null,null,null,{"$f":"G179","v":"Densité"},null,null,null,{"$f":"K179","v":"NA"},null,null,null,null,null,{"$f":"C179","v":"Symbole"},null,null,null,{"$f":"G179","v":"Densité"},null,null,null,{"$f":"K179","v":"NA"}]
[null,{"$f":"B181","v":"Tungstène"},{"$f":"IF(C181=\"o\",C180,IF(D181=\"o\",D180,IF(E181=\"o\",E180,IF(F181=\"o\",F180,\"\"))))","v":""},null,null,null,{"$f":"IF(G181=\"o\",G180,IF(H181=\"o\",H180,IF(I181=\"o\",I180,IF(J181=\"o\",J180,\"\"))))","v":""},null,null,null,{"$f":"IF(K181=\"o\",K180,IF(L181=\"o\",L180,IF(M181=\"o\",M180,IF(N181=\"o\",N180,\"\"))))","v":""},null,null,null,null,{"$f":"B181","v":"Tungstène"},"W",null,null,null,"19,35 g/cm3",null,null,null,74]
[null,{"$f":"B182","v":"Mercure"},{"$f":"IF(C182=\"o\",C180,IF(D182=\"o\",D180,IF(E182=\"o\",E180,IF(F182=\"o\",F180,\"\"))))","v":""},null,null,null,{"$f":"IF(G182=\"o\",G180,IF(H182=\"o\",H180,IF(I182=\"o\",I180,IF(J182=\"o\",J180,\"\"))))","v":""},null,null,null,{"$f":"IF(K182=\"o\",K180,IF(L182=\"o\",L180,IF(M182=\"o\",M180,IF(N182=\"o\",N180,\"\"))))","v":""},null,null,null,null,{"$f":"B182","v":"Mercure"},"Hg",null,null,null,"13,55 g/cm3",null,null,null,80]
[null,{"$f":"B183","v":"Antimoine"},{"$f":"IF(C183=\"o\",C180,IF(D183=\"o\",D180,IF(E183=\"o\",E180,IF(F183=\"o\",F180,\"\"))))","v":""},null,null,null,{"$f":"IF(G183=\"o\",G180,IF(H183=\"o\",H180,IF(I183=\"o\",I180,IF(J183=\"o\",J180,\"\"))))","v":""},null,null,null,{"$f":"IF(K183=\"o\",K180,IF(L183=\"o\",L180,IF(M183=\"o\",M180,IF(N183=\"o\",N180,\"\"))))","v":""},null,null,null,null,{"$f":"B183","v":"Antimoine"},"Sb",null,null,null,"6,68 g/cm3",null,null,null,51]
[null,{"$f":"B184","v":"Or"},{"$f":"IF(C184=\"o\",C180,IF(D184=\"o\",D180,IF(E184=\"o\",E180,IF(F184=\"o\",F180,\"\"))))","v":""},null,null,null,{"$f":"IF(G184=\"o\",G180,IF(H184=\"o\",H180,IF(I184=\"o\",I180,IF(J184=\"o\",J180,\"\"))))","v":""},null,null,null,{"$f":"IF(K184=\"o\",K180,IF(L184=\"o\",L180,IF(M184=\"o\",M180,IF(N184=\"o\",N180,\"\"))))","v":""},null,null,null,null,{"$f":"B184","v":"Or"},"Au",null,null,null,"19,32 g/cm3",null,null,null,79]
[]
[]
["XIX°/ Les animaux sprinters :"]
[{"$f":"INDIRECT(\"'Calculs 4 indices'!B\"&A205)","v":""},null,null,null,null,null,null,null,null,null,null,null,null,{"$f":"INDIRECT(\"'Calculs 4 indices'!M\"&(A205+16))","v":""}]
[{"$f":"INDIRECT(\"'Calculs 4 indices'!B\"&(A205+26))","v":""},null,null,null,null,null,null,null,null,null,null,null,null,{"$f":"INDIRECT(\"'Calculs 4 indices'!M\"&(A205+17))","v":""}]
[null,null,"Vitesse en km/h",null,null,null,{"$f":"A214","v":"Poids"},null,null,null,{"$f":"A210","v":"Taille"},null,null,null,null,null,null,null,null,null,null,null,null,null,null,null,null,null,null,null,{"$f":"C204","v":"Vitesse en km/h"},null,null,null,{"$f":"G204","v":"Poids"},null,null,null,{"$f":"K204","v":"Taille"}]
[{"$f":"A180+52","v":417},null,88,95,98,110,{"$f":"B214","v":"25 kg"},{"$f":"B215","v":"35 kg"},{"$f":"B216","v":"45 kg"},{"$f":"B217","v":"65 kg"},{"$f":"B210","v":"1 m 20"},{"$f":"B211","v":"1 m 30"},{"$f":"B212","v":"1 m 35"},{"$f":"B213","v":"1 m 40"},null,"Voici 4 animaux très véloces. Retrouvez leur taille et leurs poids ainsi que leur vitesse.",null,null,null,null,null,null,null,null,null,null,null,null,null,null,{"$f":"C205","v":88},{"$f":"D205","v":95},{"$f":"E205","v":98},{"$f":"F205","v":110},{"$f":"G205","v":"25 kg"},{"$f":"H205","v":"35 kg"},{"$f":"I205","v":"45 kg"},{"$f":"J205","v":"65 kg"},{"$f":"K205","v":"1 m 20"},{"$f":"L205","v":"1 m 30"},{"$f":"M205","v":"1 m 35"},{"$f":"N205","v":"1 m 40"}]
["Animal","Le springbok",null,null,null,null,null,null,null,null,null,null,null,null,null,null,null,null,null,null,null,null,null,null,null,null,null,null,{"$f":"A206","v":"Animal"},{"$f":"B206","v":"Le springbok"},{"$f":"IF(OR(D206=\"o\",E206=\"o\",F206=\"o\",C207=\"o\",C208=\"o\",C209=\"o\",C206=\"x\"),\"x\",IF(OR(C206=\"o\",AND(D206=\"x\",E206=\"x\",F206=\"x\"),AND(C207=\"x\",C208=\"x\",C209=\"x\")),\"o\",\"\"))","v":""},{"$f":"IF(OR(C206=\"o\",E206=\"o\",F206=\"o\",D207=\"o\",D208=\"o\",D209=\"o\",D206=\"x\"),\"x\",IF(OR(D206=\"o\",AND(C206=\"x\",E206=\"x\",F206=\"x\"),AND(D207=\"x\",D208=\"x\",D209=\"x\")),\"o\",\"\"))","v":""},{"$f":"IF(OR(C206=\"o\",D206=\"o\",F206=\"o\",E207=\"o\",E208=\"o\",E209=\"o\",E206=\"x\"),\"x\",IF(OR(E206=\"o\",AND(C206=\"x\",D206=\"x\",F206=\"x\"),AND(E207=\"x\",E208=\"x\",E209=\"x\")),\"o\",\"\"))","v":""},{"$f":"IF(OR(C206=\"o\",D206=\"o\",E206=\"o\",F207=\"o\",F208=\"o\",F209=\"o\",F206=\"x\"),\"x\",IF(OR(F206=\"o\",AND(C206=\"x\",D206=\"x\",E206=\"x\"),AND(F207=\"x\",F208=\"x\",F209=\"x\")),\"o\",\"\"))","v":""},{"$f":"IF(OR(H206=\"o\",I206=\"o\",J206=\"o\",G207=\"o\",G208=\"o\",G209=\"o\",G206=\"x\"),\"x\",IF(OR(G206=\"o\",AND(H206=\"x\",I206=\"x\",J206=\"x\"),AND(G207=\"x\",G208=\"x\",G209=\"x\")),\"o\",\"\"))","v":""},{"$f":"IF(OR(G206=\"o\",I206=\"o\",J206=\"o\",H207=\"o\",H208=\"o\",H209=\"o\",H206=\"x\"),\"x\",IF(OR(H206=\"o\",AND(G206=\"x\",I206=\"x\",J206=\"x\"),AND(H207=\"x\",H208=\"x\",H209=\"x\")),\"o\",\"\"))","v":""},{"$f":"IF(OR(G206=\"o\",H206=\"o\",J206=\"o\",I207=\"o\",I208=\"o\",I209=\"o\",I206=\"x\"),\"x\",IF(OR(I206=\"o\",AND(G206=\"x\",H206=\"x\",J206=\"x\"),AND(I207=\"x\",I208=\"x\",I209=\"x\")),\"o\",\"\"))","v":""},{"$f":"IF(OR(G206=\"o\",H206=\"o\",I206=\"o\",J207=\"o\",J208=\"o\",J209=\"o\",J206=\"x\"),\"x\",IF(OR(J206=\"o\",AND(G206=\"x\",H206=\"x\",I206=\"x\"),AND(J207=\"x\",J208=\"x\",J209=\"x\")),\"o\",\"\"))","v":""},{"$f":"IF(OR(L206=\"o\",M206=\"o\",N206=\"o\",K207=\"o\",K208=\"o\",K209=\"o\",K206=\"x\"),\"x\",IF(OR(K206=\"o\",AND(L206=\"x\",M206=\"x\",N206=\"x\"),AND(K207=\"x\",K208=\"x\",K209=\"x\")),\"o\",\"\"))","v":""},{"$f":"IF(OR(K206=\"o\",M206=\"o\",N206=\"o\",L207=\"o\",L208=\"o\",L209=\"o\",L206=\"x\"),\"x\",IF(OR(L206=\"o\",AND(K206=\"x\",M206=\"x\",N206=\"x\"),AND(L207=\"x\",L208=\"x\",L209=\"x\")),\"o\",\"\"))","v":""},{"$f":"IF(OR(K206=\"o\",L206=\"o\",N206=\"o\",M207=\"o\",M208=\"o\",M209=\"o\",M206=\"x\"),\"x\",IF(OR(M206=\"o\",AND(K206=\"x\",L206=\"x\",N206=\"x\"),AND(M207=\"x\",M208=\"x\",M209=\"x\")),\"o\",\"\"))","v":""},{"$f":"IF(OR(K206=\"o\",L206=\"o\",M206=\"o\",N207=\"o\",N208=\"o\",N209=\"o\",N206=\"x\"),\"x\",IF(OR(N206=\"o\",AND(K206=\"x\",L206=\"x\",M206=\"x\"),AND(N207=\"x\",N208=\"x\",N209=\"x\")),\"o\",\"\"))","v":""}]
[null,"Le chevreuil",null,null,null,null,null,null,null,null,null,null,null,null,null,"1°/ Le guépard dont le poids est 65 kg, est réputé pour",null,null,null,null,null,null,null,null,null,null,null,null,null,{"$f":"B207","v":"Le chevreuil"},{"$f":"IF(OR(D207=\"o\",E207=\"o\",F207=\"o\",C206=\"o\",C208=\"o\",C209=\"o\",C207=\"x\"),\"x\",IF(OR(C207=\"o\",AND(D207=\"x\",E207=\"x\",F207=\"x\"),AND(C206=\"x\",C208=\"x\",C209=\"x\")),\"o\",\"\"))","v":""},{"$f":"IF(OR(C207=\"o\",E207=\"o\",F207=\"o\",D206=\"o\",D208=\"o\",D209=\"o\",D207=\"x\"),\"x\",IF(OR(D207=\"o\",AND(C207=\"x\",E207=\"x\",F207=\"x\"),AND(D206=\"x\",D208=\"x\",D209=\"x\")),\"o\",\"\"))","v":""},{"$f":"IF(OR(C207=\"o\",D207=\"o\",F207=\"o\",E206=\"o\",E208=\"o\",E209=\"o\",E207=\"x\"),\"x\",IF(OR(E207=\"o\",AND(C207=\"x\",D207=\"x\",F207=\"x\"),AND(E206=\"x\",E208=\"x\",E209=\"x\")),\"o\",\"\"))","v":""},{"$f":"IF(OR(C207=\"o\",D207=\"o\",E207=\"o\",F206=\"o\",F208=\"o\",F209=\"o\",F207=\"x\"),\"x\",IF(OR(F207=\"o\",AND(C207=\"x\",D207=\"x\",E207=\"x\"),AND(F206=\"x\",F208=\"x\",F209=\"x\")),\"o\",\"\"))","v":""},{"$f":"IF(OR(H207=\"o\",I207=\"o\",J207=\"o\",G206=\"o\",G208=\"o\",G209=\"o\",G207=\"x\"),\"x\",IF(OR(G207=\"o\",AND(H207=\"x\",I207=\"x\",J207=\"x\"),AND(G206=\"x\",G208=\"x\",G209=\"x\")),\"o\",\"\"))","v":""},{"$f":"IF(OR(G207=\"o\",I207=\"o\",J207=\"o\",H206=\"o\",H208=\"o\",H209=\"o\",H207=\"x\"),\"x\",IF(OR(H207=\"o\",AND(G207=\"x\",I207=\"x\",J207=\"x\"),AND(H206=\"x\",H208=\"x\",H209=\"x\")),\"o\",\"\"))","v":""},{"$f":"IF(OR(G207=\"o\",H207=\"o\",J207=\"o\",I206=\"o\",I208=\"o\",I209=\"o\",I207=\"x\"),\"x\",IF(OR(I207=\"o\",AND(G207=\"x\",H207=\"x\",J207=\"x\"),AND(I206=\"x\",I208=\"x\",I209=\"x\")),\"o\",\"\"))","v":""},{"$f":"IF(OR(G207=\"o\",H207=\"o\",I207=\"o\",J206=\"o\",J208=\"o\",J209=\"o\",J207=\"x\"),\"x\",IF(OR(J207=\"o\",AND(G207=\"x\",H207=\"x\",I207=\"x\"),AND(J206=\"x\",J208=\"x\",J209=\"x\")),\"o\",\"\"))","v":""},{"$f":"IF(OR(L207=\"o\",M207=\"o\",N207=\"o\",K206=\"o\",K208=\"o\",K209=\"o\",K207=\"x\"),\"x\",IF(OR(K207=\"o\",AND(L207=\"x\",M207=\"x\",N207=\"x\"),AND(K206=\"x\",K208=\"x\",K209=\"x\")),\"o\",\"\"))","v":""},{"$f":"IF(OR(K207=\"o\",M207=\"o\",N207=\"o\",L206=\"o\",L208=\"o\",L209=\"o\",L207=\"x\"),\"x\",IF(OR(L207=\"o\",AND(K207=\"x\",M207=\"x\",N207=\"x\"),AND(L206=\"x\",L208=\"x\",L209=\"x\")),\"o\",\"\"))","v":""},{"$f":"IF(OR(K207=\"o\",L207=\"o\",N207=\"o\",M206=\"o\",M208=\"o\",M209=\"o\",M207=\"x\"),\"x\",IF(OR(M207=\"o\",AND(K207=\"x\",L207=\"x\",N207=\"x\"),AND(M206=\"x\",M208=\"x\",M209=\"x\")),\"o\",\"\"))","v":""},{"$f":"IF(OR(K207=\"o\",L207=\"o\",M207=\"o\",N206=\"o\",N208=\"o\",N209=\"o\",N207=\"x\"),\"x\",IF(OR(N207=\"o\",AND(K207=\"x\",L207=\"x\",M207=\"x\"),AND(N206=\"x\",N208=\"x\",N209=\"x\")),\"o\",\"\"))","v":""}]
[null,"Le guépard",null,null,null,null,null,null,null,null,null,null,null,null,null,"être le plus rapide, il mesure plus de 1 m 30.",null,null,null,null,null,null,null,null,null,null,null,null,null,"Le guépard",{"$f":"IF(OR(D208=\"o\",E208=\"o\",F208=\"o\",C206=\"o\",C207=\"o\",C209=\"o\",C208=\"x\"),\"x\",IF(OR(C208=\"o\",AND(D208=\"x\",E208=\"x\",F208=\"x\"),AND(C206=\"x\",C207=\"x\",C209=\"x\")),\"o\",\"\"))","v":""},{"$f":"IF(OR(C208=\"o\",E208=\"o\",F208=\"o\",D206=\"o\",D207=\"o\",D209=\"o\",D208=\"x\"),\"x\",IF(OR(D208=\"o\",AND(C208=\"x\",E208=\"x\",F208=\"x\"),AND(D206=\"x\",D207=\"x\",D209=\"x\")),\"o\",\"\"))","v":""},{"$f":"IF(OR(C208=\"o\",D208=\"o\",F208=\"o\",E206=\"o\",E207=\"o\",E209=\"o\",E208=\"x\"),\"x\",IF(OR(E208=\"o\",AND(C208=\"x\",D208=\"x\",F208=\"x\"),AND(E206=\"x\",E207=\"x\",E209=\"x\")),\"o\",\"\"))","v":""},{"$f":"IF(OR(C208=\"o\",D208=\"o\",E208=\"o\",F206=\"o\",F207=\"o\",F209=\"o\",F208=\"x\"),\"x\",IF(OR(F208=\"o\",AND(C208=\"x\",D208=\"x\",E208=\"x\"),AND(F206=\"x\",F207=\"x\",F209=\"x\")),\"o\",\"\"))","v":""},{"$f":"IF(OR(H208=\"o\",I208=\"o\",J208=\"o\",G206=\"o\",G207=\"o\",G209=\"o\",G208=\"x\"),\"x\",IF(OR(G208=\"o\",AND(H208=\"x\",I208=\"x\",J208=\"x\"),AND(G206=\"x\",G207=\"x\",G209=\"x\")),\"o\",\"\"))","v":""},{"$f":"IF(OR(G208=\"o\",I208=\"o\",J208=\"o\",H206=\"o\",H207=\"o\",H209=\"o\",H208=\"x\"),\"x\",IF(OR(H208=\"o\",AND(G208=\"x\",I208=\"x\",J208=\"x\"),AND(H206=\"x\",H207=\"x\",H209=\"x\")),\"o\",\"\"))","v":""},{"$f":"IF(OR(G208=\"o\",H208=\"o\",J208=\"o\",I206=\"o\",I207=\"o\",I209=\"o\",I208=\"x\"),\"x\",IF(OR(I208=\"o\",AND(G208=\"x\",H208=\"x\",J208=\"x\"),AND(I206=\"x\",I207=\"x\",I209=\"x\")),\"o\",\"\"))","v":""},{"$f":"IF(OR(G208=\"o\",H208=\"o\",I208=\"o\",J206=\"o\",J207=\"o\",J209=\"o\",J208=\"x\"),\"x\",IF(OR(J208=\"o\",AND(G208=\"x\",H208=\"x\",I208=\"x\"),AND(J206=\"x\",J207=\"x\",J209=\"x\")),\"o\",\"\"))","v":""},{"$f":"IF(OR(L208=\"o\",M208=\"o\",N208=\"o\",K206=\"o\",K207=\"o\",K209=\"o\",K208=\"x\"),\"x\",IF(OR(K208=\"o\",AND(L208=\"x\",M208=\"x\",N208=\"x\"),AND(K206=\"x\",K207=\"x\",K209=\"x\")),\"o\",\"\"))","v":""},{"$f":"IF(OR(K208=\"o\",M208=\"o\",N208=\"o\",L206=\"o\",L207=\"o\",L209=\"o\",L208=\"x\"),\"x\",IF(OR(L208=\"o\",AND(K208=\"x\",M208=\"x\",N208=\"x\"),AND(L206=\"x\",L207=\"x\",L209=\"x\")),\"o\",\"\"))","v":""},{"$f":"IF(OR(K208=\"o\",L208=\"o\",N208=\"o\",M206=\"o\",M207=\"o\",M209=\"o\",M208=\"x\"),\"x\",IF(OR(M208=\"o\",AND(K208=\"x\",L208=\"x\",N208=\"x\"),AND(M206=\"x\",M207=\"x\",M209=\"x\")),\"o\",\"\"))","v":""},{"$f":"IF(OR(K208=\"o\",L208=\"o\",M208=\"o\",N206=\"o\",N207=\"o\",N209=\"o\",N208=\"x\"),\"x\",IF(OR(N208=\"o\",AND(K208=\"x\",L208=\"x\",M208=\"x\"),AND(N206=\"x\",N207=\"x\",N209=\"x\")),\"o\",\"\"))","v":""}]
[null,"L'antilope",null,null,null,null,null,null,null,null,null,null,null,null,null,"2°/ Celui qui court à 98 km/h et mesure 1 m 40 n'est pas",null,null,null,null,null,null,null,null,null,null,null,null,null,"L'antilope",{"$f":"IF(OR(D209=\"o\",E209=\"o\",F209=\"o\",C206=\"o\",C207=\"o\",C208=\"o\",C209=\"x\"),\"x\",IF(OR(C209=\"o\",AND(D209=\"x\",E209=\"x\",F209=\"x\"),AND(C206=\"x\",C207=\"x\",C208=\"x\")),\"o\",\"\"))","v":""},{"$f":"IF(OR(C209=\"o\",E209=\"o\",F209=\"o\",D206=\"o\",D207=\"o\",D208=\"o\",D209=\"x\"),\"x\",IF(OR(D209=\"o\",AND(C209=\"x\",E209=\"x\",F209=\"x\"),AND(D206=\"x\",D207=\"x\",D208=\"x\")),\"o\",\"\"))","v":""},{"$f":"IF(OR(C209=\"o\",D209=\"o\",F209=\"o\",E206=\"o\",E207=\"o\",E208=\"o\",E209=\"x\"),\"x\",IF(OR(E209=\"o\",AND(C209=\"x\",D209=\"x\",F209=\"x\"),AND(E206=\"x\",E207=\"x\",E208=\"x\")),\"o\",\"\"))","v":""},{"$f":"IF(OR(C209=\"o\",D209=\"o\",E209=\"o\",F206=\"o\",F207=\"o\",F208=\"o\",F209=\"x\"),\"x\",IF(OR(F209=\"o\",AND(C209=\"x\",D209=\"x\",E209=\"x\"),AND(F206=\"x\",F207=\"x\",F208=\"x\")),\"o\",\"\"))","v":""},{"$f":"IF(OR(H209=\"o\",I209=\"o\",J209=\"o\",G206=\"o\",G207=\"o\",G208=\"o\",G209=\"x\"),\"x\",IF(OR(G209=\"o\",AND(H209=\"x\",I209=\"x\",J209=\"x\"),AND(G206=\"x\",G207=\"x\",G208=\"x\")),\"o\",\"\"))","v":""},{"$f":"IF(OR(G209=\"o\",I209=\"o\",J209=\"o\",H206=\"o\",H207=\"o\",H208=\"o\",H209=\"x\"),\"x\",IF(OR(H209=\"o\",AND(G209=\"x\",I209=\"x\",J209=\"x\"),AND(H206=\"x\",H207=\"x\",H208=\"x\")),\"o\",\"\"))","v":""},{"$f":"IF(OR(G209=\"o\",H209=\"o\",J209=\"o\",I206=\"o\",I207=\"o\",I208=\"o\",I209=\"x\"),\"x\",IF(OR(I209=\"o\",AND(G209=\"x\",H209=\"x\",J209=\"x\"),AND(I206=\"x\",I207=\"x\",I208=\"x\")),\"o\",\"\"))","v":""},{"$f":"IF(OR(G209=\"o\",H209=\"o\",I209=\"o\",J206=\"o\",J207=\"o\",J208=\"o\",J209=\"x\"),\"x\",IF(OR(J209=\"o\",AND(G209=\"x\",H209=\"x\",I209=\"x\"),AND(J206=\"x\",J207=\"x\",J208=\"x\")),\"o\",\"\"))","v":""},{"$f":"IF(OR(L209=\"o\",M209=\"o\",N209=\"o\",K206=\"o\",K207=\"o\",K208=\"o\",K209=\"x\"),\"x\",IF(OR(K209=\"o\",AND(L209=\"x\",M209=\"x\",N209=\"x\"),AND(K206=\"x\",K207=\"x\",K208=\"x\")),\"o\",\"\"))","v":""},{"$f":"IF(OR(K209=\"o\",M209=\"o\",N209=\"o\",L206=\"o\",L207=\"o\",L208=\"o\",L209=\"x\"),\"x\",IF(OR(L209=\"o\",AND(K209=\"x\",M209=\"x\",N209=\"x\"),AND(L206=\"x\",L207=\"x\",L208=\"x\")),\"o\",\"\"))","v":""},{"$f":"IF(OR(K209=\"o\",L209=\"o\",N209=\"o\",M206=\"o\",M207=\"o\",M208=\"o\",M209=\"x\"),\"x\",IF(OR(M209=\"o\",AND(K209=\"x\",L209=\"x\",N209=\"x\"),AND(M206=\"x\",M207=\"x\",M208=\"x\")),\"o\",\"\"))","v":""},{"$f":"IF(OR(K209=\"o\",L209=\"o\",M209=\"o\",N206=\"o\",N207=\"o\",N208=\"o\",N209=\"x\"),\"x\",IF(OR(N209=\"o\",AND(K209=\"x\",L209=\"x\",M209=\"x\"),AND(N206=\"x\",N207=\"x\",N208=\"x\")),\"o\",\"\"))","v":""}]
["Taille","1 m 20",null,null,null,null,null,null,null,null,null,null,null,null,null,"le springbok, ni l'antilope et ne pèse ni 35 kg, ni 45 kg.",null,null,null,null,null,null,null,null,null,null,null,null,{"$f":"A210","v":"Taille"},"1 m 20",{"$f":"IF(OR(D210=\"o\",E210=\"o\",F210=\"o\",C211=\"o\",C212=\"o\",C213=\"o\",C210=\"x\"),\"x\",IF(OR(C210=\"o\",AND(D210=\"x\",E210=\"x\",F210=\"x\"),AND(C211=\"x\",C212=\"x\",C213=\"x\")),\"o\",\"\"))","v":""},{"$f":"IF(OR(C210=\"o\",E210=\"o\",F210=\"o\",D211=\"o\",D212=\"o\",D213=\"o\",D210=\"x\"),\"x\",IF(OR(D210=\"o\",AND(C210=\"x\",E210=\"x\",F210=\"x\"),AND(D211=\"x\",D212=\"x\",D213=\"x\")),\"o\",\"\"))","v":""},{"$f":"IF(OR(C210=\"o\",D210=\"o\",F210=\"o\",E211=\"o\",E212=\"o\",E213=\"o\",E210=\"x\"),\"x\",IF(OR(E210=\"o\",AND(C210=\"x\",D210=\"x\",F210=\"x\"),AND(E211=\"x\",E212=\"x\",E213=\"x\")),\"o\",\"\"))","v":""},{"$f":"IF(OR(C210=\"o\",D210=\"o\",E210=\"o\",F211=\"o\",F212=\"o\",F213=\"o\",F210=\"x\"),\"x\",IF(OR(F210=\"o\",AND(C210=\"x\",D210=\"x\",E210=\"x\"),AND(F211=\"x\",F212=\"x\",F213=\"x\")),\"o\",\"\"))","v":""},{"$f":"IF(OR(H210=\"o\",I210=\"o\",J210=\"o\",G211=\"o\",G212=\"o\",G213=\"o\",G210=\"x\"),\"x\",IF(OR(G210=\"o\",AND(H210=\"x\",I210=\"x\",J210=\"x\"),AND(G211=\"x\",G212=\"x\",G213=\"x\")),\"o\",\"\"))","v":""},{"$f":"IF(OR(G210=\"o\",I210=\"o\",J210=\"o\",H211=\"o\",H212=\"o\",H213=\"o\",H210=\"x\"),\"x\",IF(OR(H210=\"o\",AND(G210=\"x\",I210=\"x\",J210=\"x\"),AND(H211=\"x\",H212=\"x\",H213=\"x\")),\"o\",\"\"))","v":""},{"$f":"IF(OR(G210=\"o\",H210=\"o\",J210=\"o\",I211=\"o\",I212=\"o\",I213=\"o\",I210=\"x\"),\"x\",IF(OR(I210=\"o\",AND(G210=\"x\",H210=\"x\",J210=\"x\"),AND(I211=\"x\",I212=\"x\",I213=\"x\")),\"o\",\"\"))","v":""},{"$f":"IF(OR(G210=\"o\",H210=\"o\",I210=\"o\",J211=\"o\",J212=\"o\",J213=\"o\",J210=\"x\"),\"x\",IF(OR(J210=\"o\",AND(G210=\"x\",H210=\"x\",I210=\"x\"),AND(J211=\"x\",J212=\"x\",J213=\"x\")),\"o\",\"\"))","v":""}]
[null,"1 m 30",null,null,null,null,null,null,null,null,null,null,null,null,null,"3°/ Celui qui court à 88 km/h n'est pas le springbok, il",null,null,null,null,null,null,null,null,null,null,null,null,null,"1 m 30",{"$f":"IF(OR(D211=\"o\",E211=\"o\",F211=\"o\",C210=\"o\",C212=\"o\",C213=\"o\",C211=\"x\"),\"x\",IF(OR(C211=\"o\",AND(D211=\"x\",E211=\"x\",F211=\"x\"),AND(C210=\"x\",C212=\"x\",C213=\"x\")),\"o\",\"\"))","v":""},{"$f":"IF(OR(C211=\"o\",E211=\"o\",F211=\"o\",D210=\"o\",D212=\"o\",D213=\"o\",D211=\"x\"),\"x\",IF(OR(D211=\"o\",AND(C211=\"x\",E211=\"x\",F211=\"x\"),AND(D210=\"x\",D212=\"x\",D213=\"x\")),\"o\",\"\"))","v":""},{"$f":"IF(OR(C211=\"o\",D211=\"o\",F211=\"o\",E210=\"o\",E212=\"o\",E213=\"o\",E211=\"x\"),\"x\",IF(OR(E211=\"o\",AND(C211=\"x\",D211=\"x\",F211=\"x\"),AND(E210=\"x\",E212=\"x\",E213=\"x\")),\"o\",\"\"))","v":""},{"$f":"IF(OR(C211=\"o\",D211=\"o\",E211=\"o\",F210=\"o\",F212=\"o\",F213=\"o\",F211=\"x\"),\"x\",IF(OR(F211=\"o\",AND(C211=\"x\",D211=\"x\",E211=\"x\"),AND(F210=\"x\",F212=\"x\",F213=\"x\")),\"o\",\"\"))","v":""},{"$f":"IF(OR(H211=\"o\",I211=\"o\",J211=\"o\",G210=\"o\",G212=\"o\",G213=\"o\",G211=\"x\"),\"x\",IF(OR(G211=\"o\",AND(H211=\"x\",I211=\"x\",J211=\"x\"),AND(G210=\"x\",G212=\"x\",G213=\"x\")),\"o\",\"\"))","v":""},{"$f":"IF(OR(G211=\"o\",I211=\"o\",J211=\"o\",H210=\"o\",H212=\"o\",H213=\"o\",H211=\"x\"),\"x\",IF(OR(H211=\"o\",AND(G211=\"x\",I211=\"x\",J211=\"x\"),AND(H210=\"x\",H212=\"x\",H213=\"x\")),\"o\",\"\"))","v":""},{"$f":"IF(OR(G211=\"o\",H211=\"o\",J211=\"o\",I210=\"o\",I212=\"o\",I213=\"o\",I211=\"x\"),\"x\",IF(OR(I211=\"o\",AND(G211=\"x\",H211=\"x\",J211=\"x\"),AND(I210=\"x\",I212=\"x\",I213=\"x\")),\"o\",\"\"))","v":""},{"$f":"IF(OR(G211=\"o\",H211=\"o\",I211=\"o\",J210=\"o\",J212=\"o\",J213=\"o\",J211=\"x\"),\"x\",IF(OR(J211=\"o\",AND(G211=\"x\",H211=\"x\",I211=\"x\"),AND(J210=\"x\",J212=\"x\",J213=\"x\")),\"o\",\"\"))","v":""}]
[null,"1 m 35",null,null,null,null,null,null,null,null,null,null,null,null,null,"ne pèse pas 45 kg et ne mesure pas 1 m 30.",null,null,null,null,null,null,null,null,null,null,null,null,null,"1 m 35",{"$f":"IF(OR(D212=\"o\",E212=\"o\",F212=\"o\",C210=\"o\",C211=\"o\",C213=\"o\",C212=\"x\"),\"x\",IF(OR(C212=\"o\",AND(D212=\"x\",E212=\"x\",F212=\"x\"),AND(C210=\"x\",C211=\"x\",C213=\"x\")),\"o\",\"\"))","v":""},{"$f":"IF(OR(C212=\"o\",E212=\"o\",F212=\"o\",D210=\"o\",D211=\"o\",D213=\"o\",D212=\"x\"),\"x\",IF(OR(D212=\"o\",AND(C212=\"x\",E212=\"x\",F212=\"x\"),AND(D210=\"x\",D211=\"x\",D213=\"x\")),\"o\",\"\"))","v":""},{"$f":"IF(OR(C212=\"o\",D212=\"o\",F212=\"o\",E210=\"o\",E211=\"o\",E213=\"o\",E212=\"x\"),\"x\",IF(OR(E212=\"o\",AND(C212=\"x\",D212=\"x\",F212=\"x\"),AND(E210=\"x\",E211=\"x\",E213=\"x\")),\"o\",\"\"))","v":""},{"$f":"IF(OR(C212=\"o\",D212=\"o\",E212=\"o\",F210=\"o\",F211=\"o\",F213=\"o\",F212=\"x\"),\"x\",IF(OR(F212=\"o\",AND(C212=\"x\",D212=\"x\",E212=\"x\"),AND(F210=\"x\",F211=\"x\",F213=\"x\")),\"o\",\"\"))","v":""},{"$f":"IF(OR(H212=\"o\",I212=\"o\",J212=\"o\",G210=\"o\",G211=\"o\",G213=\"o\",G212=\"x\"),\"x\",IF(OR(G212=\"o\",AND(H212=\"x\",I212=\"x\",J212=\"x\"),AND(G210=\"x\",G211=\"x\",G213=\"x\")),\"o\",\"\"))","v":""},{"$f":"IF(OR(G212=\"o\",I212=\"o\",J212=\"o\",H210=\"o\",H211=\"o\",H213=\"o\",H212=\"x\"),\"x\",IF(OR(H212=\"o\",AND(G212=\"x\",I212=\"x\",J212=\"x\"),AND(H210=\"x\",H211=\"x\",H213=\"x\")),\"o\",\"\"))","v":""},{"$f":"IF(OR(G212=\"o\",H212=\"o\",J212=\"o\",I210=\"o\",I211=\"o\",I213=\"o\",I212=\"x\"),\"x\",IF(OR(I212=\"o\",AND(G212=\"x\",H212=\"x\",J212=\"x\"),AND(I210=\"x\",I211=\"x\",I213=\"x\")),\"o\",\"\"))","v":""},{"$f":"IF(OR(G212=\"o\",H212=\"o\",I212=\"o\",J210=\"o\",J211=\"o\",J213=\"o\",J212=\"x\"),\"x\",IF(OR(J212=\"o\",AND(G212=\"x\",H212=\"x\",I212=\"x\"),AND(J210=\"x\",J211=\"x\",J213=\"x\")),\"o\",\"\"))","v":""}]
[null,"1 m 40",null,null,null,null,null,null,null,null,null,null,null,null,null,null,null,null,null,null,null,null,null,null,null,null,null,null,null,"1 m 40",{"$f":"IF(OR(D213=\"o\",E213=\"o\",F213=\"o\",C210=\"o\",C211=\"o\",C212=\"o\",C213=\"x\"),\"x\",IF(OR(C213=\"o\",AND(D213=\"x\",E213=\"x\",F213=\"x\"),AND(C210=\"x\",C211=\"x\",C212=\"x\")),\"o\",\"\"))","v":""},{"$f":"IF(OR(C213=\"o\",E213=\"o\",F213=\"o\",D210=\"o\",D211=\"o\",D212=\"o\",D213=\"x\"),\"x\",IF(OR(D213=\"o\",AND(C213=\"x\",E213=\"x\",F213=\"x\"),AND(D210=\"x\",D211=\"x\",D212=\"x\")),\"o\",\"\"))","v":""},{"$f":"IF(OR(C213=\"o\",D213=\"o\",F213=\"o\",E210=\"o\",E211=\"o\",E212=\"o\",E213=\"x\"),\"x\",IF(OR(E213=\"o\",AND(C213=\"x\",D213=\"x\",F213=\"x\"),AND(E210=\"x\",E211=\"x\",E212=\"x\")),\"o\",\"\"))","v":""},{"$f":"IF(OR(C213=\"o\",D213=\"o\",E213=\"o\",F210=\"o\",F211=\"o\",F212=\"o\",F213=\"x\"),\"x\",IF(OR(F213=\"o\",AND(C213=\"x\",D213=\"x\",E213=\"x\"),AND(F210=\"x\",F211=\"x\",F212=\"x\")),\"o\",\"\"))","v":""},{"$f":"IF(OR(H213=\"o\",I213=\"o\",J213=\"o\",G210=\"o\",G211=\"o\",G212=\"o\",G213=\"x\"),\"x\",IF(OR(G213=\"o\",AND(H213=\"x\",I213=\"x\",J213=\"x\"),AND(G210=\"x\",G211=\"x\",G212=\"x\")),\"o\",\"\"))","v":""},{"$f":"IF(OR(G213=\"o\",I213=\"o\",J213=\"o\",H210=\"o\",H211=\"o\",H212=\"o\",H213=\"x\"),\"x\",IF(OR(H213=\"o\",AND(G213=\"x\",I213=\"x\",J213=\"x\"),AND(H210=\"x\",H211=\"x\",H212=\"x\")),\"o\",\"\"))","v":""},{"$f":"IF(OR(G213=\"o\",H213=\"o\",J213=\"o\",I210=\"o\",I211=\"o\",I212=\"o\",I213=\"x\"),\"x\",IF(OR(I213=\"o\",AND(G213=\"x\",H213=\"x\",J213=\"x\"),AND(I210=\"x\",I211=\"x\",I212=\"x\")),\"o\",\"\"))","v":""},{"$f":"IF(OR(G213=\"o\",H213=\"o\",I213=\"o\",J210=\"o\",J211=\"o\",J212=\"o\",J213=\"x\"),\"x\",IF(OR(J213=\"o\",AND(G213=\"x\",H213=\"x\",I213=\"x\"),AND(J210=\"x\",J211=\"x\",J212=\"x\")),\"o\",\"\"))","v":""}]
["Poids","25 kg",null,null,null,null,null,null,null,null,null,null,null,null,null,null,null,null,null,null,null,null,null,null,null,null,null,null,{"$f":"A214","v":"Poids"},"25 kg",{"$f":"IF(OR(D214=\"o\",E214=\"o\",F214=\"o\",C215=\"o\",C216=\"o\",C217=\"o\",C214=\"x\"),\"x\",IF(OR(C214=\"o\",AND(D214=\"x\",E214=\"x\",F214=\"x\"),AND(C215=\"x\",C216=\"x\",C217=\"x\")),\"o\",\"\"))","v":""},{"$f":"IF(OR(C214=\"o\",E214=\"o\",F214=\"o\",D215=\"o\",D216=\"o\",D217=\"o\",D214=\"x\"),\"x\",IF(OR(D214=\"o\",AND(C214=\"x\",E214=\"x\",F214=\"x\"),AND(D215=\"x\",D216=\"x\",D217=\"x\")),\"o\",\"\"))","v":""},{"$f":"IF(OR(C214=\"o\",D214=\"o\",F214=\"o\",E215=\"o\",E216=\"o\",E217=\"o\",E214=\"x\"),\"x\",IF(OR(E214=\"o\",AND(C214=\"x\",D214=\"x\",F214=\"x\"),AND(E215=\"x\",E216=\"x\",E217=\"x\")),\"o\",\"\"))","v":""},{"$f":"IF(OR(C214=\"o\",D214=\"o\",E214=\"o\",F215=\"o\",F216=\"o\",F217=\"o\",F214=\"x\"),\"x\",IF(OR(F214=\"o\",AND(C214=\"x\",D214=\"x\",E214=\"x\"),AND(F215=\"x\",F216=\"x\",F217=\"x\")),\"o\",\"\"))","v":""}]
[null,"35 kg",null,null,null,null,null,{"$f":"IF(AND(C220=Q220,G220=U220,K220=Y220,C221=Q221,G221=U221,K221=Y221,C222=Q222,G222=U222,K222=Y222,C223=Q223,G223=U223,K223=Y223),\"BRAVO !!\",\"\")","v":""},null,null,null,null,null,null,null,null,null,null,null,null,null,null,null,null,null,null,null,null,null,"35 kg",{"$f":"IF(OR(D215=\"o\",E215=\"o\",F215=\"o\",C214=\"o\",C216=\"o\",C217=\"o\",C215=\"x\"),\"x\",IF(OR(C215=\"o\",AND(D215=\"x\",E215=\"x\",F215=\"x\"),AND(C214=\"x\",C216=\"x\",C217=\"x\")),\"o\",\"\"))","v":""},{"$f":"IF(OR(C215=\"o\",E215=\"o\",F215=\"o\",D214=\"o\",D216=\"o\",D217=\"o\",D215=\"x\"),\"x\",IF(OR(D215=\"o\",AND(C215=\"x\",E215=\"x\",F215=\"x\"),AND(D214=\"x\",D216=\"x\",D217=\"x\")),\"o\",\"\"))","v":""},{"$f":"IF(OR(C215=\"o\",D215=\"o\",F215=\"o\",E214=\"o\",E216=\"o\",E217=\"o\",E215=\"x\"),\"x\",IF(OR(E215=\"o\",AND(C215=\"x\",D215=\"x\",F215=\"x\"),AND(E214=\"x\",E216=\"x\",E217=\"x\")),\"o\",\"\"))","v":""},{"$f":"IF(OR(C215=\"o\",D215=\"o\",E215=\"o\",F214=\"o\",F216=\"o\",F217=\"o\",F215=\"x\"),\"x\",IF(OR(F215=\"o\",AND(C215=\"x\",D215=\"x\",E215=\"x\"),AND(F214=\"x\",F216=\"x\",F217=\"x\")),\"o\",\"\"))","v":""}]
[null,"45 kg",null,null,null,null,null,null,null,null,null,null,null,null,null,null,null,null,null,null,null,null,null,null,null,null,null,null,null,"45 kg",{"$f":"IF(OR(D216=\"o\",E216=\"o\",F216=\"o\",C214=\"o\",C215=\"o\",C217=\"o\",C216=\"x\"),\"x\",IF(OR(C216=\"o\",AND(D216=\"x\",E216=\"x\",F216=\"x\"),AND(C214=\"x\",C215=\"x\",C217=\"x\")),\"o\",\"\"))","v":""},{"$f":"IF(OR(C216=\"o\",E216=\"o\",F216=\"o\",D214=\"o\",D215=\"o\",D217=\"o\",D216=\"x\"),\"x\",IF(OR(D216=\"o\",AND(C216=\"x\",E216=\"x\",F216=\"x\"),AND(D214=\"x\",D215=\"x\",D217=\"x\")),\"o\",\"\"))","v":""},{"$f":"IF(OR(C216=\"o\",D216=\"o\",F216=\"o\",E214=\"o\",E215=\"o\",E217=\"o\",E216=\"x\"),\"x\",IF(OR(E216=\"o\",AND(C216=\"x\",D216=\"x\",F216=\"x\"),AND(E214=\"x\",E215=\"x\",E217=\"x\")),\"o\",\"\"))","v":""},{"$f":"IF(OR(C216=\"o\",D216=\"o\",E216=\"o\",F214=\"o\",F215=\"o\",F217=\"o\",F216=\"x\"),\"x\",IF(OR(F216=\"o\",AND(C216=\"x\",D216=\"x\",E216=\"x\"),AND(F214=\"x\",F215=\"x\",F217=\"x\")),\"o\",\"\"))","v":""}]
[null,"65 kg",null,null,null,null,null,null,null,null,null,null,null,null,null,null,null,null,null,null,null,null,null,null,null,null,null,null,null,"65 kg",{"$f":"IF(OR(D217=\"o\",E217=\"o\",F217=\"o\",C214=\"o\",C215=\"o\",C216=\"o\",C217=\"x\"),\"x\",IF(OR(C217=\"o\",AND(D217=\"x\",E217=\"x\",F217=\"x\"),AND(C214=\"x\",C215=\"x\",C216=\"x\")),\"o\",\"\"))","v":""},{"$f":"IF(OR(C217=\"o\",E217=\"o\",F217=\"o\",D214=\"o\",D215=\"o\",D216=\"o\",D217=\"x\"),\"x\",IF(OR(D217=\"o\",AND(C217=\"x\",E217=\"x\",F217=\"x\"),AND(D214=\"x\",D215=\"x\",D216=\"x\")),\"o\",\"\"))","v":""},{"$f":"IF(OR(C217=\"o\",D217=\"o\",F217=\"o\",E214=\"o\",E215=\"o\",E216=\"o\",E217=\"x\"),\"x\",IF(OR(E217=\"o\",AND(C217=\"x\",D217=\"x\",F217=\"x\"),AND(E214=\"x\",E215=\"x\",E216=\"x\")),\"o\",\"\"))","v":""},{"$f":"IF(OR(C217=\"o\",D217=\"o\",E217=\"o\",F214=\"o\",F215=\"o\",F216=\"o\",F217=\"x\"),\"x\",IF(OR(F217=\"o\",AND(C217=\"x\",D217=\"x\",E217=\"x\"),AND(F214=\"x\",F215=\"x\",F216=\"x\")),\"o\",\"\"))","v":""}]
[]
[null,"Réponses :",{"$f":"C204","v":"Vitesse en km/h"},null,null,null,{"$f":"G204","v":"Poids"},null,null,null,{"$f":"K204","v":"Taille"},null,null,null,null,null,{"$f":"C204","v":"Vitesse en km/h"},null,null,null,{"$f":"G204","v":"Poids"},null,null,null,{"$f":"K204","v":"Taille"}]
[null,{"$f":"B206","v":"Le springbok"},{"$f":"IF(C206=\"o\",C205,IF(D206=\"o\",D205,IF(E206=\"o\",E205,IF(F206=\"o\",F205,\"\"))))","v":""},null,null,null,{"$f":"IF(G206=\"o\",G205,IF(H206=\"o\",H205,IF(I206=\"o\",I205,IF(J206=\"o\",J205,\"\"))))","v":""},null,null,null,{"$f":"IF(K206=\"o\",K205,IF(L206=\"o\",L205,IF(M206=\"o\",M205,IF(N206=\"o\",N205,\"\"))))","v":""},null,null,null,null,{"$f":"B206","v":"Le springbok"},95,null,null,null,"45 kg",null,null,null,"1 m 30"]
[null,{"$f":"B207","v":"Le chevreuil"},{"$f":"IF(C207=\"o\",C205,IF(D207=\"o\",D205,IF(E207=\"o\",E205,IF(F207=\"o\",F205,\"\"))))","v":""},null,null,null,{"$f":"IF(G207=\"o\",G205,IF(H207=\"o\",H205,IF(I207=\"o\",I205,IF(J207=\"o\",J205,\"\"))))","v":""},null,null,null,{"$f":"IF(K207=\"o\",K205,IF(L207=\"o\",L205,IF(M207=\"o\",M205,IF(N207=\"o\",N205,\"\"))))","v":""},null,null,null,null,{"$f":"B207","v":"Le chevreuil"},98,null,null,null,"25 kg",null,null,null,"1 m 40"]
[null,{"$f":"B208","v":"Le guépard"},{"$f":"IF(C208=\"o\",C205,IF(D208=\"o\",D205,IF(E208=\"o\",E205,IF(F208=\"o\",F205,\"\"))))","v":""},null,null,null,{"$f":"IF(G208=\"o\",G205,IF(H208=\"o\",H205,IF(I208=\"o\",I205,IF(J208=\"o\",J205,\"\"))))","v":""},null,null,null,{"$f":"IF(K208=\"o\",K205,IF(L208=\"o\",L205,IF(M208=\"o\",M205,IF(N208=\"o\",N205,\"\"))))","v":""},null,null,null,null,{"$f":"B208","v":"Le guépard"},110,null,null,null,"65 kg",null,null,null,"1 m 35"]
[null,{"$f":"B209","v":"L'antilope"},{"$f":"IF(C209=\"o\",C205,IF(D209=\"o\",D205,IF(E209=\"o\",E205,IF(F209=\"o\",F205,\"\"))))","v":""},null,null,null,{"$f":"IF(G209=\"o\",G205,IF(H209=\"o\",H205,IF(I209=\"o\",I205,IF(J209=\"o\",J205,\"\"))))","v":""},null,null,null,{"$f":"IF(K209=\"o\",K205,IF(L209=\"o\",L205,IF(M209=\"o\",M205,IF(N209=\"o\",N205,\"\"))))","v":""},null,null,null,null,{"$f":"B209","v":"L'antilope"},88,null,null,null,"35 kg",null,null,null,"1 m 20"]
[]
[]
["XX°/ Les grands fleuves de France :"]
[{"$f":"INDIRECT(\"'Calculs 4 indices'!B\"&A230)","v":""},null,null,null,null,null,null,null,null,null,null,null,null,{"$f":"INDIRECT(\"'Calculs 4 indices'!M\"&(A230+16))","v":""}]
[{"$f":"INDIRECT(\"'Calculs 4 indices'!B\"&(A230+26))","v":""},null,null,null,null,null,null,null,null,null,null,null,null,{"$f":"INDIRECT(\"'Calculs 4 indices'!M\"&(A230+17))","v":""}]
[null,null,"Longueur en km",null,null,null,{"$f":"A239","v":"Source"},null,null,null,{"$f":"A235","v":"Département"},null,null,null,null,null,null,null,null,null,null,null,null,null,null,null,null,null,null,null,{"$f":"C229","v":"Longueur en km"},null,null,null,{"$f":"G229","v":"Source"},null,null,null,{"$f":"K229","v":"Département"}]
[{"$f":"A205+52","v":469},null,647,776,812,1012,{"$f":"B239","v":"Glacier de la Furka"},{"$f":"B240","v":"Mont Gerbier-de-Jonc"},{"$f":"B241","v":"Plateau de Langres"},{"$f":"B242","v":"Val d'Aran"},{"$f":"B235","v":"Côte-d'Or"},{"$f":"B236","v":"Nièvre"},{"$f":"B237","v":"Gironde"},{"$f":"B238","v":"Ain"},null,"Ce sont 4 grands fleuves de France, où prennent t-ils donc leur source et quelle est leur longueur ? Sur sa route chaque fleuve traverse un département, mais lequel ?",null,null,null,null,null,null,null,null,null,null,null,null,null,null,{"$f":"C230","v":647},{"$f":"D230","v":776},{"$f":"E230","v":812},{"$f":"F230","v":1012},{"$f":"G230","v":"Glacier de la Furka"},{"$f":"H230","v":"Mont Gerbier-de-Jonc"},{"$f":"I230","v":"Plateau de Langres"},{"$f":"J230","v":"Val d'Aran"},{"$f":"K230","v":"Côte-d'Or"},{"$f":"L230","v":"Nièvre"},{"$f":"M230","v":"Gironde"},{"$f":"N230","v":"Ain"}]
["Fleuve","La Garonne",null,null,null,null,null,null,null,null,null,null,null,null,null,null,null,null,null,null,null,null,null,null,null,null,null,null,{"$f":"A231","v":"Fleuve"},{"$f":"B231","v":"La Garonne"},{"$f":"IF(OR(D231=\"o\",E231=\"o\",F231=\"o\",C232=\"o\",C233=\"o\",C234=\"o\",C231=\"x\"),\"x\",IF(OR(C231=\"o\",AND(D231=\"x\",E231=\"x\",F231=\"x\"),AND(C232=\"x\",C233=\"x\",C234=\"x\")),\"o\",\"\"))","v":""},{"$f":"IF(OR(C231=\"o\",E231=\"o\",F231=\"o\",D232=\"o\",D233=\"o\",D234=\"o\",D231=\"x\"),\"x\",IF(OR(D231=\"o\",AND(C231=\"x\",E231=\"x\",F231=\"x\"),AND(D232=\"x\",D233=\"x\",D234=\"x\")),\"o\",\"\"))","v":""},{"$f":"IF(OR(C231=\"o\",D231=\"o\",F231=\"o\",E232=\"o\",E233=\"o\",E234=\"o\",E231=\"x\"),\"x\",IF(OR(E231=\"o\",AND(C231=\"x\",D231=\"x\",F231=\"x\"),AND(E232=\"x\",E233=\"x\",E234=\"x\")),\"o\",\"\"))","v":""},{"$f":"IF(OR(C231=\"o\",D231=\"o\",E231=\"o\",F232=\"o\",F233=\"o\",F234=\"o\",F231=\"x\"),\"x\",IF(OR(F231=\"o\",AND(C231=\"x\",D231=\"x\",E231=\"x\"),AND(F232=\"x\",F233=\"x\",F234=\"x\")),\"o\",\"\"))","v":""},{"$f":"IF(OR(H231=\"o\",I231=\"o\",J231=\"o\",G232=\"o\",G233=\"o\",G234=\"o\",G231=\"x\"),\"x\",IF(OR(G231=\"o\",AND(H231=\"x\",I231=\"x\",J231=\"x\"),AND(G232=\"x\",G233=\"x\",G234=\"x\")),\"o\",\"\"))","v":""},{"$f":"IF(OR(G231=\"o\",I231=\"o\",J231=\"o\",H232=\"o\",H233=\"o\",H234=\"o\",H231=\"x\"),\"x\",IF(OR(H231=\"o\",AND(G231=\"x\",I231=\"x\",J231=\"x\"),AND(H232=\"x\",H233=\"x\",H234=\"x\")),\"o\",\"\"))","v":""},{"$f":"IF(OR(G231=\"o\",H231=\"o\",J231=\"o\",I232=\"o\",I233=\"o\",I234=\"o\",I231=\"x\"),\"x\",IF(OR(I231=\"o\",AND(G231=\"x\",H231=\"x\",J231=\"x\"),AND(I232=\"x\",I233=\"x\",I234=\"x\")),\"o\",\"\"))","v":""},{"$f":"IF(OR(G231=\"o\",H231=\"o\",I231=\"o\",J232=\"o\",J233=\"o\",J234=\"o\",J231=\"x\"),\"x\",IF(OR(J231=\"o\",AND(G231=\"x\",H231=\"x\",I231=\"x\"),AND(J232=\"x\",J233=\"x\",J234=\"x\")),\"o\",\"\"))","v":""},{"$f":"IF(OR(L231=\"o\",M231=\"o\",N231=\"o\",K232=\"o\",K233=\"o\",K234=\"o\",K231=\"x\"),\"x\",IF(OR(K231=\"o\",AND(L231=\"x\",M231=\"x\",N231=\"x\"),AND(K232=\"x\",K233=\"x\",K234=\"x\")),\"o\",\"\"))","v":""},{"$f":"IF(OR(K231=\"o\",M231=\"o\",N231=\"o\",L232=\"o\",L233=\"o\",L234=\"o\",L231=\"x\"),\"x\",IF(OR(L231=\"o\",AND(K231=\"x\",M231=\"x\",N231=\"x\"),AND(L232=\"x\",L233=\"x\",L234=\"x\")),\"o\",\"\"))","v":""},{"$f":"IF(OR(K231=\"o\",L231=\"o\",N231=\"o\",M232=\"o\",M233=\"o\",M234=\"o\",M231=\"x\"),\"x\",IF(OR(M231=\"o\",AND(K231=\"x\",L231=\"x\",N231=\"x\"),AND(M232=\"x\",M233=\"x\",M234=\"x\")),\"o\",\"\"))","v":""},{"$f":"IF(OR(K231=\"o\",L231=\"o\",M231=\"o\",N232=\"o\",N233=\"o\",N234=\"o\",N231=\"x\"),\"x\",IF(OR(N231=\"o\",AND(K231=\"x\",L231=\"x\",M231=\"x\"),AND(N232=\"x\",N233=\"x\",N234=\"x\")),\"o\",\"\"))","v":""}]
[null,"La Loire",null,null,null,null,null,null,null,null,null,null,null,null,null,"1°/ Le Fleuve qui prend sa source au Val d'Aran traverse",null,null,null,null,null,null,null,null,null,null,null,null,null,{"$f":"B232","v":"La Loire"},{"$f":"IF(OR(D232=\"o\",E232=\"o\",F232=\"o\",C231=\"o\",C233=\"o\",C234=\"o\",C232=\"x\"),\"x\",IF(OR(C232=\"o\",AND(D232=\"x\",E232=\"x\",F232=\"x\"),AND(C231=\"x\",C233=\"x\",C234=\"x\")),\"o\",\"\"))","v":""},{"$f":"IF(OR(C232=\"o\",E232=\"o\",F232=\"o\",D231=\"o\",D233=\"o\",D234=\"o\",D232=\"x\"),\"x\",IF(OR(D232=\"o\",AND(C232=\"x\",E232=\"x\",F232=\"x\"),AND(D231=\"x\",D233=\"x\",D234=\"x\")),\"o\",\"\"))","v":""},{"$f":"IF(OR(C232=\"o\",D232=\"o\",F232=\"o\",E231=\"o\",E233=\"o\",E234=\"o\",E232=\"x\"),\"x\",IF(OR(E232=\"o\",AND(C232=\"x\",D232=\"x\",F232=\"x\"),AND(E231=\"x\",E233=\"x\",E234=\"x\")),\"o\",\"\"))","v":""},{"$f":"IF(OR(C232=\"o\",D232=\"o\",E232=\"o\",F231=\"o\",F233=\"o\",F234=\"o\",F232=\"x\"),\"x\",IF(OR(F232=\"o\",AND(C232=\"x\",D232=\"x\",E232=\"x\"),AND(F231=\"x\",F233=\"x\",F234=\"x\")),\"o\",\"\"))","v":""},{"$f":"IF(OR(H232=\"o\",I232=\"o\",J232=\"o\",G231=\"o\",G233=\"o\",G234=\"o\",G232=\"x\"),\"x\",IF(OR(G232=\"o\",AND(H232=\"x\",I232=\"x\",J232=\"x\"),AND(G231=\"x\",G233=\"x\",G234=\"x\")),\"o\",\"\"))","v":""},{"$f":"IF(OR(G232=\"o\",I232=\"o\",J232=\"o\",H231=\"o\",H233=\"o\",H234=\"o\",H232=\"x\"),\"x\",IF(OR(H232=\"o\",AND(G232=\"x\",I232=\"x\",J232=\"x\"),AND(H231=\"x\",H233=\"x\",H234=\"x\")),\"o\",\"\"))","v":""},{"$f":"IF(OR(G232=\"o\",H232=\"o\",J232=\"o\",I231=\"o\",I233=\"o\",I234=\"o\",I232=\"x\"),\"x\",IF(OR(I232=\"o\",AND(G232=\"x\",H232=\"x\",J232=\"x\"),AND(I231=\"x\",I233=\"x\",I234=\"x\")),\"o\",\"\"))","v":""},{"$f":"IF(OR(G232=\"o\",H232=\"o\",I232=\"o\",J231=\"o\",J233=\"o\",J234=\"o\",J232=\"x\"),\"x\",IF(OR(J232=\"o\",AND(G232=\"x\",H232=\"x\",I232=\"x\"),AND(J231=\"x\",J233=\"x\",J234=\"x\")),\"o\",\"\"))","v":""},{"$f":"IF(OR(L232=\"o\",M232=\"o\",N232=\"o\",K231=\"o\",K233=\"o\",K234=\"o\",K232=\"x\"),\"x\",IF(OR(K232=\"o\",AND(L232=\"x\",M232=\"x\",N232=\"x\"),AND(K231=\"x\",K233=\"x\",K234=\"x\")),\"o\",\"\"))","v":""},{"$f":"IF(OR(K232=\"o\",M232=\"o\",N232=\"o\",L231=\"o\",L233=\"o\",L234=\"o\",L232=\"x\"),\"x\",IF(OR(L232=\"o\",AND(K232=\"x\",M232=\"x\",N232=\"x\"),AND(L231=\"x\",L233=\"x\",L234=\"x\")),\"o\",\"\"))","v":""},{"$f":"IF(OR(K232=\"o\",L232=\"o\",N232=\"o\",M231=\"o\",M233=\"o\",M234=\"o\",M232=\"x\"),\"x\",IF(OR(M232=\"o\",AND(K232=\"x\",L232=\"x\",N232=\"x\"),AND(M231=\"x\",M233=\"x\",M234=\"x\")),\"o\",\"\"))","v":""},{"$f":"IF(OR(K232=\"o\",L232=\"o\",M232=\"o\",N231=\"o\",N233=\"o\",N234=\"o\",N232=\"x\"),\"x\",IF(OR(N232=\"o\",AND(K232=\"x\",L232=\"x\",M232=\"x\"),AND(N231=\"x\",N233=\"x\",N234=\"x\")),\"o\",\"\"))","v":""}]
[null,"La Seine",null,null,null,null,null,null,null,null,null,null,null,null,null,"la Gironde et n'est pas le plus long des fleuves.",null,null,null,null,null,null,null,null,null,null,null,null,null,"La Seine",{"$f":"IF(OR(D233=\"o\",E233=\"o\",F233=\"o\",C231=\"o\",C232=\"o\",C234=\"o\",C233=\"x\"),\"x\",IF(OR(C233=\"o\",AND(D233=\"x\",E233=\"x\",F233=\"x\"),AND(C231=\"x\",C232=\"x\",C234=\"x\")),\"o\",\"\"))","v":""},{"$f":"IF(OR(C233=\"o\",E233=\"o\",F233=\"o\",D231=\"o\",D232=\"o\",D234=\"o\",D233=\"x\"),\"x\",IF(OR(D233=\"o\",AND(C233=\"x\",E233=\"x\",F233=\"x\"),AND(D231=\"x\",D232=\"x\",D234=\"x\")),\"o\",\"\"))","v":""},{"$f":"IF(OR(C233=\"o\",D233=\"o\",F233=\"o\",E231=\"o\",E232=\"o\",E234=\"o\",E233=\"x\"),\"x\",IF(OR(E233=\"o\",AND(C233=\"x\",D233=\"x\",F233=\"x\"),AND(E231=\"x\",E232=\"x\",E234=\"x\")),\"o\",\"\"))","v":""},{"$f":"IF(OR(C233=\"o\",D233=\"o\",E233=\"o\",F231=\"o\",F232=\"o\",F234=\"o\",F233=\"x\"),\"x\",IF(OR(F233=\"o\",AND(C233=\"x\",D233=\"x\",E233=\"x\"),AND(F231=\"x\",F232=\"x\",F234=\"x\")),\"o\",\"\"))","v":""},{"$f":"IF(OR(H233=\"o\",I233=\"o\",J233=\"o\",G231=\"o\",G232=\"o\",G234=\"o\",G233=\"x\"),\"x\",IF(OR(G233=\"o\",AND(H233=\"x\",I233=\"x\",J233=\"x\"),AND(G231=\"x\",G232=\"x\",G234=\"x\")),\"o\",\"\"))","v":""},{"$f":"IF(OR(G233=\"o\",I233=\"o\",J233=\"o\",H231=\"o\",H232=\"o\",H234=\"o\",H233=\"x\"),\"x\",IF(OR(H233=\"o\",AND(G233=\"x\",I233=\"x\",J233=\"x\"),AND(H231=\"x\",H232=\"x\",H234=\"x\")),\"o\",\"\"))","v":""},{"$f":"IF(OR(G233=\"o\",H233=\"o\",J233=\"o\",I231=\"o\",I232=\"o\",I234=\"o\",I233=\"x\"),\"x\",IF(OR(I233=\"o\",AND(G233=\"x\",H233=\"x\",J233=\"x\"),AND(I231=\"x\",I232=\"x\",I234=\"x\")),\"o\",\"\"))","v":""},{"$f":"IF(OR(G233=\"o\",H233=\"o\",I233=\"o\",J231=\"o\",J232=\"o\",J234=\"o\",J233=\"x\"),\"x\",IF(OR(J233=\"o\",AND(G233=\"x\",H233=\"x\",I233=\"x\"),AND(J231=\"x\",J232=\"x\",J234=\"x\")),\"o\",\"\"))","v":""},{"$f":"IF(OR(L233=\"o\",M233=\"o\",N233=\"o\",K231=\"o\",K232=\"o\",K234=\"o\",K233=\"x\"),\"x\",IF(OR(K233=\"o\",AND(L233=\"x\",M233=\"x\",N233=\"x\"),AND(K231=\"x\",K232=\"x\",K234=\"x\")),\"o\",\"\"))","v":""},{"$f":"IF(OR(K233=\"o\",M233=\"o\",N233=\"o\",L231=\"o\",L232=\"o\",L234=\"o\",L233=\"x\"),\"x\",IF(OR(L233=\"o\",AND(K233=\"x\",M233=\"x\",N233=\"x\"),AND(L231=\"x\",L232=\"x\",L234=\"x\")),\"o\",\"\"))","v":""},{"$f":"IF(OR(K233=\"o\",L233=\"o\",N233=\"o\",M231=\"o\",M232=\"o\",M234=\"o\",M233=\"x\"),\"x\",IF(OR(M233=\"o\",AND(K233=\"x\",L233=\"x\",N233=\"x\"),AND(M231=\"x\",M232=\"x\",M234=\"x\")),\"o\",\"\"))","v":""},{"$f":"IF(OR(K233=\"o\",L233=\"o\",M233=\"o\",N231=\"o\",N232=\"o\",N234=\"o\",N233=\"x\"),\"x\",IF(OR(N233=\"o\",AND(K233=\"x\",L233=\"x\",M233=\"x\"),AND(N231=\"x\",N232=\"x\",N234=\"x\")),\"o\",\"\"))","v":""}]
[null,"Le Rhône",null,null,null,null,null,null,null,null,null,null,null,null,null,"2°/ Le Rhône qui n'est pas le moins long des fleuves,",null,null,null,null,null,null,null,null,null,null,null,null,null,"Le Rhône",{"$f":"IF(OR(D234=\"o\",E234=\"o\",F234=\"o\",C231=\"o\",C232=\"o\",C233=\"o\",C234=\"x\"),\"x\",IF(OR(C234=\"o\",AND(D234=\"x\",E234=\"x\",F234=\"x\"),AND(C231=\"x\",C232=\"x\",C233=\"x\")),\"o\",\"\"))","v":""},{"$f":"IF(OR(C234=\"o\",E234=\"o\",F234=\"o\",D231=\"o\",D232=\"o\",D233=\"o\",D234=\"x\"),\"x\",IF(OR(D234=\"o\",AND(C234=\"x\",E234=\"x\",F234=\"x\"),AND(D231=\"x\",D232=\"x\",D233=\"x\")),\"o\",\"\"))","v":""},{"$f":"IF(OR(C234=\"o\",D234=\"o\",F234=\"o\",E231=\"o\",E232=\"o\",E233=\"o\",E234=\"x\"),\"x\",IF(OR(E234=\"o\",AND(C234=\"x\",D234=\"x\",F234=\"x\"),AND(E231=\"x\",E232=\"x\",E233=\"x\")),\"o\",\"\"))","v":""},{"$f":"IF(OR(C234=\"o\",D234=\"o\",E234=\"o\",F231=\"o\",F232=\"o\",F233=\"o\",F234=\"x\"),\"x\",IF(OR(F234=\"o\",AND(C234=\"x\",D234=\"x\",E234=\"x\"),AND(F231=\"x\",F232=\"x\",F233=\"x\")),\"o\",\"\"))","v":""},{"$f":"IF(OR(H234=\"o\",I234=\"o\",J234=\"o\",G231=\"o\",G232=\"o\",G233=\"o\",G234=\"x\"),\"x\",IF(OR(G234=\"o\",AND(H234=\"x\",I234=\"x\",J234=\"x\"),AND(G231=\"x\",G232=\"x\",G233=\"x\")),\"o\",\"\"))","v":""},{"$f":"IF(OR(G234=\"o\",I234=\"o\",J234=\"o\",H231=\"o\",H232=\"o\",H233=\"o\",H234=\"x\"),\"x\",IF(OR(H234=\"o\",AND(G234=\"x\",I234=\"x\",J234=\"x\"),AND(H231=\"x\",H232=\"x\",H233=\"x\")),\"o\",\"\"))","v":""},{"$f":"IF(OR(G234=\"o\",H234=\"o\",J234=\"o\",I231=\"o\",I232=\"o\",I233=\"o\",I234=\"x\"),\"x\",IF(OR(I234=\"o\",AND(G234=\"x\",H234=\"x\",J234=\"x\"),AND(I231=\"x\",I232=\"x\",I233=\"x\")),\"o\",\"\"))","v":""},{"$f":"IF(OR(G234=\"o\",H234=\"o\",I234=\"o\",J231=\"o\",J232=\"o\",J233=\"o\",J234=\"x\"),\"x\",IF(OR(J234=\"o\",AND(G234=\"x\",H234=\"x\",I234=\"x\"),AND(J231=\"x\",J232=\"x\",J233=\"x\")),\"o\",\"\"))","v":""},{"$f":"IF(OR(L234=\"o\",M234=\"o\",N234=\"o\",K231=\"o\",K232=\"o\",K233=\"o\",K234=\"x\"),\"x\",IF(OR(K234=\"o\",AND(L234=\"x\",M234=\"x\",N234=\"x\"),AND(K231=\"x\",K232=\"x\",K233=\"x\")),\"o\",\"\"))","v":""},{"$f":"IF(OR(K234=\"o\",M234=\"o\",N234=\"o\",L231=\"o\",L232=\"o\",L233=\"o\",L234=\"x\"),\"x\",IF(OR(L234=\"o\",AND(K234=\"x\",M234=\"x\",N234=\"x\"),AND(L231=\"x\",L232=\"x\",L233=\"x\")),\"o\",\"\"))","v":""},{"$f":"IF(OR(K234=\"o\",L234=\"o\",N234=\"o\",M231=\"o\",M232=\"o\",M233=\"o\",M234=\"x\"),\"x\",IF(OR(M234=\"o\",AND(K234=\"x\",L234=\"x\",N234=\"x\"),AND(M231=\"x\",M232=\"x\",M233=\"x\")),\"o\",\"\"))","v":""},{"$f":"IF(OR(K234=\"o\",L234=\"o\",M234=\"o\",N231=\"o\",N232=\"o\",N233=\"o\",N234=\"x\"),\"x\",IF(OR(N234=\"o\",AND(K234=\"x\",L234=\"x\",M234=\"x\"),AND(N231=\"x\",N232=\"x\",N233=\"x\")),\"o\",\"\"))","v":""}]
["Département","Côte-d'Or",null,null,null,null,null,null,null,null,null,null,null,null,null,"ne traverse ni la Côte d'Or, ni la Nièvre.",null,null,null,null,null,null,null,null,null,null,null,null,{"$f":"A235","v":"Département"},"Côte-d'Or",{"$f":"IF(OR(D235=\"o\",E235=\"o\",F235=\"o\",C236=\"o\",C237=\"o\",C238=\"o\",C235=\"x\"),\"x\",IF(OR(C235=\"o\",AND(D235=\"x\",E235=\"x\",F235=\"x\"),AND(C236=\"x\",C237=\"x\",C238=\"x\")),\"o\",\"\"))","v":""},{"$f":"IF(OR(C235=\"o\",E235=\"o\",F235=\"o\",D236=\"o\",D237=\"o\",D238=\"o\",D235=\"x\"),\"x\",IF(OR(D235=\"o\",AND(C235=\"x\",E235=\"x\",F235=\"x\"),AND(D236=\"x\",D237=\"x\",D238=\"x\")),\"o\",\"\"))","v":""},{"$f":"IF(OR(C235=\"o\",D235=\"o\",F235=\"o\",E236=\"o\",E237=\"o\",E238=\"o\",E235=\"x\"),\"x\",IF(OR(E235=\"o\",AND(C235=\"x\",D235=\"x\",F235=\"x\"),AND(E236=\"x\",E237=\"x\",E238=\"x\")),\"o\",\"\"))","v":""},{"$f":"IF(OR(C235=\"o\",D235=\"o\",E235=\"o\",F236=\"o\",F237=\"o\",F238=\"o\",F235=\"x\"),\"x\",IF(OR(F235=\"o\",AND(C235=\"x\",D235=\"x\",E235=\"x\"),AND(F236=\"x\",F237=\"x\",F238=\"x\")),\"o\",\"\"))","v":""},{"$f":"IF(OR(H235=\"o\",I235=\"o\",J235=\"o\",G236=\"o\",G237=\"o\",G238=\"o\",G235=\"x\"),\"x\",IF(OR(G235=\"o\",AND(H235=\"x\",I235=\"x\",J235=\"x\"),AND(G236=\"x\",G237=\"x\",G238=\"x\")),\"o\",\"\"))","v":""},{"$f":"IF(OR(G235=\"o\",I235=\"o\",J235=\"o\",H236=\"o\",H237=\"o\",H238=\"o\",H235=\"x\"),\"x\",IF(OR(H235=\"o\",AND(G235=\"x\",I235=\"x\",J235=\"x\"),AND(H236=\"x\",H237=\"x\",H238=\"x\")),\"o\",\"\"))","v":""},{"$f":"IF(OR(G235=\"o\",H235=\"o\",J235=\"o\",I236=\"o\",I237=\"o\",I238=\"o\",I235=\"x\"),\"x\",IF(OR(I235=\"o\",AND(G235=\"x\",H235=\"x\",J235=\"x\"),AND(I236=\"x\",I237=\"x\",I238=\"x\")),\"o\",\"\"))","v":""},{"$f":"IF(OR(G235=\"o\",H235=\"o\",I235=\"o\",J236=\"o\",J237=\"o\",J238=\"o\",J235=\"x\"),\"x\",IF(OR(J235=\"o\",AND(G235=\"x\",H235=\"x\",I235=\"x\"),AND(J236=\"x\",J237=\"x\",J238=\"x\")),\"o\",\"\"))","v":""}]
[null,"Nièvre",null,null,null,null,null,null,null,null,null,null,null,null,null,"3°/ La Loire, qui ne traverse pas la Côte d'Or mesure",null,null,null,null,null,null,null,null,null,null,null,null,null,"Nièvre",{"$f":"IF(OR(D236=\"o\",E236=\"o\",F236=\"o\",C235=\"o\",C237=\"o\",C238=\"o\",C236=\"x\"),\"x\",IF(OR(C236=\"o\",AND(D236=\"x\",E236=\"x\",F236=\"x\"),AND(C235=\"x\",C237=\"x\",C238=\"x\")),\"o\",\"\"))","v":""},{"$f":"IF(OR(C236=\"o\",E236=\"o\",F236=\"o\",D235=\"o\",D237=\"o\",D238=\"o\",D236=\"x\"),\"x\",IF(OR(D236=\"o\",AND(C236=\"x\",E236=\"x\",F236=\"x\"),AND(D235=\"x\",D237=\"x\",D238=\"x\")),\"o\",\"\"))","v":""},{"$f":"IF(OR(C236=\"o\",D236=\"o\",F236=\"o\",E235=\"o\",E237=\"o\",E238=\"o\",E236=\"x\"),\"x\",IF(OR(E236=\"o\",AND(C236=\"x\",D236=\"x\",F236=\"x\"),AND(E235=\"x\",E237=\"x\",E238=\"x\")),\"o\",\"\"))","v":""},{"$f":"IF(OR(C236=\"o\",D236=\"o\",E236=\"o\",F235=\"o\",F237=\"o\",F238=\"o\",F236=\"x\"),\"x\",IF(OR(F236=\"o\",AND(C236=\"x\",D236=\"x\",E236=\"x\"),AND(F235=\"x\",F237=\"x\",F238=\"x\")),\"o\",\"\"))","v":""},{"$f":"IF(OR(H236=\"o\",I236=\"o\",J236=\"o\",G235=\"o\",G237=\"o\",G238=\"o\",G236=\"x\"),\"x\",IF(OR(G236=\"o\",AND(H236=\"x\",I236=\"x\",J236=\"x\"),AND(G235=\"x\",G237=\"x\",G238=\"x\")),\"o\",\"\"))","v":""},{"$f":"IF(OR(G236=\"o\",I236=\"o\",J236=\"o\",H235=\"o\",H237=\"o\",H238=\"o\",H236=\"x\"),\"x\",IF(OR(H236=\"o\",AND(G236=\"x\",I236=\"x\",J236=\"x\"),AND(H235=\"x\",H237=\"x\",H238=\"x\")),\"o\",\"\"))","v":""},{"$f":"IF(OR(G236=\"o\",H236=\"o\",J236=\"o\",I235=\"o\",I237=\"o\",I238=\"o\",I236=\"x\"),\"x\",IF(OR(I236=\"o\",AND(G236=\"x\",H236=\"x\",J236=\"x\"),AND(I235=\"x\",I237=\"x\",I238=\"x\")),\"o\",\"\"))","v":""},{"$f":"IF(OR(G236=\"o\",H236=\"o\",I236=\"o\",J235=\"o\",J237=\"o\",J238=\"o\",J236=\"x\"),\"x\",IF(OR(J236=\"o\",AND(G236=\"x\",H236=\"x\",I236=\"x\"),AND(J235=\"x\",J237=\"x\",J238=\"x\")),\"o\",\"\"))","v":""}]
[null,"Gironde",null,null,null,null,null,null,null,null,null,null,null,null,null,"236 km de plus que le fleuve qui prend sa source au",null,null,null,null,null,null,null,null,null,null,null,null,null,"Gironde",{"$f":"IF(OR(D237=\"o\",E237=\"o\",F237=\"o\",C235=\"o\",C236=\"o\",C238=\"o\",C237=\"x\"),\"x\",IF(OR(C237=\"o\",AND(D237=\"x\",E237=\"x\",F237=\"x\"),AND(C235=\"x\",C236=\"x\",C238=\"x\")),\"o\",\"\"))","v":""},{"$f":"IF(OR(C237=\"o\",E237=\"o\",F237=\"o\",D235=\"o\",D236=\"o\",D238=\"o\",D237=\"x\"),\"x\",IF(OR(D237=\"o\",AND(C237=\"x\",E237=\"x\",F237=\"x\"),AND(D235=\"x\",D236=\"x\",D238=\"x\")),\"o\",\"\"))","v":""},{"$f":"IF(OR(C237=\"o\",D237=\"o\",F237=\"o\",E235=\"o\",E236=\"o\",E238=\"o\",E237=\"x\"),\"x\",IF(OR(E237=\"o\",AND(C237=\"x\",D237=\"x\",F237=\"x\"),AND(E235=\"x\",E236=\"x\",E238=\"x\")),\"o\",\"\"))","v":""},{"$f":"IF(OR(C237=\"o\",D237=\"o\",E237=\"o\",F235=\"o\",F236=\"o\",F238=\"o\",F237=\"x\"),\"x\",IF(OR(F237=\"o\",AND(C237=\"x\",D237=\"x\",E237=\"x\"),AND(F235=\"x\",F236=\"x\",F238=\"x\")),\"o\",\"\"))","v":""},{"$f":"IF(OR(H237=\"o\",I237=\"o\",J237=\"o\",G235=\"o\",G236=\"o\",G238=\"o\",G237=\"x\"),\"x\",IF(OR(G237=\"o\",AND(H237=\"x\",I237=\"x\",J237=\"x\"),AND(G235=\"x\",G236=\"x\",G238=\"x\")),\"o\",\"\"))","v":""},{"$f":"IF(OR(G237=\"o\",I237=\"o\",J237=\"o\",H235=\"o\",H236=\"o\",H238=\"o\",H237=\"x\"),\"x\",IF(OR(H237=\"o\",AND(G237=\"x\",I237=\"x\",J237=\"x\"),AND(H235=\"x\",H236=\"x\",H238=\"x\")),\"o\",\"\"))","v":""},{"$f":"IF(OR(G237=\"o\",H237=\"o\",J237=\"o\",I235=\"o\",I236=\"o\",I238=\"o\",I237=\"x\"),\"x\",IF(OR(I237=\"o\",AND(G237=\"x\",H237=\"x\",J237=\"x\"),AND(I235=\"x\",I236=\"x\",I238=\"x\")),\"o\",\"\"))","v":""},{"$f":"IF(OR(G237=\"o\",H237=\"o\",I237=\"o\",J235=\"o\",J236=\"o\",J238=\"o\",J237=\"x\"),\"x\",IF(OR(J237=\"o\",AND(G237=\"x\",H237=\"x\",I237=\"x\"),AND(J235=\"x\",J236=\"x\",J238=\"x\")),\"o\",\"\"))","v":""}]
[null,"Ain",null,null,null,null,null,null,null,null,null,null,null,null,null,"plateau de Langres, qui n'est pas La Garonne.",null,null,null,null,null,null,null,null,null,null,null,null,null,"Ain",{"$f":"IF(OR(D238=\"o\",E238=\"o\",F238=\"o\",C235=\"o\",C236=\"o\",C237=\"o\",C238=\"x\"),\"x\",IF(OR(C238=\"o\",AND(D238=\"x\",E238=\"x\",F238=\"x\"),AND(C235=\"x\",C236=\"x\",C237=\"x\")),\"o\",\"\"))","v":""},{"$f":"IF(OR(C238=\"o\",E238=\"o\",F238=\"o\",D235=\"o\",D236=\"o\",D237=\"o\",D238=\"x\"),\"x\",IF(OR(D238=\"o\",AND(C238=\"x\",E238=\"x\",F238=\"x\"),AND(D235=\"x\",D236=\"x\",D237=\"x\")),\"o\",\"\"))","v":""},{"$f":"IF(OR(C238=\"o\",D238=\"o\",F238=\"o\",E235=\"o\",E236=\"o\",E237=\"o\",E238=\"x\"),\"x\",IF(OR(E238=\"o\",AND(C238=\"x\",D238=\"x\",F238=\"x\"),AND(E235=\"x\",E236=\"x\",E237=\"x\")),\"o\",\"\"))","v":""},{"$f":"IF(OR(C238=\"o\",D238=\"o\",E238=\"o\",F235=\"o\",F236=\"o\",F237=\"o\",F238=\"x\"),\"x\",IF(OR(F238=\"o\",AND(C238=\"x\",D238=\"x\",E238=\"x\"),AND(F235=\"x\",F236=\"x\",F237=\"x\")),\"o\",\"\"))","v":""},{"$f":"IF(OR(H238=\"o\",I238=\"o\",J238=\"o\",G235=\"o\",G236=\"o\",G237=\"o\",G238=\"x\"),\"x\",IF(OR(G238=\"o\",AND(H238=\"x\",I238=\"x\",J238=\"x\"),AND(G235=\"x\",G236=\"x\",G237=\"x\")),\"o\",\"\"))","v":""},{"$f":"IF(OR(G238=\"o\",I238=\"o\",J238=\"o\",H235=\"o\",H236=\"o\",H237=\"o\",H238=\"x\"),\"x\",IF(OR(H238=\"o\",AND(G238=\"x\",I238=\"x\",J238=\"x\"),AND(H235=\"x\",H236=\"x\",H237=\"x\")),\"o\",\"\"))","v":""},{"$f":"IF(OR(G238=\"o\",H238=\"o\",J238=\"o\",I235=\"o\",I236=\"o\",I237=\"o\",I238=\"x\"),\"x\",IF(OR(I238=\"o\",AND(G238=\"x\",H238=\"x\",J238=\"x\"),AND(I235=\"x\",I236=\"x\",I237=\"x\")),\"o\",\"\"))","v":""},{"$f":"IF(OR(G238=\"o\",H238=\"o\",I238=\"o\",J235=\"o\",J236=\"o\",J237=\"o\",J238=\"x\"),\"x\",IF(OR(J238=\"o\",AND(G238=\"x\",H238=\"x\",I238=\"x\"),AND(J235=\"x\",J236=\"x\",J237=\"x\")),\"o\",\"\"))","v":""}]
["Source","Glacier de la Furka",null,null,null,null,null,null,null,null,null,null,null,null,null,"4°/ Le Rhône prend sa source au glacier de la Furka.",null,null,null,null,null,null,null,null,null,null,null,null,{"$f":"A239","v":"Source"},"Glacier de la Furka",{"$f":"IF(OR(D239=\"o\",E239=\"o\",F239=\"o\",C240=\"o\",C241=\"o\",C242=\"o\",C239=\"x\"),\"x\",IF(OR(C239=\"o\",AND(D239=\"x\",E239=\"x\",F239=\"x\"),AND(C240=\"x\",C241=\"x\",C242=\"x\")),\"o\",\"\"))","v":""},{"$f":"IF(OR(C239=\"o\",E239=\"o\",F239=\"o\",D240=\"o\",D241=\"o\",D242=\"o\",D239=\"x\"),\"x\",IF(OR(D239=\"o\",AND(C239=\"x\",E239=\"x\",F239=\"x\"),AND(D240=\"x\",D241=\"x\",D242=\"x\")),\"o\",\"\"))","v":""},{"$f":"IF(OR(C239=\"o\",D239=\"o\",F239=\"o\",E240=\"o\",E241=\"o\",E242=\"o\",E239=\"x\"),\"x\",IF(OR(E239=\"o\",AND(C239=\"x\",D239=\"x\",F239=\"x\"),AND(E240=\"x\",E241=\"x\",E242=\"x\")),\"o\",\"\"))","v":""},{"$f":"IF(OR(C239=\"o\",D239=\"o\",E239=\"o\",F240=\"o\",F241=\"o\",F242=\"o\",F239=\"x\"),\"x\",IF(OR(F239=\"o\",AND(C239=\"x\",D239=\"x\",E239=\"x\"),AND(F240=\"x\",F241=\"x\",F242=\"x\")),\"o\",\"\"))","v":""}]
[null,"Mont Gerbier-de-Jonc",null,null,null,null,null,{"$f":"IF(AND(C245=Q245,G245=U245,K245=Y245,C246=Q246,G246=U246,K246=Y246,C247=Q247,G247=U247,K247=Y247,C248=Q248,G248=U248,K248=Y248),\"BRAVO !!\",\"\")","v":""},null,null,null,null,null,null,null,null,null,null,null,null,null,null,null,null,null,null,null,null,null,"Mont Gerbier-de-Jonc",{"$f":"IF(OR(D240=\"o\",E240=\"o\",F240=\"o\",C239=\"o\",C241=\"o\",C242=\"o\",C240=\"x\"),\"x\",IF(OR(C240=\"o\",AND(D240=\"x\",E240=\"x\",F240=\"x\"),AND(C239=\"x\",C241=\"x\",C242=\"x\")),\"o\",\"\"))","v":""},{"$f":"IF(OR(C240=\"o\",E240=\"o\",F240=\"o\",D239=\"o\",D241=\"o\",D242=\"o\",D240=\"x\"),\"x\",IF(OR(D240=\"o\",AND(C240=\"x\",E240=\"x\",F240=\"x\"),AND(D239=\"x\",D241=\"x\",D242=\"x\")),\"o\",\"\"))","v":""},{"$f":"IF(OR(C240=\"o\",D240=\"o\",F240=\"o\",E239=\"o\",E241=\"o\",E242=\"o\",E240=\"x\"),\"x\",IF(OR(E240=\"o\",AND(C240=\"x\",D240=\"x\",F240=\"x\"),AND(E239=\"x\",E241=\"x\",E242=\"x\")),\"o\",\"\"))","v":""},{"$f":"IF(OR(C240=\"o\",D240=\"o\",E240=\"o\",F239=\"o\",F241=\"o\",F242=\"o\",F240=\"x\"),\"x\",IF(OR(F240=\"o\",AND(C240=\"x\",D240=\"x\",E240=\"x\"),AND(F239=\"x\",F241=\"x\",F242=\"x\")),\"o\",\"\"))","v":""}]
[null,"Plateau de Langres",null,null,null,null,null,null,null,null,null,null,null,null,null,null,null,null,null,null,null,null,null,null,null,null,null,null,null,"Plateau de Langres",{"$f":"IF(OR(D241=\"o\",E241=\"o\",F241=\"o\",C239=\"o\",C240=\"o\",C242=\"o\",C241=\"x\"),\"x\",IF(OR(C241=\"o\",AND(D241=\"x\",E241=\"x\",F241=\"x\"),AND(C239=\"x\",C240=\"x\",C242=\"x\")),\"o\",\"\"))","v":""},{"$f":"IF(OR(C241=\"o\",E241=\"o\",F241=\"o\",D239=\"o\",D240=\"o\",D242=\"o\",D241=\"x\"),\"x\",IF(OR(D241=\"o\",AND(C241=\"x\",E241=\"x\",F241=\"x\"),AND(D239=\"x\",D240=\"x\",D242=\"x\")),\"o\",\"\"))","v":""},{"$f":"IF(OR(C241=\"o\",D241=\"o\",F241=\"o\",E239=\"o\",E240=\"o\",E242=\"o\",E241=\"x\"),\"x\",IF(OR(E241=\"o\",AND(C241=\"x\",D241=\"x\",F241=\"x\"),AND(E239=\"x\",E240=\"x\",E242=\"x\")),\"o\",\"\"))","v":""},{"$f":"IF(OR(C241=\"o\",D241=\"o\",E241=\"o\",F239=\"o\",F240=\"o\",F242=\"o\",F241=\"x\"),\"x\",IF(OR(F241=\"o\",AND(C241=\"x\",D241=\"x\",E241=\"x\"),AND(F239=\"x\",F240=\"x\",F242=\"x\")),\"o\",\"\"))","v":""}]
[null,"Val d'Aran",null,null,null,null,null,null,null,null,null,null,null,null,null,null,null,null,null,null,null,null,null,null,null,null,null,null,null,"Val d'Aran",{"$f":"IF(OR(D242=\"o\",E242=\"o\",F242=\"o\",C239=\"o\",C240=\"o\",C241=\"o\",C242=\"x\"),\"x\",IF(OR(C242=\"o\",AND(D242=\"x\",E242=\"x\",F242=\"x\"),AND(C239=\"x\",C240=\"x\",C241=\"x\")),\"o\",\"\"))","v":""},{"$f":"IF(OR(C242=\"o\",E242=\"o\",F242=\"o\",D239=\"o\",D240=\"o\",D241=\"o\",D242=\"x\"),\"x\",IF(OR(D242=\"o\",AND(C242=\"x\",E242=\"x\",F242=\"x\"),AND(D239=\"x\",D240=\"x\",D241=\"x\")),\"o\",\"\"))","v":""},{"$f":"IF(OR(C242=\"o\",D242=\"o\",F242=\"o\",E239=\"o\",E240=\"o\",E241=\"o\",E242=\"x\"),\"x\",IF(OR(E242=\"o\",AND(C242=\"x\",D242=\"x\",F242=\"x\"),AND(E239=\"x\",E240=\"x\",E241=\"x\")),\"o\",\"\"))","v":""},{"$f":"IF(OR(C242=\"o\",D242=\"o\",E242=\"o\",F239=\"o\",F240=\"o\",F241=\"o\",F242=\"x\"),\"x\",IF(OR(F242=\"o\",AND(C242=\"x\",D242=\"x\",E242=\"x\"),AND(F239=\"x\",F240=\"x\",F241=\"x\")),\"o\",\"\"))","v":""}]
[]
[null,"Réponses :",{"$f":"C229","v":"Longueur en km"},null,null,null,{"$f":"G229","v":"Source"},null,null,null,{"$f":"K229","v":"Département"},null,null,null,null,null,{"$f":"C229","v":"Longueur en km"},null,null,null,{"$f":"G229","v":"Source"},null,null,null,{"$f":"K229","v":"Département"}]
[null,{"$f":"B231","v":"La Garonne"},{"$f":"IF(C231=\"o\",C230,IF(D231=\"o\",D230,IF(E231=\"o\",E230,IF(F231=\"o\",F230,\"\"))))","v":""},null,null,null,{"$f":"IF(G231=\"o\",G230,IF(H231=\"o\",H230,IF(I231=\"o\",I230,IF(J231=\"o\",J230,\"\"))))","v":""},null,null,null,{"$f":"IF(K231=\"o\",K230,IF(L231=\"o\",L230,IF(M231=\"o\",M230,IF(N231=\"o\",N230,\"\"))))","v":""},null,null,null,null,{"$f":"B231","v":"La Garonne"},647,null,null,null,"Val d'Aran",null,null,null,"Gironde"]
[null,{"$f":"B232","v":"La Loire"},{"$f":"IF(C232=\"o\",C230,IF(D232=\"o\",D230,IF(E232=\"o\",E230,IF(F232=\"o\",F230,\"\"))))","v":""},null,null,null,{"$f":"IF(G232=\"o\",G230,IF(H232=\"o\",H230,IF(I232=\"o\",I230,IF(J232=\"o\",J230,\"\"))))","v":""},null,null,null,{"$f":"IF(K232=\"o\",K230,IF(L232=\"o\",L230,IF(M232=\"o\",M230,IF(N232=\"o\",N230,\"\"))))","v":""},null,null,null,null,{"$f":"B232","v":"La Loire"},1012,null,null,null,"Mont Gerbier-de-Jonc",null,null,null,"Nièvre"]
[null,{"$f":"B233","v":"La Seine"},{"$f":"IF(C233=\"o\",C230,IF(D233=\"o\",D230,IF(E233=\"o\",E230,IF(F233=\"o\",F230,\"\"))))","v":""},null,null,null,{"$f":"IF(G233=\"o\",G230,IF(H233=\"o\",H230,IF(I233=\"o\",I230,IF(J233=\"o\",J230,\"\"))))","v":""},null,null,null,{"$f":"IF(K233=\"o\",K230,IF(L233=\"o\",L230,IF(M233=\"o\",M230,IF(N233=\"o\",N230,\"\"))))","v":""},null,null,null,null,{"$f":"B233","v":"La Seine"},776,null,null,null,"Plateau de Langres",null,null,null,"Côte-d'Or"]
[null,{"$f":"B234","v":"Le Rhône"},{"$f":"IF(C234=\"o\",C230,IF(D234=\"o\",D230,IF(E234=\"o\",E230,IF(F234=\"o\",F230,\"\"))))","v":""},null,null,null,{"$f":"IF(G234=\"o\",G230,IF(H234=\"o\",H230,IF(I234=\"o\",I230,IF(J234=\"o\",J230,\"\"))))","v":""},null,null,null,{"$f":"IF(K234=\"o\",K230,IF(L234=\"o\",L230,IF(M234=\"o\",M230,IF(N234=\"o\",N230,\"\"))))","v":""},null,null,null,null,{"$f":"B234","v":"Le Rhône"},812,null,null,null,"Glacier de la Furka",null,null,null,"Ain"]

{"sheet":"Calculs 4 indices","index":4,"n_rows":519,"n_cols":21,"rows_kept":519,"cut":false,"hidden":false,"merged":[[261,16,261,19],[263,4,266,4],[268,4,271,4],[273,4,276,4],[157,6,157,9],[157,11,157,14],[157,16,157,19],[159,4,162,4],[164,4,167,4],[169,4,172,4],[261,11,261,14],[261,6,261,9],[211,4,214,4],[216,4,219,4],[221,4,224,4],[209,6,209,9],[481,4,484,4],[419,4,422,4],[424,4,427,4],[429,4,432,4],[365,16,365,19],[367,4,370,4],[372,4,375,4],[377,4,380,4],[469,6,469,9],[469,11,469,14],[469,16,469,19],[471,4,474,4],[476,4,479,4],[315,4,318,4],[320,4,323,4],[325,4,328,4],[313,6,313,9],[313,11,313,14],[313,16,313,19],[417,6,417,9],[417,11,417,14],[417,16,417,19],[365,6,365,9],[365,11,365,14],[209,11,209,14],[209,16,209,19],[107,4,110,4],[3,4,6,4],[8,4,11,4],[112,4,115,4],[117,4,120,4],[55,4,58,4],[60,4,63,4],[65,4,68,4],[1,16,1,19],[13,4,16,4],[105,6,105,9],[105,11,105,14],[105,16,105,19],[1,6,1,9],[1,11,1,14],[53,6,53,9],[53,11,53,14],[53,16,53,19]]}
[{"$f":"'4 indices'!A1","v":"XI°/ Le collège :"},{"$f":"IF(C2=2,B2,IF(C3=2,B3,IF(C4=2,B4,IF(C5=2,B5,IF(C6=2,B6,IF(C7=2,B7,IF(C8=2,B8,IF(C9=2,B9,IF(C10=2,B10,IF(C11=2,B11,IF(C12=2,B12,IF(C13=2,B13,IF(C14=2,B14,IF(C15=2,B15,IF(C16=2,B16,IF(C17=2,B17,IF(C18=2,B18,IF(C19=2,B19,IF(C20=2,B20,IF(C21=2,B21,IF(C22=2,B22,IF(C23=2,B23,IF(C24=2,B24,IF(C25=2,B25,\"\"))))))))))))))))))))))))","v":""}]
["Impossible d'avoir 4 non sur la même ligne ",{"$f":"IF(AND('4 indices'!C6=\"x\",'4 indices'!D6=\"x\",'4 indices'!E6=\"x\",'4 indices'!F6=\"x\"),A2&'4 indices'!C4&\" \"&'4 indices'!B6,\"\")","v":""},{"$f":"IF(B2=\"\",1,2)","v":1},null,null,null,{"$f":"'4 indices'!C4","v":"Matière"},null,null,null,null,{"$f":"'4 indices'!G4","v":"Rang"},null,null,null,null,{"$f":"'4 indices'!K4","v":"Moyenne"}]
[null,{"$f":"IF(AND('4 indices'!C7=\"x\",'4 indices'!D7=\"x\",'4 indices'!E7=\"x\",'4 indices'!F7=\"x\"),A2&'4 indices'!C4&\" \"&'4 indices'!B7,\"\")","v":""},{"$f":"IF(B3=\"\",1,2)","v":1},null,null,null,{"$f":"'4 indices'!C5","v":"Maths"},{"$f":"'4 indices'!D5","v":"Français"},{"$f":"'4 indices'!E5","v":"Physique"},{"$f":"'4 indices'!F5","v":"EPS"},null,{"$f":"'4 indices'!G5","v":"1e"},{"$f":"'4 indices'!H5","v":"3e"},{"$f":"'4 indices'!I5","v":"5e"},{"$f":"'4 indices'!J5","v":"6e"},null,{"$f":"'4 indices'!K5","v":14},{"$f":"'4 indices'!L5","v":15},{"$f":"'4 indices'!M5","v":17},{"$f":"'4 indices'!N5","v":19}]
[null,{"$f":"IF(AND('4 indices'!C8=\"x\",'4 indices'!D8=\"x\",'4 indices'!E8=\"x\",'4 indices'!F8=\"x\"),A2&'4 indices'!C4&\" \"&'4 indices'!B8,\"\")","v":""},1,null,{"$f":"'4 indices'!A6","v":"Elèves"},{"$f":"'4 indices'!B6","v":"Philippe"},{"$f":"IF('4 indices'!C6=\"o\",1,0)","v":0},{"$f":"IF('4 indices'!D6=\"o\",1,0)","v":0},{"$f":"IF('4 indices'!E6=\"o\",1,0)","v":0},{"$f":"IF('4 indices'!F6=\"o\",1,0)","v":0},{"$f":"SUM(G4:J4)","v":0},{"$f":"IF('4 indices'!G6=\"o\",1,0)","v":0},{"$f":"IF('4 indices'!H6=\"o\",1,0)","v":0},{"$f":"IF('4 indices'!I6=\"o\",1,0)","v":0},{"$f":"IF('4 indices'!J6=\"o\",1,0)","v":0},{"$f":"SUM(L4:O4)","v":0},{"$f":"IF('4 indices'!K6=\"o\",1,0)","v":0},{"$f":"IF('4 indices'!L6=\"o\",1,0)","v":0},{"$f":"IF('4 indices'!M6=\"o\",1,0)","v":0},{"$f":"IF('4 indices'!N6=\"o\",1,0)","v":0},{"$f":"SUM(Q4:T4)","v":0}]
[null,{"$f":"IF(AND('4 indices'!C9=\"x\",'4 indices'!D9=\"x\",'4 indices'!E9=\"x\",'4 indices'!F9=\"x\"),A2&'4 indices'!C4&\" \"&'4 indices'!B9,\"\")","v":""},1,null,null,{"$f":"'4 indices'!B7","v":"Viviane"},{"$f":"IF('4 indices'!C7=\"o\",1,0)","v":0},{"$f":"IF('4 indices'!D7=\"o\",1,0)","v":0},{"$f":"IF('4 indices'!E7=\"o\",1,0)","v":0},{"$f":"IF('4 indices'!F7=\"o\",1,0)","v":0},{"$f":"SUM(G5:J5)","v":0},{"$f":"IF('4 indices'!G7=\"o\",1,0)","v":0},{"$f":"IF('4 indices'!H7=\"o\",1,0)","v":0},{"$f":"IF('4 indices'!I7=\"o\",1,0)","v":0},{"$f":"IF('4 indices'!J7=\"o\",1,0)","v":0},{"$f":"SUM(L5:O5)","v":0},{"$f":"IF('4 indices'!K7=\"o\",1,0)","v":0},{"$f":"IF('4 indices'!L7=\"o\",1,0)","v":0},{"$f":"IF('4 indices'!M7=\"o\",1,0)","v":0},{"$f":"IF('4 indices'!N7=\"o\",1,0)","v":0},{"$f":"SUM(Q5:T5)","v":0}]
[null,{"$f":"IF(AND('4 indices'!C10=\"x\",'4 indices'!D10=\"x\",'4 indices'!E10=\"x\",'4 indices'!F10=\"x\"),A2&'4 indices'!C4&\" \"&'4 indices'!B10,\"\")","v":""},1,null,null,{"$f":"'4 indices'!B8","v":"Mathilde"},{"$f":"IF('4 indices'!C8=\"o\",1,0)","v":0},{"$f":"IF('4 indices'!D8=\"o\",1,0)","v":0},{"$f":"IF('4 indices'!E8=\"o\",1,0)","v":0},{"$f":"IF('4 indices'!F8=\"o\",1,0)","v":0},0,{"$f":"IF('4 indices'!G8=\"o\",1,0)","v":0},{"$f":"IF('4 indices'!H8=\"o\",1,0)","v":0},{"$f":"IF('4 indices'!I8=\"o\",1,0)","v":0},{"$f":"IF('4 indices'!J8=\"o\",1,0)","v":0},0,{"$f":"IF('4 indices'!K8=\"o\",1,0)","v":0},{"$f":"IF('4 indices'!L8=\"o\",1,0)","v":0},{"$f":"IF('4 indices'!M8=\"o\",1,0)","v":0},{"$f":"IF('4 indices'!N8=\"o\",1,0)","v":0},0]
[null,{"$f":"IF(AND('4 indices'!C11=\"x\",'4 indices'!D11=\"x\",'4 indices'!E11=\"x\",'4 indices'!F11=\"x\"),A2&'4 indices'!C4&\" \"&'4 indices'!B11,\"\")","v":""},1,null,null,{"$f":"'4 indices'!B9","v":"Anne"},{"$f":"IF('4 indices'!C9=\"o\",1,0)","v":0},{"$f":"IF('4 indices'!D9=\"o\",1,0)","v":0},{"$f":"IF('4 indices'!E9=\"o\",1,0)","v":0},{"$f":"IF('4 indices'!F9=\"o\",1,0)","v":0},0,{"$f":"IF('4 indices'!G9=\"o\",1,0)","v":0},{"$f":"IF('4 indices'!H9=\"o\",1,0)","v":0},{"$f":"IF('4 indices'!I9=\"o\",1,0)","v":0},{"$f":"IF('4 indices'!J9=\"o\",1,0)","v":0},0,{"$f":"IF('4 indices'!K9=\"o\",1,0)","v":0},{"$f":"IF('4 indices'!L9=\"o\",1,0)","v":0},{"$f":"IF('4 indices'!M9=\"o\",1,0)","v":0},{"$f":"IF('4 indices'!N9=\"o\",1,0)","v":0},0]
[null,{"$f":"IF(AND('4 indices'!C12=\"x\",'4 indices'!D12=\"x\",'4 indices'!E12=\"x\",'4 indices'!F12=\"x\"),A2&'4 indices'!C4&\" \"&'4 indices'!B12,\"\")","v":""},1,null,null,null,{"$f":"SUM(G4:G7)","v":0},{"$f":"SUM(H4:H7)","v":0},0,0,null,{"$f":"SUM(L4:L7)","v":0},{"$f":"SUM(M4:M7)","v":0},{"$f":"SUM(N4:N7)","v":0},{"$f":"SUM(O4:O7)","v":0},null,{"$f":"SUM(Q4:Q7)","v":0},{"$f":"SUM(R4:R7)","v":0},{"$f":"SUM(S4:S7)","v":0},{"$f":"SUM(T4:T7)","v":0}]
[null,{"$f":"IF(AND('4 indices'!C13=\"x\",'4 indices'!D13=\"x\",'4 indices'!E13=\"x\",'4 indices'!F13=\"x\"),A2&'4 indices'!C4&\" \"&'4 indices'!B13,\"\")","v":""},1,null,{"$f":"'4 indices'!A10","v":"Moyenne"},{"$f":"'4 indices'!B10","v":14},{"$f":"IF('4 indices'!C10=\"o\",1,0)","v":0},{"$f":"IF('4 indices'!D10=\"o\",1,0)","v":0},{"$f":"IF('4 indices'!E10=\"o\",1,0)","v":0},{"$f":"IF('4 indices'!F10=\"o\",1,0)","v":0},{"$f":"SUM(G9:J9)","v":0},{"$f":"IF('4 indices'!G10=\"o\",1,0)","v":0},{"$f":"IF('4 indices'!H10=\"o\",1,0)","v":0},{"$f":"IF('4 indices'!I10=\"o\",1,0)","v":0},{"$f":"IF('4 indices'!J10=\"o\",1,0)","v":0},{"$f":"SUM(L9:O9)","v":0}]
[null,{"$f":"IF(AND('4 indices'!C14=\"x\",'4 indices'!D14=\"x\",'4 indices'!E14=\"x\",'4 indices'!F14=\"x\"),A2&'4 indices'!C4&\" \"&'4 indices'!B14,\"\")","v":""},1,null,null,{"$f":"'4 indices'!B11","v":15},{"$f":"IF('4 indices'!C11=\"o\",1,0)","v":0},{"$f":"IF('4 indices'!D11=\"o\",1,0)","v":0},{"$f":"IF('4 indices'!E11=\"o\",1,0)","v":0},{"$f":"IF('4 indices'!F11=\"o\",1,0)","v":0},{"$f":"SUM(G10:J10)","v":0},{"$f":"IF('4 indices'!G11=\"o\",1,0)","v":0},{"$f":"IF('4 indices'!H11=\"o\",1,0)","v":0},{"$f":"IF('4 indices'!I11=\"o\",1,0)","v":0},{"$f":"IF('4 indices'!J11=\"o\",1,0)","v":0},{"$f":"SUM(L10:O10)","v":0}]
[null,{"$f":"IF(AND('4 indices'!C15=\"x\",'4 indices'!D15=\"x\",'4 indices'!E15=\"x\",'4 indices'!F15=\"x\"),A2&'4 indices'!C4&\" \"&'4 indices'!B15,\"\")","v":""},{"$f":"IF(B11=\"\",1,2)","v":1},null,null,{"$f":"'4 indices'!B12","v":17},{"$f":"IF('4 indices'!C12=\"o\",1,0)","v":0},{"$f":"IF('4 indices'!D12=\"o\",1,0)","v":0},{"$f":"IF('4 indices'!E12=\"o\",1,0)","v":0},{"$f":"IF('4 indices'!F12=\"o\",1,0)","v":0},0,{"$f":"IF('4 indices'!G12=\"o\",1,0)","v":0},{"$f":"IF('4 indices'!H12=\"o\",1,0)","v":0},{"$f":"IF('4 indices'!I12=\"o\",1,0)","v":0},{"$f":"IF('4 indices'!J12=\"o\",1,0)","v":0},0]
[null,{"$f":"IF(AND('4 indices'!C16=\"x\",'4 indices'!D16=\"x\",'4 indices'!E16=\"x\",'4 indices'!F16=\"x\"),A2&'4 indices'!C4&\" \"&'4 indices'!B16,\"\")","v":""},1,null,null,{"$f":"'4 indices'!B13","v":19},{"$f":"IF('4 indices'!C13=\"o\",1,0)","v":0},{"$f":"IF('4 indices'!D13=\"o\",1,0)","v":0},{"$f":"IF('4 indices'!E13=\"o\",1,0)","v":0},{"$f":"IF('4 indices'!F13=\"o\",1,0)","v":0},0,{"$f":"IF('4 indices'!G13=\"o\",1,0)","v":0},{"$f":"IF('4 indices'!H13=\"o\",1,0)","v":0},{"$f":"IF('4 indices'!I13=\"o\",1,0)","v":0},{"$f":"IF('4 indices'!J13=\"o\",1,0)","v":0},0]
[null,{"$f":"IF(AND('4 indices'!C17=\"x\",'4 indices'!D17=\"x\",'4 indices'!E17=\"x\",'4 indices'!F17=\"x\"),A2&'4 indices'!C4&\" \"&'4 indices'!B17,\"\")","v":""},1,null,null,null,{"$f":"SUM(G9:G12)","v":0},{"$f":"SUM(H9:H12)","v":0},{"$f":"SUM(I9:I12)","v":0},{"$f":"SUM(J9:J12)","v":0},null,{"$f":"SUM(L9:L12)","v":0},{"$f":"SUM(M9:M12)","v":0},{"$f":"SUM(N9:N12)","v":0},{"$f":"SUM(O9:O12)","v":0}]
[null,{"$f":"IF(AND('4 indices'!G6=\"x\",'4 indices'!H6=\"x\",'4 indices'!I6=\"x\",'4 indices'!J6=\"x\"),A2&'4 indices'!G4&\" \"&'4 indices'!B6,\"\")","v":""},1,null,{"$f":"'4 indices'!A14","v":"Rang"},{"$f":"'4 indices'!B14","v":"1e"},{"$f":"IF('4 indices'!C14=\"o\",1,0)","v":0},{"$f":"IF('4 indices'!D14=\"o\",1,0)","v":0},{"$f":"IF('4 indices'!E14=\"o\",1,0)","v":0},{"$f":"IF('4 indices'!F14=\"o\",1,0)","v":0},{"$f":"SUM(G14:J14)","v":0},"Impossible qu'il y ai plus de deux Oui "]
[null,{"$f":"IF(AND('4 indices'!G7=\"x\",'4 indices'!H7=\"x\",'4 indices'!I7=\"x\",'4 indices'!J7=\"x\"),A2&'4 indices'!G4&\" \"&'4 indices'!B7,\"\")","v":""},1,null,null,{"$f":"'4 indices'!B15","v":"3e"},{"$f":"IF('4 indices'!C15=\"o\",1,0)","v":0},{"$f":"IF('4 indices'!D15=\"o\",1,0)","v":0},{"$f":"IF('4 indices'!E15=\"o\",1,0)","v":0},{"$f":"IF('4 indices'!F15=\"o\",1,0)","v":0},{"$f":"SUM(G15:J15)","v":0}," sur la ligne "]
[null,{"$f":"IF(AND('4 indices'!G8=\"x\",'4 indices'!H8=\"x\",'4 indices'!I8=\"x\",'4 indices'!J8=\"x\"),A2&'4 indices'!G4&\" \"&'4 indices'!B8,\"\")","v":""},1,null,null,{"$f":"'4 indices'!B16","v":"5e"},{"$f":"IF('4 indices'!C16=\"o\",1,0)","v":0},{"$f":"IF('4 indices'!D16=\"o\",1,0)","v":0},{"$f":"IF('4 indices'!E16=\"o\",1,0)","v":0},{"$f":"IF('4 indices'!F16=\"o\",1,0)","v":0},0," sur la colonne "]
[null,{"$f":"IF(AND('4 indices'!G9=\"x\",'4 indices'!H9=\"x\",'4 indices'!I9=\"x\",'4 indices'!J9=\"x\"),A2&'4 indices'!G4&\" \"&'4 indices'!B9,\"\")","v":""},1,null,null,{"$f":"'4 indices'!B17","v":"6e"},{"$f":"IF('4 indices'!C17=\"o\",1,0)","v":0},{"$f":"IF('4 indices'!D17=\"o\",1,0)","v":0},{"$f":"IF('4 indices'!E17=\"o\",1,0)","v":0},{"$f":"IF('4 indices'!F17=\"o\",1,0)","v":0},0,"=",{"$f":"IF(K4>1,L14&L15&G2&\" \"&F4,IF(K5>1,L14&L15&G2&\" \"&F5,IF(K6>1,L14&L15&G2&\" \"&F6,IF(K7>1,L14&L15&G2&\" \"&F7,IF(K9>1,L14&L15&G2&\" \"&F9,IF(K10>1,L14&L15&G2&\" \"&F10,IF(K11>1,L14&L15&G2&\" \"&F11,IF(K12>1,L14&L15&G2&\" \"&F12,IF(K14>1,L14&L15&G2&\" \"&F14,IF(K15>1,L14&L15&G2&\" \"&F15,IF(K16>1,L14&L15&G2&\" \"&F16,IF(K17>1,L14&L15&G2&\" \"&F17,IF(P4>1,L14&L15&L2&\" \"&F4,IF(P5>1,L14&L15&L2&\" \"&F5,IF(P6>1,L14&L15&L2&\" \"&F6,IF(P7>1,L14&L15&L2&\" \"&F7,IF(P9>1,L14&L15&L2&\" \"&F9,IF(P10>1,L14&L15&L2&\" \"&F10,IF(P11>1,L14&L15&L2&\" \"&F11,IF(P12>1,L14&L15&L2&\" \"&F12,IF(U4>1,L14&L15&Q2&\" \"&F4,IF(U5>1,L14&L15&Q2&\" \"&F5,IF(U6>1,L14&L15&Q2&\" \"&F6,IF(U7>1,L14&L15&Q2&\" \"&F7,\"\"))))))))))))))))))))))))","v":""}]
[null,{"$f":"IF(AND('4 indices'!G10=\"x\",'4 indices'!H10=\"x\",'4 indices'!I10=\"x\",'4 indices'!J10=\"x\"),A2&'4 indices'!G4&\" \"&'4 indices'!B10,\"\")","v":""},1,null,null,null,{"$f":"SUM(G14:G17)","v":0},{"$f":"SUM(H14:H17)","v":0},{"$f":"SUM(I14:I17)","v":0},{"$f":"SUM(J14:J17)","v":0},null,"=",{"$f":"IF(G8>1,L14&L16&E4&\" \"&G3,IF(H8>1,L14&L16&E4&\" \"&H3,IF(I8>1,L14&L16&E4&\" \"&I3,IF(J8>1,L14&L16&E4&\" \"&J3,IF(L8>1,L14&L16&E4&\" \"&L3,IF(M8>1,L14&L16&E4&\" \"&M3,IF(N8>1,L14&L16&E4&\" \"&N3,IF(O8>1,L14&L16&E4&\" \"&O3,IF(Q8>1,L14&L16&E4&\" \"&Q3,IF(R8>1,L14&L16&E4&\" \"&R3,IF(S8>1,L14&L16&E4&\" \"&S3,IF(T8>1,L14&L16&E4&\" \"&T3,IF(G13>1,L14&L16&E9&\" \"&G3,IF(H13>1,L14&L16&E9&\" \"&H3,IF(I13>1,L14&L16&E9&\" \"&I3,IF(J13>1,L14&L16&E9&\" \"&J3,IF(L13>1,L14&L16&E9&\" \"&L3,IF(M13>1,L14&L16&E9&\" \"&M3,IF(N13>1,L14&L16&E9&\" \"&N3,IF(O13>1,L14&L16&E9&\" \"&O3,IF(G18>1,L14&L16&E14&\" \"&G3,IF(H18>1,L14&L16&E14&\" \"&H3,IF(I18>1,L14&L16&E14&\" \"&I3,IF(J18>1,L14&L16&E14&\" \"&J3,\"\"))))))))))))))))))))))))","v":""}]
[null,{"$f":"IF(AND('4 indices'!G11=\"x\",'4 indices'!H11=\"x\",'4 indices'!I11=\"x\",'4 indices'!J11=\"x\"),A2&'4 indices'!G4&\" \"&'4 indices'!B11,\"\")","v":""},1]
[null,{"$f":"IF(AND('4 indices'!G12=\"x\",'4 indices'!H12=\"x\",'4 indices'!I12=\"x\",'4 indices'!J12=\"x\"),A2&'4 indices'!G4&\" \"&'4 indices'!B12,\"\")","v":""},1]
[null,{"$f":"IF(AND('4 indices'!G13=\"x\",'4 indices'!H13=\"x\",'4 indices'!I13=\"x\",'4 indices'!J13=\"x\"),A2&'4 indices'!G4&\" \"&'4 indices'!B13,\"\")","v":""},1]
[null,{"$f":"IF(AND('4 indices'!K6=\"x\",'4 indices'!L6=\"x\",'4 indices'!M6=\"x\",'4 indices'!N6=\"x\"),A2&'4 indices'!K4&\" \"&'4 indices'!B6,\"\")","v":""},1]
[null,{"$f":"IF(AND('4 indices'!K7=\"x\",'4 indices'!L7=\"x\",'4 indices'!M7=\"x\",'4 indices'!N7=\"x\"),A2&'4 indices'!K4&\" \"&'4 indices'!B7,\"\")","v":""},1]
[null,{"$f":"IF(AND('4 indices'!K8=\"x\",'4 indices'!L8=\"x\",'4 indices'!M8=\"x\",'4 indices'!N8=\"x\"),A2&'4 indices'!K4&\" \"&'4 indices'!B8,\"\")","v":""},1]
[null,{"$f":"IF(AND('4 indices'!K9=\"x\",'4 indices'!L9=\"x\",'4 indices'!M9=\"x\",'4 indices'!N9=\"x\"),A2&'4 indices'!K4&\" \"&'4 indices'!B9,\"\")","v":""},1]
[]
[null,{"$f":"IF(C28=2,B28,IF(C29=2,B29,IF(C30=2,B30,IF(C31=2,B31,IF(C32=2,B32,IF(C33=2,B33,IF(C34=2,B34,IF(C35=2,B35,IF(C36=2,B36,IF(C37=2,B37,IF(C38=2,B38,IF(C39=2,B39,IF(C40=2,B40,IF(C41=2,B41,IF(C42=2,B42,IF(C43=2,B43,IF(C44=2,B44,IF(C45=2,B45,IF(C46=2,B46,IF(C47=2,B47,IF(C48=2,B48,IF(C49=2,B49,IF(C50=2,B50,IF(C51=2,B51,\"\"))))))))))))))))))))))))","v":""}]
["Impossible d'avoir 4 non sur la même colonne  ",{"$f":"IF(AND('4 indices'!C6=\"x\",'4 indices'!C7=\"x\",'4 indices'!C8=\"x\",'4 indices'!C9=\"x\"),$A$28&'4 indices'!$A6&\" \"&'4 indices'!C5,\"\")","v":""},{"$f":"IF(B28=\"\",1,2)","v":1},{"$f":"IF(AND('4 indices'!$C31=\"x\",'4 indices'!$D31=\"x\",'4 indices'!$E31=\"x\",'4 indices'!$F31=\"x\"),$A$2&'4 indices'!$C$4&\" \"&'4 indices'!$B31,\"\")","v":""}]
[null,{"$f":"IF(AND('4 indices'!D6=\"x\",'4 indices'!D7=\"x\",'4 indices'!D8=\"x\",'4 indices'!D9=\"x\"),$A$28&'4 indices'!$A6&\" \"&'4 indices'!D5,\"\")","v":""},{"$f":"IF(B29=\"\",1,2)","v":1}]
[null,{"$f":"IF(AND('4 indices'!E6=\"x\",'4 indices'!E7=\"x\",'4 indices'!E8=\"x\",'4 indices'!E9=\"x\"),$A$28&'4 indices'!$A6&\" \"&'4 indices'!E5,\"\")","v":""},1]
[null,{"$f":"IF(AND('4 indices'!F6=\"x\",'4 indices'!F7=\"x\",'4 indices'!F8=\"x\",'4 indices'!F9=\"x\"),$A$28&'4 indices'!$A6&\" \"&'4 indices'!F5,\"\")","v":""},1]
[null,{"$f":"IF(AND('4 indices'!G6=\"x\",'4 indices'!G7=\"x\",'4 indices'!G8=\"x\",'4 indices'!G9=\"x\"),$A$28&'4 indices'!$A6&\" \"&'4 indices'!G5,\"\")","v":""},1]
[null,{"$f":"IF(AND('4 indices'!H6=\"x\",'4 indices'!H7=\"x\",'4 indices'!H8=\"x\",'4 indices'!H9=\"x\"),$A$28&'4 indices'!$A6&\" \"&'4 indices'!H5,\"\")","v":""},1]
[null,{"$f":"IF(AND('4 indices'!I6=\"x\",'4 indices'!I7=\"x\",'4 indices'!I8=\"x\",'4 indices'!I9=\"x\"),$A$28&'4 indices'!$A6&\" \"&'4 indices'!I5,\"\")","v":""},1]
[null,{"$f":"IF(AND('4 indices'!J6=\"x\",'4 indices'!J7=\"x\",'4 indices'!J8=\"x\",'4 indices'!J9=\"x\"),$A$28&'4 indices'!$A6&\" \"&'4 indices'!J5,\"\")","v":""},1]
[null,{"$f":"IF(AND('4 indices'!K6=\"x\",'4 indices'!K7=\"x\",'4 indices'!K8=\"x\",'4 indices'!K9=\"x\"),$A$28&'4 indices'!$A6&\" \"&'4 indices'!K5,\"\")","v":""},1]
[null,{"$f":"IF(AND('4 indices'!L6=\"x\",'4 indices'!L7=\"x\",'4 indices'!L8=\"x\",'4 indices'!L9=\"x\"),$A$28&'4 indices'!$A6&\" \"&'4 indices'!L5,\"\")","v":""},1]
[null,{"$f":"IF(AND('4 indices'!M6=\"x\",'4 indices'!M7=\"x\",'4 indices'!M8=\"x\",'4 indices'!M9=\"x\"),$A$28&'4 indices'!$A6&\" \"&'4 indices'!M5,\"\")","v":""},1]
[null,{"$f":"IF(AND('4 indices'!N6=\"x\",'4 indices'!N7=\"x\",'4 indices'!N8=\"x\",'4 indices'!N9=\"x\"),$A$28&'4 indices'!$A6&\" \"&'4 indices'!N5,\"\")","v":""},1]
[null,{"$f":"IF(AND('4 indices'!C10=\"x\",'4 indices'!C11=\"x\",'4 indices'!C12=\"x\",'4 indices'!C13=\"x\"),$A$28&'4 indices'!$A$10&\" \"&'4 indices'!C5,\"\")","v":""},1]
[null,{"$f":"IF(AND('4 indices'!D10=\"x\",'4 indices'!D11=\"x\",'4 indices'!D12=\"x\",'4 indices'!D13=\"x\"),$A$28&'4 indices'!$A$10&\" \"&'4 indices'!D5,\"\")","v":""},1]
[null,{"$f":"IF(AND('4 indices'!E10=\"x\",'4 indices'!E11=\"x\",'4 indices'!E12=\"x\",'4 indices'!E13=\"x\"),$A$28&'4 indices'!$A$10&\" \"&'4 indices'!E5,\"\")","v":""},1]
[null,{"$f":"IF(AND('4 indices'!F10=\"x\",'4 indices'!F11=\"x\",'4 indices'!F12=\"x\",'4 indices'!F13=\"x\"),$A$28&'4 indices'!$A$10&\" \"&'4 indices'!F5,\"\")","v":""},1]
[null,{"$f":"IF(AND('4 indices'!G10=\"x\",'4 indices'!G11=\"x\",'4 indices'!G12=\"x\",'4 indices'!G13=\"x\"),$A$28&'4 indices'!$A$10&\" \"&'4 indices'!G5,\"\")","v":""},1]
[null,{"$f":"IF(AND('4 indices'!H10=\"x\",'4 indices'!H11=\"x\",'4 indices'!H12=\"x\",'4 indices'!H13=\"x\"),$A$28&'4 indices'!$A$10&\" \"&'4 indices'!H5,\"\")","v":""},1]
[null,{"$f":"IF(AND('4 indices'!I10=\"x\",'4 indices'!I11=\"x\",'4 indices'!I12=\"x\",'4 indices'!I13=\"x\"),$A$28&'4 indices'!$A$10&\" \"&'4 indices'!I5,\"\")","v":""},1]
[null,{"$f":"IF(AND('4 indices'!J10=\"x\",'4 indices'!J11=\"x\",'4 indices'!J12=\"x\",'4 indices'!J13=\"x\"),$A$28&'4 indices'!$A$10&\" \"&'4 indices'!J5,\"\")","v":""},1]
[null,{"$f":"IF(AND('4 indices'!C14=\"x\",'4 indices'!C15=\"x\",'4 indices'!C16=\"x\",'4 indices'!C17=\"x\"),$A$28&'4 indices'!$A$14&\" \"&'4 indices'!C5,\"\")","v":""},1]
[null,{"$f":"IF(AND('4 indices'!D14=\"x\",'4 indices'!D15=\"x\",'4 indices'!D16=\"x\",'4 indices'!D17=\"x\"),$A$28&'4 indices'!$A$14&\" \"&'4 indices'!D5,\"\")","v":""},1]
[null,{"$f":"IF(AND('4 indices'!E14=\"x\",'4 indices'!E15=\"x\",'4 indices'!E16=\"x\",'4 indices'!E17=\"x\"),$A$28&'4 indices'!$A$14&\" \"&'4 indices'!E5,\"\")","v":""},1]
[null,{"$f":"IF(AND('4 indices'!F14=\"x\",'4 indices'!F15=\"x\",'4 indices'!F16=\"x\",'4 indices'!F17=\"x\"),$A$28&'4 indices'!$A$14&\" \"&'4 indices'!F5,\"\")","v":""},1]
[]
[{"$f":"'4 indices'!A26","v":"XII°/ Compétition de natation :"},{"$f":"IF(C54=2,B54,IF(C55=2,B55,IF(C56=2,B56,IF(C57=2,B57,IF(C58=2,B58,IF(C59=2,B59,IF(C60=2,B60,IF(C61=2,B61,IF(C62=2,B62,IF(C63=2,B63,IF(C64=2,B64,IF(C65=2,B65,IF(C66=2,B66,IF(C67=2,B67,IF(C68=2,B68,IF(C69=2,B69,IF(C70=2,B70,IF(C71=2,B71,IF(C72=2,B72,IF(C73=2,B73,IF(C74=2,B74,IF(C75=2,B75,IF(C76=2,B76,IF(C77=2,B77,\"\"))))))))))))))))))))))))","v":""}]
["Impossible d'avoir 4 non sur la même ligne ",{"$f":"IF(AND('4 indices'!C31=\"x\",'4 indices'!D31=\"x\",'4 indices'!E31=\"x\",'4 indices'!F31=\"x\"),A28&'4 indices'!C29&\" \"&'4 indices'!B31,\"\")","v":""},{"$f":"IF(B54=\"\",1,2)","v":1},{"$f":"IF(AND('4 indices'!E56=\"x\",'4 indices'!F56=\"x\",'4 indices'!G56=\"x\",'4 indices'!H56=\"x\"),C54&'4 indices'!E54&\" \"&'4 indices'!D56,\"\")","v":""},null,null,{"$f":"'4 indices'!C29","v":"Classement"},null,null,null,null,{"$f":"'4 indices'!G29","v":"Temps"},null,null,null,null,{"$f":"'4 indices'!K29","v":"Nage"}]
[null,{"$f":"IF(AND('4 indices'!C32=\"x\",'4 indices'!D32=\"x\",'4 indices'!E32=\"x\",'4 indices'!F32=\"x\"),A28&'4 indices'!C29&\" \"&'4 indices'!B32,\"\")","v":""},{"$f":"IF(B55=\"\",1,2)","v":1},null,null,null,{"$f":"'4 indices'!C30","v":"1e"},{"$f":"'4 indices'!D30","v":"2e"},{"$f":"'4 indices'!E30","v":"3e"},{"$f":"'4 indices'!F30","v":"4e"},null,{"$f":"'4 indices'!G30","v":"1min04"},{"$f":"'4 indices'!H30","v":"1min08"},{"$f":"'4 indices'!I30","v":"1min10"},{"$f":"'4 indices'!J30","v":"1min15"},null,{"$f":"'4 indices'!K30","v":"papillon"},{"$f":"'4 indices'!L30","v":"dos"},{"$f":"'4 indices'!M30","v":"brasse"},{"$f":"'4 indices'!N30","v":"crawl"}]
[null,{"$f":"IF(AND('4 indices'!C33=\"x\",'4 indices'!D33=\"x\",'4 indices'!E33=\"x\",'4 indices'!F33=\"x\"),A28&'4 indices'!C29&\" \"&'4 indices'!B33,\"\")","v":""},1,null,{"$f":"'4 indices'!A31","v":"Nageurs"},{"$f":"'4 indices'!B31","v":"Paul"},{"$f":"IF('4 indices'!C31=\"o\",1,0)","v":0},{"$f":"IF('4 indices'!D31=\"o\",1,0)","v":0},{"$f":"IF('4 indices'!E31=\"o\",1,0)","v":0},{"$f":"IF('4 indices'!F31=\"o\",1,0)","v":0},{"$f":"SUM(G56:J56)","v":0},{"$f":"IF('4 indices'!G31=\"o\",1,0)","v":0},{"$f":"IF('4 indices'!H31=\"o\",1,0)","v":0},{"$f":"IF('4 indices'!I31=\"o\",1,0)","v":0},{"$f":"IF('4 indices'!J31=\"o\",1,0)","v":0},{"$f":"SUM(L56:O56)","v":0},{"$f":"IF('4 indices'!K31=\"o\",1,0)","v":0},{"$f":"IF('4 indices'!L31=\"o\",1,0)","v":0},{"$f":"IF('4 indices'!M31=\"o\",1,0)","v":0},{"$f":"IF('4 indices'!N31=\"o\",1,0)","v":0},{"$f":"SUM(Q56:T56)","v":0}]
[null,{"$f":"IF(AND('4 indices'!C34=\"x\",'4 indices'!D34=\"x\",'4 indices'!E34=\"x\",'4 indices'!F34=\"x\"),A28&'4 indices'!C29&\" \"&'4 indices'!B34,\"\")","v":""},1,null,null,{"$f":"'4 indices'!B32","v":"Pierre"},{"$f":"IF('4 indices'!C32=\"o\",1,0)","v":0},{"$f":"IF('4 indices'!D32=\"o\",1,0)","v":0},{"$f":"IF('4 indices'!E32=\"o\",1,0)","v":0},{"$f":"IF('4 indices'!F32=\"o\",1,0)","v":0},{"$f":"SUM(G57:J57)","v":0},{"$f":"IF('4 indices'!G32=\"o\",1,0)","v":0},{"$f":"IF('4 indices'!H32=\"o\",1,0)","v":0},{"$f":"IF('4 indices'!I32=\"o\",1,0)","v":0},{"$f":"IF('4 indices'!J32=\"o\",1,0)","v":0},{"$f":"SUM(L57:O57)","v":0},{"$f":"IF('4 indices'!K32=\"o\",1,0)","v":0},{"$f":"IF('4 indices'!L32=\"o\",1,0)","v":0},{"$f":"IF('4 indices'!M32=\"o\",1,0)","v":0},{"$f":"IF('4 indices'!N32=\"o\",1,0)","v":0},{"$f":"SUM(Q57:T57)","v":0}]
[null,{"$f":"IF(AND('4 indices'!C35=\"x\",'4 indices'!D35=\"x\",'4 indices'!E35=\"x\",'4 indices'!F35=\"x\"),A28&'4 indices'!C29&\" \"&'4 indices'!B35,\"\")","v":""},1,null,null,{"$f":"'4 indices'!B33","v":"François"},{"$f":"IF('4 indices'!C33=\"o\",1,0)","v":0},{"$f":"IF('4 indices'!D33=\"o\",1,0)","v":0},{"$f":"IF('4 indices'!E33=\"o\",1,0)","v":0},{"$f":"IF('4 indices'!F33=\"o\",1,0)","v":0},0,{"$f":"IF('4 indices'!G33=\"o\",1,0)","v":0},{"$f":"IF('4 indices'!H33=\"o\",1,0)","v":0},{"$f":"IF('4 indices'!I33=\"o\",1,0)","v":0},{"$f":"IF('4 indices'!J33=\"o\",1,0)","v":0},0,{"$f":"IF('4 indices'!K33=\"o\",1,0)","v":0},{"$f":"IF('4 indices'!L33=\"o\",1,0)","v":0},{"$f":"IF('4 indices'!M33=\"o\",1,0)","v":0},{"$f":"IF('4 indices'!N33=\"o\",1,0)","v":0},0]
[null,{"$f":"IF(AND('4 indices'!C36=\"x\",'4 indices'!D36=\"x\",'4 indices'!E36=\"x\",'4 indices'!F36=\"x\"),A28&'4 indices'!C29&\" \"&'4 indices'!B36,\"\")","v":""},1,null,null,{"$f":"'4 indices'!B34","v":"Fabien"},{"$f":"IF('4 indices'!C34=\"o\",1,0)","v":0},{"$f":"IF('4 indices'!D34=\"o\",1,0)","v":0},{"$f":"IF('4 indices'!E34=\"o\",1,0)","v":0},{"$f":"IF('4 indices'!F34=\"o\",1,0)","v":0},0,{"$f":"IF('4 indices'!G34=\"o\",1,0)","v":0},{"$f":"IF('4 indices'!H34=\"o\",1,0)","v":0},{"$f":"IF('4 indices'!I34=\"o\",1,0)","v":0},{"$f":"IF('4 indices'!J34=\"o\",1,0)","v":0},0,{"$f":"IF('4 indices'!K34=\"o\",1,0)","v":0},{"$f":"IF('4 indices'!L34=\"o\",1,0)","v":0},{"$f":"IF('4 indices'!M34=\"o\",1,0)","v":0},{"$f":"IF('4 indices'!N34=\"o\",1,0)","v":0},0]
[null,{"$f":"IF(AND('4 indices'!C37=\"x\",'4 indices'!D37=\"x\",'4 indices'!E37=\"x\",'4 indices'!F37=\"x\"),A28&'4 indices'!C29&\" \"&'4 indices'!B37,\"\")","v":""},1,null,null,null,{"$f":"SUM(G56:G59)","v":0},{"$f":"SUM(H56:H59)","v":0},0,0,null,{"$f":"SUM(L56:L59)","v":0},{"$f":"SUM(M56:M59)","v":0},0,0,null,{"$f":"SUM(Q56:Q59)","v":0},{"$f":"SUM(R56:R59)","v":0},0,0]
[null,{"$f":"IF(AND('4 indices'!C38=\"x\",'4 indices'!D38=\"x\",'4 indices'!E38=\"x\",'4 indices'!F38=\"x\"),A28&'4 indices'!C29&\" \"&'4 indices'!B38,\"\")","v":""},1,null,{"$f":"'4 indices'!A35","v":"Nage"},{"$f":"'4 indices'!B35","v":"papillon"},{"$f":"IF('4 indices'!C35=\"o\",1,0)","v":0},{"$f":"IF('4 indices'!D35=\"o\",1,0)","v":0},{"$f":"IF('4 indices'!E35=\"o\",1,0)","v":0},{"$f":"IF('4 indices'!F35=\"o\",1,0)","v":0},{"$f":"SUM(G61:J61)","v":0},{"$f":"IF('4 indices'!G35=\"o\",1,0)","v":0},{"$f":"IF('4 indices'!H35=\"o\",1,0)","v":0},{"$f":"IF('4 indices'!I35=\"o\",1,0)","v":0},{"$f":"IF('4 indices'!J35=\"o\",1,0)","v":0},{"$f":"SUM(L61:O61)","v":0}]
[null,{"$f":"IF(AND('4 indices'!C39=\"x\",'4 indices'!D39=\"x\",'4 indices'!E39=\"x\",'4 indices'!F39=\"x\"),A28&'4 indices'!C29&\" \"&'4 indices'!B39,\"\")","v":""},1,null,null,{"$f":"'4 indices'!B36","v":"dos"},{"$f":"IF('4 indices'!C36=\"o\",1,0)","v":0},{"$f":"IF('4 indices'!D36=\"o\",1,0)","v":0},{"$f":"IF('4 indices'!E36=\"o\",1,0)","v":0},{"$f":"IF('4 indices'!F36=\"o\",1,0)","v":0},{"$f":"SUM(G62:J62)","v":0},{"$f":"IF('4 indices'!G36=\"o\",1,0)","v":0},{"$f":"IF('4 indices'!H36=\"o\",1,0)","v":0},{"$f":"IF('4 indices'!I36=\"o\",1,0)","v":0},{"$f":"IF('4 indices'!J36=\"o\",1,0)","v":0},{"$f":"SUM(L62:O62)","v":0}]
[null,{"$f":"IF(AND('4 indices'!C40=\"x\",'4 indices'!D40=\"x\",'4 indices'!E40=\"x\",'4 indices'!F40=\"x\"),A28&'4 indices'!C29&\" \"&'4 indices'!B40,\"\")","v":""},1,null,null,{"$f":"'4 indices'!B37","v":"brasse"},{"$f":"IF('4 indices'!C37=\"o\",1,0)","v":0},{"$f":"IF('4 indices'!D37=\"o\",1,0)","v":0},{"$f":"IF('4 indices'!E37=\"o\",1,0)","v":0},{"$f":"IF('4 indices'!F37=\"o\",1,0)","v":0},0,{"$f":"IF('4 indices'!G37=\"o\",1,0)","v":0},{"$f":"IF('4 indices'!H37=\"o\",1,0)","v":0},{"$f":"IF('4 indices'!I37=\"o\",1,0)","v":0},{"$f":"IF('4 indices'!J37=\"o\",1,0)","v":0},0]
[null,{"$f":"IF(AND('4 indices'!C41=\"x\",'4 indices'!D41=\"x\",'4 indices'!E41=\"x\",'4 indices'!F41=\"x\"),A28&'4 indices'!C29&\" \"&'4 indices'!B41,\"\")","v":""},1,null,null,{"$f":"'4 indices'!B38","v":"crawl"},{"$f":"IF('4 indices'!C38=\"o\",1,0)","v":0},{"$f":"IF('4 indices'!D38=\"o\",1,0)","v":0},{"$f":"IF('4 indices'!E38=\"o\",1,0)","v":0},{"$f":"IF('4 indices'!F38=\"o\",1,0)","v":0},0,{"$f":"IF('4 indices'!G38=\"o\",1,0)","v":0},{"$f":"IF('4 indices'!H38=\"o\",1,0)","v":0},{"$f":"IF('4 indices'!I38=\"o\",1,0)","v":0},{"$f":"IF('4 indices'!J38=\"o\",1,0)","v":0},0]
[null,{"$f":"IF(AND('4 indices'!C42=\"x\",'4 indices'!D42=\"x\",'4 indices'!E42=\"x\",'4 indices'!F42=\"x\"),A28&'4 indices'!C29&\" \"&'4 indices'!B42,\"\")","v":""},1,null,null,null,{"$f":"SUM(G61:G64)","v":0},{"$f":"SUM(H61:H64)","v":0},0,0,null,{"$f":"SUM(L61:L64)","v":0},{"$f":"SUM(M61:M64)","v":0},0,0]
[null,{"$f":"IF(AND('4 indices'!G31=\"x\",'4 indices'!H31=\"x\",'4 indices'!I31=\"x\",'4 indices'!J31=\"x\"),A28&'4 indices'!G29&\" \"&'4 indices'!B31,\"\")","v":""},1,null,{"$f":"'4 indices'!A39","v":"Temps"},{"$f":"'4 indices'!B39","v":"1min04"},{"$f":"IF('4 indices'!C39=\"o\",1,0)","v":0},{"$f":"IF('4 indices'!D39=\"o\",1,0)","v":0},{"$f":"IF('4 indices'!E39=\"o\",1,0)","v":0},{"$f":"IF('4 indices'!F39=\"o\",1,0)","v":0},{"$f":"SUM(G66:J66)","v":0},"Impossible qu'il y ai plus de deux Oui "]
[null,{"$f":"IF(AND('4 indices'!G32=\"x\",'4 indices'!H32=\"x\",'4 indices'!I32=\"x\",'4 indices'!J32=\"x\"),A28&'4 indices'!G29&\" \"&'4 indices'!B32,\"\")","v":""},1,null,null,{"$f":"'4 indices'!B40","v":"1min08"},{"$f":"IF('4 indices'!C40=\"o\",1,0)","v":0},{"$f":"IF('4 indices'!D40=\"o\",1,0)","v":0},{"$f":"IF('4 indices'!E40=\"o\",1,0)","v":0},{"$f":"IF('4 indices'!F40=\"o\",1,0)","v":0},{"$f":"SUM(G67:J67)","v":0}," sur la ligne "]
[null,{"$f":"IF(AND('4 indices'!G33=\"x\",'4 indices'!H33=\"x\",'4 indices'!I33=\"x\",'4 indices'!J33=\"x\"),A28&'4 indices'!G29&\" \"&'4 indices'!B33,\"\")","v":""},1,null,null,{"$f":"'4 indices'!B41","v":"1min10"},{"$f":"IF('4 indices'!C41=\"o\",1,0)","v":0},{"$f":"IF('4 indices'!D41=\"o\",1,0)","v":0},{"$f":"IF('4 indices'!E41=\"o\",1,0)","v":0},{"$f":"IF('4 indices'!F41=\"o\",1,0)","v":0},0," sur la colonne "]
[null,{"$f":"IF(AND('4 indices'!G34=\"x\",'4 indices'!H34=\"x\",'4 indices'!I34=\"x\",'4 indices'!J34=\"x\"),A28&'4 indices'!G29&\" \"&'4 indices'!B34,\"\")","v":""},1,null,null,{"$f":"'4 indices'!B42","v":"1min15"},{"$f":"IF('4 indices'!C42=\"o\",1,0)","v":0},{"$f":"IF('4 indices'!D42=\"o\",1,0)","v":0},{"$f":"IF('4 indices'!E42=\"o\",1,0)","v":0},{"$f":"IF('4 indices'!F42=\"o\",1,0)","v":0},0,"=",{"$f":"IF(K56>1,L66&L67&G54&\" \"&F56,IF(K57>1,L66&L67&G54&\" \"&F57,IF(K58>1,L66&L67&G54&\" \"&F58,IF(K59>1,L66&L67&G54&\" \"&F59,IF(K61>1,L66&L67&G54&\" \"&F61,IF(K62>1,L66&L67&G54&\" \"&F62,IF(K63>1,L66&L67&G54&\" \"&F63,IF(K64>1,L66&L67&G54&\" \"&F64,IF(K66>1,L66&L67&G54&\" \"&F66,IF(K67>1,L66&L67&G54&\" \"&F67,IF(K68>1,L66&L67&G54&\" \"&F68,IF(K69>1,L66&L67&G54&\" \"&F69,IF(P56>1,L66&L67&L54&\" \"&F56,IF(P57>1,L66&L67&L54&\" \"&F57,IF(P58>1,L66&L67&L54&\" \"&F58,IF(P59>1,L66&L67&L54&\" \"&F59,IF(P61>1,L66&L67&L54&\" \"&F61,IF(P62>1,L66&L67&L54&\" \"&F62,IF(P63>1,L66&L67&L54&\" \"&F63,IF(P64>1,L66&L67&L54&\" \"&F64,IF(U56>1,L66&L67&Q54&\" \"&F56,IF(U57>1,L66&L67&Q54&\" \"&F57,IF(U58>1,L66&L67&Q54&\" \"&F58,IF(U59>1,L66&L67&Q54&\" \"&F59,\"\"))))))))))))))))))))))))","v":""}]
[null,{"$f":"IF(AND('4 indices'!G35=\"x\",'4 indices'!H35=\"x\",'4 indices'!I35=\"x\",'4 indices'!J35=\"x\"),A28&'4 indices'!G29&\" \"&'4 indices'!B35,\"\")","v":""},1,null,null,null,{"$f":"SUM(G66:G69)","v":0},{"$f":"SUM(H66:H69)","v":0},0,0,null,"=",{"$f":"IF(G60>1,L66&L68&E56&\" \"&G55,IF(H60>1,L66&L68&E56&\" \"&H55,IF(I60>1,L66&L68&E56&\" \"&I55,IF(J60>1,L66&L68&E56&\" \"&J55,IF(L60>1,L66&L68&E56&\" \"&L55,IF(M60>1,L66&L68&E56&\" \"&M55,IF(N60>1,L66&L68&E56&\" \"&N55,IF(O60>1,L66&L68&E56&\" \"&O55,IF(Q60>1,L66&L68&E56&\" \"&Q55,IF(R60>1,L66&L68&E56&\" \"&R55,IF(S60>1,L66&L68&E56&\" \"&S55,IF(T60>1,L66&L68&E56&\" \"&T55,IF(G65>1,L66&L68&E61&\" \"&G55,IF(H65>1,L66&L68&E61&\" \"&H55,IF(I65>1,L66&L68&E61&\" \"&I55,IF(J65>1,L66&L68&E61&\" \"&J55,IF(L65>1,L66&L68&E61&\" \"&L55,IF(M65>1,L66&L68&E61&\" \"&M55,IF(N65>1,L66&L68&E61&\" \"&N55,IF(O65>1,L66&L68&E61&\" \"&O55,IF(G70>1,L66&L68&E66&\" \"&G55,IF(H70>1,L66&L68&E66&\" \"&H55,IF(I70>1,L66&L68&E66&\" \"&I55,IF(J70>1,L66&L68&E66&\" \"&J55,\"\"))))))))))))))))))))))))","v":""}]
[null,{"$f":"IF(AND('4 indices'!G36=\"x\",'4 indices'!H36=\"x\",'4 indices'!I36=\"x\",'4 indices'!J36=\"x\"),A28&'4 indices'!G29&\" \"&'4 indices'!B36,\"\")","v":""},1]
[null,{"$f":"IF(AND('4 indices'!G37=\"x\",'4 indices'!H37=\"x\",'4 indices'!I37=\"x\",'4 indices'!J37=\"x\"),A28&'4 indices'!G29&\" \"&'4 indices'!B37,\"\")","v":""},1]
[null,{"$f":"IF(AND('4 indices'!G38=\"x\",'4 indices'!H38=\"x\",'4 indices'!I38=\"x\",'4 indices'!J38=\"x\"),A28&'4 indices'!G29&\" \"&'4 indices'!B38,\"\")","v":""},1]
[null,{"$f":"IF(AND('4 indices'!K31=\"x\",'4 indices'!L31=\"x\",'4 indices'!M31=\"x\",'4 indices'!N31=\"x\"),A28&'4 indices'!K29&\" \"&'4 indices'!B31,\"\")","v":""},1]
[null,{"$f":"IF(AND('4 indices'!K32=\"x\",'4 indices'!L32=\"x\",'4 indices'!M32=\"x\",'4 indices'!N32=\"x\"),A28&'4 indices'!K29&\" \"&'4 indices'!B32,\"\")","v":""},1]
[null,{"$f":"IF(AND('4 indices'!K33=\"x\",'4 indices'!L33=\"x\",'4 indices'!M33=\"x\",'4 indices'!N33=\"x\"),A28&'4 indices'!K29&\" \"&'4 indices'!B33,\"\")","v":""},1]
[null,{"$f":"IF(AND('4 indices'!K34=\"x\",'4 indices'!L34=\"x\",'4 indices'!M34=\"x\",'4 indices'!N34=\"x\"),A28&'4 indices'!K29&\" \"&'4 indices'!B34,\"\")","v":""},1]
[]
[null,{"$f":"IF(C80=2,B80,IF(C81=2,B81,IF(C82=2,B82,IF(C83=2,B83,IF(C84=2,B84,IF(C85=2,B85,IF(C86=2,B86,IF(C87=2,B87,IF(C88=2,B88,IF(C89=2,B89,IF(C90=2,B90,IF(C91=2,B91,IF(C92=2,B92,IF(C93=2,B93,IF(C94=2,B94,IF(C95=2,B95,IF(C96=2,B96,IF(C97=2,B97,IF(C98=2,B98,IF(C99=2,B99,IF(C100=2,B100,IF(C101=2,B101,IF(C102=2,B102,IF(C103=2,B103,\"\"))))))))))))))))))))))))","v":""}]
["Impossible d'avoir 4 non sur la même colonne  ",{"$f":"IF(AND('4 indices'!C31=\"x\",'4 indices'!C32=\"x\",'4 indices'!C33=\"x\",'4 indices'!C34=\"x\"),$A$28&'4 indices'!$A31&\" \"&'4 indices'!C30,\"\")","v":""},{"$f":"IF(B80=\"\",1,2)","v":1},{"$f":"IF(AND('4 indices'!E81=\"x\",'4 indices'!F81=\"x\",'4 indices'!G81=\"x\",'4 indices'!H81=\"x\"),C80&'4 indices'!E79&\" \"&'4 indices'!D81,\"\")","v":""}]
[null,{"$f":"IF(AND('4 indices'!D31=\"x\",'4 indices'!D32=\"x\",'4 indices'!D33=\"x\",'4 indices'!D34=\"x\"),$A$28&'4 indices'!$A31&\" \"&'4 indices'!D30,\"\")","v":""},{"$f":"IF(B81=\"\",1,2)","v":1}]
[null,{"$f":"IF(AND('4 indices'!E31=\"x\",'4 indices'!E32=\"x\",'4 indices'!E33=\"x\",'4 indices'!E34=\"x\"),$A$28&'4 indices'!$A31&\" \"&'4 indices'!E30,\"\")","v":""},1]
[null,{"$f":"IF(AND('4 indices'!F31=\"x\",'4 indices'!F32=\"x\",'4 indices'!F33=\"x\",'4 indices'!F34=\"x\"),$A$28&'4 indices'!$A31&\" \"&'4 indices'!F30,\"\")","v":""},1]
[null,{"$f":"IF(AND('4 indices'!G31=\"x\",'4 indices'!G32=\"x\",'4 indices'!G33=\"x\",'4 indices'!G34=\"x\"),$A$28&'4 indices'!$A31&\" \"&'4 indices'!G30,\"\")","v":""},1]
[null,{"$f":"IF(AND('4 indices'!H31=\"x\",'4 indices'!H32=\"x\",'4 indices'!H33=\"x\",'4 indices'!H34=\"x\"),$A$28&'4 indices'!$A31&\" \"&'4 indices'!H30,\"\")","v":""},1]
[null,{"$f":"IF(AND('4 indices'!I31=\"x\",'4 indices'!I32=\"x\",'4 indices'!I33=\"x\",'4 indices'!I34=\"x\"),$A$28&'4 indices'!$A31&\" \"&'4 indices'!I30,\"\")","v":""},1]
[null,{"$f":"IF(AND('4 indices'!J31=\"x\",'4 indices'!J32=\"x\",'4 indices'!J33=\"x\",'4 indices'!J34=\"x\"),$A$28&'4 indices'!$A31&\" \"&'4 indices'!J30,\"\")","v":""},1]
[null,{"$f":"IF(AND('4 indices'!K31=\"x\",'4 indices'!K32=\"x\",'4 indices'!K33=\"x\",'4 indices'!K34=\"x\"),$A$28&'4 indices'!$A31&\" \"&'4 indices'!K30,\"\")","v":""},1]
[null,{"$f":"IF(AND('4 indices'!L31=\"x\",'4 indices'!L32=\"x\",'4 indices'!L33=\"x\",'4 indices'!L34=\"x\"),$A$28&'4 indices'!$A31&\" \"&'4 indices'!L30,\"\")","v":""},1]
[null,{"$f":"IF(AND('4 indices'!M31=\"x\",'4 indices'!M32=\"x\",'4 indices'!M33=\"x\",'4 indices'!M34=\"x\"),$A$28&'4 indices'!$A31&\" \"&'4 indices'!M30,\"\")","v":""},1]
[null,{"$f":"IF(AND('4 indices'!N31=\"x\",'4 indices'!N32=\"x\",'4 indices'!N33=\"x\",'4 indices'!N34=\"x\"),$A$28&'4 indices'!$A31&\" \"&'4 indices'!N30,\"\")","v":""},1]
[null,{"$f":"IF(AND('4 indices'!C35=\"x\",'4 indices'!C36=\"x\",'4 indices'!C37=\"x\",'4 indices'!C38=\"x\"),$A$28&'4 indices'!$A$35&\" \"&'4 indices'!C30,\"\")","v":""},1]
[null,{"$f":"IF(AND('4 indices'!D35=\"x\",'4 indices'!D36=\"x\",'4 indices'!D37=\"x\",'4 indices'!D38=\"x\"),$A$28&'4 indices'!$A$35&\" \"&'4 indices'!D30,\"\")","v":""},1]
[null,{"$f":"IF(AND('4 indices'!E35=\"x\",'4 indices'!E36=\"x\",'4 indices'!E37=\"x\",'4 indices'!E38=\"x\"),$A$28&'4 indices'!$A$35&\" \"&'4 indices'!E30,\"\")","v":""},1]
[null,{"$f":"IF(AND('4 indices'!F35=\"x\",'4 indices'!F36=\"x\",'4 indices'!F37=\"x\",'4 indices'!F38=\"x\"),$A$28&'4 indices'!$A$35&\" \"&'4 indices'!F30,\"\")","v":""},1]
[null,{"$f":"IF(AND('4 indices'!G35=\"x\",'4 indices'!G36=\"x\",'4 indices'!G37=\"x\",'4 indices'!G38=\"x\"),$A$28&'4 indices'!$A$35&\" \"&'4 indices'!G30,\"\")","v":""},1]
[null,{"$f":"IF(AND('4 indices'!H35=\"x\",'4 indices'!H36=\"x\",'4 indices'!H37=\"x\",'4 indices'!H38=\"x\"),$A$28&'4 indices'!$A$35&\" \"&'4 indices'!H30,\"\")","v":""},1]
[null,{"$f":"IF(AND('4 indices'!I35=\"x\",'4 indices'!I36=\"x\",'4 indices'!I37=\"x\",'4 indices'!I38=\"x\"),$A$28&'4 indices'!$A$35&\" \"&'4 indices'!I30,\"\")","v":""},1]
[null,{"$f":"IF(AND('4 indices'!J35=\"x\",'4 indices'!J36=\"x\",'4 indices'!J37=\"x\",'4 indices'!J38=\"x\"),$A$28&'4 indices'!$A$35&\" \"&'4 indices'!J30,\"\")","v":""},1]
[null,{"$f":"IF(AND('4 indices'!C39=\"x\",'4 indices'!C40=\"x\",'4 indices'!C41=\"x\",'4 indices'!C42=\"x\"),$A$28&'4 indices'!$A$39&\" \"&'4 indices'!C30,\"\")","v":""},1]
[null,{"$f":"IF(AND('4 indices'!D39=\"x\",'4 indices'!D40=\"x\",'4 indices'!D41=\"x\",'4 indices'!D42=\"x\"),$A$28&'4 indices'!$A$39&\" \"&'4 indices'!D30,\"\")","v":""},1]
[null,{"$f":"IF(AND('4 indices'!E39=\"x\",'4 indices'!E40=\"x\",'4 indices'!E41=\"x\",'4 indices'!E42=\"x\"),$A$28&'4 indices'!$A$39&\" \"&'4 indices'!E30,\"\")","v":""},1]
[null,{"$f":"IF(AND('4 indices'!F39=\"x\",'4 indices'!F40=\"x\",'4 indices'!F41=\"x\",'4 indices'!F42=\"x\"),$A$28&'4 indices'!$A$39&\" \"&'4 indices'!F30,\"\")","v":""},1]
[]
[{"$f":"'4 indices'!A51","v":"XIII°/ Le championnat :"},{"$f":"IF(C106=2,B106,IF(C107=2,B107,IF(C108=2,B108,IF(C109=2,B109,IF(C110=2,B110,IF(C111=2,B111,IF(C112=2,B112,IF(C113=2,B113,IF(C114=2,B114,IF(C115=2,B115,IF(C116=2,B116,IF(C117=2,B117,IF(C118=2,B118,IF(C119=2,B119,IF(C120=2,B120,IF(C121=2,B121,IF(C122=2,B122,IF(C123=2,B123,IF(C124=2,B124,IF(C125=2,B125,IF(C126=2,B126,IF(C127=2,B127,IF(C128=2,B128,IF(C129=2,B129,\"\"))))))))))))))))))))))))","v":""}]
["Impossible d'avoir 4 non sur la même ligne ",{"$f":"IF(AND('4 indices'!C56=\"x\",'4 indices'!D56=\"x\",'4 indices'!E56=\"x\",'4 indices'!F56=\"x\"),A54&'4 indices'!C54&\" \"&'4 indices'!B56,\"\")","v":""},{"$f":"IF(B106=\"\",1,2)","v":1},{"$f":"IF(AND('4 indices'!E106=\"x\",'4 indices'!F106=\"x\",'4 indices'!G106=\"x\",'4 indices'!H106=\"x\"),C106&'4 indices'!E104&\" \"&'4 indices'!D106,\"\")","v":""},null,null,{"$f":"'4 indices'!C54","v":"Âge"},null,null,null,null,{"$f":"'4 indices'!G54","v":"Fanion"},null,null,null,null,{"$f":"'4 indices'!K54","v":"Classement"}]
[null,{"$f":"IF(AND('4 indices'!C57=\"x\",'4 indices'!D57=\"x\",'4 indices'!E57=\"x\",'4 indices'!F57=\"x\"),A54&'4 indices'!C54&\" \"&'4 indices'!B57,\"\")","v":""},{"$f":"IF(B107=\"\",1,2)","v":1},null,null,null,{"$f":"'4 indices'!C55","v":"8 ans"},{"$f":"'4 indices'!D55","v":"9 ans"},{"$f":"'4 indices'!E55","v":"10 ans"},{"$f":"'4 indices'!F55","v":"11 ans"},null,{"$f":"'4 indices'!G55","v":"Bleu"},{"$f":"'4 indices'!H55","v":"Vert"},{"$f":"'4 indices'!I55","v":"Rouge"},{"$f":"'4 indices'!J55","v":"Jaune"},null,{"$f":"'4 indices'!K55","v":"1e"},{"$f":"'4 indices'!L55","v":"2e"},{"$f":"'4 indices'!M55","v":"3e"},{"$f":"'4 indices'!N55","v":"4e"}]
[null,{"$f":"IF(AND('4 indices'!C58=\"x\",'4 indices'!D58=\"x\",'4 indices'!E58=\"x\",'4 indices'!F58=\"x\"),A54&'4 indices'!C54&\" \"&'4 indices'!B58,\"\")","v":""},1,null,{"$f":"'4 indices'!A56","v":"Equipes"},{"$f":"'4 indices'!B56","v":"Loups"},{"$f":"IF('4 indices'!C56=\"o\",1,0)","v":0},{"$f":"IF('4 indices'!D56=\"o\",1,0)","v":0},{"$f":"IF('4 indices'!E56=\"o\",1,0)","v":0},{"$f":"IF('4 indices'!F56=\"o\",1,0)","v":0},{"$f":"SUM(G108:J108)","v":0},{"$f":"IF('4 indices'!G56=\"o\",1,0)","v":0},{"$f":"IF('4 indices'!H56=\"o\",1,0)","v":0},{"$f":"IF('4 indices'!I56=\"o\",1,0)","v":0},{"$f":"IF('4 indices'!J56=\"o\",1,0)","v":0},{"$f":"SUM(L108:O108)","v":0},{"$f":"IF('4 indices'!K56=\"o\",1,0)","v":0},{"$f":"IF('4 indices'!L56=\"o\",1,0)","v":0},{"$f":"IF('4 indices'!M56=\"o\",1,0)","v":0},{"$f":"IF('4 indices'!N56=\"o\",1,0)","v":0},{"$f":"SUM(Q108:T108)","v":0}]
[null,{"$f":"IF(AND('4 indices'!C59=\"x\",'4 indices'!D59=\"x\",'4 indices'!E59=\"x\",'4 indices'!F59=\"x\"),A54&'4 indices'!C54&\" \"&'4 indices'!B59,\"\")","v":""},1,null,null,{"$f":"'4 indices'!B57","v":"Lynx"},{"$f":"IF('4 indices'!C57=\"o\",1,0)","v":0},{"$f":"IF('4 indices'!D57=\"o\",1,0)","v":0},{"$f":"IF('4 indices'!E57=\"o\",1,0)","v":0},{"$f":"IF('4 indices'!F57=\"o\",1,0)","v":0},{"$f":"SUM(G109:J109)","v":0},{"$f":"IF('4 indices'!G57=\"o\",1,0)","v":0},{"$f":"IF('4 indices'!H57=\"o\",1,0)","v":0},{"$f":"IF('4 indices'!I57=\"o\",1,0)","v":0},{"$f":"IF('4 indices'!J57=\"o\",1,0)","v":0},{"$f":"SUM(L109:O109)","v":0},{"$f":"IF('4 indices'!K57=\"o\",1,0)","v":0},{"$f":"IF('4 indices'!L57=\"o\",1,0)","v":0},{"$f":"IF('4 indices'!M57=\"o\",1,0)","v":0},{"$f":"IF('4 indices'!N57=\"o\",1,0)","v":0},{"$f":"SUM(Q109:T109)","v":0}]
[null,{"$f":"IF(AND('4 indices'!C60=\"x\",'4 indices'!D60=\"x\",'4 indices'!E60=\"x\",'4 indices'!F60=\"x\"),A54&'4 indices'!C54&\" \"&'4 indices'!B60,\"\")","v":""},1,null,null,{"$f":"'4 indices'!B58","v":"Renards"},{"$f":"IF('4 indices'!C58=\"o\",1,0)","v":0},{"$f":"IF('4 indices'!D58=\"o\",1,0)","v":0},{"$f":"IF('4 indices'!E58=\"o\",1,0)","v":0},{"$f":"IF('4 indices'!F58=\"o\",1,0)","v":0},0,{"$f":"IF('4 indices'!G58=\"o\",1,0)","v":0},{"$f":"IF('4 indices'!H58=\"o\",1,0)","v":0},{"$f":"IF('4 indices'!I58=\"o\",1,0)","v":0},{"$f":"IF('4 indices'!J58=\"o\",1,0)","v":0},0,{"$f":"IF('4 indices'!K58=\"o\",1,0)","v":0},{"$f":"IF('4 indices'!L58=\"o\",1,0)","v":0},{"$f":"IF('4 indices'!M58=\"o\",1,0)","v":0},{"$f":"IF('4 indices'!N58=\"o\",1,0)","v":0},0]
[null,{"$f":"IF(AND('4 indices'!C61=\"x\",'4 indices'!D61=\"x\",'4 indices'!E61=\"x\",'4 indices'!F61=\"x\"),A54&'4 indices'!C54&\" \"&'4 indices'!B61,\"\")","v":""},1,null,null,{"$f":"'4 indices'!B59","v":"Lions"},{"$f":"IF('4 indices'!C59=\"o\",1,0)","v":0},{"$f":"IF('4 indices'!D59=\"o\",1,0)","v":0},{"$f":"IF('4 indices'!E59=\"o\",1,0)","v":0},{"$f":"IF('4 indices'!F59=\"o\",1,0)","v":0},0,{"$f":"IF('4 indices'!G59=\"o\",1,0)","v":0},{"$f":"IF('4 indices'!H59=\"o\",1,0)","v":0},{"$f":"IF('4 indices'!I59=\"o\",1,0)","v":0},{"$f":"IF('4 indices'!J59=\"o\",1,0)","v":0},0,{"$f":"IF('4 indices'!K59=\"o\",1,0)","v":0},{"$f":"IF('4 indices'!L59=\"o\",1,0)","v":0},{"$f":"IF('4 indices'!M59=\"o\",1,0)","v":0},{"$f":"IF('4 indices'!N59=\"o\",1,0)","v":0},0]
[null,{"$f":"IF(AND('4 indices'!C62=\"x\",'4 indices'!D62=\"x\",'4 indices'!E62=\"x\",'4 indices'!F62=\"x\"),A54&'4 indices'!C54&\" \"&'4 indices'!B62,\"\")","v":""},1,null,null,null,{"$f":"SUM(G108:G111)","v":0},{"$f":"SUM(H108:H111)","v":0},0,0,null,{"$f":"SUM(L108:L111)","v":0},{"$f":"SUM(M108:M111)","v":0},0,0,null,{"$f":"SUM(Q108:Q111)","v":0},{"$f":"SUM(R108:R111)","v":0},0,0]
[null,{"$f":"IF(AND('4 indices'!C63=\"x\",'4 indices'!D63=\"x\",'4 indices'!E63=\"x\",'4 indices'!F63=\"x\"),A54&'4 indices'!C54&\" \"&'4 indices'!B63,\"\")","v":""},1,null,{"$f":"'4 indices'!A60","v":"Classement"},{"$f":"'4 indices'!B60","v":"1e"},{"$f":"IF('4 indices'!C60=\"o\",1,0)","v":0},{"$f":"IF('4 indices'!D60=\"o\",1,0)","v":0},{"$f":"IF('4 indices'!E60=\"o\",1,0)","v":0},{"$f":"IF('4 indices'!F60=\"o\",1,0)","v":0},{"$f":"SUM(G113:J113)","v":0},{"$f":"IF('4 indices'!G60=\"o\",1,0)","v":0},{"$f":"IF('4 indices'!H60=\"o\",1,0)","v":0},{"$f":"IF('4 indices'!I60=\"o\",1,0)","v":0},{"$f":"IF('4 indices'!J60=\"o\",1,0)","v":0},{"$f":"SUM(L113:O113)","v":0}]
[null,{"$f":"IF(AND('4 indices'!C64=\"x\",'4 indices'!D64=\"x\",'4 indices'!E64=\"x\",'4 indices'!F64=\"x\"),A54&'4 indices'!C54&\" \"&'4 indices'!B64,\"\")","v":""},1,null,null,{"$f":"'4 indices'!B61","v":"2e"},{"$f":"IF('4 indices'!C61=\"o\",1,0)","v":0},{"$f":"IF('4 indices'!D61=\"o\",1,0)","v":0},{"$f":"IF('4 indices'!E61=\"o\",1,0)","v":0},{"$f":"IF('4 indices'!F61=\"o\",1,0)","v":0},{"$f":"SUM(G114:J114)","v":0},{"$f":"IF('4 indices'!G61=\"o\",1,0)","v":0},{"$f":"IF('4 indices'!H61=\"o\",1,0)","v":0},{"$f":"IF('4 indices'!I61=\"o\",1,0)","v":0},{"$f":"IF('4 indices'!J61=\"o\",1,0)","v":0},{"$f":"SUM(L114:O114)","v":0}]
[null,{"$f":"IF(AND('4 indices'!C65=\"x\",'4 indices'!D65=\"x\",'4 indices'!E65=\"x\",'4 indices'!F65=\"x\"),A54&'4 indices'!C54&\" \"&'4 indices'!B65,\"\")","v":""},1,null,null,{"$f":"'4 indices'!B62","v":"3e"},{"$f":"IF('4 indices'!C62=\"o\",1,0)","v":0},{"$f":"IF('4 indices'!D62=\"o\",1,0)","v":0},{"$f":"IF('4 indices'!E62=\"o\",1,0)","v":0},{"$f":"IF('4 indices'!F62=\"o\",1,0)","v":0},0,{"$f":"IF('4 indices'!G62=\"o\",1,0)","v":0},{"$f":"IF('4 indices'!H62=\"o\",1,0)","v":0},{"$f":"IF('4 indices'!I62=\"o\",1,0)","v":0},{"$f":"IF('4 indices'!J62=\"o\",1,0)","v":0},0]
[null,{"$f":"IF(AND('4 indices'!C66=\"x\",'4 indices'!D66=\"x\",'4 indices'!E66=\"x\",'4 indices'!F66=\"x\"),A54&'4 indices'!C54&\" \"&'4 indices'!B66,\"\")","v":""},1,null,null,{"$f":"'4 indices'!B63","v":"4e"},{"$f":"IF('4 indices'!C63=\"o\",1,0)","v":0},{"$f":"IF('4 indices'!D63=\"o\",1,0)","v":0},{"$f":"IF('4 indices'!E63=\"o\",1,0)","v":0},{"$f":"IF('4 indices'!F63=\"o\",1,0)","v":0},0,{"$f":"IF('4 indices'!G63=\"o\",1,0)","v":0},{"$f":"IF('4 indices'!H63=\"o\",1,0)","v":0},{"$f":"IF('4 indices'!I63=\"o\",1,0)","v":0},{"$f":"IF('4 indices'!J63=\"o\",1,0)","v":0},0]
[null,{"$f":"IF(AND('4 indices'!C67=\"x\",'4 indices'!D67=\"x\",'4 indices'!E67=\"x\",'4 indices'!F67=\"x\"),A54&'4 indices'!C54&\" \"&'4 indices'!B67,\"\")","v":""},1,null,null,null,{"$f":"SUM(G113:G116)","v":0},{"$f":"SUM(H113:H116)","v":0},0,0,null,{"$f":"SUM(L113:L116)","v":0},{"$f":"SUM(M113:M116)","v":0},0,0]
[null,{"$f":"IF(AND('4 indices'!G56=\"x\",'4 indices'!H56=\"x\",'4 indices'!I56=\"x\",'4 indices'!J56=\"x\"),A54&'4 indices'!G54&\" \"&'4 indices'!B56,\"\")","v":""},1,null,{"$f":"'4 indices'!A64","v":"Fanion"},{"$f":"'4 indices'!B64","v":"Bleu"},{"$f":"IF('4 indices'!C64=\"o\",1,0)","v":0},{"$f":"IF('4 indices'!D64=\"o\",1,0)","v":0},{"$f":"IF('4 indices'!E64=\"o\",1,0)","v":0},{"$f":"IF('4 indices'!F64=\"o\",1,0)","v":0},{"$f":"SUM(G118:J118)","v":0},"Impossible qu'il y ai plus de deux Oui "]
[null,{"$f":"IF(AND('4 indices'!G57=\"x\",'4 indices'!H57=\"x\",'4 indices'!I57=\"x\",'4 indices'!J57=\"x\"),A54&'4 indices'!G54&\" \"&'4 indices'!B57,\"\")","v":""},1,null,null,{"$f":"'4 indices'!B65","v":"Vert"},{"$f":"IF('4 indices'!C65=\"o\",1,0)","v":0},{"$f":"IF('4 indices'!D65=\"o\",1,0)","v":0},{"$f":"IF('4 indices'!E65=\"o\",1,0)","v":0},{"$f":"IF('4 indices'!F65=\"o\",1,0)","v":0},{"$f":"SUM(G119:J119)","v":0}," sur la ligne "]
[null,{"$f":"IF(AND('4 indices'!G58=\"x\",'4 indices'!H58=\"x\",'4 indices'!I58=\"x\",'4 indices'!J58=\"x\"),A54&'4 indices'!G54&\" \"&'4 indices'!B58,\"\")","v":""},1,null,null,{"$f":"'4 indices'!B66","v":"Rouge"},{"$f":"IF('4 indices'!C66=\"o\",1,0)","v":0},{"$f":"IF('4 indices'!D66=\"o\",1,0)","v":0},{"$f":"IF('4 indices'!E66=\"o\",1,0)","v":0},{"$f":"IF('4 indices'!F66=\"o\",1,0)","v":0},0," sur la colonne "]
[null,{"$f":"IF(AND('4 indices'!G59=\"x\",'4 indices'!H59=\"x\",'4 indices'!I59=\"x\",'4 indices'!J59=\"x\"),A54&'4 indices'!G54&\" \"&'4 indices'!B59,\"\")","v":""},1,null,null,{"$f":"'4 indices'!B67","v":"Jaune"},{"$f":"IF('4 indices'!C67=\"o\",1,0)","v":0},{"$f":"IF('4 indices'!D67=\"o\",1,0)","v":0},{"$f":"IF('4 indices'!E67=\"o\",1,0)","v":0},{"$f":"IF('4 indices'!F67=\"o\",1,0)","v":0},0,"=",{"$f":"IF(K108>1,L118&L119&G106&\" \"&F108,IF(K109>1,L118&L119&G106&\" \"&F109,IF(K110>1,L118&L119&G106&\" \"&F110,IF(K111>1,L118&L119&G106&\" \"&F111,IF(K113>1,L118&L119&G106&\" \"&F113,IF(K114>1,L118&L119&G106&\" \"&F114,IF(K115>1,L118&L119&G106&\" \"&F115,IF(K116>1,L118&L119&G106&\" \"&F116,IF(K118>1,L118&L119&G106&\" \"&F118,IF(K119>1,L118&L119&G106&\" \"&F119,IF(K120>1,L118&L119&G106&\" \"&F120,IF(K121>1,L118&L119&G106&\" \"&F121,IF(P108>1,L118&L119&L106&\" \"&F108,IF(P109>1,L118&L119&L106&\" \"&F109,IF(P110>1,L118&L119&L106&\" \"&F110,IF(P111>1,L118&L119&L106&\" \"&F111,IF(P113>1,L118&L119&L106&\" \"&F113,IF(P114>1,L118&L119&L106&\" \"&F114,IF(P115>1,L118&L119&L106&\" \"&F115,IF(P116>1,L118&L119&L106&\" \"&F116,IF(U108>1,L118&L119&Q106&\" \"&F108,IF(U109>1,L118&L119&Q106&\" \"&F109,IF(U110>1,L118&L119&Q106&\" \"&F110,IF(U111>1,L118&L119&Q106&\" \"&F111,\"\"))))))))))))))))))))))))","v":""}]
[null,{"$f":"IF(AND('4 indices'!G60=\"x\",'4 indices'!H60=\"x\",'4 indices'!I60=\"x\",'4 indices'!J60=\"x\"),A54&'4 indices'!G54&\" \"&'4 indices'!B60,\"\")","v":""},1,null,null,null,{"$f":"SUM(G118:G121)","v":0},{"$f":"SUM(H118:H121)","v":0},0,0,null,"=",{"$f":"IF(G112>1,L118&L120&E108&\" \"&G107,IF(H112>1,L118&L120&E108&\" \"&H107,IF(I112>1,L118&L120&E108&\" \"&I107,IF(J112>1,L118&L120&E108&\" \"&J107,IF(L112>1,L118&L120&E108&\" \"&L107,IF(M112>1,L118&L120&E108&\" \"&M107,IF(N112>1,L118&L120&E108&\" \"&N107,IF(O112>1,L118&L120&E108&\" \"&O107,IF(Q112>1,L118&L120&E108&\" \"&Q107,IF(R112>1,L118&L120&E108&\" \"&R107,IF(S112>1,L118&L120&E108&\" \"&S107,IF(T112>1,L118&L120&E108&\" \"&T107,IF(G117>1,L118&L120&E113&\" \"&G107,IF(H117>1,L118&L120&E113&\" \"&H107,IF(I117>1,L118&L120&E113&\" \"&I107,IF(J117>1,L118&L120&E113&\" \"&J107,IF(L117>1,L118&L120&E113&\" \"&L107,IF(M117>1,L118&L120&E113&\" \"&M107,IF(N117>1,L118&L120&E113&\" \"&N107,IF(O117>1,L118&L120&E113&\" \"&O107,IF(G122>1,L118&L120&E118&\" \"&G107,IF(H122>1,L118&L120&E118&\" \"&H107,IF(I122>1,L118&L120&E118&\" \"&I107,IF(J122>1,L118&L120&E118&\" \"&J107,\"\"))))))))))))))))))))))))","v":""}]
[null,{"$f":"IF(AND('4 indices'!G61=\"x\",'4 indices'!H61=\"x\",'4 indices'!I61=\"x\",'4 indices'!J61=\"x\"),A54&'4 indices'!G54&\" \"&'4 indices'!B61,\"\")","v":""},1]
[null,{"$f":"IF(AND('4 indices'!G62=\"x\",'4 indices'!H62=\"x\",'4 indices'!I62=\"x\",'4 indices'!J62=\"x\"),A54&'4 indices'!G54&\" \"&'4 indices'!B62,\"\")","v":""},1]
[null,{"$f":"IF(AND('4 indices'!G63=\"x\",'4 indices'!H63=\"x\",'4 indices'!I63=\"x\",'4 indices'!J63=\"x\"),A54&'4 indices'!G54&\" \"&'4 indices'!B63,\"\")","v":""},1]
[null,{"$f":"IF(AND('4 indices'!K56=\"x\",'4 indices'!L56=\"x\",'4 indices'!M56=\"x\",'4 indices'!N56=\"x\"),A54&'4 indices'!K54&\" \"&'4 indices'!B56,\"\")","v":""},1]
[null,{"$f":"IF(AND('4 indices'!K57=\"x\",'4 indices'!L57=\"x\",'4 indices'!M57=\"x\",'4 indices'!N57=\"x\"),A54&'4 indices'!K54&\" \"&'4 indices'!B57,\"\")","v":""},1]
[null,{"$f":"IF(AND('4 indices'!K58=\"x\",'4 indices'!L58=\"x\",'4 indices'!M58=\"x\",'4 indices'!N58=\"x\"),A54&'4 indices'!K54&\" \"&'4 indices'!B58,\"\")","v":""},1]
[null,{"$f":"IF(AND('4 indices'!K59=\"x\",'4 indices'!L59=\"x\",'4 indices'!M59=\"x\",'4 indices'!N59=\"x\"),A54&'4 indices'!K54&\" \"&'4 indices'!B59,\"\")","v":""},1]
[]
[null,{"$f":"IF(C132=2,B132,IF(C133=2,B133,IF(C134=2,B134,IF(C135=2,B135,IF(C136=2,B136,IF(C137=2,B137,IF(C138=2,B138,IF(C139=2,B139,IF(C140=2,B140,IF(C141=2,B141,IF(C142=2,B142,IF(C143=2,B143,IF(C144=2,B144,IF(C145=2,B145,IF(C146=2,B146,IF(C147=2,B147,IF(C148=2,B148,IF(C149=2,B149,IF(C150=2,B150,IF(C151=2,B151,IF(C152=2,B152,IF(C153=2,B153,IF(C154=2,B154,IF(C155=2,B155,\"\"))))))))))))))))))))))))","v":""}]
["Impossible d'avoir 4 non sur la même colonne  ",{"$f":"IF(AND('4 indices'!C56=\"x\",'4 indices'!C57=\"x\",'4 indices'!C58=\"x\",'4 indices'!C59=\"x\"),$A$28&'4 indices'!$A56&\" \"&'4 indices'!C55,\"\")","v":""},{"$f":"IF(B132=\"\",1,2)","v":1},{"$f":"IF(AND('4 indices'!E131=\"x\",'4 indices'!F131=\"x\",'4 indices'!G131=\"x\",'4 indices'!H131=\"x\"),C132&'4 indices'!E129&\" \"&'4 indices'!D131,\"\")","v":""}]
[null,{"$f":"IF(AND('4 indices'!D56=\"x\",'4 indices'!D57=\"x\",'4 indices'!D58=\"x\",'4 indices'!D59=\"x\"),$A$28&'4 indices'!$A56&\" \"&'4 indices'!D55,\"\")","v":""},{"$f":"IF(B133=\"\",1,2)","v":1}]
[null,{"$f":"IF(AND('4 indices'!E56=\"x\",'4 indices'!E57=\"x\",'4 indices'!E58=\"x\",'4 indices'!E59=\"x\"),$A$28&'4 indices'!$A56&\" \"&'4 indices'!E55,\"\")","v":""},1]
[null,{"$f":"IF(AND('4 indices'!F56=\"x\",'4 indices'!F57=\"x\",'4 indices'!F58=\"x\",'4 indices'!F59=\"x\"),$A$28&'4 indices'!$A56&\" \"&'4 indices'!F55,\"\")","v":""},1]
[null,{"$f":"IF(AND('4 indices'!G56=\"x\",'4 indices'!G57=\"x\",'4 indices'!G58=\"x\",'4 indices'!G59=\"x\"),$A$28&'4 indices'!$A56&\" \"&'4 indices'!G55,\"\")","v":""},1]
[null,{"$f":"IF(AND('4 indices'!H56=\"x\",'4 indices'!H57=\"x\",'4 indices'!H58=\"x\",'4 indices'!H59=\"x\"),$A$28&'4 indices'!$A56&\" \"&'4 indices'!H55,\"\")","v":""},1]
[null,{"$f":"IF(AND('4 indices'!I56=\"x\",'4 indices'!I57=\"x\",'4 indices'!I58=\"x\",'4 indices'!I59=\"x\"),$A$28&'4 indices'!$A56&\" \"&'4 indices'!I55,\"\")","v":""},1]
[null,{"$f":"IF(AND('4 indices'!J56=\"x\",'4 indices'!J57=\"x\",'4 indices'!J58=\"x\",'4 indices'!J59=\"x\"),$A$28&'4 indices'!$A56&\" \"&'4 indices'!J55,\"\")","v":""},1]
[null,{"$f":"IF(AND('4 indices'!K56=\"x\",'4 indices'!K57=\"x\",'4 indices'!K58=\"x\",'4 indices'!K59=\"x\"),$A$28&'4 indices'!$A56&\" \"&'4 indices'!K55,\"\")","v":""},1]
[null,{"$f":"IF(AND('4 indices'!L56=\"x\",'4 indices'!L57=\"x\",'4 indices'!L58=\"x\",'4 indices'!L59=\"x\"),$A$28&'4 indices'!$A56&\" \"&'4 indices'!L55,\"\")","v":""},1]
[null,{"$f":"IF(AND('4 indices'!M56=\"x\",'4 indices'!M57=\"x\",'4 indices'!M58=\"x\",'4 indices'!M59=\"x\"),$A$28&'4 indices'!$A56&\" \"&'4 indices'!M55,\"\")","v":""},1]
[null,{"$f":"IF(AND('4 indices'!N56=\"x\",'4 indices'!N57=\"x\",'4 indices'!N58=\"x\",'4 indices'!N59=\"x\"),$A$28&'4 indices'!$A56&\" \"&'4 indices'!N55,\"\")","v":""},1]
[null,{"$f":"IF(AND('4 indices'!C60=\"x\",'4 indices'!C61=\"x\",'4 indices'!C62=\"x\",'4 indices'!C63=\"x\"),$A$28&'4 indices'!$A$60&\" \"&'4 indices'!C55,\"\")","v":""},1]
[null,{"$f":"IF(AND('4 indices'!D60=\"x\",'4 indices'!D61=\"x\",'4 indices'!D62=\"x\",'4 indices'!D63=\"x\"),$A$28&'4 indices'!$A$60&\" \"&'4 indices'!D55,\"\")","v":""},1]
[null,{"$f":"IF(AND('4 indices'!E60=\"x\",'4 indices'!E61=\"x\",'4 indices'!E62=\"x\",'4 indices'!E63=\"x\"),$A$28&'4 indices'!$A$60&\" \"&'4 indices'!E55,\"\")","v":""},1]
[null,{"$f":"IF(AND('4 indices'!F60=\"x\",'4 indices'!F61=\"x\",'4 indices'!F62=\"x\",'4 indices'!F63=\"x\"),$A$28&'4 indices'!$A$60&\" \"&'4 indices'!F55,\"\")","v":""},1]
[null,{"$f":"IF(AND('4 indices'!G60=\"x\",'4 indices'!G61=\"x\",'4 indices'!G62=\"x\",'4 indices'!G63=\"x\"),$A$28&'4 indices'!$A$60&\" \"&'4 indices'!G55,\"\")","v":""},1]
[null,{"$f":"IF(AND('4 indices'!H60=\"x\",'4 indices'!H61=\"x\",'4 indices'!H62=\"x\",'4 indices'!H63=\"x\"),$A$28&'4 indices'!$A$60&\" \"&'4 indices'!H55,\"\")","v":""},1]
[null,{"$f":"IF(AND('4 indices'!I60=\"x\",'4 indices'!I61=\"x\",'4 indices'!I62=\"x\",'4 indices'!I63=\"x\"),$A$28&'4 indices'!$A$60&\" \"&'4 indices'!I55,\"\")","v":""},1]
[null,{"$f":"IF(AND('4 indices'!J60=\"x\",'4 indices'!J61=\"x\",'4 indices'!J62=\"x\",'4 indices'!J63=\"x\"),$A$28&'4 indices'!$A$60&\" \"&'4 indices'!J55,\"\")","v":""},1]
[null,{"$f":"IF(AND('4 indices'!C64=\"x\",'4 indices'!C65=\"x\",'4 indices'!C66=\"x\",'4 indices'!C67=\"x\"),$A$28&'4 indices'!$A$64&\" \"&'4 indices'!C55,\"\")","v":""},1]
[null,{"$f":"IF(AND('4 indices'!D64=\"x\",'4 indices'!D65=\"x\",'4 indices'!D66=\"x\",'4 indices'!D67=\"x\"),$A$28&'4 indices'!$A$64&\" \"&'4 indices'!D55,\"\")","v":""},1]
[null,{"$f":"IF(AND('4 indices'!E64=\"x\",'4 indices'!E65=\"x\",'4 indices'!E66=\"x\",'4 indices'!E67=\"x\"),$A$28&'4 indices'!$A$64&\" \"&'4 indices'!E55,\"\")","v":""},1]
[null,{"$f":"IF(AND('4 indices'!F64=\"x\",'4 indices'!F65=\"x\",'4 indices'!F66=\"x\",'4 indices'!F67=\"x\"),$A$28&'4 indices'!$A$64&\" \"&'4 indices'!F55,\"\")","v":""},1]
[]
[{"$f":"'4 indices'!A76","v":"XIV°/  Fashion mode :"},{"$f":"IF(C158=2,B158,IF(C159=2,B159,IF(C160=2,B160,IF(C161=2,B161,IF(C162=2,B162,IF(C163=2,B163,IF(C164=2,B164,IF(C165=2,B165,IF(C166=2,B166,IF(C167=2,B167,IF(C168=2,B168,IF(C169=2,B169,IF(C170=2,B170,IF(C171=2,B171,IF(C172=2,B172,IF(C173=2,B173,IF(C174=2,B174,IF(C175=2,B175,IF(C176=2,B176,IF(C177=2,B177,IF(C178=2,B178,IF(C179=2,B179,IF(C180=2,B180,IF(C181=2,B181,\"\"))))))))))))))))))))))))","v":""}]
["Impossible d'avoir 4 non sur la même ligne ",{"$f":"IF(AND('4 indices'!C81=\"x\",'4 indices'!D81=\"x\",'4 indices'!E81=\"x\",'4 indices'!F81=\"x\"),A80&'4 indices'!C79&\" \"&'4 indices'!B81,\"\")","v":""},{"$f":"IF(B158=\"\",1,2)","v":1},null,null,null,{"$f":"'4 indices'!C79","v":"Casquette"},null,null,null,null,{"$f":"'4 indices'!G79","v":"T-shirt"},null,null,null,null,{"$f":"'4 indices'!K79","v":"Pantalon"}]
[null,{"$f":"IF(AND('4 indices'!C82=\"x\",'4 indices'!D82=\"x\",'4 indices'!E82=\"x\",'4 indices'!F82=\"x\"),A80&'4 indices'!C79&\" \"&'4 indices'!B82,\"\")","v":""},{"$f":"IF(B159=\"\",1,2)","v":1},null,null,null,{"$f":"'4 indices'!C80","v":"Blanche"},{"$f":"'4 indices'!D80","v":"Jaune"},{"$f":"'4 indices'!E80","v":"Rose"},{"$f":"'4 indices'!F80","v":"Rouge"},null,{"$f":"'4 indices'!G80","v":"Blanc"},{"$f":"'4 indices'!H80","v":"Bleu"},{"$f":"'4 indices'!I80","v":"Orange"},{"$f":"'4 indices'!J80","v":"Rouge"},null,{"$f":"'4 indices'!K80","v":"Bleu"},{"$f":"'4 indices'!L80","v":"Rose"},{"$f":"'4 indices'!M80","v":"Vert"},{"$f":"'4 indices'!N80","v":"Blanc"}]
[null,{"$f":"IF(AND('4 indices'!C83=\"x\",'4 indices'!D83=\"x\",'4 indices'!E83=\"x\",'4 indices'!F83=\"x\"),A80&'4 indices'!C79&\" \"&'4 indices'!B83,\"\")","v":""},1,null,{"$f":"'4 indices'!A81","v":"Prénom"},{"$f":"'4 indices'!B81","v":"Lola"},{"$f":"IF('4 indices'!C81=\"o\",1,0)","v":0},{"$f":"IF('4 indices'!D81=\"o\",1,0)","v":0},{"$f":"IF('4 indices'!E81=\"o\",1,0)","v":0},{"$f":"IF('4 indices'!F81=\"o\",1,0)","v":0},{"$f":"SUM(G160:J160)","v":0},{"$f":"IF('4 indices'!G81=\"o\",1,0)","v":0},{"$f":"IF('4 indices'!H81=\"o\",1,0)","v":0},{"$f":"IF('4 indices'!I81=\"o\",1,0)","v":0},{"$f":"IF('4 indices'!J81=\"o\",1,0)","v":0},{"$f":"SUM(L160:O160)","v":0},{"$f":"IF('4 indices'!K81=\"o\",1,0)","v":0},{"$f":"IF('4 indices'!L81=\"o\",1,0)","v":0},{"$f":"IF('4 indices'!M81=\"o\",1,0)","v":0},{"$f":"IF('4 indices'!N81=\"o\",1,0)","v":0},{"$f":"SUM(Q160:T160)","v":0}]
[null,{"$f":"IF(AND('4 indices'!C84=\"x\",'4 indices'!D84=\"x\",'4 indices'!E84=\"x\",'4 indices'!F84=\"x\"),A80&'4 indices'!C79&\" \"&'4 indices'!B84,\"\")","v":""},1,null,null,{"$f":"'4 indices'!B82","v":"Lise"},{"$f":"IF('4 indices'!C82=\"o\",1,0)","v":0},{"$f":"IF('4 indices'!D82=\"o\",1,0)","v":0},{"$f":"IF('4 indices'!E82=\"o\",1,0)","v":0},{"$f":"IF('4 indices'!F82=\"o\",1,0)","v":0},{"$f":"SUM(G161:J161)","v":0},{"$f":"IF('4 indices'!G82=\"o\",1,0)","v":0},{"$f":"IF('4 indices'!H82=\"o\",1,0)","v":0},{"$f":"IF('4 indices'!I82=\"o\",1,0)","v":0},{"$f":"IF('4 indices'!J82=\"o\",1,0)","v":0},{"$f":"SUM(L161:O161)","v":0},{"$f":"IF('4 indices'!K82=\"o\",1,0)","v":0},{"$f":"IF('4 indices'!L82=\"o\",1,0)","v":0},{"$f":"IF('4 indices'!M82=\"o\",1,0)","v":0},{"$f":"IF('4 indices'!N82=\"o\",1,0)","v":0},{"$f":"SUM(Q161:T161)","v":0}]
[null,{"$f":"IF(AND('4 indices'!C85=\"x\",'4 indices'!D85=\"x\",'4 indices'!E85=\"x\",'4 indices'!F85=\"x\"),A80&'4 indices'!C79&\" \"&'4 indices'!B85,\"\")","v":""},1,null,null,{"$f":"'4 indices'!B83","v":"Ninon"},{"$f":"IF('4 indices'!C83=\"o\",1,0)","v":0},{"$f":"IF('4 indices'!D83=\"o\",1,0)","v":0},{"$f":"IF('4 indices'!E83=\"o\",1,0)","v":0},{"$f":"IF('4 indices'!F83=\"o\",1,0)","v":0},0,{"$f":"IF('4 indices'!G83=\"o\",1,0)","v":0},{"$f":"IF('4 indices'!H83=\"o\",1,0)","v":0},{"$f":"IF('4 indices'!I83=\"o\",1,0)","v":0},{"$f":"IF('4 indices'!J83=\"o\",1,0)","v":0},0,{"$f":"IF('4 indices'!K83=\"o\",1,0)","v":0},{"$f":"IF('4 indices'!L83=\"o\",1,0)","v":0},{"$f":"IF('4 indices'!M83=\"o\",1,0)","v":0},{"$f":"IF('4 indices'!N83=\"o\",1,0)","v":0},0]
[null,{"$f":"IF(AND('4 indices'!C86=\"x\",'4 indices'!D86=\"x\",'4 indices'!E86=\"x\",'4 indices'!F86=\"x\"),A80&'4 indices'!C79&\" \"&'4 indices'!B86,\"\")","v":""},1,null,null,{"$f":"'4 indices'!B84","v":"Inès"},{"$f":"IF('4 indices'!C84=\"o\",1,0)","v":0},{"$f":"IF('4 indices'!D84=\"o\",1,0)","v":0},{"$f":"IF('4 indices'!E84=\"o\",1,0)","v":0},{"$f":"IF('4 indices'!F84=\"o\",1,0)","v":0},0,{"$f":"IF('4 indices'!G84=\"o\",1,0)","v":0},{"$f":"IF('4 indices'!H84=\"o\",1,0)","v":0},{"$f":"IF('4 indices'!I84=\"o\",1,0)","v":0},{"$f":"IF('4 indices'!J84=\"o\",1,0)","v":0},0,{"$f":"IF('4 indices'!K84=\"o\",1,0)","v":0},{"$f":"IF('4 indices'!L84=\"o\",1,0)","v":0},{"$f":"IF('4 indices'!M84=\"o\",1,0)","v":0},{"$f":"IF('4 indices'!N84=\"o\",1,0)","v":0},0]
[null,{"$f":"IF(AND('4 indices'!C87=\"x\",'4 indices'!D87=\"x\",'4 indices'!E87=\"x\",'4 indices'!F87=\"x\"),A80&'4 indices'!C79&\" \"&'4 indices'!B87,\"\")","v":""},1,null,null,null,{"$f":"SUM(G160:G163)","v":0},{"$f":"SUM(H160:H163)","v":0},0,0,null,{"$f":"SUM(L160:L163)","v":0},{"$f":"SUM(M160:M163)","v":0},0,0,null,{"$f":"SUM(Q160:Q163)","v":0},{"$f":"SUM(R160:R163)","v":0},0,0]
[null,{"$f":"IF(AND('4 indices'!C88=\"x\",'4 indices'!D88=\"x\",'4 indices'!E88=\"x\",'4 indices'!F88=\"x\"),A80&'4 indices'!C79&\" \"&'4 indices'!B88,\"\")","v":""},1,null,{"$f":"'4 indices'!A85","v":"Pantalon"},{"$f":"'4 indices'!B85","v":"Bleu"},{"$f":"IF('4 indices'!C85=\"o\",1,0)","v":0},{"$f":"IF('4 indices'!D85=\"o\",1,0)","v":0},{"$f":"IF('4 indices'!E85=\"o\",1,0)","v":0},{"$f":"IF('4 indices'!F85=\"o\",1,0)","v":0},{"$f":"SUM(G165:J165)","v":0},{"$f":"IF('4 indices'!G85=\"o\",1,0)","v":0},{"$f":"IF('4 indices'!H85=\"o\",1,0)","v":0},{"$f":"IF('4 indices'!I85=\"o\",1,0)","v":0},{"$f":"IF('4 indices'!J85=\"o\",1,0)","v":0},{"$f":"SUM(L165:O165)","v":0}]
[null,{"$f":"IF(AND('4 indices'!C89=\"x\",'4 indices'!D89=\"x\",'4 indices'!E89=\"x\",'4 indices'!F89=\"x\"),A80&'4 indices'!C79&\" \"&'4 indices'!B89,\"\")","v":""},1,null,null,{"$f":"'4 indices'!B86","v":"Rose"},{"$f":"IF('4 indices'!C86=\"o\",1,0)","v":0},{"$f":"IF('4 indices'!D86=\"o\",1,0)","v":0},{"$f":"IF('4 indices'!E86=\"o\",1,0)","v":0},{"$f":"IF('4 indices'!F86=\"o\",1,0)","v":0},{"$f":"SUM(G166:J166)","v":0},{"$f":"IF('4 indices'!G86=\"o\",1,0)","v":0},{"$f":"IF('4 indices'!H86=\"o\",1,0)","v":0},{"$f":"IF('4 indices'!I86=\"o\",1,0)","v":0},{"$f":"IF('4 indices'!J86=\"o\",1,0)","v":0},{"$f":"SUM(L166:O166)","v":0}]
[null,{"$f":"IF(AND('4 indices'!C90=\"x\",'4 indices'!D90=\"x\",'4 indices'!E90=\"x\",'4 indices'!F90=\"x\"),A80&'4 indices'!C79&\" \"&'4 indices'!B90,\"\")","v":""},1,null,null,{"$f":"'4 indices'!B87","v":"Vert"},{"$f":"IF('4 indices'!C87=\"o\",1,0)","v":0},{"$f":"IF('4 indices'!D87=\"o\",1,0)","v":0},{"$f":"IF('4 indices'!E87=\"o\",1,0)","v":0},{"$f":"IF('4 indices'!F87=\"o\",1,0)","v":0},0,{"$f":"IF('4 indices'!G87=\"o\",1,0)","v":0},{"$f":"IF('4 indices'!H87=\"o\",1,0)","v":0},{"$f":"IF('4 indices'!I87=\"o\",1,0)","v":0},{"$f":"IF('4 indices'!J87=\"o\",1,0)","v":0},0]
[null,{"$f":"IF(AND('4 indices'!C91=\"x\",'4 indices'!D91=\"x\",'4 indices'!E91=\"x\",'4 indices'!F91=\"x\"),A80&'4 indices'!C79&\" \"&'4 indices'!B91,\"\")","v":""},1,null,null,{"$f":"'4 indices'!B88","v":"Blanc"},{"$f":"IF('4 indices'!C88=\"o\",1,0)","v":0},{"$f":"IF('4 indices'!D88=\"o\",1,0)","v":0},{"$f":"IF('4 indices'!E88=\"o\",1,0)","v":0},{"$f":"IF('4 indices'!F88=\"o\",1,0)","v":0},0,{"$f":"IF('4 indices'!G88=\"o\",1,0)","v":0},{"$f":"IF('4 indices'!H88=\"o\",1,0)","v":0},{"$f":"IF('4 indices'!I88=\"o\",1,0)","v":0},{"$f":"IF('4 indices'!J88=\"o\",1,0)","v":0},0]
[null,{"$f":"IF(AND('4 indices'!C92=\"x\",'4 indices'!D92=\"x\",'4 indices'!E92=\"x\",'4 indices'!F92=\"x\"),A80&'4 indices'!C79&\" \"&'4 indices'!B92,\"\")","v":""},1,null,null,null,{"$f":"SUM(G165:G168)","v":0},{"$f":"SUM(H165:H168)","v":0},0,0,null,{"$f":"SUM(L165:L168)","v":0},{"$f":"SUM(M165:M168)","v":0},0,0]
[null,{"$f":"IF(AND('4 indices'!G81=\"x\",'4 indices'!H81=\"x\",'4 indices'!I81=\"x\",'4 indices'!J81=\"x\"),A80&'4 indices'!G79&\" \"&'4 indices'!B81,\"\")","v":""},1,null,{"$f":"'4 indices'!A89","v":"T-shirt"},{"$f":"'4 indices'!B89","v":"Blanc"},{"$f":"IF('4 indices'!C89=\"o\",1,0)","v":0},{"$f":"IF('4 indices'!D89=\"o\",1,0)","v":0},{"$f":"IF('4 indices'!E89=\"o\",1,0)","v":0},{"$f":"IF('4 indices'!F89=\"o\",1,0)","v":0},{"$f":"SUM(G170:J170)","v":0},"Impossible qu'il y ai plus de deux Oui "]
[null,{"$f":"IF(AND('4 indices'!G82=\"x\",'4 indices'!H82=\"x\",'4 indices'!I82=\"x\",'4 indices'!J82=\"x\"),A80&'4 indices'!G79&\" \"&'4 indices'!B82,\"\")","v":""},1,null,null,{"$f":"'4 indices'!B90","v":"Bleu"},{"$f":"IF('4 indices'!C90=\"o\",1,0)","v":0},{"$f":"IF('4 indices'!D90=\"o\",1,0)","v":0},{"$f":"IF('4 indices'!E90=\"o\",1,0)","v":0},{"$f":"IF('4 indices'!F90=\"o\",1,0)","v":0},{"$f":"SUM(G171:J171)","v":0}," sur la ligne "]
[null,{"$f":"IF(AND('4 indices'!G83=\"x\",'4 indices'!H83=\"x\",'4 indices'!I83=\"x\",'4 indices'!J83=\"x\"),A80&'4 indices'!G79&\" \"&'4 indices'!B83,\"\")","v":""},1,null,null,{"$f":"'4 indices'!B91","v":"Orange"},{"$f":"IF('4 indices'!C91=\"o\",1,0)","v":0},{"$f":"IF('4 indices'!D91=\"o\",1,0)","v":0},{"$f":"IF('4 indices'!E91=\"o\",1,0)","v":0},{"$f":"IF('4 indices'!F91=\"o\",1,0)","v":0},0," sur la colonne "]
[null,{"$f":"IF(AND('4 indices'!G84=\"x\",'4 indices'!H84=\"x\",'4 indices'!I84=\"x\",'4 indices'!J84=\"x\"),A80&'4 indices'!G79&\" \"&'4 indices'!B84,\"\")","v":""},1,null,null,{"$f":"'4 indices'!B92","v":"Rouge"},{"$f":"IF('4 indices'!C92=\"o\",1,0)","v":0},{"$f":"IF('4 indices'!D92=\"o\",1,0)","v":0},{"$f":"IF('4 indices'!E92=\"o\",1,0)","v":0},{"$f":"IF('4 indices'!F92=\"o\",1,0)","v":0},0,"=",{"$f":"IF(K160>1,L170&L171&G158&\" \"&F160,IF(K161>1,L170&L171&G158&\" \"&F161,IF(K162>1,L170&L171&G158&\" \"&F162,IF(K163>1,L170&L171&G158&\" \"&F163,IF(K165>1,L170&L171&G158&\" \"&F165,IF(K166>1,L170&L171&G158&\" \"&F166,IF(K167>1,L170&L171&G158&\" \"&F167,IF(K168>1,L170&L171&G158&\" \"&F168,IF(K170>1,L170&L171&G158&\" \"&F170,IF(K171>1,L170&L171&G158&\" \"&F171,IF(K172>1,L170&L171&G158&\" \"&F172,IF(K173>1,L170&L171&G158&\" \"&F173,IF(P160>1,L170&L171&L158&\" \"&F160,IF(P161>1,L170&L171&L158&\" \"&F161,IF(P162>1,L170&L171&L158&\" \"&F162,IF(P163>1,L170&L171&L158&\" \"&F163,IF(P165>1,L170&L171&L158&\" \"&F165,IF(P166>1,L170&L171&L158&\" \"&F166,IF(P167>1,L170&L171&L158&\" \"&F167,IF(P168>1,L170&L171&L158&\" \"&F168,IF(U160>1,L170&L171&Q158&\" \"&F160,IF(U161>1,L170&L171&Q158&\" \"&F161,IF(U162>1,L170&L171&Q158&\" \"&F162,IF(U163>1,L170&L171&Q158&\" \"&F163,\"\"))))))))))))))))))))))))","v":""}]
[null,{"$f":"IF(AND('4 indices'!G85=\"x\",'4 indices'!H85=\"x\",'4 indices'!I85=\"x\",'4 indices'!J85=\"x\"),A80&'4 indices'!G79&\" \"&'4 indices'!B85,\"\")","v":""},1,null,null,null,{"$f":"SUM(G170:G173)","v":0},{"$f":"SUM(H170:H173)","v":0},0,0,null,"=",{"$f":"IF(G164>1,L170&L172&E160&\" \"&G159,IF(H164>1,L170&L172&E160&\" \"&H159,IF(I164>1,L170&L172&E160&\" \"&I159,IF(J164>1,L170&L172&E160&\" \"&J159,IF(L164>1,L170&L172&E160&\" \"&L159,IF(M164>1,L170&L172&E160&\" \"&M159,IF(N164>1,L170&L172&E160&\" \"&N159,IF(O164>1,L170&L172&E160&\" \"&O159,IF(Q164>1,L170&L172&E160&\" \"&Q159,IF(R164>1,L170&L172&E160&\" \"&R159,IF(S164>1,L170&L172&E160&\" \"&S159,IF(T164>1,L170&L172&E160&\" \"&T159,IF(G169>1,L170&L172&E165&\" \"&G159,IF(H169>1,L170&L172&E165&\" \"&H159,IF(I169>1,L170&L172&E165&\" \"&I159,IF(J169>1,L170&L172&E165&\" \"&J159,IF(L169>1,L170&L172&E165&\" \"&L159,IF(M169>1,L170&L172&E165&\" \"&M159,IF(N169>1,L170&L172&E165&\" \"&N159,IF(O169>1,L170&L172&E165&\" \"&O159,IF(G174>1,L170&L172&E170&\" \"&G159,IF(H174>1,L170&L172&E170&\" \"&H159,IF(I174>1,L170&L172&E170&\" \"&I159,IF(J174>1,L170&L172&E170&\" \"&J159,\"\"))))))))))))))))))))))))","v":""}]
[null,{"$f":"IF(AND('4 indices'!G86=\"x\",'4 indices'!H86=\"x\",'4 indices'!I86=\"x\",'4 indices'!J86=\"x\"),A80&'4 indices'!G79&\" \"&'4 indices'!B86,\"\")","v":""},1]
[null,{"$f":"IF(AND('4 indices'!G87=\"x\",'4 indices'!H87=\"x\",'4 indices'!I87=\"x\",'4 indices'!J87=\"x\"),A80&'4 indices'!G79&\" \"&'4 indices'!B87,\"\")","v":""},1]
[null,{"$f":"IF(AND('4 indices'!G88=\"x\",'4 indices'!H88=\"x\",'4 indices'!I88=\"x\",'4 indices'!J88=\"x\"),A80&'4 indices'!G79&\" \"&'4 indices'!B88,\"\")","v":""},1]
[null,{"$f":"IF(AND('4 indices'!K81=\"x\",'4 indices'!L81=\"x\",'4 indices'!M81=\"x\",'4 indices'!N81=\"x\"),A80&'4 indices'!K79&\" \"&'4 indices'!B81,\"\")","v":""},1]
[null,{"$f":"IF(AND('4 indices'!K82=\"x\",'4 indices'!L82=\"x\",'4 indices'!M82=\"x\",'4 indices'!N82=\"x\"),A80&'4 indices'!K79&\" \"&'4 indices'!B82,\"\")","v":""},1]
[null,{"$f":"IF(AND('4 indices'!K83=\"x\",'4 indices'!L83=\"x\",'4 indices'!M83=\"x\",'4 indices'!N83=\"x\"),A80&'4 indices'!K79&\" \"&'4 indices'!B83,\"\")","v":""},1]
[null,{"$f":"IF(AND('4 indices'!K84=\"x\",'4 indices'!L84=\"x\",'4 indices'!M84=\"x\",'4 indices'!N84=\"x\"),A80&'4 indices'!K79&\" \"&'4 indices'!B84,\"\")","v":""},1]
[]
[null,{"$f":"IF(C184=2,B184,IF(C185=2,B185,IF(C186=2,B186,IF(C187=2,B187,IF(C188=2,B188,IF(C189=2,B189,IF(C190=2,B190,IF(C191=2,B191,IF(C192=2,B192,IF(C193=2,B193,IF(C194=2,B194,IF(C195=2,B195,IF(C196=2,B196,IF(C197=2,B197,IF(C198=2,B198,IF(C199=2,B199,IF(C200=2,B200,IF(C201=2,B201,IF(C202=2,B202,IF(C203=2,B203,IF(C204=2,B204,IF(C205=2,B205,IF(C206=2,B206,IF(C207=2,B207,\"\"))))))))))))))))))))))))","v":""}]
["Impossible d'avoir 4 non sur la même colonne  ",{"$f":"IF(AND('4 indices'!C81=\"x\",'4 indices'!C82=\"x\",'4 indices'!C83=\"x\",'4 indices'!C84=\"x\"),$A$28&'4 indices'!$A81&\" \"&'4 indices'!C80,\"\")","v":""},{"$f":"IF(B184=\"\",1,2)","v":1},{"$f":"IF(AND('4 indices'!E181=\"x\",'4 indices'!F181=\"x\",'4 indices'!G181=\"x\",'4 indices'!H181=\"x\"),C184&'4 indices'!E179&\" \"&'4 indices'!D181,\"\")","v":""}]
[null,{"$f":"IF(AND('4 indices'!D81=\"x\",'4 indices'!D82=\"x\",'4 indices'!D83=\"x\",'4 indices'!D84=\"x\"),$A$28&'4 indices'!$A81&\" \"&'4 indices'!D80,\"\")","v":""},{"$f":"IF(B185=\"\",1,2)","v":1}]
[null,{"$f":"IF(AND('4 indices'!E81=\"x\",'4 indices'!E82=\"x\",'4 indices'!E83=\"x\",'4 indices'!E84=\"x\"),$A$28&'4 indices'!$A81&\" \"&'4 indices'!E80,\"\")","v":""},1]
[null,{"$f":"IF(AND('4 indices'!F81=\"x\",'4 indices'!F82=\"x\",'4 indices'!F83=\"x\",'4 indices'!F84=\"x\"),$A$28&'4 indices'!$A81&\" \"&'4 indices'!F80,\"\")","v":""},1]
[null,{"$f":"IF(AND('4 indices'!G81=\"x\",'4 indices'!G82=\"x\",'4 indices'!G83=\"x\",'4 indices'!G84=\"x\"),$A$28&'4 indices'!$A81&\" \"&'4 indices'!G80,\"\")","v":""},1]
[null,{"$f":"IF(AND('4 indices'!H81=\"x\",'4 indices'!H82=\"x\",'4 indices'!H83=\"x\",'4 indices'!H84=\"x\"),$A$28&'4 indices'!$A81&\" \"&'4 indices'!H80,\"\")","v":""},1]
[null,{"$f":"IF(AND('4 indices'!I81=\"x\",'4 indices'!I82=\"x\",'4 indices'!I83=\"x\",'4 indices'!I84=\"x\"),$A$28&'4 indices'!$A81&\" \"&'4 indices'!I80,\"\")","v":""},1]
[null,{"$f":"IF(AND('4 indices'!J81=\"x\",'4 indices'!J82=\"x\",'4 indices'!J83=\"x\",'4 indices'!J84=\"x\"),$A$28&'4 indices'!$A81&\" \"&'4 indices'!J80,\"\")","v":""},1]
[null,{"$f":"IF(AND('4 indices'!K81=\"x\",'4 indices'!K82=\"x\",'4 indices'!K83=\"x\",'4 indices'!K84=\"x\"),$A$28&'4 indices'!$A81&\" \"&'4 indices'!K80,\"\")","v":""},1]
[null,{"$f":"IF(AND('4 indices'!L81=\"x\",'4 indices'!L82=\"x\",'4 indices'!L83=\"x\",'4 indices'!L84=\"x\"),$A$28&'4 indices'!$A81&\" \"&'4 indices'!L80,\"\")","v":""},1]
[null,{"$f":"IF(AND('4 indices'!M81=\"x\",'4 indices'!M82=\"x\",'4 indices'!M83=\"x\",'4 indices'!M84=\"x\"),$A$28&'4 indices'!$A81&\" \"&'4 indices'!M80,\"\")","v":""},1]
[null,{"$f":"IF(AND('4 indices'!N81=\"x\",'4 indices'!N82=\"x\",'4 indices'!N83=\"x\",'4 indices'!N84=\"x\"),$A$28&'4 indices'!$A81&\" \"&'4 indices'!N80,\"\")","v":""},1]
[null,{"$f":"IF(AND('4 indices'!C85=\"x\",'4 indices'!C86=\"x\",'4 indices'!C87=\"x\",'4 indices'!C88=\"x\"),$A$28&'4 indices'!$A$85&\" \"&'4 indices'!C80,\"\")","v":""},1]
[null,{"$f":"IF(AND('4 indices'!D85=\"x\",'4 indices'!D86=\"x\",'4 indices'!D87=\"x\",'4 indices'!D88=\"x\"),$A$28&'4 indices'!$A$85&\" \"&'4 indices'!D80,\"\")","v":""},1]
[null,{"$f":"IF(AND('4 indices'!E85=\"x\",'4 indices'!E86=\"x\",'4 indices'!E87=\"x\",'4 indices'!E88=\"x\"),$A$28&'4 indices'!$A$85&\" \"&'4 indices'!E80,\"\")","v":""},1]
[null,{"$f":"IF(AND('4 indices'!F85=\"x\",'4 indices'!F86=\"x\",'4 indices'!F87=\"x\",'4 indices'!F88=\"x\"),$A$28&'4 indices'!$A$85&\" \"&'4 indices'!F80,\"\")","v":""},1]
[null,{"$f":"IF(AND('4 indices'!G85=\"x\",'4 indices'!G86=\"x\",'4 indices'!G87=\"x\",'4 indices'!G88=\"x\"),$A$28&'4 indices'!$A$85&\" \"&'4 indices'!G80,\"\")","v":""},1]
[null,{"$f":"IF(AND('4 indices'!H85=\"x\",'4 indices'!H86=\"x\",'4 indices'!H87=\"x\",'4 indices'!H88=\"x\"),$A$28&'4 indices'!$A$85&\" \"&'4 indices'!H80,\"\")","v":""},1]
[null,{"$f":"IF(AND('4 indices'!I85=\"x\",'4 indices'!I86=\"x\",'4 indices'!I87=\"x\",'4 indices'!I88=\"x\"),$A$28&'4 indices'!$A$85&\" \"&'4 indices'!I80,\"\")","v":""},1]
[null,{"$f":"IF(AND('4 indices'!J85=\"x\",'4 indices'!J86=\"x\",'4 indices'!J87=\"x\",'4 indices'!J88=\"x\"),$A$28&'4 indices'!$A$85&\" \"&'4 indices'!J80,\"\")","v":""},1]
[null,{"$f":"IF(AND('4 indices'!C89=\"x\",'4 indices'!C90=\"x\",'4 indices'!C91=\"x\",'4 indices'!C92=\"x\"),$A$28&'4 indices'!$A$89&\" \"&'4 indices'!C80,\"\")","v":""},1]
[null,{"$f":"IF(AND('4 indices'!D89=\"x\",'4 indices'!D90=\"x\",'4 indices'!D91=\"x\",'4 indices'!D92=\"x\"),$A$28&'4 indices'!$A$89&\" \"&'4 indices'!D80,\"\")","v":""},1]
[null,{"$f":"IF(AND('4 indices'!E89=\"x\",'4 indices'!E90=\"x\",'4 indices'!E91=\"x\",'4 indices'!E92=\"x\"),$A$28&'4 indices'!$A$89&\" \"&'4 indices'!E80,\"\")","v":""},1]
[null,{"$f":"IF(AND('4 indices'!F89=\"x\",'4 indices'!F90=\"x\",'4 indices'!F91=\"x\",'4 indices'!F92=\"x\"),$A$28&'4 indices'!$A$89&\" \"&'4 indices'!F80,\"\")","v":""},1]
[]
[{"$f":"'4 indices'!A101","v":"XV°/ Divisibles :"},{"$f":"IF(C210=2,B210,IF(C211=2,B211,IF(C212=2,B212,IF(C213=2,B213,IF(C214=2,B214,IF(C215=2,B215,IF(C216=2,B216,IF(C217=2,B217,IF(C218=2,B218,IF(C219=2,B219,IF(C220=2,B220,IF(C221=2,B221,IF(C222=2,B222,IF(C223=2,B223,IF(C224=2,B224,IF(C225=2,B225,IF(C226=2,B226,IF(C227=2,B227,IF(C228=2,B228,IF(C229=2,B229,IF(C230=2,B230,IF(C231=2,B231,IF(C232=2,B232,IF(C233=2,B233,\"\"))))))))))))))))))))))))","v":""}]
["Impossible d'avoir 4 non sur la même ligne ",{"$f":"IF(AND('4 indices'!C106=\"x\",'4 indices'!D106=\"x\",'4 indices'!E106=\"x\",'4 indices'!F106=\"x\"),A106&'4 indices'!C104&\" \"&'4 indices'!B106,\"\")","v":""},{"$f":"IF(B210=\"\",1,2)","v":1},null,null,null,{"$f":"'4 indices'!C104","v":"Classement"},null,null,null,null,{"$f":"'4 indices'!G104","v":"Diviseur"},null,null,null,null,{"$f":"'4 indices'!K104","v":"Unité"}]
[null,{"$f":"IF(AND('4 indices'!C107=\"x\",'4 indices'!D107=\"x\",'4 indices'!E107=\"x\",'4 indices'!F107=\"x\"),A106&'4 indices'!C104&\" \"&'4 indices'!B107,\"\")","v":""},{"$f":"IF(B211=\"\",1,2)","v":1},null,null,null,{"$f":"'4 indices'!C105","v":"1e"},{"$f":"'4 indices'!D105","v":"2e"},{"$f":"'4 indices'!E105","v":"3e"},{"$f":"'4 indices'!F105","v":"4e"},null,{"$f":"'4 indices'!G105","v":3},{"$f":"'4 indices'!H105","v":7},{"$f":"'4 indices'!I105","v":11},{"$f":"'4 indices'!J105","v":13},null,{"$f":"'4 indices'!K105","v":2},{"$f":"'4 indices'!L105","v":5},{"$f":"'4 indices'!M105","v":6},{"$f":"'4 indices'!N105","v":8}]
[null,{"$f":"IF(AND('4 indices'!C108=\"x\",'4 indices'!D108=\"x\",'4 indices'!E108=\"x\",'4 indices'!F108=\"x\"),A106&'4 indices'!C104&\" \"&'4 indices'!B108,\"\")","v":""},1,null,{"$f":"'4 indices'!A106","v":"Entier"},{"$f":"'4 indices'!B106","v":"A"},{"$f":"IF('4 indices'!C106=\"o\",1,0)","v":0},{"$f":"IF('4 indices'!D106=\"o\",1,0)","v":0},{"$f":"IF('4 indices'!E106=\"o\",1,0)","v":0},{"$f":"IF('4 indices'!F106=\"o\",1,0)","v":0},{"$f":"SUM(G212:J212)","v":0},{"$f":"IF('4 indices'!G106=\"o\",1,0)","v":0},{"$f":"IF('4 indices'!H106=\"o\",1,0)","v":0},{"$f":"IF('4 indices'!I106=\"o\",1,0)","v":0},{"$f":"IF('4 indices'!J106=\"o\",1,0)","v":0},{"$f":"SUM(L212:O212)","v":0},{"$f":"IF('4 indices'!K106=\"o\",1,0)","v":0},{"$f":"IF('4 indices'!L106=\"o\",1,0)","v":0},{"$f":"IF('4 indices'!M106=\"o\",1,0)","v":0},{"$f":"IF('4 indices'!N106=\"o\",1,0)","v":0},{"$f":"SUM(Q212:T212)","v":0}]
[null,{"$f":"IF(AND('4 indices'!C109=\"x\",'4 indices'!D109=\"x\",'4 indices'!E109=\"x\",'4 indices'!F109=\"x\"),A106&'4 indices'!C104&\" \"&'4 indices'!B109,\"\")","v":""},1,null,null,{"$f":"'4 indices'!B107","v":"B"},{"$f":"IF('4 indices'!C107=\"o\",1,0)","v":0},{"$f":"IF('4 indices'!D107=\"o\",1,0)","v":0},{"$f":"IF('4 indices'!E107=\"o\",1,0)","v":0},{"$f":"IF('4 indices'!F107=\"o\",1,0)","v":0},{"$f":"SUM(G213:J213)","v":0},{"$f":"IF('4 indices'!G107=\"o\",1,0)","v":0},{"$f":"IF('4 indices'!H107=\"o\",1,0)","v":0},{"$f":"IF('4 indices'!I107=\"o\",1,0)","v":0},{"$f":"IF('4 indices'!J107=\"o\",1,0)","v":0},{"$f":"SUM(L213:O213)","v":0},{"$f":"IF('4 indices'!K107=\"o\",1,0)","v":0},{"$f":"IF('4 indices'!L107=\"o\",1,0)","v":0},{"$f":"IF('4 indices'!M107=\"o\",1,0)","v":0},{"$f":"IF('4 indices'!N107=\"o\",1,0)","v":0},{"$f":"SUM(Q213:T213)","v":0}]
[null,{"$f":"IF(AND('4 indices'!C110=\"x\",'4 indices'!D110=\"x\",'4 indices'!E110=\"x\",'4 indices'!F110=\"x\"),A106&'4 indices'!C104&\" \"&'4 indices'!B110,\"\")","v":""},1,null,null,{"$f":"'4 indices'!B108","v":"C"},{"$f":"IF('4 indices'!C108=\"o\",1,0)","v":0},{"$f":"IF('4 indices'!D108=\"o\",1,0)","v":0},{"$f":"IF('4 indices'!E108=\"o\",1,0)","v":0},{"$f":"IF('4 indices'!F108=\"o\",1,0)","v":0},{"$f":"SUM(G214:J214)","v":0},{"$f":"IF('4 indices'!G108=\"o\",1,0)","v":0},{"$f":"IF('4 indices'!H108=\"o\",1,0)","v":0},{"$f":"IF('4 indices'!I108=\"o\",1,0)","v":0},{"$f":"IF('4 indices'!J108=\"o\",1,0)","v":0},{"$f":"SUM(L214:O214)","v":0},{"$f":"IF('4 indices'!K108=\"o\",1,0)","v":0},{"$f":"IF('4 indices'!L108=\"o\",1,0)","v":0},{"$f":"IF('4 indices'!M108=\"o\",1,0)","v":0},{"$f":"IF('4 indices'!N108=\"o\",1,0)","v":0},{"$f":"SUM(Q214:T214)","v":0}]
[null,{"$f":"IF(AND('4 indices'!C111=\"x\",'4 indices'!D111=\"x\",'4 indices'!E111=\"x\",'4 indices'!F111=\"x\"),A106&'4 indices'!C104&\" \"&'4 indices'!B111,\"\")","v":""},1,null,null,{"$f":"'4 indices'!B109","v":"D"},{"$f":"IF('4 indices'!C109=\"o\",1,0)","v":0},{"$f":"IF('4 indices'!D109=\"o\",1,0)","v":0},{"$f":"IF('4 indices'!E109=\"o\",1,0)","v":0},{"$f":"IF('4 indices'!F109=\"o\",1,0)","v":0},{"$f":"SUM(G215:J215)","v":0},{"$f":"IF('4 indices'!G109=\"o\",1,0)","v":0},{"$f":"IF('4 indices'!H109=\"o\",1,0)","v":0},{"$f":"IF('4 indices'!I109=\"o\",1,0)","v":0},{"$f":"IF('4 indices'!J109=\"o\",1,0)","v":0},{"$f":"SUM(L215:O215)","v":0},{"$f":"IF('4 indices'!K109=\"o\",1,0)","v":0},{"$f":"IF('4 indices'!L109=\"o\",1,0)","v":0},{"$f":"IF('4 indices'!M109=\"o\",1,0)","v":0},{"$f":"IF('4 indices'!N109=\"o\",1,0)","v":0},{"$f":"SUM(Q215:T215)","v":0}]
[null,{"$f":"IF(AND('4 indices'!C112=\"x\",'4 indices'!D112=\"x\",'4 indices'!E112=\"x\",'4 indices'!F112=\"x\"),A106&'4 indices'!C104&\" \"&'4 indices'!B112,\"\")","v":""},1,null,null,null,{"$f":"SUM(G212:G215)","v":0},{"$f":"SUM(H212:H215)","v":0},{"$f":"SUM(I212:I215)","v":0},{"$f":"SUM(J212:J215)","v":0},null,{"$f":"SUM(L212:L215)","v":0},{"$f":"SUM(M212:M215)","v":0},{"$f":"SUM(N212:N215)","v":0},{"$f":"SUM(O212:O215)","v":0},null,{"$f":"SUM(Q212:Q215)","v":0},{"$f":"SUM(R212:R215)","v":0},{"$f":"SUM(S212:S215)","v":0},{"$f":"SUM(T212:T215)","v":0}]
[null,{"$f":"IF(AND('4 indices'!C113=\"x\",'4 indices'!D113=\"x\",'4 indices'!E113=\"x\",'4 indices'!F113=\"x\"),A106&'4 indices'!C104&\" \"&'4 indices'!B113,\"\")","v":""},1,null,{"$f":"'4 indices'!A110","v":"Unité"},{"$f":"'4 indices'!B110","v":2},{"$f":"IF('4 indices'!C110=\"o\",1,0)","v":0},{"$f":"IF('4 indices'!D110=\"o\",1,0)","v":0},{"$f":"IF('4 indices'!E110=\"o\",1,0)","v":0},{"$f":"IF('4 indices'!F110=\"o\",1,0)","v":0},{"$f":"SUM(G217:J217)","v":0},{"$f":"IF('4 indices'!G110=\"o\",1,0)","v":0},{"$f":"IF('4 indices'!H110=\"o\",1,0)","v":0},{"$f":"IF('4 indices'!I110=\"o\",1,0)","v":0},{"$f":"IF('4 indices'!J110=\"o\",1,0)","v":0},{"$f":"SUM(L217:O217)","v":0}]
[null,{"$f":"IF(AND('4 indices'!C114=\"x\",'4 indices'!D114=\"x\",'4 indices'!E114=\"x\",'4 indices'!F114=\"x\"),A106&'4 indices'!C104&\" \"&'4 indices'!B114,\"\")","v":""},1,null,null,{"$f":"'4 indices'!B111","v":5},{"$f":"IF('4 indices'!C111=\"o\",1,0)","v":0},{"$f":"IF('4 indices'!D111=\"o\",1,0)","v":0},{"$f":"IF('4 indices'!E111=\"o\",1,0)","v":0},{"$f":"IF('4 indices'!F111=\"o\",1,0)","v":0},{"$f":"SUM(G218:J218)","v":0},{"$f":"IF('4 indices'!G111=\"o\",1,0)","v":0},{"$f":"IF('4 indices'!H111=\"o\",1,0)","v":0},{"$f":"IF('4 indices'!I111=\"o\",1,0)","v":0},{"$f":"IF('4 indices'!J111=\"o\",1,0)","v":0},{"$f":"SUM(L218:O218)","v":0}]
[null,{"$f":"IF(AND('4 indices'!C115=\"x\",'4 indices'!D115=\"x\",'4 indices'!E115=\"x\",'4 indices'!F115=\"x\"),A106&'4 indices'!C104&\" \"&'4 indices'!B115,\"\")","v":""},1,null,null,{"$f":"'4 indices'!B112","v":6},{"$f":"IF('4 indices'!C112=\"o\",1,0)","v":0},{"$f":"IF('4 indices'!D112=\"o\",1,0)","v":0},{"$f":"IF('4 indices'!E112=\"o\",1,0)","v":0},{"$f":"IF('4 indices'!F112=\"o\",1,0)","v":0},{"$f":"SUM(G219:J219)","v":0},{"$f":"IF('4 indices'!G112=\"o\",1,0)","v":0},{"$f":"IF('4 indices'!H112=\"o\",1,0)","v":0},{"$f":"IF('4 indices'!I112=\"o\",1,0)","v":0},{"$f":"IF('4 indices'!J112=\"o\",1,0)","v":0},{"$f":"SUM(L219:O219)","v":0}]
[null,{"$f":"IF(AND('4 indices'!C116=\"x\",'4 indices'!D116=\"x\",'4 indices'!E116=\"x\",'4 indices'!F116=\"x\"),A106&'4 indices'!C104&\" \"&'4 indices'!B116,\"\")","v":""},1,null,null,{"$f":"'4 indices'!B113","v":8},{"$f":"IF('4 indices'!C113=\"o\",1,0)","v":0},{"$f":"IF('4 indices'!D113=\"o\",1,0)","v":0},{"$f":"IF('4 indices'!E113=\"o\",1,0)","v":0},{"$f":"IF('4 indices'!F113=\"o\",1,0)","v":0},{"$f":"SUM(G220:J220)","v":0},{"$f":"IF('4 indices'!G113=\"o\",1,0)","v":0},{"$f":"IF('4 indices'!H113=\"o\",1,0)","v":0},{"$f":"IF('4 indices'!I113=\"o\",1,0)","v":0},{"$f":"IF('4 indices'!J113=\"o\",1,0)","v":0},{"$f":"SUM(L220:O220)","v":0}]
[null,{"$f":"IF(AND('4 indices'!C117=\"x\",'4 indices'!D117=\"x\",'4 indices'!E117=\"x\",'4 indices'!F117=\"x\"),A106&'4 indices'!C104&\" \"&'4 indices'!B117,\"\")","v":""},1,null,null,null,{"$f":"SUM(G217:G220)","v":0},{"$f":"SUM(H217:H220)","v":0},{"$f":"SUM(I217:I220)","v":0},{"$f":"SUM(J217:J220)","v":0},null,{"$f":"SUM(L217:L220)","v":0},{"$f":"SUM(M217:M220)","v":0},{"$f":"SUM(N217:N220)","v":0},{"$f":"SUM(O217:O220)","v":0}]
[null,{"$f":"IF(AND('4 indices'!G106=\"x\",'4 indices'!H106=\"x\",'4 indices'!I106=\"x\",'4 indices'!J106=\"x\"),A106&'4 indices'!G104&\" \"&'4 indices'!B106,\"\")","v":""},1,null,{"$f":"'4 indices'!A114","v":"Diviseur"},{"$f":"'4 indices'!B114","v":3},{"$f":"IF('4 indices'!C114=\"o\",1,0)","v":0},{"$f":"IF('4 indices'!D114=\"o\",1,0)","v":0},{"$f":"IF('4 indices'!E114=\"o\",1,0)","v":0},{"$f":"IF('4 indices'!F114=\"o\",1,0)","v":0},{"$f":"SUM(G222:J222)","v":0},"Impossible qu'il y ai plus de deux Oui "]
[null,{"$f":"IF(AND('4 indices'!G107=\"x\",'4 indices'!H107=\"x\",'4 indices'!I107=\"x\",'4 indices'!J107=\"x\"),A106&'4 indices'!G104&\" \"&'4 indices'!B107,\"\")","v":""},1,null,null,{"$f":"'4 indices'!B115","v":7},{"$f":"IF('4 indices'!C115=\"o\",1,0)","v":0},{"$f":"IF('4 indices'!D115=\"o\",1,0)","v":0},{"$f":"IF('4 indices'!E115=\"o\",1,0)","v":0},{"$f":"IF('4 indices'!F115=\"o\",1,0)","v":0},{"$f":"SUM(G223:J223)","v":0}," sur la ligne "]
[null,{"$f":"IF(AND('4 indices'!G108=\"x\",'4 indices'!H108=\"x\",'4 indices'!I108=\"x\",'4 indices'!J108=\"x\"),A106&'4 indices'!G104&\" \"&'4 indices'!B108,\"\")","v":""},1,null,null,{"$f":"'4 indices'!B116","v":11},{"$f":"IF('4 indices'!C116=\"o\",1,0)","v":0},{"$f":"IF('4 indices'!D116=\"o\",1,0)","v":0},{"$f":"IF('4 indices'!E116=\"o\",1,0)","v":0},{"$f":"IF('4 indices'!F116=\"o\",1,0)","v":0},{"$f":"SUM(G224:J224)","v":0}," sur la colonne "]
[null,{"$f":"IF(AND('4 indices'!G109=\"x\",'4 indices'!H109=\"x\",'4 indices'!I109=\"x\",'4 indices'!J109=\"x\"),A106&'4 indices'!G104&\" \"&'4 indices'!B109,\"\")","v":""},1,null,null,{"$f":"'4 indices'!B117","v":13},{"$f":"IF('4 indices'!C117=\"o\",1,0)","v":0},{"$f":"IF('4 indices'!D117=\"o\",1,0)","v":0},{"$f":"IF('4 indices'!E117=\"o\",1,0)","v":0},{"$f":"IF('4 indices'!F117=\"o\",1,0)","v":0},{"$f":"SUM(G225:J225)","v":0},"=",{"$f":"IF(K212>1,L222&L223&G210&\" \"&F212,IF(K213>1,L222&L223&G210&\" \"&F213,IF(K214>1,L222&L223&G210&\" \"&F214,IF(K215>1,L222&L223&G210&\" \"&F215,IF(K217>1,L222&L223&G210&\" \"&F217,IF(K218>1,L222&L223&G210&\" \"&F218,IF(K219>1,L222&L223&G210&\" \"&F219,IF(K220>1,L222&L223&G210&\" \"&F220,IF(K222>1,L222&L223&G210&\" \"&F222,IF(K223>1,L222&L223&G210&\" \"&F223,IF(K224>1,L222&L223&G210&\" \"&F224,IF(K225>1,L222&L223&G210&\" \"&F225,IF(P212>1,L222&L223&L210&\" \"&F212,IF(P213>1,L222&L223&L210&\" \"&F213,IF(P214>1,L222&L223&L210&\" \"&F214,IF(P215>1,L222&L223&L210&\" \"&F215,IF(P217>1,L222&L223&L210&\" \"&F217,IF(P218>1,L222&L223&L210&\" \"&F218,IF(P219>1,L222&L223&L210&\" \"&F219,IF(P220>1,L222&L223&L210&\" \"&F220,IF(U212>1,L222&L223&Q210&\" \"&F212,IF(U213>1,L222&L223&Q210&\" \"&F213,IF(U214>1,L222&L223&Q210&\" \"&F214,IF(U215>1,L222&L223&Q210&\" \"&F215,\"\"))))))))))))))))))))))))","v":""}]
[null,{"$f":"IF(AND('4 indices'!G110=\"x\",'4 indices'!H110=\"x\",'4 indices'!I110=\"x\",'4 indices'!J110=\"x\"),A106&'4 indices'!G104&\" \"&'4 indices'!B110,\"\")","v":""},1,null,null,null,{"$f":"SUM(G222:G225)","v":0},{"$f":"SUM(H222:H225)","v":0},{"$f":"SUM(I222:I225)","v":0},{"$f":"SUM(J222:J225)","v":0},null,"=",{"$f":"IF(G216>1,L222&L224&E212&\" \"&G211,IF(H216>1,L222&L224&E212&\" \"&H211,IF(I216>1,L222&L224&E212&\" \"&I211,IF(J216>1,L222&L224&E212&\" \"&J211,IF(L216>1,L222&L224&E212&\" \"&L211,IF(M216>1,L222&L224&E212&\" \"&M211,IF(N216>1,L222&L224&E212&\" \"&N211,IF(O216>1,L222&L224&E212&\" \"&O211,IF(Q216>1,L222&L224&E212&\" \"&Q211,IF(R216>1,L222&L224&E212&\" \"&R211,IF(S216>1,L222&L224&E212&\" \"&S211,IF(T216>1,L222&L224&E212&\" \"&T211,IF(G221>1,L222&L224&E217&\" \"&G211,IF(H221>1,L222&L224&E217&\" \"&H211,IF(I221>1,L222&L224&E217&\" \"&I211,IF(J221>1,L222&L224&E217&\" \"&J211,IF(L221>1,L222&L224&E217&\" \"&L211,IF(M221>1,L222&L224&E217&\" \"&M211,IF(N221>1,L222&L224&E217&\" \"&N211,IF(O221>1,L222&L224&E217&\" \"&O211,IF(G226>1,L222&L224&E222&\" \"&G211,IF(H226>1,L222&L224&E222&\" \"&H211,IF(I226>1,L222&L224&E222&\" \"&I211,IF(J226>1,L222&L224&E222&\" \"&J211,\"\"))))))))))))))))))))))))","v":""}]
[null,{"$f":"IF(AND('4 indices'!G111=\"x\",'4 indices'!H111=\"x\",'4 indices'!I111=\"x\",'4 indices'!J111=\"x\"),A106&'4 indices'!G104&\" \"&'4 indices'!B111,\"\")","v":""},1]
[null,{"$f":"IF(AND('4 indices'!G112=\"x\",'4 indices'!H112=\"x\",'4 indices'!I112=\"x\",'4 indices'!J112=\"x\"),A106&'4 indices'!G104&\" \"&'4 indices'!B112,\"\")","v":""},1]
[null,{"$f":"IF(AND('4 indices'!G113=\"x\",'4 indices'!H113=\"x\",'4 indices'!I113=\"x\",'4 indices'!J113=\"x\"),A106&'4 indices'!G104&\" \"&'4 indices'!B113,\"\")","v":""},1]
[null,{"$f":"IF(AND('4 indices'!K106=\"x\",'4 indices'!L106=\"x\",'4 indices'!M106=\"x\",'4 indices'!N106=\"x\"),A106&'4 indices'!K104&\" \"&'4 indices'!B106,\"\")","v":""},1]
[null,{"$f":"IF(AND('4 indices'!K107=\"x\",'4 indices'!L107=\"x\",'4 indices'!M107=\"x\",'4 indices'!N107=\"x\"),A106&'4 indices'!K104&\" \"&'4 indices'!B107,\"\")","v":""},1]
[null,{"$f":"IF(AND('4 indices'!K108=\"x\",'4 indices'!L108=\"x\",'4 indices'!M108=\"x\",'4 indices'!N108=\"x\"),A106&'4 indices'!K104&\" \"&'4 indices'!B108,\"\")","v":""},1]
[null,{"$f":"IF(AND('4 indices'!K109=\"x\",'4 indices'!L109=\"x\",'4 indices'!M109=\"x\",'4 indices'!N109=\"x\"),A106&'4 indices'!K104&\" \"&'4 indices'!B109,\"\")","v":""},1]
[]
[null,{"$f":"IF(C236=2,B236,IF(C237=2,B237,IF(C238=2,B238,IF(C239=2,B239,IF(C240=2,B240,IF(C241=2,B241,IF(C242=2,B242,IF(C243=2,B243,IF(C244=2,B244,IF(C245=2,B245,IF(C246=2,B246,IF(C247=2,B247,IF(C248=2,B248,IF(C249=2,B249,IF(C250=2,B250,IF(C251=2,B251,IF(C252=2,B252,IF(C253=2,B253,IF(C254=2,B254,IF(C255=2,B255,IF(C256=2,B256,IF(C257=2,B257,IF(C258=2,B258,IF(C259=2,B259,\"\"))))))))))))))))))))))))","v":""}]
["Impossible d'avoir 4 non sur la même colonne  ",{"$f":"IF(AND('4 indices'!C106=\"x\",'4 indices'!C107=\"x\",'4 indices'!C108=\"x\",'4 indices'!C109=\"x\"),$A$28&'4 indices'!$A106&\" \"&'4 indices'!C105,\"\")","v":""},{"$f":"IF(B236=\"\",1,2)","v":1}]
[null,{"$f":"IF(AND('4 indices'!D106=\"x\",'4 indices'!D107=\"x\",'4 indices'!D108=\"x\",'4 indices'!D109=\"x\"),$A$28&'4 indices'!$A106&\" \"&'4 indices'!D105,\"\")","v":""},{"$f":"IF(B237=\"\",1,2)","v":1}]
[null,{"$f":"IF(AND('4 indices'!E106=\"x\",'4 indices'!E107=\"x\",'4 indices'!E108=\"x\",'4 indices'!E109=\"x\"),$A$28&'4 indices'!$A106&\" \"&'4 indices'!E105,\"\")","v":""},1]
[null,{"$f":"IF(AND('4 indices'!F106=\"x\",'4 indices'!F107=\"x\",'4 indices'!F108=\"x\",'4 indices'!F109=\"x\"),$A$28&'4 indices'!$A106&\" \"&'4 indices'!F105,\"\")","v":""},1]
[null,{"$f":"IF(AND('4 indices'!G106=\"x\",'4 indices'!G107=\"x\",'4 indices'!G108=\"x\",'4 indices'!G109=\"x\"),$A$28&'4 indices'!$A106&\" \"&'4 indices'!G105,\"\")","v":""},1]
[null,{"$f":"IF(AND('4 indices'!H106=\"x\",'4 indices'!H107=\"x\",'4 indices'!H108=\"x\",'4 indices'!H109=\"x\"),$A$28&'4 indices'!$A106&\" \"&'4 indices'!H105,\"\")","v":""},1]
[null,{"$f":"IF(AND('4 indices'!I106=\"x\",'4 indices'!I107=\"x\",'4 indices'!I108=\"x\",'4 indices'!I109=\"x\"),$A$28&'4 indices'!$A106&\" \"&'4 indices'!I105,\"\")","v":""},1]
[null,{"$f":"IF(AND('4 indices'!J106=\"x\",'4 indices'!J107=\"x\",'4 indices'!J108=\"x\",'4 indices'!J109=\"x\"),$A$28&'4 indices'!$A106&\" \"&'4 indices'!J105,\"\")","v":""},1]
[null,{"$f":"IF(AND('4 indices'!K106=\"x\",'4 indices'!K107=\"x\",'4 indices'!K108=\"x\",'4 indices'!K109=\"x\"),$A$28&'4 indices'!$A106&\" \"&'4 indices'!K105,\"\")","v":""},1]
[null,{"$f":"IF(AND('4 indices'!L106=\"x\",'4 indices'!L107=\"x\",'4 indices'!L108=\"x\",'4 indices'!L109=\"x\"),$A$28&'4 indices'!$A106&\" \"&'4 indices'!L105,\"\")","v":""},1]
[null,{"$f":"IF(AND('4 indices'!M106=\"x\",'4 indices'!M107=\"x\",'4 indices'!M108=\"x\",'4 indices'!M109=\"x\"),$A$28&'4 indices'!$A106&\" \"&'4 indices'!M105,\"\")","v":""},1]
[null,{"$f":"IF(AND('4 indices'!N106=\"x\",'4 indices'!N107=\"x\",'4 indices'!N108=\"x\",'4 indices'!N109=\"x\"),$A$28&'4 indices'!$A106&\" \"&'4 indices'!N105,\"\")","v":""},1]
[null,{"$f":"IF(AND('4 indices'!C110=\"x\",'4 indices'!C111=\"x\",'4 indices'!C112=\"x\",'4 indices'!C113=\"x\"),$A$28&'4 indices'!$A$110&\" \"&'4 indices'!C105,\"\")","v":""},1]
[null,{"$f":"IF(AND('4 indices'!D110=\"x\",'4 indices'!D111=\"x\",'4 indices'!D112=\"x\",'4 indices'!D113=\"x\"),$A$28&'4 indices'!$A$110&\" \"&'4 indices'!D105,\"\")","v":""},1]
[null,{"$f":"IF(AND('4 indices'!E110=\"x\",'4 indices'!E111=\"x\",'4 indices'!E112=\"x\",'4 indices'!E113=\"x\"),$A$28&'4 indices'!$A$110&\" \"&'4 indices'!E105,\"\")","v":""},1]
[null,{"$f":"IF(AND('4 indices'!F110=\"x\",'4 indices'!F111=\"x\",'4 indices'!F112=\"x\",'4 indices'!F113=\"x\"),$A$28&'4 indices'!$A$110&\" \"&'4 indices'!F105,\"\")","v":""},1]
[null,{"$f":"IF(AND('4 indices'!G110=\"x\",'4 indices'!G111=\"x\",'4 indices'!G112=\"x\",'4 indices'!G113=\"x\"),$A$28&'4 indices'!$A$110&\" \"&'4 indices'!G105,\"\")","v":""},1]
[null,{"$f":"IF(AND('4 indices'!H110=\"x\",'4 indices'!H111=\"x\",'4 indices'!H112=\"x\",'4 indices'!H113=\"x\"),$A$28&'4 indices'!$A$110&\" \"&'4 indices'!H105,\"\")","v":""},1]
[null,{"$f":"IF(AND('4 indices'!I110=\"x\",'4 indices'!I111=\"x\",'4 indices'!I112=\"x\",'4 indices'!I113=\"x\"),$A$28&'4 indices'!$A$110&\" \"&'4 indices'!I105,\"\")","v":""},1]
[null,{"$f":"IF(AND('4 indices'!J110=\"x\",'4 indices'!J111=\"x\",'4 indices'!J112=\"x\",'4 indices'!J113=\"x\"),$A$28&'4 indices'!$A$110&\" \"&'4 indices'!J105,\"\")","v":""},1]
[null,{"$f":"IF(AND('4 indices'!C114=\"x\",'4 indices'!C115=\"x\",'4 indices'!C116=\"x\",'4 indices'!C117=\"x\"),$A$28&'4 indices'!$A$114&\" \"&'4 indices'!C105,\"\")","v":""},1]
[null,{"$f":"IF(AND('4 indices'!D114=\"x\",'4 indices'!D115=\"x\",'4 indices'!D116=\"x\",'4 indices'!D117=\"x\"),$A$28&'4 indices'!$A$114&\" \"&'4 indices'!D105,\"\")","v":""},1]
[null,{"$f":"IF(AND('4 indices'!E114=\"x\",'4 indices'!E115=\"x\",'4 indices'!E116=\"x\",'4 indices'!E117=\"x\"),$A$28&'4 indices'!$A$114&\" \"&'4 indices'!E105,\"\")","v":""},1]
[null,{"$f":"IF(AND('4 indices'!F114=\"x\",'4 indices'!F115=\"x\",'4 indices'!F116=\"x\",'4 indices'!F117=\"x\"),$A$28&'4 indices'!$A$114&\" \"&'4 indices'!F105,\"\")","v":""},1]
[]
[{"$f":"'4 indices'!A126","v":"XVI°/  Les gaz inertes :"},{"$f":"IF(C262=2,B262,IF(C263=2,B263,IF(C264=2,B264,IF(C265=2,B265,IF(C266=2,B266,IF(C267=2,B267,IF(C268=2,B268,IF(C269=2,B269,IF(C270=2,B270,IF(C271=2,B271,IF(C272=2,B272,IF(C273=2,B273,IF(C274=2,B274,IF(C275=2,B275,IF(C276=2,B276,IF(C277=2,B277,IF(C278=2,B278,IF(C279=2,B279,IF(C280=2,B280,IF(C281=2,B281,IF(C282=2,B282,IF(C283=2,B283,IF(C284=2,B284,IF(C285=2,B285,\"\"))))))))))))))))))))))))","v":""}]
["Impossible d'avoir 4 non sur la même ligne ",{"$f":"IF(AND('4 indices'!C131=\"x\",'4 indices'!D131=\"x\",'4 indices'!E131=\"x\",'4 indices'!F131=\"x\"),A132&'4 indices'!C129&\" \"&'4 indices'!B131,\"\")","v":""},{"$f":"IF(B262=\"\",1,2)","v":1},null,null,null,{"$f":"'4 indices'!C129","v":"En Grec"},null,null,null,null,{"$f":"'4 indices'!G129","v":"Découverte"},null,null,null,null,{"$f":"'4 indices'!K129","v":"Utilisation"}]
[null,{"$f":"IF(AND('4 indices'!C132=\"x\",'4 indices'!D132=\"x\",'4 indices'!E132=\"x\",'4 indices'!F132=\"x\"),A132&'4 indices'!C129&\" \"&'4 indices'!B132,\"\")","v":""},{"$f":"IF(B263=\"\",1,2)","v":1},null,null,null,{"$f":"'4 indices'!C130","v":"Etranger"},{"$f":"'4 indices'!D130","v":"Inactif"},{"$f":"'4 indices'!E130","v":"Rayon"},{"$f":"'4 indices'!F130","v":"Soleil"},null,{"$f":"'4 indices'!G130","v":1868},{"$f":"'4 indices'!H130","v":1894},{"$f":"'4 indices'!I130","v":1898},{"$f":"'4 indices'!J130","v":1900},null,{"$f":"'4 indices'!K130","v":"Anesthésie"},{"$f":"'4 indices'!L130","v":"Cryogénie"},{"$f":"'4 indices'!M130","v":"Datation"},{"$f":"'4 indices'!N130","v":"Prévention séisme"}]
[null,{"$f":"IF(AND('4 indices'!C133=\"x\",'4 indices'!D133=\"x\",'4 indices'!E133=\"x\",'4 indices'!F133=\"x\"),A132&'4 indices'!C129&\" \"&'4 indices'!B133,\"\")","v":""},1,null,{"$f":"'4 indices'!A131","v":"GAZ"},{"$f":"'4 indices'!B131","v":"Argon"},{"$f":"IF('4 indices'!C131=\"o\",1,0)","v":0},{"$f":"IF('4 indices'!D131=\"o\",1,0)","v":0},{"$f":"IF('4 indices'!E131=\"o\",1,0)","v":0},{"$f":"IF('4 indices'!F131=\"o\",1,0)","v":0},{"$f":"SUM(G264:J264)","v":0},{"$f":"IF('4 indices'!G131=\"o\",1,0)","v":0},{"$f":"IF('4 indices'!H131=\"o\",1,0)","v":0},{"$f":"IF('4 indices'!I131=\"o\",1,0)","v":0},{"$f":"IF('4 indices'!J131=\"o\",1,0)","v":0},{"$f":"SUM(L264:O264)","v":0},{"$f":"IF('4 indices'!K131=\"o\",1,0)","v":0},{"$f":"IF('4 indices'!L131=\"o\",1,0)","v":0},{"$f":"IF('4 indices'!M131=\"o\",1,0)","v":0},{"$f":"IF('4 indices'!N131=\"o\",1,0)","v":0},{"$f":"SUM(Q264:T264)","v":0}]
[null,{"$f":"IF(AND('4 indices'!C134=\"x\",'4 indices'!D134=\"x\",'4 indices'!E134=\"x\",'4 indices'!F134=\"x\"),A132&'4 indices'!C129&\" \"&'4 indices'!B134,\"\")","v":""},1,null,null,{"$f":"'4 indices'!B132","v":"Hélium"},{"$f":"IF('4 indices'!C132=\"o\",1,0)","v":0},{"$f":"IF('4 indices'!D132=\"o\",1,0)","v":0},{"$f":"IF('4 indices'!E132=\"o\",1,0)","v":0},{"$f":"IF('4 indices'!F132=\"o\",1,0)","v":0},{"$f":"SUM(G265:J265)","v":0},{"$f":"IF('4 indices'!G132=\"o\",1,0)","v":0},{"$f":"IF('4 indices'!H132=\"o\",1,0)","v":0},{"$f":"IF('4 indices'!I132=\"o\",1,0)","v":0},{"$f":"IF('4 indices'!J132=\"o\",1,0)","v":0},{"$f":"SUM(L265:O265)","v":0},{"$f":"IF('4 indices'!K132=\"o\",1,0)","v":0},{"$f":"IF('4 indices'!L132=\"o\",1,0)","v":0},{"$f":"IF('4 indices'!M132=\"o\",1,0)","v":0},{"$f":"IF('4 indices'!N132=\"o\",1,0)","v":0},{"$f":"SUM(Q265:T265)","v":0}]
[null,{"$f":"IF(AND('4 indices'!C135=\"x\",'4 indices'!D135=\"x\",'4 indices'!E135=\"x\",'4 indices'!F135=\"x\"),A132&'4 indices'!C129&\" \"&'4 indices'!B135,\"\")","v":""},1,null,null,{"$f":"'4 indices'!B133","v":"Radon"},{"$f":"IF('4 indices'!C133=\"o\",1,0)","v":0},{"$f":"IF('4 indices'!D133=\"o\",1,0)","v":0},{"$f":"IF('4 indices'!E133=\"o\",1,0)","v":0},{"$f":"IF('4 indices'!F133=\"o\",1,0)","v":0},{"$f":"SUM(G266:J266)","v":0},{"$f":"IF('4 indices'!G133=\"o\",1,0)","v":0},{"$f":"IF('4 indices'!H133=\"o\",1,0)","v":0},{"$f":"IF('4 indices'!I133=\"o\",1,0)","v":0},{"$f":"IF('4 indices'!J133=\"o\",1,0)","v":0},{"$f":"SUM(L266:O266)","v":0},{"$f":"IF('4 indices'!K133=\"o\",1,0)","v":0},{"$f":"IF('4 indices'!L133=\"o\",1,0)","v":0},{"$f":"IF('4 indices'!M133=\"o\",1,0)","v":0},{"$f":"IF('4 indices'!N133=\"o\",1,0)","v":0},{"$f":"SUM(Q266:T266)","v":0}]
[null,{"$f":"IF(AND('4 indices'!C136=\"x\",'4 indices'!D136=\"x\",'4 indices'!E136=\"x\",'4 indices'!F136=\"x\"),A132&'4 indices'!C129&\" \"&'4 indices'!B136,\"\")","v":""},1,null,null,{"$f":"'4 indices'!B134","v":"Xénon"},{"$f":"IF('4 indices'!C134=\"o\",1,0)","v":0},{"$f":"IF('4 indices'!D134=\"o\",1,0)","v":0},{"$f":"IF('4 indices'!E134=\"o\",1,0)","v":0},{"$f":"IF('4 indices'!F134=\"o\",1,0)","v":0},{"$f":"SUM(G267:J267)","v":0},{"$f":"IF('4 indices'!G134=\"o\",1,0)","v":0},{"$f":"IF('4 indices'!H134=\"o\",1,0)","v":0},{"$f":"IF('4 indices'!I134=\"o\",1,0)","v":0},{"$f":"IF('4 indices'!J134=\"o\",1,0)","v":0},{"$f":"SUM(L267:O267)","v":0},{"$f":"IF('4 indices'!K134=\"o\",1,0)","v":0},{"$f":"IF('4 indices'!L134=\"o\",1,0)","v":0},{"$f":"IF('4 indices'!M134=\"o\",1,0)","v":0},{"$f":"IF('4 indices'!N134=\"o\",1,0)","v":0},{"$f":"SUM(Q267:T267)","v":0}]
[null,{"$f":"IF(AND('4 indices'!C137=\"x\",'4 indices'!D137=\"x\",'4 indices'!E137=\"x\",'4 indices'!F137=\"x\"),A132&'4 indices'!C129&\" \"&'4 indices'!B137,\"\")","v":""},1,null,null,null,{"$f":"SUM(G264:G267)","v":0},{"$f":"SUM(H264:H267)","v":0},{"$f":"SUM(I264:I267)","v":0},{"$f":"SUM(J264:J267)","v":0},null,{"$f":"SUM(L264:L267)","v":0},{"$f":"SUM(M264:M267)","v":0},{"$f":"SUM(N264:N267)","v":0},{"$f":"SUM(O264:O267)","v":0},null,{"$f":"SUM(Q264:Q267)","v":0},{"$f":"SUM(R264:R267)","v":0},{"$f":"SUM(S264:S267)","v":0},{"$f":"SUM(T264:T267)","v":0}]
[null,{"$f":"IF(AND('4 indices'!C138=\"x\",'4 indices'!D138=\"x\",'4 indices'!E138=\"x\",'4 indices'!F138=\"x\"),A132&'4 indices'!C129&\" \"&'4 indices'!B138,\"\")","v":""},1,null,{"$f":"'4 indices'!A135","v":"Utilisation"},{"$f":"'4 indices'!B135","v":"Anesthésie"},{"$f":"IF('4 indices'!C135=\"o\",1,0)","v":0},{"$f":"IF('4 indices'!D135=\"o\",1,0)","v":0},{"$f":"IF('4 indices'!E135=\"o\",1,0)","v":0},{"$f":"IF('4 indices'!F135=\"o\",1,0)","v":0},{"$f":"SUM(G269:J269)","v":0},{"$f":"IF('4 indices'!G135=\"o\",1,0)","v":0},{"$f":"IF('4 indices'!H135=\"o\",1,0)","v":0},{"$f":"IF('4 indices'!I135=\"o\",1,0)","v":0},{"$f":"IF('4 indices'!J135=\"o\",1,0)","v":0},{"$f":"SUM(L269:O269)","v":0}]
[null,{"$f":"IF(AND('4 indices'!C139=\"x\",'4 indices'!D139=\"x\",'4 indices'!E139=\"x\",'4 indices'!F139=\"x\"),A132&'4 indices'!C129&\" \"&'4 indices'!B139,\"\")","v":""},1,null,null,{"$f":"'4 indices'!B136","v":"Cryogénie"},{"$f":"IF('4 indices'!C136=\"o\",1,0)","v":0},{"$f":"IF('4 indices'!D136=\"o\",1,0)","v":0},{"$f":"IF('4 indices'!E136=\"o\",1,0)","v":0},{"$f":"IF('4 indices'!F136=\"o\",1,0)","v":0},{"$f":"SUM(G270:J270)","v":0},{"$f":"IF('4 indices'!G136=\"o\",1,0)","v":0},{"$f":"IF('4 indices'!H136=\"o\",1,0)","v":0},{"$f":"IF('4 indices'!I136=\"o\",1,0)","v":0},{"$f":"IF('4 indices'!J136=\"o\",1,0)","v":0},{"$f":"SUM(L270:O270)","v":0}]
[null,{"$f":"IF(AND('4 indices'!C140=\"x\",'4 indices'!D140=\"x\",'4 indices'!E140=\"x\",'4 indices'!F140=\"x\"),A132&'4 indices'!C129&\" \"&'4 indices'!B140,\"\")","v":""},1,null,null,{"$f":"'4 indices'!B137","v":"Datation"},{"$f":"IF('4 indices'!C137=\"o\",1,0)","v":0},{"$f":"IF('4 indices'!D137=\"o\",1,0)","v":0},{"$f":"IF('4 indices'!E137=\"o\",1,0)","v":0},{"$f":"IF('4 indices'!F137=\"o\",1,0)","v":0},{"$f":"SUM(G271:J271)","v":0},{"$f":"IF('4 indices'!G137=\"o\",1,0)","v":0},{"$f":"IF('4 indices'!H137=\"o\",1,0)","v":0},{"$f":"IF('4 indices'!I137=\"o\",1,0)","v":0},{"$f":"IF('4 indices'!J137=\"o\",1,0)","v":0},{"$f":"SUM(L271:O271)","v":0}]
[null,{"$f":"IF(AND('4 indices'!C141=\"x\",'4 indices'!D141=\"x\",'4 indices'!E141=\"x\",'4 indices'!F141=\"x\"),A132&'4 indices'!C129&\" \"&'4 indices'!B141,\"\")","v":""},1,null,null,{"$f":"'4 indices'!B138","v":"Prévention séisme"},{"$f":"IF('4 indices'!C138=\"o\",1,0)","v":0},{"$f":"IF('4 indices'!D138=\"o\",1,0)","v":0},{"$f":"IF('4 indices'!E138=\"o\",1,0)","v":0},{"$f":"IF('4 indices'!F138=\"o\",1,0)","v":0},{"$f":"SUM(G272:J272)","v":0},{"$f":"IF('4 indices'!G138=\"o\",1,0)","v":0},{"$f":"IF('4 indices'!H138=\"o\",1,0)","v":0},{"$f":"IF('4 indices'!I138=\"o\",1,0)","v":0},{"$f":"IF('4 indices'!J138=\"o\",1,0)","v":0},{"$f":"SUM(L272:O272)","v":0}]
[null,{"$f":"IF(AND('4 indices'!C142=\"x\",'4 indices'!D142=\"x\",'4 indices'!E142=\"x\",'4 indices'!F142=\"x\"),A132&'4 indices'!C129&\" \"&'4 indices'!B142,\"\")","v":""},1,null,null,null,{"$f":"SUM(G269:G272)","v":0},{"$f":"SUM(H269:H272)","v":0},{"$f":"SUM(I269:I272)","v":0},{"$f":"SUM(J269:J272)","v":0},null,{"$f":"SUM(L269:L272)","v":0},{"$f":"SUM(M269:M272)","v":0},{"$f":"SUM(N269:N272)","v":0},{"$f":"SUM(O269:O272)","v":0}]
[null,{"$f":"IF(AND('4 indices'!G131=\"x\",'4 indices'!H131=\"x\",'4 indices'!I131=\"x\",'4 indices'!J131=\"x\"),A132&'4 indices'!G129&\" \"&'4 indices'!B131,\"\")","v":""},1,null,{"$f":"'4 indices'!A139","v":"Découverte"},{"$f":"'4 indices'!B139","v":1868},{"$f":"IF('4 indices'!C139=\"o\",1,0)","v":0},{"$f":"IF('4 indices'!D139=\"o\",1,0)","v":0},{"$f":"IF('4 indices'!E139=\"o\",1,0)","v":0},{"$f":"IF('4 indices'!F139=\"o\",1,0)","v":0},{"$f":"SUM(G274:J274)","v":0},"Impossible qu'il y ai plus de deux Oui "]
[null,{"$f":"IF(AND('4 indices'!G132=\"x\",'4 indices'!H132=\"x\",'4 indices'!I132=\"x\",'4 indices'!J132=\"x\"),A132&'4 indices'!G129&\" \"&'4 indices'!B132,\"\")","v":""},1,null,null,{"$f":"'4 indices'!B140","v":1894},{"$f":"IF('4 indices'!C140=\"o\",1,0)","v":0},{"$f":"IF('4 indices'!D140=\"o\",1,0)","v":0},{"$f":"IF('4 indices'!E140=\"o\",1,0)","v":0},{"$f":"IF('4 indices'!F140=\"o\",1,0)","v":0},{"$f":"SUM(G275:J275)","v":0}," sur la ligne "]
[null,{"$f":"IF(AND('4 indices'!G133=\"x\",'4 indices'!H133=\"x\",'4 indices'!I133=\"x\",'4 indices'!J133=\"x\"),A132&'4 indices'!G129&\" \"&'4 indices'!B133,\"\")","v":""},1,null,null,{"$f":"'4 indices'!B141","v":1898},{"$f":"IF('4 indices'!C141=\"o\",1,0)","v":0},{"$f":"IF('4 indices'!D141=\"o\",1,0)","v":0},{"$f":"IF('4 indices'!E141=\"o\",1,0)","v":0},{"$f":"IF('4 indices'!F141=\"o\",1,0)","v":0},{"$f":"SUM(G276:J276)","v":0}," sur la colonne "]
[null,{"$f":"IF(AND('4 indices'!G134=\"x\",'4 indices'!H134=\"x\",'4 indices'!I134=\"x\",'4 indices'!J134=\"x\"),A132&'4 indices'!G129&\" \"&'4 indices'!B134,\"\")","v":""},1,null,null,{"$f":"'4 indices'!B142","v":1900},{"$f":"IF('4 indices'!C142=\"o\",1,0)","v":0},{"$f":"IF('4 indices'!D142=\"o\",1,0)","v":0},{"$f":"IF('4 indices'!E142=\"o\",1,0)","v":0},{"$f":"IF('4 indices'!F142=\"o\",1,0)","v":0},{"$f":"SUM(G277:J277)","v":0},"=",{"$f":"IF(K264>1,L274&L275&G262&\" \"&F264,IF(K265>1,L274&L275&G262&\" \"&F265,IF(K266>1,L274&L275&G262&\" \"&F266,IF(K267>1,L274&L275&G262&\" \"&F267,IF(K269>1,L274&L275&G262&\" \"&F269,IF(K270>1,L274&L275&G262&\" \"&F270,IF(K271>1,L274&L275&G262&\" \"&F271,IF(K272>1,L274&L275&G262&\" \"&F272,IF(K274>1,L274&L275&G262&\" \"&F274,IF(K275>1,L274&L275&G262&\" \"&F275,IF(K276>1,L274&L275&G262&\" \"&F276,IF(K277>1,L274&L275&G262&\" \"&F277,IF(P264>1,L274&L275&L262&\" \"&F264,IF(P265>1,L274&L275&L262&\" \"&F265,IF(P266>1,L274&L275&L262&\" \"&F266,IF(P267>1,L274&L275&L262&\" \"&F267,IF(P269>1,L274&L275&L262&\" \"&F269,IF(P270>1,L274&L275&L262&\" \"&F270,IF(P271>1,L274&L275&L262&\" \"&F271,IF(P272>1,L274&L275&L262&\" \"&F272,IF(U264>1,L274&L275&Q262&\" \"&F264,IF(U265>1,L274&L275&Q262&\" \"&F265,IF(U266>1,L274&L275&Q262&\" \"&F266,IF(U267>1,L274&L275&Q262&\" \"&F267,\"\"))))))))))))))))))))))))","v":""}]
[null,{"$f":"IF(AND('4 indices'!G135=\"x\",'4 indices'!H135=\"x\",'4 indices'!I135=\"x\",'4 indices'!J135=\"x\"),A132&'4 indices'!G129&\" \"&'4 indices'!B135,\"\")","v":""},1,null,null,null,{"$f":"SUM(G274:G277)","v":0},{"$f":"SUM(H274:H277)","v":0},{"$f":"SUM(I274:I277)","v":0},{"$f":"SUM(J274:J277)","v":0},null,"=",{"$f":"IF(G268>1,L274&L276&E264&\" \"&G263,IF(H268>1,L274&L276&E264&\" \"&H263,IF(I268>1,L274&L276&E264&\" \"&I263,IF(J268>1,L274&L276&E264&\" \"&J263,IF(L268>1,L274&L276&E264&\" \"&L263,IF(M268>1,L274&L276&E264&\" \"&M263,IF(N268>1,L274&L276&E264&\" \"&N263,IF(O268>1,L274&L276&E264&\" \"&O263,IF(Q268>1,L274&L276&E264&\" \"&Q263,IF(R268>1,L274&L276&E264&\" \"&R263,IF(S268>1,L274&L276&E264&\" \"&S263,IF(T268>1,L274&L276&E264&\" \"&T263,IF(G273>1,L274&L276&E269&\" \"&G263,IF(H273>1,L274&L276&E269&\" \"&H263,IF(I273>1,L274&L276&E269&\" \"&I263,IF(J273>1,L274&L276&E269&\" \"&J263,IF(L273>1,L274&L276&E269&\" \"&L263,IF(M273>1,L274&L276&E269&\" \"&M263,IF(N273>1,L274&L276&E269&\" \"&N263,IF(O273>1,L274&L276&E269&\" \"&O263,IF(G278>1,L274&L276&E274&\" \"&G263,IF(H278>1,L274&L276&E274&\" \"&H263,IF(I278>1,L274&L276&E274&\" \"&I263,IF(J278>1,L274&L276&E274&\" \"&J263,\"\"))))))))))))))))))))))))","v":""}]
[null,{"$f":"IF(AND('4 indices'!G136=\"x\",'4 indices'!H136=\"x\",'4 indices'!I136=\"x\",'4 indices'!J136=\"x\"),A132&'4 indices'!G129&\" \"&'4 indices'!B136,\"\")","v":""},1]
[null,{"$f":"IF(AND('4 indices'!G137=\"x\",'4 indices'!H137=\"x\",'4 indices'!I137=\"x\",'4 indices'!J137=\"x\"),A132&'4 indices'!G129&\" \"&'4 indices'!B137,\"\")","v":""},1]
[null,{"$f":"IF(AND('4 indices'!G138=\"x\",'4 indices'!H138=\"x\",'4 indices'!I138=\"x\",'4 indices'!J138=\"x\"),A132&'4 indices'!G129&\" \"&'4 indices'!B138,\"\")","v":""},1]
[null,{"$f":"IF(AND('4 indices'!K131=\"x\",'4 indices'!L131=\"x\",'4 indices'!M131=\"x\",'4 indices'!N131=\"x\"),A132&'4 indices'!K129&\" \"&'4 indices'!B131,\"\")","v":""},1]
[null,{"$f":"IF(AND('4 indices'!K132=\"x\",'4 indices'!L132=\"x\",'4 indices'!M132=\"x\",'4 indices'!N132=\"x\"),A132&'4 indices'!K129&\" \"&'4 indices'!B132,\"\")","v":""},1]
[null,{"$f":"IF(AND('4 indices'!K133=\"x\",'4 indices'!L133=\"x\",'4 indices'!M133=\"x\",'4 indices'!N133=\"x\"),A132&'4 indices'!K129&\" \"&'4 indices'!B133,\"\")","v":""},1]
[null,{"$f":"IF(AND('4 indices'!K134=\"x\",'4 indices'!L134=\"x\",'4 indices'!M134=\"x\",'4 indices'!N134=\"x\"),A132&'4 indices'!K129&\" \"&'4 indices'!B134,\"\")","v":""},1]
[]
[null,{"$f":"IF(C288=2,B288,IF(C289=2,B289,IF(C290=2,B290,IF(C291=2,B291,IF(C292=2,B292,IF(C293=2,B293,IF(C294=2,B294,IF(C295=2,B295,IF(C296=2,B296,IF(C297=2,B297,IF(C298=2,B298,IF(C299=2,B299,IF(C300=2,B300,IF(C301=2,B301,IF(C302=2,B302,IF(C303=2,B303,IF(C304=2,B304,IF(C305=2,B305,IF(C306=2,B306,IF(C307=2,B307,IF(C308=2,B308,IF(C309=2,B309,IF(C310=2,B310,IF(C311=2,B311,\"\"))))))))))))))))))))))))","v":""}]
["Impossible d'avoir 4 non sur la même colonne  ",{"$f":"IF(AND('4 indices'!C131=\"x\",'4 indices'!C132=\"x\",'4 indices'!C133=\"x\",'4 indices'!C134=\"x\"),$A$28&'4 indices'!$A131&\" \"&'4 indices'!C130,\"\")","v":""},{"$f":"IF(B288=\"\",1,2)","v":1}]
[null,{"$f":"IF(AND('4 indices'!D131=\"x\",'4 indices'!D132=\"x\",'4 indices'!D133=\"x\",'4 indices'!D134=\"x\"),$A$28&'4 indices'!$A131&\" \"&'4 indices'!D130,\"\")","v":""},{"$f":"IF(B289=\"\",1,2)","v":1}]
[null,{"$f":"IF(AND('4 indices'!E131=\"x\",'4 indices'!E132=\"x\",'4 indices'!E133=\"x\",'4 indices'!E134=\"x\"),$A$28&'4 indices'!$A131&\" \"&'4 indices'!E130,\"\")","v":""},1]
[null,{"$f":"IF(AND('4 indices'!F131=\"x\",'4 indices'!F132=\"x\",'4 indices'!F133=\"x\",'4 indices'!F134=\"x\"),$A$28&'4 indices'!$A131&\" \"&'4 indices'!F130,\"\")","v":""},1]
[null,{"$f":"IF(AND('4 indices'!G131=\"x\",'4 indices'!G132=\"x\",'4 indices'!G133=\"x\",'4 indices'!G134=\"x\"),$A$28&'4 indices'!$A131&\" \"&'4 indices'!G130,\"\")","v":""},1]
[null,{"$f":"IF(AND('4 indices'!H131=\"x\",'4 indices'!H132=\"x\",'4 indices'!H133=\"x\",'4 indices'!H134=\"x\"),$A$28&'4 indices'!$A131&\" \"&'4 indices'!H130,\"\")","v":""},1]
[null,{"$f":"IF(AND('4 indices'!I131=\"x\",'4 indices'!I132=\"x\",'4 indices'!I133=\"x\",'4 indices'!I134=\"x\"),$A$28&'4 indices'!$A131&\" \"&'4 indices'!I130,\"\")","v":""},1]
[null,{"$f":"IF(AND('4 indices'!J131=\"x\",'4 indices'!J132=\"x\",'4 indices'!J133=\"x\",'4 indices'!J134=\"x\"),$A$28&'4 indices'!$A131&\" \"&'4 indices'!J130,\"\")","v":""},1]
[null,{"$f":"IF(AND('4 indices'!K131=\"x\",'4 indices'!K132=\"x\",'4 indices'!K133=\"x\",'4 indices'!K134=\"x\"),$A$28&'4 indices'!$A131&\" \"&'4 indices'!K130,\"\")","v":""},1]
[null,{"$f":"IF(AND('4 indices'!L131=\"x\",'4 indices'!L132=\"x\",'4 indices'!L133=\"x\",'4 indices'!L134=\"x\"),$A$28&'4 indices'!$A131&\" \"&'4 indices'!L130,\"\")","v":""},1]
[null,{"$f":"IF(AND('4 indices'!M131=\"x\",'4 indices'!M132=\"x\",'4 indices'!M133=\"x\",'4 indices'!M134=\"x\"),$A$28&'4 indices'!$A131&\" \"&'4 indices'!M130,\"\")","v":""},1]
[null,{"$f":"IF(AND('4 indices'!N131=\"x\",'4 indices'!N132=\"x\",'4 indices'!N133=\"x\",'4 indices'!N134=\"x\"),$A$28&'4 indices'!$A131&\" \"&'4 indices'!N130,\"\")","v":""},1]
[null,{"$f":"IF(AND('4 indices'!C135=\"x\",'4 indices'!C136=\"x\",'4 indices'!C137=\"x\",'4 indices'!C138=\"x\"),$A$28&'4 indices'!$A$135&\" \"&'4 indices'!C130,\"\")","v":""},1]
[null,{"$f":"IF(AND('4 indices'!D135=\"x\",'4 indices'!D136=\"x\",'4 indices'!D137=\"x\",'4 indices'!D138=\"x\"),$A$28&'4 indices'!$A$135&\" \"&'4 indices'!D130,\"\")","v":""},1]
[null,{"$f":"IF(AND('4 indices'!E135=\"x\",'4 indices'!E136=\"x\",'4 indices'!E137=\"x\",'4 indices'!E138=\"x\"),$A$28&'4 indices'!$A$135&\" \"&'4 indices'!E130,\"\")","v":""},1]
[null,{"$f":"IF(AND('4 indices'!F135=\"x\",'4 indices'!F136=\"x\",'4 indices'!F137=\"x\",'4 indices'!F138=\"x\"),$A$28&'4 indices'!$A$135&\" \"&'4 indices'!F130,\"\")","v":""},1]
[null,{"$f":"IF(AND('4 indices'!G135=\"x\",'4 indices'!G136=\"x\",'4 indices'!G137=\"x\",'4 indices'!G138=\"x\"),$A$28&'4 indices'!$A$135&\" \"&'4 indices'!G130,\"\")","v":""},1]
[null,{"$f":"IF(AND('4 indices'!H135=\"x\",'4 indices'!H136=\"x\",'4 indices'!H137=\"x\",'4 indices'!H138=\"x\"),$A$28&'4 indices'!$A$135&\" \"&'4 indices'!H130,\"\")","v":""},1]
[null,{"$f":"IF(AND('4 indices'!I135=\"x\",'4 indices'!I136=\"x\",'4 indices'!I137=\"x\",'4 indices'!I138=\"x\"),$A$28&'4 indices'!$A$135&\" \"&'4 indices'!I130,\"\")","v":""},1]
[null,{"$f":"IF(AND('4 indices'!J135=\"x\",'4 indices'!J136=\"x\",'4 indices'!J137=\"x\",'4 indices'!J138=\"x\"),$A$28&'4 indices'!$A$135&\" \"&'4 indices'!J130,\"\")","v":""},1]
[null,{"$f":"IF(AND('4 indices'!C139=\"x\",'4 indices'!C140=\"x\",'4 indices'!C141=\"x\",'4 indices'!C142=\"x\"),$A$28&'4 indices'!$A$139&\" \"&'4 indices'!C130,\"\")","v":""},1]
[null,{"$f":"IF(AND('4 indices'!D139=\"x\",'4 indices'!D140=\"x\",'4 indices'!D141=\"x\",'4 indices'!D142=\"x\"),$A$28&'4 indices'!$A$139&\" \"&'4 indices'!D130,\"\")","v":""},1]
[null,{"$f":"IF(AND('4 indices'!E139=\"x\",'4 indices'!E140=\"x\",'4 indices'!E141=\"x\",'4 indices'!E142=\"x\"),$A$28&'4 indices'!$A$139&\" \"&'4 indices'!E130,\"\")","v":""},1]
[null,{"$f":"IF(AND('4 indices'!F139=\"x\",'4 indices'!F140=\"x\",'4 indices'!F141=\"x\",'4 indices'!F142=\"x\"),$A$28&'4 indices'!$A$139&\" \"&'4 indices'!F130,\"\")","v":""},1]
[]
[{"$f":"'4 indices'!A151","v":"XVII°/ les Maîtresses de Louis XIV :"},{"$f":"IF(C314=2,B314,IF(C315=2,B315,IF(C316=2,B316,IF(C317=2,B317,IF(C318=2,B318,IF(C319=2,B319,IF(C320=2,B320,IF(C321=2,B321,IF(C322=2,B322,IF(C323=2,B323,IF(C324=2,B324,IF(C325=2,B325,IF(C326=2,B326,IF(C327=2,B327,IF(C328=2,B328,IF(C329=2,B329,IF(C330=2,B330,IF(C331=2,B331,IF(C332=2,B332,IF(C333=2,B333,IF(C334=2,B334,IF(C335=2,B335,IF(C336=2,B336,IF(C337=2,B337,\"\"))))))))))))))))))))))))","v":""}]
["Impossible d'avoir 4 non sur la même ligne ",{"$f":"IF(AND('4 indices'!C156=\"x\",'4 indices'!D156=\"x\",'4 indices'!E156=\"x\",'4 indices'!F156=\"x\"),A158&'4 indices'!C154&\" \"&'4 indices'!B156,\"\")","v":""},{"$f":"IF(B314=\"\",1,2)","v":1},null,null,null,{"$f":"'4 indices'!C154","v":"Mortes à"},null,null,null,null,{"$f":"'4 indices'!G154","v":"Enfants"},null,null,null,null,{"$f":"'4 indices'!K154","v":"Rang"}]
[null,{"$f":"IF(AND('4 indices'!C157=\"x\",'4 indices'!D157=\"x\",'4 indices'!E157=\"x\",'4 indices'!F157=\"x\"),A158&'4 indices'!C154&\" \"&'4 indices'!B157,\"\")","v":""},{"$f":"IF(B315=\"\",1,2)","v":1},null,null,null,{"$f":"'4 indices'!C155","v":20},{"$f":"'4 indices'!D155","v":66},{"$f":"'4 indices'!E155","v":67},{"$f":"'4 indices'!F155","v":84},null,{"$f":"'4 indices'!G155","v":0},{"$f":"'4 indices'!H155","v":1},{"$f":"'4 indices'!I155","v":6},{"$f":"'4 indices'!J155","v":8},null,{"$f":"'4 indices'!K155","v":1},{"$f":"'4 indices'!L155","v":2},{"$f":"'4 indices'!M155","v":3},{"$f":"'4 indices'!N155","v":4}]
[null,{"$f":"IF(AND('4 indices'!C158=\"x\",'4 indices'!D158=\"x\",'4 indices'!E158=\"x\",'4 indices'!F158=\"x\"),A158&'4 indices'!C154&\" \"&'4 indices'!B158,\"\")","v":""},1,null,{"$f":"'4 indices'!A156","v":"Maîtresses"},{"$f":"'4 indices'!B156","v":"Louise de La Vallière"},{"$f":"IF('4 indices'!C156=\"o\",1,0)","v":0},{"$f":"IF('4 indices'!D156=\"o\",1,0)","v":0},{"$f":"IF('4 indices'!E156=\"o\",1,0)","v":0},{"$f":"IF('4 indices'!F156=\"o\",1,0)","v":0},{"$f":"SUM(G316:J316)","v":0},{"$f":"IF('4 indices'!G156=\"o\",1,0)","v":0},{"$f":"IF('4 indices'!H156=\"o\",1,0)","v":0},{"$f":"IF('4 indices'!I156=\"o\",1,0)","v":0},{"$f":"IF('4 indices'!J156=\"o\",1,0)","v":0},{"$f":"SUM(L316:O316)","v":0},{"$f":"IF('4 indices'!K156=\"o\",1,0)","v":0},{"$f":"IF('4 indices'!L156=\"o\",1,0)","v":0},{"$f":"IF('4 indices'!M156=\"o\",1,0)","v":0},{"$f":"IF('4 indices'!N156=\"o\",1,0)","v":0},{"$f":"SUM(Q316:T316)","v":0}]
[null,{"$f":"IF(AND('4 indices'!C159=\"x\",'4 indices'!D159=\"x\",'4 indices'!E159=\"x\",'4 indices'!F159=\"x\"),A158&'4 indices'!C154&\" \"&'4 indices'!B159,\"\")","v":""},1,null,null,{"$f":"'4 indices'!B157","v":"Madame de Montespan"},{"$f":"IF('4 indices'!C157=\"o\",1,0)","v":0},{"$f":"IF('4 indices'!D157=\"o\",1,0)","v":0},{"$f":"IF('4 indices'!E157=\"o\",1,0)","v":0},{"$f":"IF('4 indices'!F157=\"o\",1,0)","v":0},{"$f":"SUM(G317:J317)","v":0},{"$f":"IF('4 indices'!G157=\"o\",1,0)","v":0},{"$f":"IF('4 indices'!H157=\"o\",1,0)","v":0},{"$f":"IF('4 indices'!I157=\"o\",1,0)","v":0},{"$f":"IF('4 indices'!J157=\"o\",1,0)","v":0},{"$f":"SUM(L317:O317)","v":0},{"$f":"IF('4 indices'!K157=\"o\",1,0)","v":0},{"$f":"IF('4 indices'!L157=\"o\",1,0)","v":0},{"$f":"IF('4 indices'!M157=\"o\",1,0)","v":0},{"$f":"IF('4 indices'!N157=\"o\",1,0)","v":0},{"$f":"SUM(Q317:T317)","v":0}]
[null,{"$f":"IF(AND('4 indices'!C160=\"x\",'4 indices'!D160=\"x\",'4 indices'!E160=\"x\",'4 indices'!F160=\"x\"),A158&'4 indices'!C154&\" \"&'4 indices'!B160,\"\")","v":""},1,null,null,{"$f":"'4 indices'!B158","v":"Madame de Maintenon"},{"$f":"IF('4 indices'!C158=\"o\",1,0)","v":0},{"$f":"IF('4 indices'!D158=\"o\",1,0)","v":0},{"$f":"IF('4 indices'!E158=\"o\",1,0)","v":0},{"$f":"IF('4 indices'!F158=\"o\",1,0)","v":0},{"$f":"SUM(G318:J318)","v":0},{"$f":"IF('4 indices'!G158=\"o\",1,0)","v":0},{"$f":"IF('4 indices'!H158=\"o\",1,0)","v":0},{"$f":"IF('4 indices'!I158=\"o\",1,0)","v":0},{"$f":"IF('4 indices'!J158=\"o\",1,0)","v":0},{"$f":"SUM(L318:O318)","v":0},{"$f":"IF('4 indices'!K158=\"o\",1,0)","v":0},{"$f":"IF('4 indices'!L158=\"o\",1,0)","v":0},{"$f":"IF('4 indices'!M158=\"o\",1,0)","v":0},{"$f":"IF('4 indices'!N158=\"o\",1,0)","v":0},{"$f":"SUM(Q318:T318)","v":0}]
[null,{"$f":"IF(AND('4 indices'!C161=\"x\",'4 indices'!D161=\"x\",'4 indices'!E161=\"x\",'4 indices'!F161=\"x\"),A158&'4 indices'!C154&\" \"&'4 indices'!B161,\"\")","v":""},1,null,null,{"$f":"'4 indices'!B159","v":"Marie Angélique de Fontanges"},{"$f":"IF('4 indices'!C159=\"o\",1,0)","v":0},{"$f":"IF('4 indices'!D159=\"o\",1,0)","v":0},{"$f":"IF('4 indices'!E159=\"o\",1,0)","v":0},{"$f":"IF('4 indices'!F159=\"o\",1,0)","v":0},{"$f":"SUM(G319:J319)","v":0},{"$f":"IF('4 indices'!G159=\"o\",1,0)","v":0},{"$f":"IF('4 indices'!H159=\"o\",1,0)","v":0},{"$f":"IF('4 indices'!I159=\"o\",1,0)","v":0},{"$f":"IF('4 indices'!J159=\"o\",1,0)","v":0},{"$f":"SUM(L319:O319)","v":0},{"$f":"IF('4 indices'!K159=\"o\",1,0)","v":0},{"$f":"IF('4 indices'!L159=\"o\",1,0)","v":0},{"$f":"IF('4 indices'!M159=\"o\",1,0)","v":0},{"$f":"IF('4 indices'!N159=\"o\",1,0)","v":0},{"$f":"SUM(Q319:T319)","v":0}]
[null,{"$f":"IF(AND('4 indices'!C162=\"x\",'4 indices'!D162=\"x\",'4 indices'!E162=\"x\",'4 indices'!F162=\"x\"),A158&'4 indices'!C154&\" \"&'4 indices'!B162,\"\")","v":""},1,null,null,null,{"$f":"SUM(G316:G319)","v":0},{"$f":"SUM(H316:H319)","v":0},{"$f":"SUM(I316:I319)","v":0},{"$f":"SUM(J316:J319)","v":0},null,{"$f":"SUM(L316:L319)","v":0},{"$f":"SUM(M316:M319)","v":0},{"$f":"SUM(N316:N319)","v":0},{"$f":"SUM(O316:O319)","v":0},null,{"$f":"SUM(Q316:Q319)","v":0},{"$f":"SUM(R316:R319)","v":0},{"$f":"SUM(S316:S319)","v":0},{"$f":"SUM(T316:T319)","v":0}]
[null,{"$f":"IF(AND('4 indices'!C163=\"x\",'4 indices'!D163=\"x\",'4 indices'!E163=\"x\",'4 indices'!F163=\"x\"),A158&'4 indices'!C154&\" \"&'4 indices'!B163,\"\")","v":""},1,null,{"$f":"'4 indices'!A160","v":"Rang"},{"$f":"'4 indices'!B160","v":1},{"$f":"IF('4 indices'!C160=\"o\",1,0)","v":0},{"$f":"IF('4 indices'!D160=\"o\",1,0)","v":0},{"$f":"IF('4 indices'!E160=\"o\",1,0)","v":0},{"$f":"IF('4 indices'!F160=\"o\",1,0)","v":0},{"$f":"SUM(G321:J321)","v":0},{"$f":"IF('4 indices'!G160=\"o\",1,0)","v":0},{"$f":"IF('4 indices'!H160=\"o\",1,0)","v":0},{"$f":"IF('4 indices'!I160=\"o\",1,0)","v":0},{"$f":"IF('4 indices'!J160=\"o\",1,0)","v":0},{"$f":"SUM(L321:O321)","v":0}]
[null,{"$f":"IF(AND('4 indices'!C164=\"x\",'4 indices'!D164=\"x\",'4 indices'!E164=\"x\",'4 indices'!F164=\"x\"),A158&'4 indices'!C154&\" \"&'4 indices'!B164,\"\")","v":""},1,null,null,{"$f":"'4 indices'!B161","v":2},{"$f":"IF('4 indices'!C161=\"o\",1,0)","v":0},{"$f":"IF('4 indices'!D161=\"o\",1,0)","v":0},{"$f":"IF('4 indices'!E161=\"o\",1,0)","v":0},{"$f":"IF('4 indices'!F161=\"o\",1,0)","v":0},{"$f":"SUM(G322:J322)","v":0},{"$f":"IF('4 indices'!G161=\"o\",1,0)","v":0},{"$f":"IF('4 indices'!H161=\"o\",1,0)","v":0},{"$f":"IF('4 indices'!I161=\"o\",1,0)","v":0},{"$f":"IF('4 indices'!J161=\"o\",1,0)","v":0},{"$f":"SUM(L322:O322)","v":0}]
[null,{"$f":"IF(AND('4 indices'!C165=\"x\",'4 indices'!D165=\"x\",'4 indices'!E165=\"x\",'4 indices'!F165=\"x\"),A158&'4 indices'!C154&\" \"&'4 indices'!B165,\"\")","v":""},1,null,null,{"$f":"'4 indices'!B162","v":3},{"$f":"IF('4 indices'!C162=\"o\",1,0)","v":0},{"$f":"IF('4 indices'!D162=\"o\",1,0)","v":0},{"$f":"IF('4 indices'!E162=\"o\",1,0)","v":0},{"$f":"IF('4 indices'!F162=\"o\",1,0)","v":0},{"$f":"SUM(G323:J323)","v":0},{"$f":"IF('4 indices'!G162=\"o\",1,0)","v":0},{"$f":"IF('4 indices'!H162=\"o\",1,0)","v":0},{"$f":"IF('4 indices'!I162=\"o\",1,0)","v":0},{"$f":"IF('4 indices'!J162=\"o\",1,0)","v":0},{"$f":"SUM(L323:O323)","v":0}]
[null,{"$f":"IF(AND('4 indices'!C166=\"x\",'4 indices'!D166=\"x\",'4 indices'!E166=\"x\",'4 indices'!F166=\"x\"),A158&'4 indices'!C154&\" \"&'4 indices'!B166,\"\")","v":""},1,null,null,{"$f":"'4 indices'!B163","v":4},{"$f":"IF('4 indices'!C163=\"o\",1,0)","v":0},{"$f":"IF('4 indices'!D163=\"o\",1,0)","v":0},{"$f":"IF('4 indices'!E163=\"o\",1,0)","v":0},{"$f":"IF('4 indices'!F163=\"o\",1,0)","v":0},{"$f":"SUM(G324:J324)","v":0},{"$f":"IF('4 indices'!G163=\"o\",1,0)","v":0},{"$f":"IF('4 indices'!H163=\"o\",1,0)","v":0},{"$f":"IF('4 indices'!I163=\"o\",1,0)","v":0},{"$f":"IF('4 indices'!J163=\"o\",1,0)","v":0},{"$f":"SUM(L324:O324)","v":0}]
[null,{"$f":"IF(AND('4 indices'!C167=\"x\",'4 indices'!D167=\"x\",'4 indices'!E167=\"x\",'4 indices'!F167=\"x\"),A158&'4 indices'!C154&\" \"&'4 indices'!B167,\"\")","v":""},1,null,null,null,{"$f":"SUM(G321:G324)","v":0},{"$f":"SUM(H321:H324)","v":0},{"$f":"SUM(I321:I324)","v":0},{"$f":"SUM(J321:J324)","v":0},null,{"$f":"SUM(L321:L324)","v":0},{"$f":"SUM(M321:M324)","v":0},{"$f":"SUM(N321:N324)","v":0},{"$f":"SUM(O321:O324)","v":0}]
[null,{"$f":"IF(AND('4 indices'!G156=\"x\",'4 indices'!H156=\"x\",'4 indices'!I156=\"x\",'4 indices'!J156=\"x\"),A158&'4 indices'!G154&\" \"&'4 indices'!B156,\"\")","v":""},1,null,{"$f":"'4 indices'!A164","v":"Enfants"},{"$f":"'4 indices'!B164","v":"0 enfant"},{"$f":"IF('4 indices'!C164=\"o\",1,0)","v":0},{"$f":"IF('4 indices'!D164=\"o\",1,0)","v":0},{"$f":"IF('4 indices'!E164=\"o\",1,0)","v":0},{"$f":"IF('4 indices'!F164=\"o\",1,0)","v":0},{"$f":"SUM(G326:J326)","v":0},"Impossible qu'il y ai plus de deux Oui "]
[null,{"$f":"IF(AND('4 indices'!G157=\"x\",'4 indices'!H157=\"x\",'4 indices'!I157=\"x\",'4 indices'!J157=\"x\"),A158&'4 indices'!G154&\" \"&'4 indices'!B157,\"\")","v":""},1,null,null,{"$f":"'4 indices'!B165","v":"1 enfant"},{"$f":"IF('4 indices'!C165=\"o\",1,0)","v":0},{"$f":"IF('4 indices'!D165=\"o\",1,0)","v":0},{"$f":"IF('4 indices'!E165=\"o\",1,0)","v":0},{"$f":"IF('4 indices'!F165=\"o\",1,0)","v":0},{"$f":"SUM(G327:J327)","v":0}," sur la ligne "]
[null,{"$f":"IF(AND('4 indices'!G158=\"x\",'4 indices'!H158=\"x\",'4 indices'!I158=\"x\",'4 indices'!J158=\"x\"),A158&'4 indices'!G154&\" \"&'4 indices'!B158,\"\")","v":""},1,null,null,{"$f":"'4 indices'!B166","v":"6 enfants"},{"$f":"IF('4 indices'!C166=\"o\",1,0)","v":0},{"$f":"IF('4 indices'!D166=\"o\",1,0)","v":0},{"$f":"IF('4 indices'!E166=\"o\",1,0)","v":0},{"$f":"IF('4 indices'!F166=\"o\",1,0)","v":0},{"$f":"SUM(G328:J328)","v":0}," sur la colonne "]
[null,{"$f":"IF(AND('4 indices'!G159=\"x\",'4 indices'!H159=\"x\",'4 indices'!I159=\"x\",'4 indices'!J159=\"x\"),A158&'4 indices'!G154&\" \"&'4 indices'!B159,\"\")","v":""},1,null,null,{"$f":"'4 indices'!B167","v":"8 enfants"},{"$f":"IF('4 indices'!C167=\"o\",1,0)","v":0},{"$f":"IF('4 indices'!D167=\"o\",1,0)","v":0},{"$f":"IF('4 indices'!E167=\"o\",1,0)","v":0},{"$f":"IF('4 indices'!F167=\"o\",1,0)","v":0},{"$f":"SUM(G329:J329)","v":0},"=",{"$f":"IF(K316>1,L326&L327&G314&\" \"&F316,IF(K317>1,L326&L327&G314&\" \"&F317,IF(K318>1,L326&L327&G314&\" \"&F318,IF(K319>1,L326&L327&G314&\" \"&F319,IF(K321>1,L326&L327&G314&\" \"&F321,IF(K322>1,L326&L327&G314&\" \"&F322,IF(K323>1,L326&L327&G314&\" \"&F323,IF(K324>1,L326&L327&G314&\" \"&F324,IF(K326>1,L326&L327&G314&\" \"&F326,IF(K327>1,L326&L327&G314&\" \"&F327,IF(K328>1,L326&L327&G314&\" \"&F328,IF(K329>1,L326&L327&G314&\" \"&F329,IF(P316>1,L326&L327&L314&\" \"&F316,IF(P317>1,L326&L327&L314&\" \"&F317,IF(P318>1,L326&L327&L314&\" \"&F318,IF(P319>1,L326&L327&L314&\" \"&F319,IF(P321>1,L326&L327&L314&\" \"&F321,IF(P322>1,L326&L327&L314&\" \"&F322,IF(P323>1,L326&L327&L314&\" \"&F323,IF(P324>1,L326&L327&L314&\" \"&F324,IF(U316>1,L326&L327&Q314&\" \"&F316,IF(U317>1,L326&L327&Q314&\" \"&F317,IF(U318>1,L326&L327&Q314&\" \"&F318,IF(U319>1,L326&L327&Q314&\" \"&F319,\"\"))))))))))))))))))))))))","v":""}]
[null,{"$f":"IF(AND('4 indices'!G160=\"x\",'4 indices'!H160=\"x\",'4 indices'!I160=\"x\",'4 indices'!J160=\"x\"),A158&'4 indices'!G154&\" \"&'4 indices'!B160,\"\")","v":""},1,null,null,null,{"$f":"SUM(G326:G329)","v":0},{"$f":"SUM(H326:H329)","v":0},{"$f":"SUM(I326:I329)","v":0},{"$f":"SUM(J326:J329)","v":0},null,"=",{"$f":"IF(G320>1,L326&L328&E316&\" \"&G315,IF(H320>1,L326&L328&E316&\" \"&H315,IF(I320>1,L326&L328&E316&\" \"&I315,IF(J320>1,L326&L328&E316&\" \"&J315,IF(L320>1,L326&L328&E316&\" \"&L315,IF(M320>1,L326&L328&E316&\" \"&M315,IF(N320>1,L326&L328&E316&\" \"&N315,IF(O320>1,L326&L328&E316&\" \"&O315,IF(Q320>1,L326&L328&E316&\" \"&Q315,IF(R320>1,L326&L328&E316&\" \"&R315,IF(S320>1,L326&L328&E316&\" \"&S315,IF(T320>1,L326&L328&E316&\" \"&T315,IF(G325>1,L326&L328&E321&\" \"&G315,IF(H325>1,L326&L328&E321&\" \"&H315,IF(I325>1,L326&L328&E321&\" \"&I315,IF(J325>1,L326&L328&E321&\" \"&J315,IF(L325>1,L326&L328&E321&\" \"&L315,IF(M325>1,L326&L328&E321&\" \"&M315,IF(N325>1,L326&L328&E321&\" \"&N315,IF(O325>1,L326&L328&E321&\" \"&O315,IF(G330>1,L326&L328&E326&\" \"&G315,IF(H330>1,L326&L328&E326&\" \"&H315,IF(I330>1,L326&L328&E326&\" \"&I315,IF(J330>1,L326&L328&E326&\" \"&J315,\"\"))))))))))))))))))))))))","v":""}]
[null,{"$f":"IF(AND('4 indices'!G161=\"x\",'4 indices'!H161=\"x\",'4 indices'!I161=\"x\",'4 indices'!J161=\"x\"),A158&'4 indices'!G154&\" \"&'4 indices'!B161,\"\")","v":""},1]
[null,{"$f":"IF(AND('4 indices'!G162=\"x\",'4 indices'!H162=\"x\",'4 indices'!I162=\"x\",'4 indices'!J162=\"x\"),A158&'4 indices'!G154&\" \"&'4 indices'!B162,\"\")","v":""},1]
[null,{"$f":"IF(AND('4 indices'!G163=\"x\",'4 indices'!H163=\"x\",'4 indices'!I163=\"x\",'4 indices'!J163=\"x\"),A158&'4 indices'!G154&\" \"&'4 indices'!B163,\"\")","v":""},1]
[null,{"$f":"IF(AND('4 indices'!K156=\"x\",'4 indices'!L156=\"x\",'4 indices'!M156=\"x\",'4 indices'!N156=\"x\"),A158&'4 indices'!K154&\" \"&'4 indices'!B156,\"\")","v":""},1]
[null,{"$f":"IF(AND('4 indices'!K157=\"x\",'4 indices'!L157=\"x\",'4 indices'!M157=\"x\",'4 indices'!N157=\"x\"),A158&'4 indices'!K154&\" \"&'4 indices'!B157,\"\")","v":""},1]
[null,{"$f":"IF(AND('4 indices'!K158=\"x\",'4 indices'!L158=\"x\",'4 indices'!M158=\"x\",'4 indices'!N158=\"x\"),A158&'4 indices'!K154&\" \"&'4 indices'!B158,\"\")","v":""},1]
[null,{"$f":"IF(AND('4 indices'!K159=\"x\",'4 indices'!L159=\"x\",'4 indices'!M159=\"x\",'4 indices'!N159=\"x\"),A158&'4 indices'!K154&\" \"&'4 indices'!B159,\"\")","v":""},1]
[]
[null,{"$f":"IF(C340=2,B340,IF(C341=2,B341,IF(C342=2,B342,IF(C343=2,B343,IF(C344=2,B344,IF(C345=2,B345,IF(C346=2,B346,IF(C347=2,B347,IF(C348=2,B348,IF(C349=2,B349,IF(C350=2,B350,IF(C351=2,B351,IF(C352=2,B352,IF(C353=2,B353,IF(C354=2,B354,IF(C355=2,B355,IF(C356=2,B356,IF(C357=2,B357,IF(C358=2,B358,IF(C359=2,B359,IF(C360=2,B360,IF(C361=2,B361,IF(C362=2,B362,IF(C363=2,B363,\"\"))))))))))))))))))))))))","v":""}]
["Impossible d'avoir 4 non sur la même colonne  ",{"$f":"IF(AND('4 indices'!C156=\"x\",'4 indices'!C157=\"x\",'4 indices'!C158=\"x\",'4 indices'!C159=\"x\"),$A$28&'4 indices'!$A156&\" \"&'4 indices'!C155,\"\")","v":""},{"$f":"IF(B340=\"\",1,2)","v":1}]
[null,{"$f":"IF(AND('4 indices'!D156=\"x\",'4 indices'!D157=\"x\",'4 indices'!D158=\"x\",'4 indices'!D159=\"x\"),$A$28&'4 indices'!$A156&\" \"&'4 indices'!D155,\"\")","v":""},{"$f":"IF(B341=\"\",1,2)","v":1}]
[null,{"$f":"IF(AND('4 indices'!E156=\"x\",'4 indices'!E157=\"x\",'4 indices'!E158=\"x\",'4 indices'!E159=\"x\"),$A$28&'4 indices'!$A156&\" \"&'4 indices'!E155,\"\")","v":""},1]
[null,{"$f":"IF(AND('4 indices'!F156=\"x\",'4 indices'!F157=\"x\",'4 indices'!F158=\"x\",'4 indices'!F159=\"x\"),$A$28&'4 indices'!$A156&\" \"&'4 indices'!F155,\"\")","v":""},1]
[null,{"$f":"IF(AND('4 indices'!G156=\"x\",'4 indices'!G157=\"x\",'4 indices'!G158=\"x\",'4 indices'!G159=\"x\"),$A$28&'4 indices'!$A156&\" \"&'4 indices'!G155,\"\")","v":""},1]
[null,{"$f":"IF(AND('4 indices'!H156=\"x\",'4 indices'!H157=\"x\",'4 indices'!H158=\"x\",'4 indices'!H159=\"x\"),$A$28&'4 indices'!$A156&\" \"&'4 indices'!H155,\"\")","v":""},1]
[null,{"$f":"IF(AND('4 indices'!I156=\"x\",'4 indices'!I157=\"x\",'4 indices'!I158=\"x\",'4 indices'!I159=\"x\"),$A$28&'4 indices'!$A156&\" \"&'4 indices'!I155,\"\")","v":""},1]
[null,{"$f":"IF(AND('4 indices'!J156=\"x\",'4 indices'!J157=\"x\",'4 indices'!J158=\"x\",'4 indices'!J159=\"x\"),$A$28&'4 indices'!$A156&\" \"&'4 indices'!J155,\"\")","v":""},1]
[null,{"$f":"IF(AND('4 indices'!K156=\"x\",'4 indices'!K157=\"x\",'4 indices'!K158=\"x\",'4 indices'!K159=\"x\"),$A$28&'4 indices'!$A156&\" \"&'4 indices'!K155,\"\")","v":""},1]
[null,{"$f":"IF(AND('4 indices'!L156=\"x\",'4 indices'!L157=\"x\",'4 indices'!L158=\"x\",'4 indices'!L159=\"x\"),$A$28&'4 indices'!$A156&\" \"&'4 indices'!L155,\"\")","v":""},1]
[null,{"$f":"IF(AND('4 indices'!M156=\"x\",'4 indices'!M157=\"x\",'4 indices'!M158=\"x\",'4 indices'!M159=\"x\"),$A$28&'4 indices'!$A156&\" \"&'4 indices'!M155,\"\")","v":""},1]
[null,{"$f":"IF(AND('4 indices'!N156=\"x\",'4 indices'!N157=\"x\",'4 indices'!N158=\"x\",'4 indices'!N159=\"x\"),$A$28&'4 indices'!$A156&\" \"&'4 indices'!N155,\"\")","v":""},1]
[null,{"$f":"IF(AND('4 indices'!C160=\"x\",'4 indices'!C161=\"x\",'4 indices'!C162=\"x\",'4 indices'!C163=\"x\"),$A$28&'4 indices'!$A$160&\" \"&'4 indices'!C155,\"\")","v":""},1]
[null,{"$f":"IF(AND('4 indices'!D160=\"x\",'4 indices'!D161=\"x\",'4 indices'!D162=\"x\",'4 indices'!D163=\"x\"),$A$28&'4 indices'!$A$160&\" \"&'4 indices'!D155,\"\")","v":""},1]
[null,{"$f":"IF(AND('4 indices'!E160=\"x\",'4 indices'!E161=\"x\",'4 indices'!E162=\"x\",'4 indices'!E163=\"x\"),$A$28&'4 indices'!$A$160&\" \"&'4 indices'!E155,\"\")","v":""},1]
[null,{"$f":"IF(AND('4 indices'!F160=\"x\",'4 indices'!F161=\"x\",'4 indices'!F162=\"x\",'4 indices'!F163=\"x\"),$A$28&'4 indices'!$A$160&\" \"&'4 indices'!F155,\"\")","v":""},1]
[null,{"$f":"IF(AND('4 indices'!G160=\"x\",'4 indices'!G161=\"x\",'4 indices'!G162=\"x\",'4 indices'!G163=\"x\"),$A$28&'4 indices'!$A$160&\" \"&'4 indices'!G155,\"\")","v":""},1]
[null,{"$f":"IF(AND('4 indices'!H160=\"x\",'4 indices'!H161=\"x\",'4 indices'!H162=\"x\",'4 indices'!H163=\"x\"),$A$28&'4 indices'!$A$160&\" \"&'4 indices'!H155,\"\")","v":""},1]
[null,{"$f":"IF(AND('4 indices'!I160=\"x\",'4 indices'!I161=\"x\",'4 indices'!I162=\"x\",'4 indices'!I163=\"x\"),$A$28&'4 indices'!$A$160&\" \"&'4 indices'!I155,\"\")","v":""},1]
[null,{"$f":"IF(AND('4 indices'!J160=\"x\",'4 indices'!J161=\"x\",'4 indices'!J162=\"x\",'4 indices'!J163=\"x\"),$A$28&'4 indices'!$A$160&\" \"&'4 indices'!J155,\"\")","v":""},1]
[null,{"$f":"IF(AND('4 indices'!C164=\"x\",'4 indices'!C165=\"x\",'4 indices'!C166=\"x\",'4 indices'!C167=\"x\"),$A$28&'4 indices'!$A$164&\" \"&'4 indices'!C155,\"\")","v":""},1]
[null,{"$f":"IF(AND('4 indices'!D164=\"x\",'4 indices'!D165=\"x\",'4 indices'!D166=\"x\",'4 indices'!D167=\"x\"),$A$28&'4 indices'!$A$164&\" \"&'4 indices'!D155,\"\")","v":""},1]
[null,{"$f":"IF(AND('4 indices'!E164=\"x\",'4 indices'!E165=\"x\",'4 indices'!E166=\"x\",'4 indices'!E167=\"x\"),$A$28&'4 indices'!$A$164&\" \"&'4 indices'!E155,\"\")","v":""},1]
[null,{"$f":"IF(AND('4 indices'!F164=\"x\",'4 indices'!F165=\"x\",'4 indices'!F166=\"x\",'4 indices'!F167=\"x\"),$A$28&'4 indices'!$A$164&\" \"&'4 indices'!F155,\"\")","v":""},1]
[]
[{"$f":"'4 indices'!A176","v":"XVIII°/ Les atomes :"},{"$f":"IF(C366=2,B366,IF(C367=2,B367,IF(C368=2,B368,IF(C369=2,B369,IF(C370=2,B370,IF(C371=2,B371,IF(C372=2,B372,IF(C373=2,B373,IF(C374=2,B374,IF(C375=2,B375,IF(C376=2,B376,IF(C377=2,B377,IF(C378=2,B378,IF(C379=2,B379,IF(C380=2,B380,IF(C381=2,B381,IF(C382=2,B382,IF(C383=2,B383,IF(C384=2,B384,IF(C385=2,B385,IF(C386=2,B386,IF(C387=2,B387,IF(C388=2,B388,IF(C389=2,B389,\"\"))))))))))))))))))))))))","v":""}]
["Impossible d'avoir 4 non sur la même ligne ",{"$f":"IF(AND('4 indices'!C181=\"x\",'4 indices'!D181=\"x\",'4 indices'!E181=\"x\",'4 indices'!F181=\"x\"),A366&'4 indices'!C179&\" \"&'4 indices'!B181,\"\")","v":""},{"$f":"IF(B366=\"\",1,2)","v":1},null,null,null,{"$f":"'4 indices'!C179","v":"Symbole"},null,null,null,null,{"$f":"'4 indices'!G179","v":"Densité"},null,null,null,null,{"$f":"'4 indices'!K179","v":"NA"}]
[null,{"$f":"IF(AND('4 indices'!C182=\"x\",'4 indices'!D182=\"x\",'4 indices'!E182=\"x\",'4 indices'!F182=\"x\"),A366&'4 indices'!C179&\" \"&'4 indices'!B182,\"\")","v":""},{"$f":"IF(B367=\"\",1,2)","v":1},null,null,null,{"$f":"'4 indices'!C180","v":"Sb"},{"$f":"'4 indices'!D180","v":"Au"},{"$f":"'4 indices'!E180","v":"Hg"},{"$f":"'4 indices'!F180","v":"W"},null,{"$f":"'4 indices'!G180","v":"6,68 g/cm3"},{"$f":"'4 indices'!H180","v":"13,55 g/cm3"},{"$f":"'4 indices'!I180","v":"19,32 g/cm3"},{"$f":"'4 indices'!J180","v":"19,35 g/cm3"},null,{"$f":"'4 indices'!K180","v":51},{"$f":"'4 indices'!L180","v":74},{"$f":"'4 indices'!M180","v":79},{"$f":"'4 indices'!N180","v":80}]
[null,{"$f":"IF(AND('4 indices'!C183=\"x\",'4 indices'!D183=\"x\",'4 indices'!E183=\"x\",'4 indices'!F183=\"x\"),A366&'4 indices'!C179&\" \"&'4 indices'!B183,\"\")","v":""},1,null,{"$f":"'4 indices'!A181","v":"Atome"},{"$f":"'4 indices'!B181","v":"Tungstène"},{"$f":"IF('4 indices'!C181=\"o\",1,0)","v":0},{"$f":"IF('4 indices'!D181=\"o\",1,0)","v":0},{"$f":"IF('4 indices'!E181=\"o\",1,0)","v":0},{"$f":"IF('4 indices'!F181=\"o\",1,0)","v":0},{"$f":"SUM(G368:J368)","v":0},{"$f":"IF('4 indices'!G181=\"o\",1,0)","v":0},{"$f":"IF('4 indices'!H181=\"o\",1,0)","v":0},{"$f":"IF('4 indices'!I181=\"o\",1,0)","v":0},{"$f":"IF('4 indices'!J181=\"o\",1,0)","v":0},{"$f":"SUM(L368:O368)","v":0},{"$f":"IF('4 indices'!K181=\"o\",1,0)","v":0},{"$f":"IF('4 indices'!L181=\"o\",1,0)","v":0},{"$f":"IF('4 indices'!M181=\"o\",1,0)","v":0},{"$f":"IF('4 indices'!N181=\"o\",1,0)","v":0},{"$f":"SUM(Q368:T368)","v":0}]
[null,{"$f":"IF(AND('4 indices'!C184=\"x\",'4 indices'!D184=\"x\",'4 indices'!E184=\"x\",'4 indices'!F184=\"x\"),A366&'4 indices'!C179&\" \"&'4 indices'!B184,\"\")","v":""},1,null,null,{"$f":"'4 indices'!B182","v":"Mercure"},{"$f":"IF('4 indices'!C182=\"o\",1,0)","v":0},{"$f":"IF('4 indices'!D182=\"o\",1,0)","v":0},{"$f":"IF('4 indices'!E182=\"o\",1,0)","v":0},{"$f":"IF('4 indices'!F182=\"o\",1,0)","v":0},{"$f":"SUM(G369:J369)","v":0},{"$f":"IF('4 indices'!G182=\"o\",1,0)","v":0},{"$f":"IF('4 indices'!H182=\"o\",1,0)","v":0},{"$f":"IF('4 indices'!I182=\"o\",1,0)","v":0},{"$f":"IF('4 indices'!J182=\"o\",1,0)","v":0},{"$f":"SUM(L369:O369)","v":0},{"$f":"IF('4 indices'!K182=\"o\",1,0)","v":0},{"$f":"IF('4 indices'!L182=\"o\",1,0)","v":0},{"$f":"IF('4 indices'!M182=\"o\",1,0)","v":0},{"$f":"IF('4 indices'!N182=\"o\",1,0)","v":0},{"$f":"SUM(Q369:T369)","v":0}]
[null,{"$f":"IF(AND('4 indices'!C185=\"x\",'4 indices'!D185=\"x\",'4 indices'!E185=\"x\",'4 indices'!F185=\"x\"),A366&'4 indices'!C179&\" \"&'4 indices'!B185,\"\")","v":""},1,null,null,{"$f":"'4 indices'!B183","v":"Antimoine"},{"$f":"IF('4 indices'!C183=\"o\",1,0)","v":0},{"$f":"IF('4 indices'!D183=\"o\",1,0)","v":0},{"$f":"IF('4 indices'!E183=\"o\",1,0)","v":0},{"$f":"IF('4 indices'!F183=\"o\",1,0)","v":0},{"$f":"SUM(G370:J370)","v":0},{"$f":"IF('4 indices'!G183=\"o\",1,0)","v":0},{"$f":"IF('4 indices'!H183=\"o\",1,0)","v":0},{"$f":"IF('4 indices'!I183=\"o\",1,0)","v":0},{"$f":"IF('4 indices'!J183=\"o\",1,0)","v":0},{"$f":"SUM(L370:O370)","v":0},{"$f":"IF('4 indices'!K183=\"o\",1,0)","v":0},{"$f":"IF('4 indices'!L183=\"o\",1,0)","v":0},{"$f":"IF('4 indices'!M183=\"o\",1,0)","v":0},{"$f":"IF('4 indices'!N183=\"o\",1,0)","v":0},{"$f":"SUM(Q370:T370)","v":0}]
[null,{"$f":"IF(AND('4 indices'!C186=\"x\",'4 indices'!D186=\"x\",'4 indices'!E186=\"x\",'4 indices'!F186=\"x\"),A366&'4 indices'!C179&\" \"&'4 indices'!B186,\"\")","v":""},1,null,null,{"$f":"'4 indices'!B184","v":"Or"},{"$f":"IF('4 indices'!C184=\"o\",1,0)","v":0},{"$f":"IF('4 indices'!D184=\"o\",1,0)","v":0},{"$f":"IF('4 indices'!E184=\"o\",1,0)","v":0},{"$f":"IF('4 indices'!F184=\"o\",1,0)","v":0},{"$f":"SUM(G371:J371)","v":0},{"$f":"IF('4 indices'!G184=\"o\",1,0)","v":0},{"$f":"IF('4 indices'!H184=\"o\",1,0)","v":0},{"$f":"IF('4 indices'!I184=\"o\",1,0)","v":0},{"$f":"IF('4 indices'!J184=\"o\",1,0)","v":0},{"$f":"SUM(L371:O371)","v":0},{"$f":"IF('4 indices'!K184=\"o\",1,0)","v":0},{"$f":"IF('4 indices'!L184=\"o\",1,0)","v":0},{"$f":"IF('4 indices'!M184=\"o\",1,0)","v":0},{"$f":"IF('4 indices'!N184=\"o\",1,0)","v":0},{"$f":"SUM(Q371:T371)","v":0}]
[null,{"$f":"IF(AND('4 indices'!C187=\"x\",'4 indices'!D187=\"x\",'4 indices'!E187=\"x\",'4 indices'!F187=\"x\"),A366&'4 indices'!C179&\" \"&'4 indices'!B187,\"\")","v":""},1,null,null,null,{"$f":"SUM(G368:G371)","v":0},{"$f":"SUM(H368:H371)","v":0},{"$f":"SUM(I368:I371)","v":0},{"$f":"SUM(J368:J371)","v":0},null,{"$f":"SUM(L368:L371)","v":0},{"$f":"SUM(M368:M371)","v":0},{"$f":"SUM(N368:N371)","v":0},{"$f":"SUM(O368:O371)","v":0},null,{"$f":"SUM(Q368:Q371)","v":0},{"$f":"SUM(R368:R371)","v":0},{"$f":"SUM(S368:S371)","v":0},{"$f":"SUM(T368:T371)","v":0}]
[null,{"$f":"IF(AND('4 indices'!C188=\"x\",'4 indices'!D188=\"x\",'4 indices'!E188=\"x\",'4 indices'!F188=\"x\"),A366&'4 indices'!C179&\" \"&'4 indices'!B188,\"\")","v":""},1,null,{"$f":"'4 indices'!A185","v":"NA"},{"$f":"'4 indices'!B185","v":51},{"$f":"IF('4 indices'!C185=\"o\",1,0)","v":0},{"$f":"IF('4 indices'!D185=\"o\",1,0)","v":0},{"$f":"IF('4 indices'!E185=\"o\",1,0)","v":0},{"$f":"IF('4 indices'!F185=\"o\",1,0)","v":0},{"$f":"SUM(G373:J373)","v":0},{"$f":"IF('4 indices'!G185=\"o\",1,0)","v":0},{"$f":"IF('4 indices'!H185=\"o\",1,0)","v":0},{"$f":"IF('4 indices'!I185=\"o\",1,0)","v":0},{"$f":"IF('4 indices'!J185=\"o\",1,0)","v":0},{"$f":"SUM(L373:O373)","v":0}]
[null,{"$f":"IF(AND('4 indices'!C189=\"x\",'4 indices'!D189=\"x\",'4 indices'!E189=\"x\",'4 indices'!F189=\"x\"),A366&'4 indices'!C179&\" \"&'4 indices'!B189,\"\")","v":""},1,null,null,{"$f":"'4 indices'!B186","v":74},{"$f":"IF('4 indices'!C186=\"o\",1,0)","v":0},{"$f":"IF('4 indices'!D186=\"o\",1,0)","v":0},{"$f":"IF('4 indices'!E186=\"o\",1,0)","v":0},{"$f":"IF('4 indices'!F186=\"o\",1,0)","v":0},{"$f":"SUM(G374:J374)","v":0},{"$f":"IF('4 indices'!G186=\"o\",1,0)","v":0},{"$f":"IF('4 indices'!H186=\"o\",1,0)","v":0},{"$f":"IF('4 indices'!I186=\"o\",1,0)","v":0},{"$f":"IF('4 indices'!J186=\"o\",1,0)","v":0},{"$f":"SUM(L374:O374)","v":0}]
[null,{"$f":"IF(AND('4 indices'!C190=\"x\",'4 indices'!D190=\"x\",'4 indices'!E190=\"x\",'4 indices'!F190=\"x\"),A366&'4 indices'!C179&\" \"&'4 indices'!B190,\"\")","v":""},1,null,null,{"$f":"'4 indices'!B187","v":79},{"$f":"IF('4 indices'!C187=\"o\",1,0)","v":0},{"$f":"IF('4 indices'!D187=\"o\",1,0)","v":0},{"$f":"IF('4 indices'!E187=\"o\",1,0)","v":0},{"$f":"IF('4 indices'!F187=\"o\",1,0)","v":0},{"$f":"SUM(G375:J375)","v":0},{"$f":"IF('4 indices'!G187=\"o\",1,0)","v":0},{"$f":"IF('4 indices'!H187=\"o\",1,0)","v":0},{"$f":"IF('4 indices'!I187=\"o\",1,0)","v":0},{"$f":"IF('4 indices'!J187=\"o\",1,0)","v":0},{"$f":"SUM(L375:O375)","v":0}]
[null,{"$f":"IF(AND('4 indices'!C191=\"x\",'4 indices'!D191=\"x\",'4 indices'!E191=\"x\",'4 indices'!F191=\"x\"),A366&'4 indices'!C179&\" \"&'4 indices'!B191,\"\")","v":""},1,null,null,{"$f":"'4 indices'!B188","v":80},{"$f":"IF('4 indices'!C188=\"o\",1,0)","v":0},{"$f":"IF('4 indices'!D188=\"o\",1,0)","v":0},{"$f":"IF('4 indices'!E188=\"o\",1,0)","v":0},{"$f":"IF('4 indices'!F188=\"o\",1,0)","v":0},{"$f":"SUM(G376:J376)","v":0},{"$f":"IF('4 indices'!G188=\"o\",1,0)","v":0},{"$f":"IF('4 indices'!H188=\"o\",1,0)","v":0},{"$f":"IF('4 indices'!I188=\"o\",1,0)","v":0},{"$f":"IF('4 indices'!J188=\"o\",1,0)","v":0},{"$f":"SUM(L376:O376)","v":0}]
[null,{"$f":"IF(AND('4 indices'!C192=\"x\",'4 indices'!D192=\"x\",'4 indices'!E192=\"x\",'4 indices'!F192=\"x\"),A366&'4 indices'!C179&\" \"&'4 indices'!B192,\"\")","v":""},1,null,null,null,{"$f":"SUM(G373:G376)","v":0},{"$f":"SUM(H373:H376)","v":0},{"$f":"SUM(I373:I376)","v":0},{"$f":"SUM(J373:J376)","v":0},null,{"$f":"SUM(L373:L376)","v":0},{"$f":"SUM(M373:M376)","v":0},{"$f":"SUM(N373:N376)","v":0},{"$f":"SUM(O373:O376)","v":0}]
[null,{"$f":"IF(AND('4 indices'!G181=\"x\",'4 indices'!H181=\"x\",'4 indices'!I181=\"x\",'4 indices'!J181=\"x\"),A366&'4 indices'!G179&\" \"&'4 indices'!B181,\"\")","v":""},1,null,{"$f":"'4 indices'!A189","v":"Densité"},{"$f":"'4 indices'!B189","v":"6,68 g/cm3"},{"$f":"IF('4 indices'!C189=\"o\",1,0)","v":0},{"$f":"IF('4 indices'!D189=\"o\",1,0)","v":0},{"$f":"IF('4 indices'!E189=\"o\",1,0)","v":0},{"$f":"IF('4 indices'!F189=\"o\",1,0)","v":0},{"$f":"SUM(G378:J378)","v":0},"Impossible qu'il y ai plus de deux Oui "]
[null,{"$f":"IF(AND('4 indices'!G182=\"x\",'4 indices'!H182=\"x\",'4 indices'!I182=\"x\",'4 indices'!J182=\"x\"),A366&'4 indices'!G179&\" \"&'4 indices'!B182,\"\")","v":""},1,null,null,{"$f":"'4 indices'!B190","v":"13,55 g/cm3"},{"$f":"IF('4 indices'!C190=\"o\",1,0)","v":0},{"$f":"IF('4 indices'!D190=\"o\",1,0)","v":0},{"$f":"IF('4 indices'!E190=\"o\",1,0)","v":0},{"$f":"IF('4 indices'!F190=\"o\",1,0)","v":0},{"$f":"SUM(G379:J379)","v":0}," sur la ligne "]
[null,{"$f":"IF(AND('4 indices'!G183=\"x\",'4 indices'!H183=\"x\",'4 indices'!I183=\"x\",'4 indices'!J183=\"x\"),A366&'4 indices'!G179&\" \"&'4 indices'!B183,\"\")","v":""},1,null,null,{"$f":"'4 indices'!B191","v":"19,32 g/cm3"},{"$f":"IF('4 indices'!C191=\"o\",1,0)","v":0},{"$f":"IF('4 indices'!D191=\"o\",1,0)","v":0},{"$f":"IF('4 indices'!E191=\"o\",1,0)","v":0},{"$f":"IF('4 indices'!F191=\"o\",1,0)","v":0},{"$f":"SUM(G380:J380)","v":0}," sur la colonne "]
[null,{"$f":"IF(AND('4 indices'!G184=\"x\",'4 indices'!H184=\"x\",'4 indices'!I184=\"x\",'4 indices'!J184=\"x\"),A366&'4 indices'!G179&\" \"&'4 indices'!B184,\"\")","v":""},1,null,null,{"$f":"'4 indices'!B192","v":"19,35 g/cm3"},{"$f":"IF('4 indices'!C192=\"o\",1,0)","v":0},{"$f":"IF('4 indices'!D192=\"o\",1,0)","v":0},{"$f":"IF('4 indices'!E192=\"o\",1,0)","v":0},{"$f":"IF('4 indices'!F192=\"o\",1,0)","v":0},{"$f":"SUM(G381:J381)","v":0},"=",{"$f":"IF(K368>1,L378&L379&G366&\" \"&F368,IF(K369>1,L378&L379&G366&\" \"&F369,IF(K370>1,L378&L379&G366&\" \"&F370,IF(K371>1,L378&L379&G366&\" \"&F371,IF(K373>1,L378&L379&G366&\" \"&F373,IF(K374>1,L378&L379&G366&\" \"&F374,IF(K375>1,L378&L379&G366&\" \"&F375,IF(K376>1,L378&L379&G366&\" \"&F376,IF(K378>1,L378&L379&G366&\" \"&F378,IF(K379>1,L378&L379&G366&\" \"&F379,IF(K380>1,L378&L379&G366&\" \"&F380,IF(K381>1,L378&L379&G366&\" \"&F381,IF(P368>1,L378&L379&L366&\" \"&F368,IF(P369>1,L378&L379&L366&\" \"&F369,IF(P370>1,L378&L379&L366&\" \"&F370,IF(P371>1,L378&L379&L366&\" \"&F371,IF(P373>1,L378&L379&L366&\" \"&F373,IF(P374>1,L378&L379&L366&\" \"&F374,IF(P375>1,L378&L379&L366&\" \"&F375,IF(P376>1,L378&L379&L366&\" \"&F376,IF(U368>1,L378&L379&Q366&\" \"&F368,IF(U369>1,L378&L379&Q366&\" \"&F369,IF(U370>1,L378&L379&Q366&\" \"&F370,IF(U371>1,L378&L379&Q366&\" \"&F371,\"\"))))))))))))))))))))))))","v":""}]
[null,{"$f":"IF(AND('4 indices'!G185=\"x\",'4 indices'!H185=\"x\",'4 indices'!I185=\"x\",'4 indices'!J185=\"x\"),A366&'4 indices'!G179&\" \"&'4 indices'!B185,\"\")","v":""},1,null,null,null,{"$f":"SUM(G378:G381)","v":0},{"$f":"SUM(H378:H381)","v":0},{"$f":"SUM(I378:I381)","v":0},{"$f":"SUM(J378:J381)","v":0},null,"=",{"$f":"IF(G372>1,L378&L380&E368&\" \"&G367,IF(H372>1,L378&L380&E368&\" \"&H367,IF(I372>1,L378&L380&E368&\" \"&I367,IF(J372>1,L378&L380&E368&\" \"&J367,IF(L372>1,L378&L380&E368&\" \"&L367,IF(M372>1,L378&L380&E368&\" \"&M367,IF(N372>1,L378&L380&E368&\" \"&N367,IF(O372>1,L378&L380&E368&\" \"&O367,IF(Q372>1,L378&L380&E368&\" \"&Q367,IF(R372>1,L378&L380&E368&\" \"&R367,IF(S372>1,L378&L380&E368&\" \"&S367,IF(T372>1,L378&L380&E368&\" \"&T367,IF(G377>1,L378&L380&E373&\" \"&G367,IF(H377>1,L378&L380&E373&\" \"&H367,IF(I377>1,L378&L380&E373&\" \"&I367,IF(J377>1,L378&L380&E373&\" \"&J367,IF(L377>1,L378&L380&E373&\" \"&L367,IF(M377>1,L378&L380&E373&\" \"&M367,IF(N377>1,L378&L380&E373&\" \"&N367,IF(O377>1,L378&L380&E373&\" \"&O367,IF(G382>1,L378&L380&E378&\" \"&G367,IF(H382>1,L378&L380&E378&\" \"&H367,IF(I382>1,L378&L380&E378&\" \"&I367,IF(J382>1,L378&L380&E378&\" \"&J367,\"\"))))))))))))))))))))))))","v":""}]
[null,{"$f":"IF(AND('4 indices'!G186=\"x\",'4 indices'!H186=\"x\",'4 indices'!I186=\"x\",'4 indices'!J186=\"x\"),A366&'4 indices'!G179&\" \"&'4 indices'!B186,\"\")","v":""},1]
[null,{"$f":"IF(AND('4 indices'!G187=\"x\",'4 indices'!H187=\"x\",'4 indices'!I187=\"x\",'4 indices'!J187=\"x\"),A366&'4 indices'!G179&\" \"&'4 indices'!B187,\"\")","v":""},1]
[null,{"$f":"IF(AND('4 indices'!G188=\"x\",'4 indices'!H188=\"x\",'4 indices'!I188=\"x\",'4 indices'!J188=\"x\"),A366&'4 indices'!G179&\" \"&'4 indices'!B188,\"\")","v":""},1]
[null,{"$f":"IF(AND('4 indices'!K181=\"x\",'4 indices'!L181=\"x\",'4 indices'!M181=\"x\",'4 indices'!N181=\"x\"),A366&'4 indices'!K179&\" \"&'4 indices'!B181,\"\")","v":""},1]
[null,{"$f":"IF(AND('4 indices'!K182=\"x\",'4 indices'!L182=\"x\",'4 indices'!M182=\"x\",'4 indices'!N182=\"x\"),A366&'4 indices'!K179&\" \"&'4 indices'!B182,\"\")","v":""},1]
[null,{"$f":"IF(AND('4 indices'!K183=\"x\",'4 indices'!L183=\"x\",'4 indices'!M183=\"x\",'4 indices'!N183=\"x\"),A366&'4 indices'!K179&\" \"&'4 indices'!B183,\"\")","v":""},1]
[null,{"$f":"IF(AND('4 indices'!K184=\"x\",'4 indices'!L184=\"x\",'4 indices'!M184=\"x\",'4 indices'!N184=\"x\"),A366&'4 indices'!K179&\" \"&'4 indices'!B184,\"\")","v":""},1]
[]
[null,{"$f":"IF(C392=2,B392,IF(C393=2,B393,IF(C394=2,B394,IF(C395=2,B395,IF(C396=2,B396,IF(C397=2,B397,IF(C398=2,B398,IF(C399=2,B399,IF(C400=2,B400,IF(C401=2,B401,IF(C402=2,B402,IF(C403=2,B403,IF(C404=2,B404,IF(C405=2,B405,IF(C406=2,B406,IF(C407=2,B407,IF(C408=2,B408,IF(C409=2,B409,IF(C410=2,B410,IF(C411=2,B411,IF(C412=2,B412,IF(C413=2,B413,IF(C414=2,B414,IF(C415=2,B415,\"\"))))))))))))))))))))))))","v":""}]
["Impossible d'avoir 4 non sur la même colonne  ",{"$f":"IF(AND('4 indices'!C181=\"x\",'4 indices'!C182=\"x\",'4 indices'!C183=\"x\",'4 indices'!C184=\"x\"),$A$28&'4 indices'!$A181&\" \"&'4 indices'!C180,\"\")","v":""},{"$f":"IF(B392=\"\",1,2)","v":1}]
[null,{"$f":"IF(AND('4 indices'!D181=\"x\",'4 indices'!D182=\"x\",'4 indices'!D183=\"x\",'4 indices'!D184=\"x\"),$A$28&'4 indices'!$A181&\" \"&'4 indices'!D180,\"\")","v":""},{"$f":"IF(B393=\"\",1,2)","v":1}]
[null,{"$f":"IF(AND('4 indices'!E181=\"x\",'4 indices'!E182=\"x\",'4 indices'!E183=\"x\",'4 indices'!E184=\"x\"),$A$28&'4 indices'!$A181&\" \"&'4 indices'!E180,\"\")","v":""},1]
[null,{"$f":"IF(AND('4 indices'!F181=\"x\",'4 indices'!F182=\"x\",'4 indices'!F183=\"x\",'4 indices'!F184=\"x\"),$A$28&'4 indices'!$A181&\" \"&'4 indices'!F180,\"\")","v":""},1]
[null,{"$f":"IF(AND('4 indices'!G181=\"x\",'4 indices'!G182=\"x\",'4 indices'!G183=\"x\",'4 indices'!G184=\"x\"),$A$28&'4 indices'!$A181&\" \"&'4 indices'!G180,\"\")","v":""},1]
[null,{"$f":"IF(AND('4 indices'!H181=\"x\",'4 indices'!H182=\"x\",'4 indices'!H183=\"x\",'4 indices'!H184=\"x\"),$A$28&'4 indices'!$A181&\" \"&'4 indices'!H180,\"\")","v":""},1]
[null,{"$f":"IF(AND('4 indices'!I181=\"x\",'4 indices'!I182=\"x\",'4 indices'!I183=\"x\",'4 indices'!I184=\"x\"),$A$28&'4 indices'!$A181&\" \"&'4 indices'!I180,\"\")","v":""},1]
[null,{"$f":"IF(AND('4 indices'!J181=\"x\",'4 indices'!J182=\"x\",'4 indices'!J183=\"x\",'4 indices'!J184=\"x\"),$A$28&'4 indices'!$A181&\" \"&'4 indices'!J180,\"\")","v":""},1]
[null,{"$f":"IF(AND('4 indices'!K181=\"x\",'4 indices'!K182=\"x\",'4 indices'!K183=\"x\",'4 indices'!K184=\"x\"),$A$28&'4 indices'!$A181&\" \"&'4 indices'!K180,\"\")","v":""},1]
[null,{"$f":"IF(AND('4 indices'!L181=\"x\",'4 indices'!L182=\"x\",'4 indices'!L183=\"x\",'4 indices'!L184=\"x\"),$A$28&'4 indices'!$A181&\" \"&'4 indices'!L180,\"\")","v":""},1]
[null,{"$f":"IF(AND('4 indices'!M181=\"x\",'4 indices'!M182=\"x\",'4 indices'!M183=\"x\",'4 indices'!M184=\"x\"),$A$28&'4 indices'!$A181&\" \"&'4 indices'!M180,\"\")","v":""},1]
[null,{"$f":"IF(AND('4 indices'!N181=\"x\",'4 indices'!N182=\"x\",'4 indices'!N183=\"x\",'4 indices'!N184=\"x\"),$A$28&'4 indices'!$A181&\" \"&'4 indices'!N180,\"\")","v":""},1]
[null,{"$f":"IF(AND('4 indices'!C185=\"x\",'4 indices'!C186=\"x\",'4 indices'!C187=\"x\",'4 indices'!C188=\"x\"),$A$28&'4 indices'!$A$185&\" \"&'4 indices'!C180,\"\")","v":""},1]
[null,{"$f":"IF(AND('4 indices'!D185=\"x\",'4 indices'!D186=\"x\",'4 indices'!D187=\"x\",'4 indices'!D188=\"x\"),$A$28&'4 indices'!$A$185&\" \"&'4 indices'!D180,\"\")","v":""},1]
[null,{"$f":"IF(AND('4 indices'!E185=\"x\",'4 indices'!E186=\"x\",'4 indices'!E187=\"x\",'4 indices'!E188=\"x\"),$A$28&'4 indices'!$A$185&\" \"&'4 indices'!E180,\"\")","v":""},1]
[null,{"$f":"IF(AND('4 indices'!F185=\"x\",'4 indices'!F186=\"x\",'4 indices'!F187=\"x\",'4 indices'!F188=\"x\"),$A$28&'4 indices'!$A$185&\" \"&'4 indices'!F180,\"\")","v":""},1]
[null,{"$f":"IF(AND('4 indices'!G185=\"x\",'4 indices'!G186=\"x\",'4 indices'!G187=\"x\",'4 indices'!G188=\"x\"),$A$28&'4 indices'!$A$185&\" \"&'4 indices'!G180,\"\")","v":""},1]
[null,{"$f":"IF(AND('4 indices'!H185=\"x\",'4 indices'!H186=\"x\",'4 indices'!H187=\"x\",'4 indices'!H188=\"x\"),$A$28&'4 indices'!$A$185&\" \"&'4 indices'!H180,\"\")","v":""},1]
[null,{"$f":"IF(AND('4 indices'!I185=\"x\",'4 indices'!I186=\"x\",'4 indices'!I187=\"x\",'4 indices'!I188=\"x\"),$A$28&'4 indices'!$A$185&\" \"&'4 indices'!I180,\"\")","v":""},1]
[null,{"$f":"IF(AND('4 indices'!J185=\"x\",'4 indices'!J186=\"x\",'4 indices'!J187=\"x\",'4 indices'!J188=\"x\"),$A$28&'4 indices'!$A$185&\" \"&'4 indices'!J180,\"\")","v":""},1]
[null,{"$f":"IF(AND('4 indices'!C189=\"x\",'4 indices'!C190=\"x\",'4 indices'!C191=\"x\",'4 indices'!C192=\"x\"),$A$28&'4 indices'!$A$189&\" \"&'4 indices'!C180,\"\")","v":""},1]
[null,{"$f":"IF(AND('4 indices'!D189=\"x\",'4 indices'!D190=\"x\",'4 indices'!D191=\"x\",'4 indices'!D192=\"x\"),$A$28&'4 indices'!$A$189&\" \"&'4 indices'!D180,\"\")","v":""},1]
[null,{"$f":"IF(AND('4 indices'!E189=\"x\",'4 indices'!E190=\"x\",'4 indices'!E191=\"x\",'4 indices'!E192=\"x\"),$A$28&'4 indices'!$A$189&\" \"&'4 indices'!E180,\"\")","v":""},1]
[null,{"$f":"IF(AND('4 indices'!F189=\"x\",'4 indices'!F190=\"x\",'4 indices'!F191=\"x\",'4 indices'!F192=\"x\"),$A$28&'4 indices'!$A$189&\" \"&'4 indices'!F180,\"\")","v":""},1]
[]
[{"$f":"'4 indices'!A201","v":"XIX°/ Les animaux sprinters :"},{"$f":"IF(C418=2,B418,IF(C419=2,B419,IF(C420=2,B420,IF(C421=2,B421,IF(C422=2,B422,IF(C423=2,B423,IF(C424=2,B424,IF(C425=2,B425,IF(C426=2,B426,IF(C427=2,B427,IF(C428=2,B428,IF(C429=2,B429,IF(C430=2,B430,IF(C431=2,B431,IF(C432=2,B432,IF(C433=2,B433,IF(C434=2,B434,IF(C435=2,B435,IF(C436=2,B436,IF(C437=2,B437,IF(C438=2,B438,IF(C439=2,B439,IF(C440=2,B440,IF(C441=2,B441,\"\"))))))))))))))))))))))))","v":""}]
["Impossible d'avoir 4 non sur la même ligne ",{"$f":"IF(AND('4 indices'!C206=\"x\",'4 indices'!D206=\"x\",'4 indices'!E206=\"x\",'4 indices'!F206=\"x\"),A210&'4 indices'!C204&\" \"&'4 indices'!B206,\"\")","v":""},{"$f":"IF(B418=\"\",1,2)","v":1},null,null,null,{"$f":"'4 indices'!C204","v":"Vitesse en km/h"},null,null,null,null,{"$f":"'4 indices'!G204","v":"Poids"},null,null,null,null,{"$f":"'4 indices'!K204","v":"Taille"}]
[null,{"$f":"IF(AND('4 indices'!C207=\"x\",'4 indices'!D207=\"x\",'4 indices'!E207=\"x\",'4 indices'!F207=\"x\"),A210&'4 indices'!C204&\" \"&'4 indices'!B207,\"\")","v":""},{"$f":"IF(B419=\"\",1,2)","v":1},null,null,null,{"$f":"'4 indices'!C205","v":88},{"$f":"'4 indices'!D205","v":95},{"$f":"'4 indices'!E205","v":98},{"$f":"'4 indices'!F205","v":110},null,{"$f":"'4 indices'!G205","v":"25 kg"},{"$f":"'4 indices'!H205","v":"35 kg"},{"$f":"'4 indices'!I205","v":"45 kg"},{"$f":"'4 indices'!J205","v":"65 kg"},null,{"$f":"'4 indices'!K205","v":"1 m 20"},{"$f":"'4 indices'!L205","v":"1 m 30"},{"$f":"'4 indices'!M205","v":"1 m 35"},{"$f":"'4 indices'!N205","v":"1 m 40"}]
[null,{"$f":"IF(AND('4 indices'!C208=\"x\",'4 indices'!D208=\"x\",'4 indices'!E208=\"x\",'4 indices'!F208=\"x\"),A210&'4 indices'!C204&\" \"&'4 indices'!B208,\"\")","v":""},1,null,{"$f":"'4 indices'!A206","v":"Animal"},{"$f":"'4 indices'!B206","v":"Le springbok"},{"$f":"IF('4 indices'!C206=\"o\",1,0)","v":0},{"$f":"IF('4 indices'!D206=\"o\",1,0)","v":0},{"$f":"IF('4 indices'!E206=\"o\",1,0)","v":0},{"$f":"IF('4 indices'!F206=\"o\",1,0)","v":0},{"$f":"SUM(G420:J420)","v":0},{"$f":"IF('4 indices'!G206=\"o\",1,0)","v":0},{"$f":"IF('4 indices'!H206=\"o\",1,0)","v":0},{"$f":"IF('4 indices'!I206=\"o\",1,0)","v":0},{"$f":"IF('4 indices'!J206=\"o\",1,0)","v":0},{"$f":"SUM(L420:O420)","v":0},{"$f":"IF('4 indices'!K206=\"o\",1,0)","v":0},{"$f":"IF('4 indices'!L206=\"o\",1,0)","v":0},{"$f":"IF('4 indices'!M206=\"o\",1,0)","v":0},{"$f":"IF('4 indices'!N206=\"o\",1,0)","v":0},{"$f":"SUM(Q420:T420)","v":0}]
[null,{"$f":"IF(AND('4 indices'!C209=\"x\",'4 indices'!D209=\"x\",'4 indices'!E209=\"x\",'4 indices'!F209=\"x\"),A210&'4 indices'!C204&\" \"&'4 indices'!B209,\"\")","v":""},1,null,null,{"$f":"'4 indices'!B207","v":"Le chevreuil"},{"$f":"IF('4 indices'!C207=\"o\",1,0)","v":0},{"$f":"IF('4 indices'!D207=\"o\",1,0)","v":0},{"$f":"IF('4 indices'!E207=\"o\",1,0)","v":0},{"$f":"IF('4 indices'!F207=\"o\",1,0)","v":0},{"$f":"SUM(G421:J421)","v":0},{"$f":"IF('4 indices'!G207=\"o\",1,0)","v":0},{"$f":"IF('4 indices'!H207=\"o\",1,0)","v":0},{"$f":"IF('4 indices'!I207=\"o\",1,0)","v":0},{"$f":"IF('4 indices'!J207=\"o\",1,0)","v":0},{"$f":"SUM(L421:O421)","v":0},{"$f":"IF('4 indices'!K207=\"o\",1,0)","v":0},{"$f":"IF('4 indices'!L207=\"o\",1,0)","v":0},{"$f":"IF('4 indices'!M207=\"o\",1,0)","v":0},{"$f":"IF('4 indices'!N207=\"o\",1,0)","v":0},{"$f":"SUM(Q421:T421)","v":0}]
[null,{"$f":"IF(AND('4 indices'!C210=\"x\",'4 indices'!D210=\"x\",'4 indices'!E210=\"x\",'4 indices'!F210=\"x\"),A210&'4 indices'!C204&\" \"&'4 indices'!B210,\"\")","v":""},1,null,null,{"$f":"'4 indices'!B208","v":"Le guépard"},{"$f":"IF('4 indices'!C208=\"o\",1,0)","v":0},{"$f":"IF('4 indices'!D208=\"o\",1,0)","v":0},{"$f":"IF('4 indices'!E208=\"o\",1,0)","v":0},{"$f":"IF('4 indices'!F208=\"o\",1,0)","v":0},{"$f":"SUM(G422:J422)","v":0},{"$f":"IF('4 indices'!G208=\"o\",1,0)","v":0},{"$f":"IF('4 indices'!H208=\"o\",1,0)","v":0},{"$f":"IF('4 indices'!I208=\"o\",1,0)","v":0},{"$f":"IF('4 indices'!J208=\"o\",1,0)","v":0},{"$f":"SUM(L422:O422)","v":0},{"$f":"IF('4 indices'!K208=\"o\",1,0)","v":0},{"$f":"IF('4 indices'!L208=\"o\",1,0)","v":0},{"$f":"IF('4 indices'!M208=\"o\",1,0)","v":0},{"$f":"IF('4 indices'!N208=\"o\",1,0)","v":0},{"$f":"SUM(Q422:T422)","v":0}]
[null,{"$f":"IF(AND('4 indices'!C211=\"x\",'4 indices'!D211=\"x\",'4 indices'!E211=\"x\",'4 indices'!F211=\"x\"),A210&'4 indices'!C204&\" \"&'4 indices'!B211,\"\")","v":""},1,null,null,{"$f":"'4 indices'!B209","v":"L'antilope"},{"$f":"IF('4 indices'!C209=\"o\",1,0)","v":0},{"$f":"IF('4 indices'!D209=\"o\",1,0)","v":0},{"$f":"IF('4 indices'!E209=\"o\",1,0)","v":0},{"$f":"IF('4 indices'!F209=\"o\",1,0)","v":0},{"$f":"SUM(G423:J423)","v":0},{"$f":"IF('4 indices'!G209=\"o\",1,0)","v":0},{"$f":"IF('4 indices'!H209=\"o\",1,0)","v":0},{"$f":"IF('4 indices'!I209=\"o\",1,0)","v":0},{"$f":"IF('4 indices'!J209=\"o\",1,0)","v":0},{"$f":"SUM(L423:O423)","v":0},{"$f":"IF('4 indices'!K209=\"o\",1,0)","v":0},{"$f":"IF('4 indices'!L209=\"o\",1,0)","v":0},{"$f":"IF('4 indices'!M209=\"o\",1,0)","v":0},{"$f":"IF('4 indices'!N209=\"o\",1,0)","v":0},{"$f":"SUM(Q423:T423)","v":0}]
[null,{"$f":"IF(AND('4 indices'!C212=\"x\",'4 indices'!D212=\"x\",'4 indices'!E212=\"x\",'4 indices'!F212=\"x\"),A210&'4 indices'!C204&\" \"&'4 indices'!B212,\"\")","v":""},1,null,null,null,{"$f":"SUM(G420:G423)","v":0},{"$f":"SUM(H420:H423)","v":0},{"$f":"SUM(I420:I423)","v":0},{"$f":"SUM(J420:J423)","v":0},null,{"$f":"SUM(L420:L423)","v":0},{"$f":"SUM(M420:M423)","v":0},{"$f":"SUM(N420:N423)","v":0},{"$f":"SUM(O420:O423)","v":0},null,{"$f":"SUM(Q420:Q423)","v":0},{"$f":"SUM(R420:R423)","v":0},{"$f":"SUM(S420:S423)","v":0},{"$f":"SUM(T420:T423)","v":0}]
[null,{"$f":"IF(AND('4 indices'!C213=\"x\",'4 indices'!D213=\"x\",'4 indices'!E213=\"x\",'4 indices'!F213=\"x\"),A210&'4 indices'!C204&\" \"&'4 indices'!B213,\"\")","v":""},1,null,{"$f":"'4 indices'!A210","v":"Taille"},{"$f":"'4 indices'!B210","v":"1 m 20"},{"$f":"IF('4 indices'!C210=\"o\",1,0)","v":0},{"$f":"IF('4 indices'!D210=\"o\",1,0)","v":0},{"$f":"IF('4 indices'!E210=\"o\",1,0)","v":0},{"$f":"IF('4 indices'!F210=\"o\",1,0)","v":0},{"$f":"SUM(G425:J425)","v":0},{"$f":"IF('4 indices'!G210=\"o\",1,0)","v":0},{"$f":"IF('4 indices'!H210=\"o\",1,0)","v":0},{"$f":"IF('4 indices'!I210=\"o\",1,0)","v":0},{"$f":"IF('4 indices'!J210=\"o\",1,0)","v":0},{"$f":"SUM(L425:O425)","v":0}]
[null,{"$f":"IF(AND('4 indices'!C214=\"x\",'4 indices'!D214=\"x\",'4 indices'!E214=\"x\",'4 indices'!F214=\"x\"),A210&'4 indices'!C204&\" \"&'4 indices'!B214,\"\")","v":""},1,null,null,{"$f":"'4 indices'!B211","v":"1 m 30"},{"$f":"IF('4 indices'!C211=\"o\",1,0)","v":0},{"$f":"IF('4 indices'!D211=\"o\",1,0)","v":0},{"$f":"IF('4 indices'!E211=\"o\",1,0)","v":0},{"$f":"IF('4 indices'!F211=\"o\",1,0)","v":0},{"$f":"SUM(G426:J426)","v":0},{"$f":"IF('4 indices'!G211=\"o\",1,0)","v":0},{"$f":"IF('4 indices'!H211=\"o\",1,0)","v":0},{"$f":"IF('4 indices'!I211=\"o\",1,0)","v":0},{"$f":"IF('4 indices'!J211=\"o\",1,0)","v":0},{"$f":"SUM(L426:O426)","v":0}]
[null,{"$f":"IF(AND('4 indices'!C215=\"x\",'4 indices'!D215=\"x\",'4 indices'!E215=\"x\",'4 indices'!F215=\"x\"),A210&'4 indices'!C204&\" \"&'4 indices'!B215,\"\")","v":""},1,null,null,{"$f":"'4 indices'!B212","v":"1 m 35"},{"$f":"IF('4 indices'!C212=\"o\",1,0)","v":0},{"$f":"IF('4 indices'!D212=\"o\",1,0)","v":0},{"$f":"IF('4 indices'!E212=\"o\",1,0)","v":0},{"$f":"IF('4 indices'!F212=\"o\",1,0)","v":0},{"$f":"SUM(G427:J427)","v":0},{"$f":"IF('4 indices'!G212=\"o\",1,0)","v":0},{"$f":"IF('4 indices'!H212=\"o\",1,0)","v":0},{"$f":"IF('4 indices'!I212=\"o\",1,0)","v":0},{"$f":"IF('4 indices'!J212=\"o\",1,0)","v":0},{"$f":"SUM(L427:O427)","v":0}]
[null,{"$f":"IF(AND('4 indices'!C216=\"x\",'4 indices'!D216=\"x\",'4 indices'!E216=\"x\",'4 indices'!F216=\"x\"),A210&'4 indices'!C204&\" \"&'4 indices'!B216,\"\")","v":""},1,null,null,{"$f":"'4 indices'!B213","v":"1 m 40"},{"$f":"IF('4 indices'!C213=\"o\",1,0)","v":0},{"$f":"IF('4 indices'!D213=\"o\",1,0)","v":0},{"$f":"IF('4 indices'!E213=\"o\",1,0)","v":0},{"$f":"IF('4 indices'!F213=\"o\",1,0)","v":0},{"$f":"SUM(G428:J428)","v":0},{"$f":"IF('4 indices'!G213=\"o\",1,0)","v":0},{"$f":"IF('4 indices'!H213=\"o\",1,0)","v":0},{"$f":"IF('4 indices'!I213=\"o\",1,0)","v":0},{"$f":"IF('4 indices'!J213=\"o\",1,0)","v":0},{"$f":"SUM(L428:O428)","v":0}]
[null,{"$f":"IF(AND('4 indices'!C217=\"x\",'4 indices'!D217=\"x\",'4 indices'!E217=\"x\",'4 indices'!F217=\"x\"),A210&'4 indices'!C204&\" \"&'4 indices'!B217,\"\")","v":""},1,null,null,null,{"$f":"SUM(G425:G428)","v":0},{"$f":"SUM(H425:H428)","v":0},{"$f":"SUM(I425:I428)","v":0},{"$f":"SUM(J425:J428)","v":0},null,{"$f":"SUM(L425:L428)","v":0},{"$f":"SUM(M425:M428)","v":0},{"$f":"SUM(N425:N428)","v":0},{"$f":"SUM(O425:O428)","v":0}]
[null,{"$f":"IF(AND('4 indices'!G206=\"x\",'4 indices'!H206=\"x\",'4 indices'!I206=\"x\",'4 indices'!J206=\"x\"),A210&'4 indices'!G204&\" \"&'4 indices'!B206,\"\")","v":""},1,null,{"$f":"'4 indices'!A214","v":"Poids"},{"$f":"'4 indices'!B214","v":"25 kg"},{"$f":"IF('4 indices'!C214=\"o\",1,0)","v":0},{"$f":"IF('4 indices'!D214=\"o\",1,0)","v":0},{"$f":"IF('4 indices'!E214=\"o\",1,0)","v":0},{"$f":"IF('4 indices'!F214=\"o\",1,0)","v":0},{"$f":"SUM(G430:J430)","v":0},"Impossible qu'il y ai plus de deux Oui "]
[null,{"$f":"IF(AND('4 indices'!G207=\"x\",'4 indices'!H207=\"x\",'4 indices'!I207=\"x\",'4 indices'!J207=\"x\"),A210&'4 indices'!G204&\" \"&'4 indices'!B207,\"\")","v":""},1,null,null,{"$f":"'4 indices'!B215","v":"35 kg"},{"$f":"IF('4 indices'!C215=\"o\",1,0)","v":0},{"$f":"IF('4 indices'!D215=\"o\",1,0)","v":0},{"$f":"IF('4 indices'!E215=\"o\",1,0)","v":0},{"$f":"IF('4 indices'!F215=\"o\",1,0)","v":0},{"$f":"SUM(G431:J431)","v":0}," sur la ligne "]
[null,{"$f":"IF(AND('4 indices'!G208=\"x\",'4 indices'!H208=\"x\",'4 indices'!I208=\"x\",'4 indices'!J208=\"x\"),A210&'4 indices'!G204&\" \"&'4 indices'!B208,\"\")","v":""},1,null,null,{"$f":"'4 indices'!B216","v":"45 kg"},{"$f":"IF('4 indices'!C216=\"o\",1,0)","v":0},{"$f":"IF('4 indices'!D216=\"o\",1,0)","v":0},{"$f":"IF('4 indices'!E216=\"o\",1,0)","v":0},{"$f":"IF('4 indices'!F216=\"o\",1,0)","v":0},{"$f":"SUM(G432:J432)","v":0}," sur la colonne "]
[null,{"$f":"IF(AND('4 indices'!G209=\"x\",'4 indices'!H209=\"x\",'4 indices'!I209=\"x\",'4 indices'!J209=\"x\"),A210&'4 indices'!G204&\" \"&'4 indices'!B209,\"\")","v":""},1,null,null,{"$f":"'4 indices'!B217","v":"65 kg"},{"$f":"IF('4 indices'!C217=\"o\",1,0)","v":0},{"$f":"IF('4 indices'!D217=\"o\",1,0)","v":0},{"$f":"IF('4 indices'!E217=\"o\",1,0)","v":0},{"$f":"IF('4 indices'!F217=\"o\",1,0)","v":0},{"$f":"SUM(G433:J433)","v":0},"=",{"$f":"IF(K420>1,L430&L431&G418&\" \"&F420,IF(K421>1,L430&L431&G418&\" \"&F421,IF(K422>1,L430&L431&G418&\" \"&F422,IF(K423>1,L430&L431&G418&\" \"&F423,IF(K425>1,L430&L431&G418&\" \"&F425,IF(K426>1,L430&L431&G418&\" \"&F426,IF(K427>1,L430&L431&G418&\" \"&F427,IF(K428>1,L430&L431&G418&\" \"&F428,IF(K430>1,L430&L431&G418&\" \"&F430,IF(K431>1,L430&L431&G418&\" \"&F431,IF(K432>1,L430&L431&G418&\" \"&F432,IF(K433>1,L430&L431&G418&\" \"&F433,IF(P420>1,L430&L431&L418&\" \"&F420,IF(P421>1,L430&L431&L418&\" \"&F421,IF(P422>1,L430&L431&L418&\" \"&F422,IF(P423>1,L430&L431&L418&\" \"&F423,IF(P425>1,L430&L431&L418&\" \"&F425,IF(P426>1,L430&L431&L418&\" \"&F426,IF(P427>1,L430&L431&L418&\" \"&F427,IF(P428>1,L430&L431&L418&\" \"&F428,IF(U420>1,L430&L431&Q418&\" \"&F420,IF(U421>1,L430&L431&Q418&\" \"&F421,IF(U422>1,L430&L431&Q418&\" \"&F422,IF(U423>1,L430&L431&Q418&\" \"&F423,\"\"))))))))))))))))))))))))","v":""}]
[null,{"$f":"IF(AND('4 indices'!G210=\"x\",'4 indices'!H210=\"x\",'4 indices'!I210=\"x\",'4 indices'!J210=\"x\"),A210&'4 indices'!G204&\" \"&'4 indices'!B210,\"\")","v":""},1,null,null,null,{"$f":"SUM(G430:G433)","v":0},{"$f":"SUM(H430:H433)","v":0},{"$f":"SUM(I430:I433)","v":0},{"$f":"SUM(J430:J433)","v":0},null,"=",{"$f":"IF(G424>1,L430&L432&E420&\" \"&G419,IF(H424>1,L430&L432&E420&\" \"&H419,IF(I424>1,L430&L432&E420&\" \"&I419,IF(J424>1,L430&L432&E420&\" \"&J419,IF(L424>1,L430&L432&E420&\" \"&L419,IF(M424>1,L430&L432&E420&\" \"&M419,IF(N424>1,L430&L432&E420&\" \"&N419,IF(O424>1,L430&L432&E420&\" \"&O419,IF(Q424>1,L430&L432&E420&\" \"&Q419,IF(R424>1,L430&L432&E420&\" \"&R419,IF(S424>1,L430&L432&E420&\" \"&S419,IF(T424>1,L430&L432&E420&\" \"&T419,IF(G429>1,L430&L432&E425&\" \"&G419,IF(H429>1,L430&L432&E425&\" \"&H419,IF(I429>1,L430&L432&E425&\" \"&I419,IF(J429>1,L430&L432&E425&\" \"&J419,IF(L429>1,L430&L432&E425&\" \"&L419,IF(M429>1,L430&L432&E425&\" \"&M419,IF(N429>1,L430&L432&E425&\" \"&N419,IF(O429>1,L430&L432&E425&\" \"&O419,IF(G434>1,L430&L432&E430&\" \"&G419,IF(H434>1,L430&L432&E430&\" \"&H419,IF(I434>1,L430&L432&E430&\" \"&I419,IF(J434>1,L430&L432&E430&\" \"&J419,\"\"))))))))))))))))))))))))","v":""}]
[null,{"$f":"IF(AND('4 indices'!G211=\"x\",'4 indices'!H211=\"x\",'4 indices'!I211=\"x\",'4 indices'!J211=\"x\"),A210&'4 indices'!G204&\" \"&'4 indices'!B211,\"\")","v":""},1]
[null,{"$f":"IF(AND('4 indices'!G212=\"x\",'4 indices'!H212=\"x\",'4 indices'!I212=\"x\",'4 indices'!J212=\"x\"),A210&'4 indices'!G204&\" \"&'4 indices'!B212,\"\")","v":""},1]
[null,{"$f":"IF(AND('4 indices'!G213=\"x\",'4 indices'!H213=\"x\",'4 indices'!I213=\"x\",'4 indices'!J213=\"x\"),A210&'4 indices'!G204&\" \"&'4 indices'!B213,\"\")","v":""},1]
[null,{"$f":"IF(AND('4 indices'!K206=\"x\",'4 indices'!L206=\"x\",'4 indices'!M206=\"x\",'4 indices'!N206=\"x\"),A210&'4 indices'!K204&\" \"&'4 indices'!B206,\"\")","v":""},1]
[null,{"$f":"IF(AND('4 indices'!K207=\"x\",'4 indices'!L207=\"x\",'4 indices'!M207=\"x\",'4 indices'!N207=\"x\"),A210&'4 indices'!K204&\" \"&'4 indices'!B207,\"\")","v":""},1]
[null,{"$f":"IF(AND('4 indices'!K208=\"x\",'4 indices'!L208=\"x\",'4 indices'!M208=\"x\",'4 indices'!N208=\"x\"),A210&'4 indices'!K204&\" \"&'4 indices'!B208,\"\")","v":""},1]
[null,{"$f":"IF(AND('4 indices'!K209=\"x\",'4 indices'!L209=\"x\",'4 indices'!M209=\"x\",'4 indices'!N209=\"x\"),A210&'4 indices'!K204&\" \"&'4 indices'!B209,\"\")","v":""},1]
[]
[null,{"$f":"IF(C444=2,B444,IF(C445=2,B445,IF(C446=2,B446,IF(C447=2,B447,IF(C448=2,B448,IF(C449=2,B449,IF(C450=2,B450,IF(C451=2,B451,IF(C452=2,B452,IF(C453=2,B453,IF(C454=2,B454,IF(C455=2,B455,IF(C456=2,B456,IF(C457=2,B457,IF(C458=2,B458,IF(C459=2,B459,IF(C460=2,B460,IF(C461=2,B461,IF(C462=2,B462,IF(C463=2,B463,IF(C464=2,B464,IF(C465=2,B465,IF(C466=2,B466,IF(C467=2,B467,\"\"))))))))))))))))))))))))","v":""}]
["Impossible d'avoir 4 non sur la même colonne  ",{"$f":"IF(AND('4 indices'!C206=\"x\",'4 indices'!C207=\"x\",'4 indices'!C208=\"x\",'4 indices'!C209=\"x\"),$A$28&'4 indices'!$A206&\" \"&'4 indices'!C205,\"\")","v":""},{"$f":"IF(B444=\"\",1,2)","v":1}]
[null,{"$f":"IF(AND('4 indices'!D206=\"x\",'4 indices'!D207=\"x\",'4 indices'!D208=\"x\",'4 indices'!D209=\"x\"),$A$28&'4 indices'!$A206&\" \"&'4 indices'!D205,\"\")","v":""},{"$f":"IF(B445=\"\",1,2)","v":1}]
[null,{"$f":"IF(AND('4 indices'!E206=\"x\",'4 indices'!E207=\"x\",'4 indices'!E208=\"x\",'4 indices'!E209=\"x\"),$A$28&'4 indices'!$A206&\" \"&'4 indices'!E205,\"\")","v":""},1]
[null,{"$f":"IF(AND('4 indices'!F206=\"x\",'4 indices'!F207=\"x\",'4 indices'!F208=\"x\",'4 indices'!F209=\"x\"),$A$28&'4 indices'!$A206&\" \"&'4 indices'!F205,\"\")","v":""},1]
[null,{"$f":"IF(AND('4 indices'!G206=\"x\",'4 indices'!G207=\"x\",'4 indices'!G208=\"x\",'4 indices'!G209=\"x\"),$A$28&'4 indices'!$A206&\" \"&'4 indices'!G205,\"\")","v":""},1]
[null,{"$f":"IF(AND('4 indices'!H206=\"x\",'4 indices'!H207=\"x\",'4 indices'!H208=\"x\",'4 indices'!H209=\"x\"),$A$28&'4 indices'!$A206&\" \"&'4 indices'!H205,\"\")","v":""},1]
[null,{"$f":"IF(AND('4 indices'!I206=\"x\",'4 indices'!I207=\"x\",'4 indices'!I208=\"x\",'4 indices'!I209=\"x\"),$A$28&'4 indices'!$A206&\" \"&'4 indices'!I205,\"\")","v":""},1]
[null,{"$f":"IF(AND('4 indices'!J206=\"x\",'4 indices'!J207=\"x\",'4 indices'!J208=\"x\",'4 indices'!J209=\"x\"),$A$28&'4 indices'!$A206&\" \"&'4 indices'!J205,\"\")","v":""},1]
[null,{"$f":"IF(AND('4 indices'!K206=\"x\",'4 indices'!K207=\"x\",'4 indices'!K208=\"x\",'4 indices'!K209=\"x\"),$A$28&'4 indices'!$A206&\" \"&'4 indices'!K205,\"\")","v":""},1]
[null,{"$f":"IF(AND('4 indices'!L206=\"x\",'4 indices'!L207=\"x\",'4 indices'!L208=\"x\",'4 indices'!L209=\"x\"),$A$28&'4 indices'!$A206&\" \"&'4 indices'!L205,\"\")","v":""},1]
[null,{"$f":"IF(AND('4 indices'!M206=\"x\",'4 indices'!M207=\"x\",'4 indices'!M208=\"x\",'4 indices'!M209=\"x\"),$A$28&'4 indices'!$A206&\" \"&'4 indices'!M205,\"\")","v":""},1]
[null,{"$f":"IF(AND('4 indices'!N206=\"x\",'4 indices'!N207=\"x\",'4 indices'!N208=\"x\",'4 indices'!N209=\"x\"),$A$28&'4 indices'!$A206&\" \"&'4 indices'!N205,\"\")","v":""},1]
[null,{"$f":"IF(AND('4 indices'!C210=\"x\",'4 indices'!C211=\"x\",'4 indices'!C212=\"x\",'4 indices'!C213=\"x\"),$A$28&'4 indices'!$A$210&\" \"&'4 indices'!C205,\"\")","v":""},1]
[null,{"$f":"IF(AND('4 indices'!D210=\"x\",'4 indices'!D211=\"x\",'4 indices'!D212=\"x\",'4 indices'!D213=\"x\"),$A$28&'4 indices'!$A$210&\" \"&'4 indices'!D205,\"\")","v":""},1]
[null,{"$f":"IF(AND('4 indices'!E210=\"x\",'4 indices'!E211=\"x\",'4 indices'!E212=\"x\",'4 indices'!E213=\"x\"),$A$28&'4 indices'!$A$210&\" \"&'4 indices'!E205,\"\")","v":""},1]
[null,{"$f":"IF(AND('4 indices'!F210=\"x\",'4 indices'!F211=\"x\",'4 indices'!F212=\"x\",'4 indices'!F213=\"x\"),$A$28&'4 indices'!$A$210&\" \"&'4 indices'!F205,\"\")","v":""},1]
[null,{"$f":"IF(AND('4 indices'!G210=\"x\",'4 indices'!G211=\"x\",'4 indices'!G212=\"x\",'4 indices'!G213=\"x\"),$A$28&'4 indices'!$A$210&\" \"&'4 indices'!G205,\"\")","v":""},1]
[null,{"$f":"IF(AND('4 indices'!H210=\"x\",'4 indices'!H211=\"x\",'4 indices'!H212=\"x\",'4 indices'!H213=\"x\"),$A$28&'4 indices'!$A$210&\" \"&'4 indices'!H205,\"\")","v":""},1]
[null,{"$f":"IF(AND('4 indices'!I210=\"x\",'4 indices'!I211=\"x\",'4 indices'!I212=\"x\",'4 indices'!I213=\"x\"),$A$28&'4 indices'!$A$210&\" \"&'4 indices'!I205,\"\")","v":""},1]
[null,{"$f":"IF(AND('4 indices'!J210=\"x\",'4 indices'!J211=\"x\",'4 indices'!J212=\"x\",'4 indices'!J213=\"x\"),$A$28&'4 indices'!$A$210&\" \"&'4 indices'!J205,\"\")","v":""},1]
[null,{"$f":"IF(AND('4 indices'!C214=\"x\",'4 indices'!C215=\"x\",'4 indices'!C216=\"x\",'4 indices'!C217=\"x\"),$A$28&'4 indices'!$A$214&\" \"&'4 indices'!C205,\"\")","v":""},1]
[null,{"$f":"IF(AND('4 indices'!D214=\"x\",'4 indices'!D215=\"x\",'4 indices'!D216=\"x\",'4 indices'!D217=\"x\"),$A$28&'4 indices'!$A$214&\" \"&'4 indices'!D205,\"\")","v":""},1]
[null,{"$f":"IF(AND('4 indices'!E214=\"x\",'4 indices'!E215=\"x\",'4 indices'!E216=\"x\",'4 indices'!E217=\"x\"),$A$28&'4 indices'!$A$214&\" \"&'4 indices'!E205,\"\")","v":""},1]
[null,{"$f":"IF(AND('4 indices'!F214=\"x\",'4 indices'!F215=\"x\",'4 indices'!F216=\"x\",'4 indices'!F217=\"x\"),$A$28&'4 indices'!$A$214&\" \"&'4 indices'!F205,\"\")","v":""},1]
[]
[{"$f":"'4 indices'!A226","v":"XX°/ Les grands fleuves de France :"},{"$f":"IF(C470=2,B470,IF(C471=2,B471,IF(C472=2,B472,IF(C473=2,B473,IF(C474=2,B474,IF(C475=2,B475,IF(C476=2,B476,IF(C477=2,B477,IF(C478=2,B478,IF(C479=2,B479,IF(C480=2,B480,IF(C481=2,B481,IF(C482=2,B482,IF(C483=2,B483,IF(C484=2,B484,IF(C485=2,B485,IF(C486=2,B486,IF(C487=2,B487,IF(C488=2,B488,IF(C489=2,B489,IF(C490=2,B490,IF(C491=2,B491,IF(C492=2,B492,IF(C493=2,B493,\"\"))))))))))))))))))))))))","v":""}]
["Impossible d'avoir 4 non sur la même ligne ",{"$f":"IF(AND('4 indices'!C231=\"x\",'4 indices'!D231=\"x\",'4 indices'!E231=\"x\",'4 indices'!F231=\"x\"),A470&'4 indices'!C229&\" \"&'4 indices'!B231,\"\")","v":""},{"$f":"IF(B470=\"\",1,2)","v":1},null,null,null,{"$f":"'4 indices'!C229","v":"Longueur en km"},null,null,null,null,{"$f":"'4 indices'!G229","v":"Source"},null,null,null,null,{"$f":"'4 indices'!K229","v":"Département"}]
[null,{"$f":"IF(AND('4 indices'!C232=\"x\",'4 indices'!D232=\"x\",'4 indices'!E232=\"x\",'4 indices'!F232=\"x\"),A470&'4 indices'!C229&\" \"&'4 indices'!B232,\"\")","v":""},{"$f":"IF(B471=\"\",1,2)","v":1},null,null,null,{"$f":"'4 indices'!C230","v":647},{"$f":"'4 indices'!D230","v":776},{"$f":"'4 indices'!E230","v":812},{"$f":"'4 indices'!F230","v":1012},null,{"$f":"'4 indices'!G230","v":"Glacier de la Furka"},{"$f":"'4 indices'!H230","v":"Mont Gerbier-de-Jonc"},{"$f":"'4 indices'!I230","v":"Plateau de Langres"},{"$f":"'4 indices'!J230","v":"Val d'Aran"},null,{"$f":"'4 indices'!K230","v":"Côte-d'Or"},{"$f":"'4 indices'!L230","v":"Nièvre"},{"$f":"'4 indices'!M230","v":"Gironde"},{"$f":"'4 indices'!N230","v":"Ain"}]
[null,{"$f":"IF(AND('4 indices'!C233=\"x\",'4 indices'!D233=\"x\",'4 indices'!E233=\"x\",'4 indices'!F233=\"x\"),A470&'4 indices'!C229&\" \"&'4 indices'!B233,\"\")","v":""},1,null,{"$f":"'4 indices'!A231","v":"Fleuve"},{"$f":"'4 indices'!B231","v":"La Garonne"},{"$f":"IF('4 indices'!C231=\"o\",1,0)","v":0},{"$f":"IF('4 indices'!D231=\"o\",1,0)","v":0},{"$f":"IF('4 indices'!E231=\"o\",1,0)","v":0},{"$f":"IF('4 indices'!F231=\"o\",1,0)","v":0},{"$f":"SUM(G472:J472)","v":0},{"$f":"IF('4 indices'!G231=\"o\",1,0)","v":0},{"$f":"IF('4 indices'!H231=\"o\",1,0)","v":0},{"$f":"IF('4 indices'!I231=\"o\",1,0)","v":0},{"$f":"IF('4 indices'!J231=\"o\",1,0)","v":0},{"$f":"SUM(L472:O472)","v":0},{"$f":"IF('4 indices'!K231=\"o\",1,0)","v":0},{"$f":"IF('4 indices'!L231=\"o\",1,0)","v":0},{"$f":"IF('4 indices'!M231=\"o\",1,0)","v":0},{"$f":"IF('4 indices'!N231=\"o\",1,0)","v":0},{"$f":"SUM(Q472:T472)","v":0}]
[null,{"$f":"IF(AND('4 indices'!C234=\"x\",'4 indices'!D234=\"x\",'4 indices'!E234=\"x\",'4 indices'!F234=\"x\"),A470&'4 indices'!C229&\" \"&'4 indices'!B234,\"\")","v":""},1,null,null,{"$f":"'4 indices'!B232","v":"La Loire"},{"$f":"IF('4 indices'!C232=\"o\",1,0)","v":0},{"$f":"IF('4 indices'!D232=\"o\",1,0)","v":0},{"$f":"IF('4 indices'!E232=\"o\",1,0)","v":0},{"$f":"IF('4 indices'!F232=\"o\",1,0)","v":0},{"$f":"SUM(G473:J473)","v":0},{"$f":"IF('4 indices'!G232=\"o\",1,0)","v":0},{"$f":"IF('4 indices'!H232=\"o\",1,0)","v":0},{"$f":"IF('4 indices'!I232=\"o\",1,0)","v":0},{"$f":"IF('4 indices'!J232=\"o\",1,0)","v":0},{"$f":"SUM(L473:O473)","v":0},{"$f":"IF('4 indices'!K232=\"o\",1,0)","v":0},{"$f":"IF('4 indices'!L232=\"o\",1,0)","v":0},{"$f":"IF('4 indices'!M232=\"o\",1,0)","v":0},{"$f":"IF('4 indices'!N232=\"o\",1,0)","v":0},{"$f":"SUM(Q473:T473)","v":0}]
[null,{"$f":"IF(AND('4 indices'!C235=\"x\",'4 indices'!D235=\"x\",'4 indices'!E235=\"x\",'4 indices'!F235=\"x\"),A470&'4 indices'!C229&\" \"&'4 indices'!B235,\"\")","v":""},1,null,null,{"$f":"'4 indices'!B233","v":"La Seine"},{"$f":"IF('4 indices'!C233=\"o\",1,0)","v":0},{"$f":"IF('4 indices'!D233=\"o\",1,0)","v":0},{"$f":"IF('4 indices'!E233=\"o\",1,0)","v":0},{"$f":"IF('4 indices'!F233=\"o\",1,0)","v":0},0,{"$f":"IF('4 indices'!G233=\"o\",1,0)","v":0},{"$f":"IF('4 indices'!H233=\"o\",1,0)","v":0},{"$f":"IF('4 indices'!I233=\"o\",1,0)","v":0},{"$f":"IF('4 indices'!J233=\"o\",1,0)","v":0},0,{"$f":"IF('4 indices'!K233=\"o\",1,0)","v":0},{"$f":"IF('4 indices'!L233=\"o\",1,0)","v":0},{"$f":"IF('4 indices'!M233=\"o\",1,0)","v":0},{"$f":"IF('4 indices'!N233=\"o\",1,0)","v":0},0]
[null,{"$f":"IF(AND('4 indices'!C236=\"x\",'4 indices'!D236=\"x\",'4 indices'!E236=\"x\",'4 indices'!F236=\"x\"),A470&'4 indices'!C229&\" \"&'4 indices'!B236,\"\")","v":""},1,null,null,{"$f":"'4 indices'!B234","v":"Le Rhône"},{"$f":"IF('4 indices'!C234=\"o\",1,0)","v":0},{"$f":"IF('4 indices'!D234=\"o\",1,0)","v":0},{"$f":"IF('4 indices'!E234=\"o\",1,0)","v":0},{"$f":"IF('4 indices'!F234=\"o\",1,0)","v":0},0,{"$f":"IF('4 indices'!G234=\"o\",1,0)","v":0},{"$f":"IF('4 indices'!H234=\"o\",1,0)","v":0},{"$f":"IF('4 indices'!I234=\"o\",1,0)","v":0},{"$f":"IF('4 indices'!J234=\"o\",1,0)","v":0},0,{"$f":"IF('4 indices'!K234=\"o\",1,0)","v":0},{"$f":"IF('4 indices'!L234=\"o\",1,0)","v":0},{"$f":"IF('4 indices'!M234=\"o\",1,0)","v":0},{"$f":"IF('4 indices'!N234=\"o\",1,0)","v":0},0]
[null,{"$f":"IF(AND('4 indices'!C237=\"x\",'4 indices'!D237=\"x\",'4 indices'!E237=\"x\",'4 indices'!F237=\"x\"),A470&'4 indices'!C229&\" \"&'4 indices'!B237,\"\")","v":""},1,null,null,null,{"$f":"SUM(G472:G475)","v":0},{"$f":"SUM(H472:H475)","v":0},0,0,null,{"$f":"SUM(L472:L475)","v":0},{"$f":"SUM(M472:M475)","v":0},0,0,null,{"$f":"SUM(Q472:Q475)","v":0},{"$f":"SUM(R472:R475)","v":0},0,0]
[null,{"$f":"IF(AND('4 indices'!C238=\"x\",'4 indices'!D238=\"x\",'4 indices'!E238=\"x\",'4 indices'!F238=\"x\"),A470&'4 indices'!C229&\" \"&'4 indices'!B238,\"\")","v":""},1,null,{"$f":"'4 indices'!A235","v":"Département"},{"$f":"'4 indices'!B235","v":"Côte-d'Or"},{"$f":"IF('4 indices'!C235=\"o\",1,0)","v":0},{"$f":"IF('4 indices'!D235=\"o\",1,0)","v":0},{"$f":"IF('4 indices'!E235=\"o\",1,0)","v":0},{"$f":"IF('4 indices'!F235=\"o\",1,0)","v":0},{"$f":"SUM(G477:J477)","v":0},{"$f":"IF('4 indices'!G235=\"o\",1,0)","v":0},{"$f":"IF('4 indices'!H235=\"o\",1,0)","v":0},{"$f":"IF('4 indices'!I235=\"o\",1,0)","v":0},{"$f":"IF('4 indices'!J235=\"o\",1,0)","v":0},{"$f":"SUM(L477:O477)","v":0}]
[null,{"$f":"IF(AND('4 indices'!C239=\"x\",'4 indices'!D239=\"x\",'4 indices'!E239=\"x\",'4 indices'!F239=\"x\"),A470&'4 indices'!C229&\" \"&'4 indices'!B239,\"\")","v":""},1,null,null,{"$f":"'4 indices'!B236","v":"Nièvre"},{"$f":"IF('4 indices'!C236=\"o\",1,0)","v":0},{"$f":"IF('4 indices'!D236=\"o\",1,0)","v":0},{"$f":"IF('4 indices'!E236=\"o\",1,0)","v":0},{"$f":"IF('4 indices'!F236=\"o\",1,0)","v":0},{"$f":"SUM(G478:J478)","v":0},{"$f":"IF('4 indices'!G236=\"o\",1,0)","v":0},{"$f":"IF('4 indices'!H236=\"o\",1,0)","v":0},{"$f":"IF('4 indices'!I236=\"o\",1,0)","v":0},{"$f":"IF('4 indices'!J236=\"o\",1,0)","v":0},{"$f":"SUM(L478:O478)","v":0}]
[null,{"$f":"IF(AND('4 indices'!C240=\"x\",'4 indices'!D240=\"x\",'4 indices'!E240=\"x\",'4 indices'!F240=\"x\"),A470&'4 indices'!C229&\" \"&'4 indices'!B240,\"\")","v":""},1,null,null,{"$f":"'4 indices'!B237","v":"Gironde"},{"$f":"IF('4 indices'!C237=\"o\",1,0)","v":0},{"$f":"IF('4 indices'!D237=\"o\",1,0)","v":0},{"$f":"IF('4 indices'!E237=\"o\",1,0)","v":0},{"$f":"IF('4 indices'!F237=\"o\",1,0)","v":0},0,{"$f":"IF('4 indices'!G237=\"o\",1,0)","v":0},{"$f":"IF('4 indices'!H237=\"o\",1,0)","v":0},{"$f":"IF('4 indices'!I237=\"o\",1,0)","v":0},{"$f":"IF('4 indices'!J237=\"o\",1,0)","v":0},0]
[null,{"$f":"IF(AND('4 indices'!C241=\"x\",'4 indices'!D241=\"x\",'4 indices'!E241=\"x\",'4 indices'!F241=\"x\"),A470&'4 indices'!C229&\" \"&'4 indices'!B241,\"\")","v":""},1,null,null,{"$f":"'4 indices'!B238","v":"Ain"},{"$f":"IF('4 indices'!C238=\"o\",1,0)","v":0},{"$f":"IF('4 indices'!D238=\"o\",1,0)","v":0},{"$f":"IF('4 indices'!E238=\"o\",1,0)","v":0},{"$f":"IF('4 indices'!F238=\"o\",1,0)","v":0},0,{"$f":"IF('4 indices'!G238=\"o\",1,0)","v":0},{"$f":"IF('4 indices'!H238=\"o\",1,0)","v":0},{"$f":"IF('4 indices'!I238=\"o\",1,0)","v":0},{"$f":"IF('4 indices'!J238=\"o\",1,0)","v":0},0]
[null,{"$f":"IF(AND('4 indices'!C242=\"x\",'4 indices'!D242=\"x\",'4 indices'!E242=\"x\",'4 indices'!F242=\"x\"),A470&'4 indices'!C229&\" \"&'4 indices'!B242,\"\")","v":""},1,null,null,null,{"$f":"SUM(G477:G480)","v":0},{"$f":"SUM(H477:H480)","v":0},0,0,null,{"$f":"SUM(L477:L480)","v":0},{"$f":"SUM(M477:M480)","v":0},0,0]
[null,{"$f":"IF(AND('4 indices'!G231=\"x\",'4 indices'!H231=\"x\",'4 indices'!I231=\"x\",'4 indices'!J231=\"x\"),A470&'4 indices'!G229&\" \"&'4 indices'!B231,\"\")","v":""},1,null,{"$f":"'4 indices'!A239","v":"Source"},{"$f":"'4 indices'!B239","v":"Glacier de la Furka"},{"$f":"IF('4 indices'!C239=\"o\",1,0)","v":0},{"$f":"IF('4 indices'!D239=\"o\",1,0)","v":0},{"$f":"IF('4 indices'!E239=\"o\",1,0)","v":0},{"$f":"IF('4 indices'!F239=\"o\",1,0)","v":0},{"$f":"SUM(G482:J482)","v":0},"Impossible qu'il y ai plus de deux Oui "]
[null,{"$f":"IF(AND('4 indices'!G232=\"x\",'4 indices'!H232=\"x\",'4 indices'!I232=\"x\",'4 indices'!J232=\"x\"),A470&'4 indices'!G229&\" \"&'4 indices'!B232,\"\")","v":""},1,null,null,{"$f":"'4 indices'!B240","v":"Mont Gerbier-de-Jonc"},{"$f":"IF('4 indices'!C240=\"o\",1,0)","v":0},{"$f":"IF('4 indices'!D240=\"o\",1,0)","v":0},{"$f":"IF('4 indices'!E240=\"o\",1,0)","v":0},{"$f":"IF('4 indices'!F240=\"o\",1,0)","v":0},{"$f":"SUM(G483:J483)","v":0}," sur la ligne "]
[null,{"$f":"IF(AND('4 indices'!G233=\"x\",'4 indices'!H233=\"x\",'4 indices'!I233=\"x\",'4 indices'!J233=\"x\"),A470&'4 indices'!G229&\" \"&'4 indices'!B233,\"\")","v":""},1,null,null,{"$f":"'4 indices'!B241","v":"Plateau de Langres"},{"$f":"IF('4 indices'!C241=\"o\",1,0)","v":0},{"$f":"IF('4 indices'!D241=\"o\",1,0)","v":0},{"$f":"IF('4 indices'!E241=\"o\",1,0)","v":0},{"$f":"IF('4 indices'!F241=\"o\",1,0)","v":0},0," sur la colonne "]
[null,{"$f":"IF(AND('4 indices'!G234=\"x\",'4 indices'!H234=\"x\",'4 indices'!I234=\"x\",'4 indices'!J234=\"x\"),A470&'4 indices'!G229&\" \"&'4 indices'!B234,\"\")","v":""},1,null,null,{"$f":"'4 indices'!B242","v":"Val d'Aran"},{"$f":"IF('4 indices'!C242=\"o\",1,0)","v":0},{"$f":"IF('4 indices'!D242=\"o\",1,0)","v":0},{"$f":"IF('4 indices'!E242=\"o\",1,0)","v":0},{"$f":"IF('4 indices'!F242=\"o\",1,0)","v":0},0,"=",{"$f":"IF(K472>1,L482&L483&G470&\" \"&F472,IF(K473>1,L482&L483&G470&\" \"&F473,IF(K474>1,L482&L483&G470&\" \"&F474,IF(K475>1,L482&L483&G470&\" \"&F475,IF(K477>1,L482&L483&G470&\" \"&F477,IF(K478>1,L482&L483&G470&\" \"&F478,IF(K479>1,L482&L483&G470&\" \"&F479,IF(K480>1,L482&L483&G470&\" \"&F480,IF(K482>1,L482&L483&G470&\" \"&F482,IF(K483>1,L482&L483&G470&\" \"&F483,IF(K484>1,L482&L483&G470&\" \"&F484,IF(K485>1,L482&L483&G470&\" \"&F485,IF(P472>1,L482&L483&L470&\" \"&F472,IF(P473>1,L482&L483&L470&\" \"&F473,IF(P474>1,L482&L483&L470&\" \"&F474,IF(P475>1,L482&L483&L470&\" \"&F475,IF(P477>1,L482&L483&L470&\" \"&F477,IF(P478>1,L482&L483&L470&\" \"&F478,IF(P479>1,L482&L483&L470&\" \"&F479,IF(P480>1,L482&L483&L470&\" \"&F480,IF(U472>1,L482&L483&Q470&\" \"&F472,IF(U473>1,L482&L483&Q470&\" \"&F473,IF(U474>1,L482&L483&Q470&\" \"&F474,IF(U475>1,L482&L483&Q470&\" \"&F475,\"\"))))))))))))))))))))))))","v":""}]
[null,{"$f":"IF(AND('4 indices'!G235=\"x\",'4 indices'!H235=\"x\",'4 indices'!I235=\"x\",'4 indices'!J235=\"x\"),A470&'4 indices'!G229&\" \"&'4 indices'!B235,\"\")","v":""},1,null,null,null,{"$f":"SUM(G482:G485)","v":0},{"$f":"SUM(H482:H485)","v":0},0,0,null,"=",{"$f":"IF(G476>1,L482&L484&E472&\" \"&G471,IF(H476>1,L482&L484&E472&\" \"&H471,IF(I476>1,L482&L484&E472&\" \"&I471,IF(J476>1,L482&L484&E472&\" \"&J471,IF(L476>1,L482&L484&E472&\" \"&L471,IF(M476>1,L482&L484&E472&\" \"&M471,IF(N476>1,L482&L484&E472&\" \"&N471,IF(O476>1,L482&L484&E472&\" \"&O471,IF(Q476>1,L482&L484&E472&\" \"&Q471,IF(R476>1,L482&L484&E472&\" \"&R471,IF(S476>1,L482&L484&E472&\" \"&S471,IF(T476>1,L482&L484&E472&\" \"&T471,IF(G481>1,L482&L484&E477&\" \"&G471,IF(H481>1,L482&L484&E477&\" \"&H471,IF(I481>1,L482&L484&E477&\" \"&I471,IF(J481>1,L482&L484&E477&\" \"&J471,IF(L481>1,L482&L484&E477&\" \"&L471,IF(M481>1,L482&L484&E477&\" \"&M471,IF(N481>1,L482&L484&E477&\" \"&N471,IF(O481>1,L482&L484&E477&\" \"&O471,IF(G486>1,L482&L484&E482&\" \"&G471,IF(H486>1,L482&L484&E482&\" \"&H471,IF(I486>1,L482&L484&E482&\" \"&I471,IF(J486>1,L482&L484&E482&\" \"&J471,\"\"))))))))))))))))))))))))","v":""}]
[null,{"$f":"IF(AND('4 indices'!G236=\"x\",'4 indices'!H236=\"x\",'4 indices'!I236=\"x\",'4 indices'!J236=\"x\"),A470&'4 indices'!G229&\" \"&'4 indices'!B236,\"\")","v":""},1]
[null,{"$f":"IF(AND('4 indices'!G237=\"x\",'4 indices'!H237=\"x\",'4 indices'!I237=\"x\",'4 indices'!J237=\"x\"),A470&'4 indices'!G229&\" \"&'4 indices'!B237,\"\")","v":""},1]
[null,{"$f":"IF(AND('4 indices'!G238=\"x\",'4 indices'!H238=\"x\",'4 indices'!I238=\"x\",'4 indices'!J238=\"x\"),A470&'4 indices'!G229&\" \"&'4 indices'!B238,\"\")","v":""},1]
[null,{"$f":"IF(AND('4 indices'!K231=\"x\",'4 indices'!L231=\"x\",'4 indices'!M231=\"x\",'4 indices'!N231=\"x\"),A470&'4 indices'!K229&\" \"&'4 indices'!B231,\"\")","v":""},1]
[null,{"$f":"IF(AND('4 indices'!K232=\"x\",'4 indices'!L232=\"x\",'4 indices'!M232=\"x\",'4 indices'!N232=\"x\"),A470&'4 indices'!K229&\" \"&'4 indices'!B232,\"\")","v":""},1]
[null,{"$f":"IF(AND('4 indices'!K233=\"x\",'4 indices'!L233=\"x\",'4 indices'!M233=\"x\",'4 indices'!N233=\"x\"),A470&'4 indices'!K229&\" \"&'4 indices'!B233,\"\")","v":""},1]
[null,{"$f":"IF(AND('4 indices'!K234=\"x\",'4 indices'!L234=\"x\",'4 indices'!M234=\"x\",'4 indices'!N234=\"x\"),A470&'4 indices'!K229&\" \"&'4 indices'!B234,\"\")","v":""},1]
[]
[null,{"$f":"IF(C496=2,B496,IF(C497=2,B497,IF(C498=2,B498,IF(C499=2,B499,IF(C500=2,B500,IF(C501=2,B501,IF(C502=2,B502,IF(C503=2,B503,IF(C504=2,B504,IF(C505=2,B505,IF(C506=2,B506,IF(C507=2,B507,IF(C508=2,B508,IF(C509=2,B509,IF(C510=2,B510,IF(C511=2,B511,IF(C512=2,B512,IF(C513=2,B513,IF(C514=2,B514,IF(C515=2,B515,IF(C516=2,B516,IF(C517=2,B517,IF(C518=2,B518,IF(C519=2,B519,\"\"))))))))))))))))))))))))","v":""}]
["Impossible d'avoir 4 non sur la même colonne  ",{"$f":"IF(AND('4 indices'!C231=\"x\",'4 indices'!C232=\"x\",'4 indices'!C233=\"x\",'4 indices'!C234=\"x\"),$A$28&'4 indices'!$A231&\" \"&'4 indices'!C230,\"\")","v":""},{"$f":"IF(B496=\"\",1,2)","v":1}]
[null,{"$f":"IF(AND('4 indices'!D231=\"x\",'4 indices'!D232=\"x\",'4 indices'!D233=\"x\",'4 indices'!D234=\"x\"),$A$28&'4 indices'!$A231&\" \"&'4 indices'!D230,\"\")","v":""},{"$f":"IF(B497=\"\",1,2)","v":1}]
[null,{"$f":"IF(AND('4 indices'!E231=\"x\",'4 indices'!E232=\"x\",'4 indices'!E233=\"x\",'4 indices'!E234=\"x\"),$A$28&'4 indices'!$A231&\" \"&'4 indices'!E230,\"\")","v":""},1]
[null,{"$f":"IF(AND('4 indices'!F231=\"x\",'4 indices'!F232=\"x\",'4 indices'!F233=\"x\",'4 indices'!F234=\"x\"),$A$28&'4 indices'!$A231&\" \"&'4 indices'!F230,\"\")","v":""},1]
[null,{"$f":"IF(AND('4 indices'!G231=\"x\",'4 indices'!G232=\"x\",'4 indices'!G233=\"x\",'4 indices'!G234=\"x\"),$A$28&'4 indices'!$A231&\" \"&'4 indices'!G230,\"\")","v":""},1]
[null,{"$f":"IF(AND('4 indices'!H231=\"x\",'4 indices'!H232=\"x\",'4 indices'!H233=\"x\",'4 indices'!H234=\"x\"),$A$28&'4 indices'!$A231&\" \"&'4 indices'!H230,\"\")","v":""},1]
[null,{"$f":"IF(AND('4 indices'!I231=\"x\",'4 indices'!I232=\"x\",'4 indices'!I233=\"x\",'4 indices'!I234=\"x\"),$A$28&'4 indices'!$A231&\" \"&'4 indices'!I230,\"\")","v":""},1]
[null,{"$f":"IF(AND('4 indices'!J231=\"x\",'4 indices'!J232=\"x\",'4 indices'!J233=\"x\",'4 indices'!J234=\"x\"),$A$28&'4 indices'!$A231&\" \"&'4 indices'!J230,\"\")","v":""},1]
[null,{"$f":"IF(AND('4 indices'!K231=\"x\",'4 indices'!K232=\"x\",'4 indices'!K233=\"x\",'4 indices'!K234=\"x\"),$A$28&'4 indices'!$A231&\" \"&'4 indices'!K230,\"\")","v":""},1]
[null,{"$f":"IF(AND('4 indices'!L231=\"x\",'4 indices'!L232=\"x\",'4 indices'!L233=\"x\",'4 indices'!L234=\"x\"),$A$28&'4 indices'!$A231&\" \"&'4 indices'!L230,\"\")","v":""},1]
[null,{"$f":"IF(AND('4 indices'!M231=\"x\",'4 indices'!M232=\"x\",'4 indices'!M233=\"x\",'4 indices'!M234=\"x\"),$A$28&'4 indices'!$A231&\" \"&'4 indices'!M230,\"\")","v":""},1]
[null,{"$f":"IF(AND('4 indices'!N231=\"x\",'4 indices'!N232=\"x\",'4 indices'!N233=\"x\",'4 indices'!N234=\"x\"),$A$28&'4 indices'!$A231&\" \"&'4 indices'!N230,\"\")","v":""},1]
[null,{"$f":"IF(AND('4 indices'!C235=\"x\",'4 indices'!C236=\"x\",'4 indices'!C237=\"x\",'4 indices'!C238=\"x\"),$A$28&'4 indices'!$A$235&\" \"&'4 indices'!C230,\"\")","v":""},1]
[null,{"$f":"IF(AND('4 indices'!D235=\"x\",'4 indices'!D236=\"x\",'4 indices'!D237=\"x\",'4 indices'!D238=\"x\"),$A$28&'4 indices'!$A$235&\" \"&'4 indices'!D230,\"\")","v":""},1]
[null,{"$f":"IF(AND('4 indices'!E235=\"x\",'4 indices'!E236=\"x\",'4 indices'!E237=\"x\",'4 indices'!E238=\"x\"),$A$28&'4 indices'!$A$235&\" \"&'4 indices'!E230,\"\")","v":""},1]
[null,{"$f":"IF(AND('4 indices'!F235=\"x\",'4 indices'!F236=\"x\",'4 indices'!F237=\"x\",'4 indices'!F238=\"x\"),$A$28&'4 indices'!$A$235&\" \"&'4 indices'!F230,\"\")","v":""},1]
[null,{"$f":"IF(AND('4 indices'!G235=\"x\",'4 indices'!G236=\"x\",'4 indices'!G237=\"x\",'4 indices'!G238=\"x\"),$A$28&'4 indices'!$A$235&\" \"&'4 indices'!G230,\"\")","v":""},1]
[null,{"$f":"IF(AND('4 indices'!H235=\"x\",'4 indices'!H236=\"x\",'4 indices'!H237=\"x\",'4 indices'!H238=\"x\"),$A$28&'4 indices'!$A$235&\" \"&'4 indices'!H230,\"\")","v":""},1]
[null,{"$f":"IF(AND('4 indices'!I235=\"x\",'4 indices'!I236=\"x\",'4 indices'!I237=\"x\",'4 indices'!I238=\"x\"),$A$28&'4 indices'!$A$235&\" \"&'4 indices'!I230,\"\")","v":""},1]
[null,{"$f":"IF(AND('4 indices'!J235=\"x\",'4 indices'!J236=\"x\",'4 indices'!J237=\"x\",'4 indices'!J238=\"x\"),$A$28&'4 indices'!$A$235&\" \"&'4 indices'!J230,\"\")","v":""},1]
[null,{"$f":"IF(AND('4 indices'!C239=\"x\",'4 indices'!C240=\"x\",'4 indices'!C241=\"x\",'4 indices'!C242=\"x\"),$A$28&'4 indices'!$A$239&\" \"&'4 indices'!C230,\"\")","v":""},1]
[null,{"$f":"IF(AND('4 indices'!D239=\"x\",'4 indices'!D240=\"x\",'4 indices'!D241=\"x\",'4 indices'!D242=\"x\"),$A$28&'4 indices'!$A$239&\" \"&'4 indices'!D230,\"\")","v":""},1]
[null,{"$f":"IF(AND('4 indices'!E239=\"x\",'4 indices'!E240=\"x\",'4 indices'!E241=\"x\",'4 indices'!E242=\"x\"),$A$28&'4 indices'!$A$239&\" \"&'4 indices'!E230,\"\")","v":""},1]
[null,{"$f":"IF(AND('4 indices'!F239=\"x\",'4 indices'!F240=\"x\",'4 indices'!F241=\"x\",'4 indices'!F242=\"x\"),$A$28&'4 indices'!$A$239&\" \"&'4 indices'!F230,\"\")","v":""},1]

{"sheet":"VBA","index":5,"n_rows":604,"n_cols":44,"rows_kept":604,"cut":false,"hidden":false,"merged":[[135,1,135,2],[0,1,0,2],[154,4,155,4],[156,4,157,4],[18,4,19,4],[20,4,21,4],[26,4,27,4],[28,4,29,4],[138,4,139,4],[140,4,141,4],[146,4,147,4],[148,4,149,4]]}
["I°/ Vider tableau :","Ligne",null,null,null,null,"Mettre valeurs  :"]
["Tableau numéro :","de","à","de","à","Avance",25,"Code VBA pour 4 indices :"]
[11,6,13,14,17,"Colonne de","C",{"$f":"J3","v":"Sub Vider_tableau11()"},null,{"$f":"\"Sub Vider_tableau\"&A3&\"()\"","v":"Sub Vider_tableau11()"},"'",{"$f":"\"' Vider_tableau\"&A3&\" Macro\"","v":"' Vider_tableau11 Macro"},"'",{"$f":"\"\"","v":""},"'",{"$f":"\"    Range(\"\"\"&G$3&B3&\":\"&G$4&C3&\"\"\").Select\"","v":"    Range(\"C6:N13\").Select"},"    Selection.ClearContents",{"$f":"\"    Range(\"\"\"&G$5&D3&\":\"&G$6&E3&\"\"\").Select\"","v":"    Range(\"C14:F17\").Select"},"Selection.ClearContents",{"$f":"\"Range(\"\"\"&G$7&E3&\"\"\").Select\"","v":"Range(\"H17\").Select"},"End Sub"]
[{"$f":"A3+1","v":12},{"$f":"B3+$G$2","v":31},{"$f":"C3+$G$2","v":38},39,42,"Colonne à","N",{"$f":"K3","v":"'"},null,{"$f":"\"Sub Vider_tableau\"&A4&\"()\"","v":"Sub Vider_tableau12()"},"'",{"$f":"\"' Vider_tableau\"&A4&\" Macro\"","v":"' Vider_tableau12 Macro"},"'",{"$f":"\"\"","v":""},"'",{"$f":"\"    Range(\"\"\"&G$3&B4&\":\"&G$4&C4&\"\"\").Select\"","v":"    Range(\"C31:N38\").Select"},"Selection.ClearContents",{"$f":"\"    Range(\"\"\"&G$5&D4&\":\"&G$6&E4&\"\"\").Select\"","v":"    Range(\"C39:F42\").Select"},"Selection.ClearContents",{"$f":"\"Range(\"\"\"&G$7&E4&\"\"\").Select\"","v":"Range(\"H42\").Select"},"End Sub"]
[{"$f":"A4+1","v":13},{"$f":"B4+$G$2","v":56},{"$f":"C4+$G$2","v":63},{"$f":"D4+$G$2","v":64},{"$f":"E4+$G$2","v":67},"Colonne de","C",{"$f":"L3","v":"' Vider_tableau11 Macro"},null,"Sub Vider_tableau13()","'","' Vider_tableau13 Macro","'",{"$f":"\"\"","v":""},"'","    Range(\"C56:N63\").Select","Selection.ClearContents","    Range(\"C64:F67\").Select","Selection.ClearContents","Range(\"H67\").Select","End Sub"]
[14,81,88,89,92,"Colonne à","F",{"$f":"M3","v":"'"},null,"Sub Vider_tableau14()","'","' Vider_tableau14 Macro","'",{"$f":"\"\"","v":""},"'","    Range(\"C81:N88\").Select","Selection.ClearContents","    Range(\"C89:F92\").Select","Selection.ClearContents","Range(\"H92\").Select","End Sub"]
[15,106,113,114,117,"Centrage :","H",{"$f":"N3","v":""},null,"Sub Vider_tableau15()","'","' Vider_tableau15 Macro","'",{"$f":"\"\"","v":""},"'","    Range(\"C106:N113\").Select","Selection.ClearContents","    Range(\"C114:F117\").Select","Selection.ClearContents","Range(\"H117\").Select","End Sub"]
[16,131,138,139,142,null,null,{"$f":"O3","v":"'"},null,"Sub Vider_tableau16()","'","' Vider_tableau16 Macro","'",{"$f":"\"\"","v":""},"'","    Range(\"C131:N138\").Select","Selection.ClearContents","    Range(\"C139:F142\").Select","Selection.ClearContents","Range(\"H142\").Select","End Sub"]
[17,156,163,164,167,null,null,{"$f":"P3","v":"    Range(\"C6:N13\").Select"},null,"Sub Vider_tableau17()","'","' Vider_tableau17 Macro","'",{"$f":"\"\"","v":""},"'","    Range(\"C156:N163\").Select","Selection.ClearContents","    Range(\"C164:F167\").Select","Selection.ClearContents","Range(\"H167\").Select","End Sub"]
[18,181,188,189,192,null,null,{"$f":"Q3","v":"    Selection.ClearContents"},null,"Sub Vider_tableau18()","'","' Vider_tableau18 Macro","'",{"$f":"\"\"","v":""},"'","    Range(\"C181:N188\").Select","Selection.ClearContents","    Range(\"C189:F192\").Select","Selection.ClearContents","Range(\"H192\").Select","End Sub"]
[19,206,213,214,217,null,null,{"$f":"R3","v":"    Range(\"C14:F17\").Select"},null,"Sub Vider_tableau19()","'","' Vider_tableau19 Macro","'",{"$f":"\"\"","v":""},"'","    Range(\"C206:N213\").Select","Selection.ClearContents","    Range(\"C214:F217\").Select","Selection.ClearContents","Range(\"H217\").Select","End Sub"]
[20,231,238,239,242,null,null,{"$f":"S3","v":"Selection.ClearContents"},null,"Sub Vider_tableau20()","'","' Vider_tableau20 Macro","'",{"$f":"\"\"","v":""},"'","    Range(\"C231:N238\").Select","Selection.ClearContents","    Range(\"C239:F242\").Select","Selection.ClearContents","Range(\"H242\").Select","End Sub"]
[null,null,null,null,null,null,null,{"$f":"T3","v":"Range(\"H17\").Select"}]
["3 indices  :",6,8,9,11,null,null,{"$f":"U3","v":"End Sub"}]
["4 indices :",6,13,14,17,null,null,{"$f":"J4","v":"Sub Vider_tableau12()"},null,"Sub Vider_tableau10()"]
[null,null,null,null,null,null,null,{"$f":"K4","v":"'"},null,"'"]
[null,null,null,null,null,null,"3 indices  :",{"$f":"L4","v":"' Vider_tableau12 Macro"},null,"' Vider_tableau10 Macro"]
[null,null,null,null,null,"Avance",22,{"$f":"M4","v":"'"},null,"'"]
[null,null,null,null,"Tableau haut","Colonne de","C",{"$f":"N4","v":""}]
[null,null,null,null,null,"Colonne à","H",{"$f":"O4","v":"'"},null,"'"]
[null,null,null,null,"Tableau bas","Colonne de","C",{"$f":"P4","v":"    Range(\"C31:N38\").Select"},null,"    Range(\"C222:H224\").Select"]
[null,null,null,null,null,"Colonne à","E",{"$f":"Q4","v":"Selection.ClearContents"},null,"    Selection.ClearContents"]
[null,null,null,null,null,"Centrage :","B",{"$f":"R4","v":"    Range(\"C39:F42\").Select"},null,"    Range(\"C225:E227\").Select"]
[null,null,null,null,null,null,null,{"$f":"S4","v":"Selection.ClearContents"},null,"    Selection.ClearContents"]
[null,null,null,null,null,null,"4 indices :",{"$f":"T4","v":"Range(\"H42\").Select"},null,"    Range(\"H227\").Select"]
[null,null,null,null,null,"Avance",25,{"$f":"U4","v":"End Sub"},null,"End Sub"]
[null,null,null,null,"Tableau haut","Colonne de","C",{"$f":"J5","v":"Sub Vider_tableau13()"}]
[null,null,null,null,"Tableau bas","Colonne à","N",{"$f":"K5","v":"'"}]
[null,null,null,null,"Tableau bas","Colonne de","C",{"$f":"L5","v":"' Vider_tableau13 Macro"}]
[null,null,null,null,null,"Colonne à","F",{"$f":"M5","v":"'"}]
[null,null,null,null,null,"Centrage :","H",{"$f":"N5","v":""}]
[null,null,null,null,null,null,null,{"$f":"O5","v":"'"}]
[null,null,null,null,null,null,null,{"$f":"P5","v":"    Range(\"C56:N63\").Select"}]
[null,null,null,null,null,null,null,{"$f":"Q5","v":"Selection.ClearContents"}]
[null,null,null,null,null,null,null,{"$f":"R5","v":"    Range(\"C64:F67\").Select"}]
[null,null,null,null,null,null,null,{"$f":"S5","v":"Selection.ClearContents"}]
[null,null,null,null,null,null,null,{"$f":"T5","v":"Range(\"H67\").Select"}]
[null,null,null,null,null,null,null,{"$f":"U5","v":"End Sub"}]
[null,null,null,null,null,null,null,{"$f":"J6","v":"Sub Vider_tableau14()"}]
[null,null,null,null,null,null,null,{"$f":"K6","v":"'"}]
[null,null,null,null,null,null,null,{"$f":"L6","v":"' Vider_tableau14 Macro"}]
[null,null,null,null,null,null,null,{"$f":"M6","v":"'"}]
[null,null,null,null,null,null,null,{"$f":"N6","v":""}]
[null,null,null,null,null,null,null,{"$f":"O6","v":"'"}]
[null,null,null,null,null,null,null,{"$f":"P6","v":"    Range(\"C81:N88\").Select"}]
[null,null,null,null,null,null,null,{"$f":"Q6","v":"Selection.ClearContents"}]
[null,null,null,null,null,null,null,{"$f":"R6","v":"    Range(\"C89:F92\").Select"}]
[null,null,null,null,null,null,null,{"$f":"S6","v":"Selection.ClearContents"}]
[null,null,null,null,null,null,null,{"$f":"T6","v":"Range(\"H92\").Select"}]
[null,null,null,null,null,null,null,{"$f":"U6","v":"End Sub"}]
[null,null,null,null,null,null,null,{"$f":"J7","v":"Sub Vider_tableau15()"}]
[null,null,null,null,null,null,null,{"$f":"K7","v":"'"}]
[null,null,null,null,null,null,null,{"$f":"L7","v":"' Vider_tableau15 Macro"}]
[null,null,null,null,null,null,null,{"$f":"M7","v":"'"}]
[null,null,null,null,null,null,null,{"$f":"N7","v":""}]
[null,null,null,null,null,null,null,{"$f":"O7","v":"'"}]
[null,null,null,null,null,null,null,{"$f":"P7","v":"    Range(\"C106:N113\").Select"}]
[null,null,null,null,null,null,null,{"$f":"Q7","v":"Selection.ClearContents"}]
[null,null,null,null,null,null,null,{"$f":"R7","v":"    Range(\"C114:F117\").Select"}]
[null,null,null,null,null,null,null,{"$f":"S7","v":"Selection.ClearContents"}]
[null,null,null,null,null,null,null,{"$f":"T7","v":"Range(\"H117\").Select"}]
[null,null,null,null,null,null,null,{"$f":"U7","v":"End Sub"}]
[null,null,null,null,null,null,null,{"$f":"J8","v":"Sub Vider_tableau16()"}]
[null,null,null,null,null,null,null,{"$f":"K8","v":"'"}]
[null,null,null,null,null,null,null,{"$f":"L8","v":"' Vider_tableau16 Macro"}]
[null,null,null,null,null,null,null,{"$f":"M8","v":"'"}]
[null,null,null,null,null,null,null,{"$f":"N8","v":""}]
[null,null,null,null,null,null,null,{"$f":"O8","v":"'"}]
[null,null,null,null,null,null,null,{"$f":"P8","v":"    Range(\"C131:N138\").Select"}]
[null,null,null,null,null,null,null,{"$f":"Q8","v":"Selection.ClearContents"}]
[null,null,null,null,null,null,null,{"$f":"R8","v":"    Range(\"C139:F142\").Select"}]
[null,null,null,null,null,null,null,{"$f":"S8","v":"Selection.ClearContents"}]
[null,null,null,null,null,null,null,{"$f":"T8","v":"Range(\"H142\").Select"}]
[null,null,null,null,null,null,null,{"$f":"U8","v":"End Sub"}]
[null,null,null,null,null,null,null,{"$f":"J9","v":"Sub Vider_tableau17()"}]
[null,null,null,null,null,null,null,{"$f":"K9","v":"'"}]
[null,null,null,null,null,null,null,{"$f":"L9","v":"' Vider_tableau17 Macro"}]
[null,null,null,null,null,null,null,{"$f":"M9","v":"'"}]
[null,null,null,null,null,null,null,{"$f":"N9","v":""}]
[null,null,null,null,null,null,null,{"$f":"O9","v":"'"}]
[null,null,null,null,null,null,null,{"$f":"P9","v":"    Range(\"C156:N163\").Select"}]
[null,null,null,null,null,null,null,{"$f":"Q9","v":"Selection.ClearContents"}]
[null,null,null,null,null,null,null,{"$f":"R9","v":"    Range(\"C164:F167\").Select"}]
[null,null,null,null,null,null,null,{"$f":"S9","v":"Selection.ClearContents"}]
[null,null,null,null,null,null,null,{"$f":"T9","v":"Range(\"H167\").Select"}]
[null,null,null,null,null,null,null,{"$f":"U9","v":"End Sub"}]
[null,null,null,null,null,null,null,{"$f":"J10","v":"Sub Vider_tableau18()"}]
[null,null,null,null,null,null,null,{"$f":"K10","v":"'"}]
[null,null,null,null,null,null,null,{"$f":"L10","v":"' Vider_tableau18 Macro"}]
[null,null,null,null,null,null,null,{"$f":"M10","v":"'"}]
[null,null,null,null,null,null,null,{"$f":"N10","v":""}]
[null,null,null,null,null,null,null,{"$f":"O10","v":"'"}]
[null,null,null,null,null,null,null,{"$f":"P10","v":"    Range(\"C181:N188\").Select"}]
[null,null,null,null,null,null,null,{"$f":"Q10","v":"Selection.ClearContents"}]
[null,null,null,null,null,null,null,{"$f":"R10","v":"    Range(\"C189:F192\").Select"}]
[null,null,null,null,null,null,null,{"$f":"S10","v":"Selection.ClearContents"}]
[null,null,null,null,null,null,null,{"$f":"T10","v":"Range(\"H192\").Select"}]
[null,null,null,null,null,null,null,{"$f":"U10","v":"End Sub"}]
[null,null,null,null,null,null,null,{"$f":"J11","v":"Sub Vider_tableau19()"}]
[null,null,null,null,null,null,null,{"$f":"K11","v":"'"}]
[null,null,null,null,null,null,null,{"$f":"L11","v":"' Vider_tableau19 Macro"}]
[null,null,null,null,null,null,null,{"$f":"M11","v":"'"}]
[null,null,null,null,null,null,null,{"$f":"N11","v":""}]
[null,null,null,null,null,null,null,{"$f":"O11","v":"'"}]
[null,null,null,null,null,null,null,{"$f":"P11","v":"    Range(\"C206:N213\").Select"}]
[null,null,null,null,null,null,null,{"$f":"Q11","v":"Selection.ClearContents"}]
[null,null,null,null,null,null,null,{"$f":"R11","v":"    Range(\"C214:F217\").Select"}]
[null,null,null,null,null,null,null,{"$f":"S11","v":"Selection.ClearContents"}]
[null,null,null,null,null,null,null,{"$f":"T11","v":"Range(\"H217\").Select"}]
[null,null,null,null,null,null,null,{"$f":"U11","v":"End Sub"}]
[null,null,null,null,null,null,null,{"$f":"J12","v":"Sub Vider_tableau20()"}]
[null,null,null,null,null,null,null,{"$f":"K12","v":"'"}]
[null,null,null,null,null,null,null,{"$f":"L12","v":"' Vider_tableau20 Macro"}]
[null,null,null,null,null,null,null,{"$f":"M12","v":"'"}]
[null,null,null,null,null,null,null,{"$f":"N12","v":""}]
[null,null,null,null,null,null,null,{"$f":"O12","v":"'"}]
[null,null,null,null,null,null,null,{"$f":"P12","v":"    Range(\"C231:N238\").Select"}]
[null,null,null,null,null,null,null,{"$f":"Q12","v":"Selection.ClearContents"}]
[null,null,null,null,null,null,null,{"$f":"R12","v":"    Range(\"C239:F242\").Select"}]
[null,null,null,null,null,null,null,{"$f":"S12","v":"Selection.ClearContents"}]
[null,null,null,null,null,null,null,{"$f":"T12","v":"Range(\"H242\").Select"}]
[null,null,null,null,null,null,null,{"$f":"U12","v":"End Sub"}]
[]
[]
[]
[]
[]
[]
[]
[]
[]
[]
[]
[]
[]
["II°/ Solution :","Ligne"]
["Tableau numéro :","de","à",null,null,null,"Mettre valeurs  :","Code VBA "]
[11,19,23,null,null,"Avance",25,{"$f":"J138","v":"Sub Solution11()"},null,{"$f":"\"Sub Solution\"&A138&\"()\"","v":"Sub Solution11()"},"If Etat = 0 Then","'",{"$f":"\"' SolutionNon\"&A138&\" Macro\"","v":"' SolutionNon11 Macro"},"'",{"$f":"\"\"","v":""},"'",{"$f":"\"Range(\"\"\"&G$139&B138&\":\"&G$140&C138&\"\"\").Select\"","v":"Range(\"P19:AB23\").Select"},"    Selection.NumberFormat = \";;;\"","    Selection.Borders(xlDiagonalDown).LineStyle = xlNone","    Selection.Borders(xlDiagonalUp).LineStyle = xlNone","    Selection.Borders(xlEdgeLeft).LineStyle = xlNone","    Selection.Borders(xlEdgeTop).LineStyle = xlNone","    Selection.Borders(xlEdgeBottom).LineStyle = xlNone","    Selection.Borders(xlEdgeRight).LineStyle = xlNone","    Selection.Borders(xlInsideVertical).LineStyle = xlNone","    Selection.Borders(xlInsideHorizontal).LineStyle = xlNone",{"$f":"\"Range(\"\"\"&G$143&B138&\"\"\").Select: Etat = 1\"","v":"Range(\"P19\").Select: Etat = 1"},"Else","'",{"$f":"\"' SolutionOui\"&A138&\" Macro\"","v":"' SolutionOui11 Macro"},"'",{"$f":"\"\"","v":""},"'",{"$f":"\"Range(\"\"\"&G$139&B138&\":\"&G$140&C138&\"\"\").Select\"","v":"Range(\"P19:AB23\").Select"},"    Selection.NumberFormat = \"General\"",{"$f":"\"Range(\"\"\"&G$141&B138&\":\"&G$142&C138&\"\"\").Select\"","v":"Range(\"B19:N23\").Select"},"    Selection.Copy",{"$f":"\"Range(\"\"\"&G$139&B138&\":\"&G$140&C138&\"\"\").Select\"","v":"Range(\"P19:AB23\").Select"},"    Selection.PasteSpecial Paste:=xlPasteFormats, Operation:=xlNone, _","        SkipBlanks:=False, Transpose:=False","    Application.CutCopyMode = False",{"$f":"\"Range(\"\"\"&G$143&B138&\"\"\").Select: Etat = 0\"","v":"Range(\"P19\").Select: Etat = 0"},"End If","End Sub"]
[{"$f":"A138+1","v":12},{"$f":"B138+$G$138","v":44},{"$f":"C138+$G$138","v":48},null,"Solution :","Colonne de","P",{"$f":"K138","v":"If Etat = 0 Then"},null,{"$f":"\"Sub Solution\"&A139&\"()\"","v":"Sub Solution12()"},"If Etat = 0 Then","'",{"$f":"\"' SolutionNon\"&A139&\" Macro\"","v":"' SolutionNon12 Macro"},"'",{"$f":"\"\"","v":""},"'",{"$f":"\"Range(\"\"\"&G$139&B139&\":\"&G$140&C139&\"\"\").Select\"","v":"Range(\"P44:AB48\").Select"},"    Selection.NumberFormat = \";;;\"","    Selection.Borders(xlDiagonalDown).LineStyle = xlNone","    Selection.Borders(xlDiagonalUp).LineStyle = xlNone","    Selection.Borders(xlEdgeLeft).LineStyle = xlNone","    Selection.Borders(xlEdgeTop).LineStyle = xlNone","    Selection.Borders(xlEdgeBottom).LineStyle = xlNone","    Selection.Borders(xlEdgeRight).LineStyle = xlNone","    Selection.Borders(xlInsideVertical).LineStyle = xlNone","    Selection.Borders(xlInsideHorizontal).LineStyle = xlNone",{"$f":"\"Range(\"\"\"&G$143&B139&\"\"\").Select: Etat = 1\"","v":"Range(\"P44\").Select: Etat = 1"},"Else","'",{"$f":"\"' SolutionOui\"&A139&\" Macro\"","v":"' SolutionOui12 Macro"},"'",{"$f":"\"\"","v":""},"'",{"$f":"\"Range(\"\"\"&G$139&B139&\":\"&G$140&C139&\"\"\").Select\"","v":"Range(\"P44:AB48\").Select"},"    Selection.NumberFormat = \"General\"",{"$f":"\"Range(\"\"\"&G$141&B139&\":\"&G$142&C139&\"\"\").Select\"","v":"Range(\"B44:N48\").Select"},"    Selection.Copy",{"$f":"\"Range(\"\"\"&G$139&B139&\":\"&G$140&C139&\"\"\").Select\"","v":"Range(\"P44:AB48\").Select"},"    Selection.PasteSpecial Paste:=xlPasteFormats, Operation:=xlNone, _","        SkipBlanks:=False, Transpose:=False","    Application.CutCopyMode = False",{"$f":"\"Range(\"\"\"&G$143&B139&\"\"\").Select: Etat = 0\"","v":"Range(\"P44\").Select: Etat = 0"},"End If","End Sub"]
[{"$f":"A139+1","v":13},{"$f":"B139+$G$138","v":69},{"$f":"C139+$G$138","v":73},null,null,"Colonne à","AB",{"$f":"L138","v":"'"},null,"Sub Solution13()","If Etat = 0 Then","'","' SolutionNon13 Macro","'",{"$f":"\"\"","v":""},"'","Range(\"P69:AB73\").Select","    Selection.NumberFormat = \";;;\"","    Selection.Borders(xlDiagonalDown).LineStyle = xlNone","    Selection.Borders(xlDiagonalUp).LineStyle = xlNone","    Selection.Borders(xlEdgeLeft).LineStyle = xlNone","    Selection.Borders(xlEdgeTop).LineStyle = xlNone","    Selection.Borders(xlEdgeBottom).LineStyle = xlNone","    Selection.Borders(xlEdgeRight).LineStyle = xlNone","    Selection.Borders(xlInsideVertical).LineStyle = xlNone","    Selection.Borders(xlInsideHorizontal).LineStyle = xlNone","Range(\"P69\").Select: Etat = 1","Else","'","' SolutionOui13 Macro","'",{"$f":"\"\"","v":""},"'","Range(\"P69:AB73\").Select","    Selection.NumberFormat = \"General\"","Range(\"B69:N73\").Select","    Selection.Copy","Range(\"P69:AB73\").Select","    Selection.PasteSpecial Paste:=xlPasteFormats, Operation:=xlNone, _","        SkipBlanks:=False, Transpose:=False","    Application.CutCopyMode = False","Range(\"P69\").Select: Etat = 0","End If","End Sub"]
[14,94,98,null,"Réponse :","Colonne de","B",{"$f":"M138","v":"' SolutionNon11 Macro"},null,"Sub Solution14()","If Etat = 0 Then","'","' SolutionNon14 Macro","'",{"$f":"\"\"","v":""},"'","Range(\"P94:AB98\").Select","    Selection.NumberFormat = \";;;\"","    Selection.Borders(xlDiagonalDown).LineStyle = xlNone","    Selection.Borders(xlDiagonalUp).LineStyle = xlNone","    Selection.Borders(xlEdgeLeft).LineStyle = xlNone","    Selection.Borders(xlEdgeTop).LineStyle = xlNone","    Selection.Borders(xlEdgeBottom).LineStyle = xlNone","    Selection.Borders(xlEdgeRight).LineStyle = xlNone","    Selection.Borders(xlInsideVertical).LineStyle = xlNone","    Selection.Borders(xlInsideHorizontal).LineStyle = xlNone","Range(\"P94\").Select: Etat = 1","Else","'","' SolutionOui14 Macro","'",{"$f":"\"\"","v":""},"'","Range(\"P94:AB98\").Select","    Selection.NumberFormat = \"General\"","Range(\"B94:N98\").Select","    Selection.Copy","Range(\"P94:AB98\").Select","    Selection.PasteSpecial Paste:=xlPasteFormats, Operation:=xlNone, _","        SkipBlanks:=False, Transpose:=False","    Application.CutCopyMode = False","Range(\"P94\").Select: Etat = 0","End If","End Sub"]
[15,119,123,null,null,"Colonne à","N",{"$f":"N138","v":"'"},null,"Sub Solution15()","If Etat = 0 Then","'","' SolutionNon15 Macro","'",{"$f":"\"\"","v":""},"'","Range(\"P119:AB123\").Select","    Selection.NumberFormat = \";;;\"","    Selection.Borders(xlDiagonalDown).LineStyle = xlNone","    Selection.Borders(xlDiagonalUp).LineStyle = xlNone","    Selection.Borders(xlEdgeLeft).LineStyle = xlNone","    Selection.Borders(xlEdgeTop).LineStyle = xlNone","    Selection.Borders(xlEdgeBottom).LineStyle = xlNone","    Selection.Borders(xlEdgeRight).LineStyle = xlNone","    Selection.Borders(xlInsideVertical).LineStyle = xlNone","    Selection.Borders(xlInsideHorizontal).LineStyle = xlNone","Range(\"P119\").Select: Etat = 1","Else","'","' SolutionOui15 Macro","'",{"$f":"\"\"","v":""},"'","Range(\"P119:AB123\").Select","    Selection.NumberFormat = \"General\"","Range(\"B119:N123\").Select","    Selection.Copy","Range(\"P119:AB123\").Select","    Selection.PasteSpecial Paste:=xlPasteFormats, Operation:=xlNone, _","        SkipBlanks:=False, Transpose:=False","    Application.CutCopyMode = False","Range(\"P119\").Select: Etat = 0","End If","End Sub"]
[16,144,148,null,null,"Centrage :","P",{"$f":"O138","v":""},null,"Sub Solution16()","If Etat = 0 Then","'","' SolutionNon16 Macro","'",{"$f":"\"\"","v":""},"'","Range(\"P144:AB148\").Select","    Selection.NumberFormat = \";;;\"","    Selection.Borders(xlDiagonalDown).LineStyle = xlNone","    Selection.Borders(xlDiagonalUp).LineStyle = xlNone","    Selection.Borders(xlEdgeLeft).LineStyle = xlNone","    Selection.Borders(xlEdgeTop).LineStyle = xlNone","    Selection.Borders(xlEdgeBottom).LineStyle = xlNone","    Selection.Borders(xlEdgeRight).LineStyle = xlNone","    Selection.Borders(xlInsideVertical).LineStyle = xlNone","    Selection.Borders(xlInsideHorizontal).LineStyle = xlNone","Range(\"P144\").Select: Etat = 1","Else","'","' SolutionOui16 Macro","'",{"$f":"\"\"","v":""},"'","Range(\"P144:AB148\").Select","    Selection.NumberFormat = \"General\"","Range(\"B144:N148\").Select","    Selection.Copy","Range(\"P144:AB148\").Select","    Selection.PasteSpecial Paste:=xlPasteFormats, Operation:=xlNone, _","        SkipBlanks:=False, Transpose:=False","    Application.CutCopyMode = False","Range(\"P144\").Select: Etat = 0","End If","End Sub"]
[17,169,173,null,null,null,null,{"$f":"P138","v":"'"},null,"Sub Solution17()","If Etat = 0 Then","'","' SolutionNon17 Macro","'",{"$f":"\"\"","v":""},"'","Range(\"P169:AB173\").Select","    Selection.NumberFormat = \";;;\"","    Selection.Borders(xlDiagonalDown).LineStyle = xlNone","    Selection.Borders(xlDiagonalUp).LineStyle = xlNone","    Selection.Borders(xlEdgeLeft).LineStyle = xlNone","    Selection.Borders(xlEdgeTop).LineStyle = xlNone","    Selection.Borders(xlEdgeBottom).LineStyle = xlNone","    Selection.Borders(xlEdgeRight).LineStyle = xlNone","    Selection.Borders(xlInsideVertical).LineStyle = xlNone","    Selection.Borders(xlInsideHorizontal).LineStyle = xlNone","Range(\"P169\").Select: Etat = 1","Else","'","' SolutionOui17 Macro","'",{"$f":"\"\"","v":""},"'","Range(\"P169:AB173\").Select","    Selection.NumberFormat = \"General\"","Range(\"B169:N173\").Select","    Selection.Copy","Range(\"P169:AB173\").Select","    Selection.PasteSpecial Paste:=xlPasteFormats, Operation:=xlNone, _","        SkipBlanks:=False, Transpose:=False","    Application.CutCopyMode = False","Range(\"P169\").Select: Etat = 0","End If","End Sub"]
[18,194,198,null,null,null,"3 indices  :",{"$f":"Q138","v":"Range(\"P19:AB23\").Select"},null,"Sub Solution18()","If Etat = 0 Then","'","' SolutionNon18 Macro","'",{"$f":"\"\"","v":""},"'","Range(\"P194:AB198\").Select","    Selection.NumberFormat = \";;;\"","    Selection.Borders(xlDiagonalDown).LineStyle = xlNone","    Selection.Borders(xlDiagonalUp).LineStyle = xlNone","    Selection.Borders(xlEdgeLeft).LineStyle = xlNone","    Selection.Borders(xlEdgeTop).LineStyle = xlNone","    Selection.Borders(xlEdgeBottom).LineStyle = xlNone","    Selection.Borders(xlEdgeRight).LineStyle = xlNone","    Selection.Borders(xlInsideVertical).LineStyle = xlNone","    Selection.Borders(xlInsideHorizontal).LineStyle = xlNone","Range(\"P194\").Select: Etat = 1","Else","'","' SolutionOui18 Macro","'",{"$f":"\"\"","v":""},"'","Range(\"P194:AB198\").Select","    Selection.NumberFormat = \"General\"","Range(\"B194:N198\").Select","    Selection.Copy","Range(\"P194:AB198\").Select","    Selection.PasteSpecial Paste:=xlPasteFormats, Operation:=xlNone, _","        SkipBlanks:=False, Transpose:=False","    Application.CutCopyMode = False","Range(\"P194\").Select: Etat = 0","End If","End Sub"]
[19,219,223,null,null,"Avance",22,{"$f":"R138","v":"    Selection.NumberFormat = \";;;\""},null,"Sub Solution19()","If Etat = 0 Then","'","' SolutionNon19 Macro","'",{"$f":"\"\"","v":""},"'","Range(\"P219:AB223\").Select","    Selection.NumberFormat = \";;;\"","    Selection.Borders(xlDiagonalDown).LineStyle = xlNone","    Selection.Borders(xlDiagonalUp).LineStyle = xlNone","    Selection.Borders(xlEdgeLeft).LineStyle = xlNone","    Selection.Borders(xlEdgeTop).LineStyle = xlNone","    Selection.Borders(xlEdgeBottom).LineStyle = xlNone","    Selection.Borders(xlEdgeRight).LineStyle = xlNone","    Selection.Borders(xlInsideVertical).LineStyle = xlNone","    Selection.Borders(xlInsideHorizontal).LineStyle = xlNone","Range(\"P219\").Select: Etat = 1","Else","'","' SolutionOui19 Macro","'",{"$f":"\"\"","v":""},"'","Range(\"P219:AB223\").Select","    Selection.NumberFormat = \"General\"","Range(\"B219:N223\").Select","    Selection.Copy","Range(\"P219:AB223\").Select","    Selection.PasteSpecial Paste:=xlPasteFormats, Operation:=xlNone, _","        SkipBlanks:=False, Transpose:=False","    Application.CutCopyMode = False","Range(\"P219\").Select: Etat = 0","End If","End Sub"]
[20,244,248,null,"Solution :","Colonne de","F",{"$f":"S138","v":"    Selection.Borders(xlDiagonalDown).LineStyle = xlNone"},null,"Sub Solution20()","If Etat = 0 Then","'","' SolutionNon20 Macro","'",{"$f":"\"\"","v":""},"'","Range(\"P244:AB248\").Select","    Selection.NumberFormat = \";;;\"","    Selection.Borders(xlDiagonalDown).LineStyle = xlNone","    Selection.Borders(xlDiagonalUp).LineStyle = xlNone","    Selection.Borders(xlEdgeLeft).LineStyle = xlNone","    Selection.Borders(xlEdgeTop).LineStyle = xlNone","    Selection.Borders(xlEdgeBottom).LineStyle = xlNone","    Selection.Borders(xlEdgeRight).LineStyle = xlNone","    Selection.Borders(xlInsideVertical).LineStyle = xlNone","    Selection.Borders(xlInsideHorizontal).LineStyle = xlNone","Range(\"P244\").Select: Etat = 1","Else","'","' SolutionOui20 Macro","'",{"$f":"\"\"","v":""},"'","Range(\"P244:AB248\").Select","    Selection.NumberFormat = \"General\"","Range(\"B244:N248\").Select","    Selection.Copy","Range(\"P244:AB248\").Select","    Selection.PasteSpecial Paste:=xlPasteFormats, Operation:=xlNone, _","        SkipBlanks:=False, Transpose:=False","    Application.CutCopyMode = False","Range(\"P244\").Select: Etat = 0","End If","End Sub"]
[null,null,null,null,null,"Colonne à","H",{"$f":"T138","v":"    Selection.Borders(xlDiagonalUp).LineStyle = xlNone"}]
["3 indices  :",19,22,null,"Réponse :","Colonne de","B",{"$f":"U138","v":"    Selection.Borders(xlEdgeLeft).LineStyle = xlNone"}]
["4 indices :",19,23,null,null,"Colonne à","D",{"$f":"V138","v":"    Selection.Borders(xlEdgeTop).LineStyle = xlNone"},null,"=","i",138,null,{"$f":"J150&K150&L150","v":"=i138"}]
[null,null,null,null,null,"Centrage :","J",{"$f":"W138","v":"    Selection.Borders(xlEdgeBottom).LineStyle = xlNone"},null,"=","j",138,null,{"$f":"J151&K151&L151","v":"=j138"}]
[null,null,null,null,null,null,null,{"$f":"X138","v":"    Selection.Borders(xlEdgeRight).LineStyle = xlNone"},null,"=","k",138,null,"=k138"]
[null,null,null,null,null,null,"4 indices :",{"$f":"Y138","v":"    Selection.Borders(xlInsideVertical).LineStyle = xlNone"},null,"=","l",138,null,"=l138"]
[null,null,null,null,"Solution :","Avance",25,{"$f":"Z138","v":"    Selection.Borders(xlInsideHorizontal).LineStyle = xlNone"},null,"=","m",138,null,"=m138"]
[null,null,null,null,null,"Colonne de","P",{"$f":"AA138","v":"Range(\"P19\").Select: Etat = 1"},null,"=","n",138,null,"=n138"]
[null,null,null,null,"Réponse :","Colonne à","AB",{"$f":"AB138","v":"Else"},null,"=","o",138,null,"=o138"]
[null,null,null,null,null,"Colonne de","B",{"$f":"AC138","v":"'"},null,"=","p",138,null,"=p138"]
[null,null,null,null,null,"Colonne à","N",{"$f":"AD138","v":"' SolutionOui11 Macro"},null,"=","q",138,null,"=q138"]
[null,null,null,null,null,"Centrage :","P",{"$f":"AE138","v":"'"},null,"=","r",138,null,"=r138"]
[null,null,null,null,null,null,null,{"$f":"AF138","v":""},null,"=","s",138,null,"=s138"]
[null,null,null,null,null,null,null,{"$f":"AG138","v":"'"},null,"=","t",138,null,"=t138"]
[null,null,null,null,null,null,null,{"$f":"AH138","v":"Range(\"P19:AB23\").Select"},null,"=","u",138,null,"=u138"]
[null,null,null,null,null,null,null,{"$f":"AI138","v":"    Selection.NumberFormat = \"General\""},null,"=","v",138,null,"=v138"]
[null,null,null,null,null,null,null,{"$f":"AJ138","v":"Range(\"B19:N23\").Select"},null,"=","w",138,null,"=w138"]
[null,null,null,null,null,null,null,{"$f":"AK138","v":"    Selection.Copy"},null,"=","x",138,null,"=x138"]
[null,null,null,null,null,null,null,{"$f":"AL138","v":"Range(\"P19:AB23\").Select"},null,"=","y",138,null,"=y138"]
[null,null,null,null,null,null,null,{"$f":"AM138","v":"    Selection.PasteSpecial Paste:=xlPasteFormats, Operation:=xlNone, _"},null,"=","z",138,null,"=z138"]
[null,null,null,null,null,null,null,{"$f":"AN138","v":"        SkipBlanks:=False, Transpose:=False"},null,"=","Aa",138,null,"=Aa138",null,"a",null,{"$f":"\"A\"&P168","v":"Aa"}]
[null,null,null,null,null,null,null,{"$f":"AO138","v":"    Application.CutCopyMode = False"},null,"=","Ab",138,null,"=Ab138",null,"b",null,{"$f":"\"A\"&P169","v":"Ab"}]
[null,null,null,null,null,null,null,{"$f":"AP138","v":"Range(\"P19\").Select: Etat = 0"},null,"=","Ac",138,null,"=Ac138",null,"c",null,"Ac"]
[null,null,null,null,null,null,null,{"$f":"AQ138","v":"End If"},null,"=","Ad",138,null,"=Ad138",null,"d",null,"Ad"]
[null,null,null,null,null,null,null,{"$f":"AR138","v":"End Sub"},null,"=","Ae",138,null,"=Ae138",null,"e",null,"Ae"]
[null,null,null,null,null,null,null,{"$f":"J139","v":"Sub Solution12()"},null,"=","Af",138,null,"=Af138",null,"f",null,"Af"]
[null,null,null,null,null,null,null,{"$f":"K139","v":"If Etat = 0 Then"},null,"=","Ag",138,null,"=Ag138",null,"g",null,"Ag"]
[null,null,null,null,null,null,null,{"$f":"L139","v":"'"},null,"=","Ah",138,null,"=Ah138",null,"h",null,"Ah"]
[null,null,null,null,null,null,null,{"$f":"M139","v":"' SolutionNon12 Macro"},null,"=","Ai",138,null,"=Ai138",null,"i",null,"Ai"]
[null,null,null,null,null,null,null,{"$f":"N139","v":"'"},null,"=","Aj",138,null,"=Aj138",null,"j",null,"Aj"]
[null,null,null,null,null,null,null,{"$f":"O139","v":""},null,"=","Ak",138,null,"=Ak138",null,"k",null,"Ak"]
[null,null,null,null,null,null,null,{"$f":"P139","v":"'"},null,"=","Al",138,null,"=Al138",null,"l",null,"Al"]
[null,null,null,null,null,null,null,{"$f":"Q139","v":"Range(\"P44:AB48\").Select"},null,"=","Am",138,null,"=Am138",null,"m",null,"Am"]
[null,null,null,null,null,null,null,{"$f":"R139","v":"    Selection.NumberFormat = \";;;\""},null,"=","An",138,null,"=An138",null,"n",null,"An"]
[null,null,null,null,null,null,null,{"$f":"S139","v":"    Selection.Borders(xlDiagonalDown).LineStyle = xlNone"},null,"=","Ao",138,null,"=Ao138",null,"o",null,"Ao"]
[null,null,null,null,null,null,null,{"$f":"T139","v":"    Selection.Borders(xlDiagonalUp).LineStyle = xlNone"},null,"=","Ap",138,null,"=Ap138",null,"p",null,"Ap"]
[null,null,null,null,null,null,null,{"$f":"U139","v":"    Selection.Borders(xlEdgeLeft).LineStyle = xlNone"},null,"=","Aq",138,null,"=Aq138",null,"q",null,"Aq"]
[null,null,null,null,null,null,null,{"$f":"V139","v":"    Selection.Borders(xlEdgeTop).LineStyle = xlNone"},null,"=","i",{"$f":"L150+1","v":139},null,"=i139"]
[null,null,null,null,null,null,null,{"$f":"W139","v":"    Selection.Borders(xlEdgeBottom).LineStyle = xlNone"},null,"=","j",{"$f":"L151+1","v":139},null,"=j139"]
[null,null,null,null,null,null,null,{"$f":"X139","v":"    Selection.Borders(xlEdgeRight).LineStyle = xlNone"},null,"=","k",139,null,"=k139"]
[null,null,null,null,null,null,null,{"$f":"Y139","v":"    Selection.Borders(xlInsideVertical).LineStyle = xlNone"},null,"=","l",139,null,"=l139"]
[null,null,null,null,null,null,null,{"$f":"Z139","v":"    Selection.Borders(xlInsideHorizontal).LineStyle = xlNone"},null,"=","m",139,null,"=m139"]
[null,null,null,null,null,null,null,{"$f":"AA139","v":"Range(\"P44\").Select: Etat = 1"},null,"=","n",139,null,"=n139"]
[null,null,null,null,null,null,null,{"$f":"AB139","v":"Else"},null,"=","o",139,null,"=o139"]
[null,null,null,null,null,null,null,{"$f":"AC139","v":"'"},null,"=","p",139,null,"=p139"]
[null,null,null,null,null,null,null,{"$f":"AD139","v":"' SolutionOui12 Macro"},null,"=","q",139,null,"=q139"]
[null,null,null,null,null,null,null,{"$f":"AE139","v":"'"},null,"=","r",139,null,"=r139"]
[null,null,null,null,null,null,null,{"$f":"AF139","v":""},null,"=","s",139,null,"=s139"]
[null,null,null,null,null,null,null,{"$f":"AG139","v":"'"},null,"=","t",139,null,"=t139"]
[null,null,null,null,null,null,null,{"$f":"AH139","v":"Range(\"P44:AB48\").Select"},null,"=","u",139,null,"=u139"]
[null,null,null,null,null,null,null,{"$f":"AI139","v":"    Selection.NumberFormat = \"General\""},null,"=","v",139,null,"=v139"]
[null,null,null,null,null,null,null,{"$f":"AJ139","v":"Range(\"B44:N48\").Select"},null,"=","w",139,null,"=w139"]
[null,null,null,null,null,null,null,{"$f":"AK139","v":"    Selection.Copy"},null,"=","x",139,null,"=x139"]
[null,null,null,null,null,null,null,{"$f":"AL139","v":"Range(\"P44:AB48\").Select"},null,"=","y",139,null,"=y139"]
[null,null,null,null,null,null,null,{"$f":"AM139","v":"    Selection.PasteSpecial Paste:=xlPasteFormats, Operation:=xlNone, _"},null,"=","z",139,null,"=z139"]
[null,null,null,null,null,null,null,{"$f":"AN139","v":"        SkipBlanks:=False, Transpose:=False"},null,"=","Aa",139,null,"=Aa139"]
[null,null,null,null,null,null,null,{"$f":"AO139","v":"    Application.CutCopyMode = False"},null,"=","Ab",139,null,"=Ab139"]
[null,null,null,null,null,null,null,{"$f":"AP139","v":"Range(\"P44\").Select: Etat = 0"},null,"=","Ac",139,null,"=Ac139"]
[null,null,null,null,null,null,null,{"$f":"AQ139","v":"End If"},null,"=","Ad",139,null,"=Ad139"]
[null,null,null,null,null,null,null,{"$f":"AR139","v":"End Sub"},null,"=","Ae",139,null,"=Ae139"]
[null,null,null,null,null,null,null,{"$f":"J140","v":"Sub Solution13()"},null,"=","Af",139,null,"=Af139"]
[null,null,null,null,null,null,null,{"$f":"K140","v":"If Etat = 0 Then"},null,"=","Ag",139,null,"=Ag139"]
[null,null,null,null,null,null,null,{"$f":"L140","v":"'"},null,"=","Ah",139,null,"=Ah139"]
[null,null,null,null,null,null,null,{"$f":"M140","v":"' SolutionNon13 Macro"},null,"=","Ai",139,null,"=Ai139"]
[null,null,null,null,null,null,null,{"$f":"N140","v":"'"},null,"=","Aj",139,null,"=Aj139"]
[null,null,null,null,null,null,null,{"$f":"O140","v":""},null,"=","Ak",139,null,"=Ak139"]
[null,null,null,null,null,null,null,{"$f":"P140","v":"'"},null,"=","Al",139,null,"=Al139"]
[null,null,null,null,null,null,null,{"$f":"Q140","v":"Range(\"P69:AB73\").Select"},null,"=","Am",139,null,{"$f":"J215&K215&L215","v":"=Am139"}]
[null,null,null,null,null,null,null,{"$f":"R140","v":"    Selection.NumberFormat = \";;;\""},null,"=","An",139,null,"=An139"]
[null,null,null,null,null,null,null,{"$f":"S140","v":"    Selection.Borders(xlDiagonalDown).LineStyle = xlNone"},null,"=","Ao",139,null,"=Ao139"]
[null,null,null,null,null,null,null,{"$f":"T140","v":"    Selection.Borders(xlDiagonalUp).LineStyle = xlNone"},null,"=","Ap",139,null,"=Ap139"]
[null,null,null,null,null,null,null,{"$f":"U140","v":"    Selection.Borders(xlEdgeLeft).LineStyle = xlNone"},null,"=","Aq",139,null,"=Aq139"]
[null,null,null,null,null,null,null,{"$f":"V140","v":"    Selection.Borders(xlEdgeTop).LineStyle = xlNone"},null,"=","i",{"$f":"L185+1","v":140},null,"=i140"]
[null,null,null,null,null,null,null,{"$f":"W140","v":"    Selection.Borders(xlEdgeBottom).LineStyle = xlNone"},null,"=","j",140,null,"=j140"]
[null,null,null,null,null,null,null,{"$f":"X140","v":"    Selection.Borders(xlEdgeRight).LineStyle = xlNone"},null,"=","k",140,null,"=k140"]
[null,null,null,null,null,null,null,{"$f":"Y140","v":"    Selection.Borders(xlInsideVertical).LineStyle = xlNone"},null,"=","l",140,null,"=l140"]
[null,null,null,null,null,null,null,{"$f":"Z140","v":"    Selection.Borders(xlInsideHorizontal).LineStyle = xlNone"},null,"=","m",140,null,"=m140"]
[null,null,null,null,null,null,null,{"$f":"AA140","v":"Range(\"P69\").Select: Etat = 1"},null,"=","n",140,null,"=n140"]
[null,null,null,null,null,null,null,{"$f":"AB140","v":"Else"},null,"=","o",140,null,"=o140"]
[null,null,null,null,null,null,null,{"$f":"AC140","v":"'"},null,"=","p",140,null,"=p140"]
[null,null,null,null,null,null,null,{"$f":"AD140","v":"' SolutionOui13 Macro"},null,"=","q",140,null,"=q140"]
[null,null,null,null,null,null,null,{"$f":"AE140","v":"'"},null,"=","r",140,null,"=r140"]
[null,null,null,null,null,null,null,{"$f":"AF140","v":""},null,"=","s",140,null,"=s140"]
[null,null,null,null,null,null,null,{"$f":"AG140","v":"'"},null,"=","t",140,null,"=t140"]
[null,null,null,null,null,null,null,{"$f":"AH140","v":"Range(\"P69:AB73\").Select"},null,"=","u",140,null,"=u140"]
[null,null,null,null,null,null,null,{"$f":"AI140","v":"    Selection.NumberFormat = \"General\""},null,"=","v",140,null,"=v140"]
[null,null,null,null,null,null,null,{"$f":"AJ140","v":"Range(\"B69:N73\").Select"},null,"=","w",140,null,"=w140"]
[null,null,null,null,null,null,null,{"$f":"AK140","v":"    Selection.Copy"},null,"=","x",140,null,"=x140"]
[null,null,null,null,null,null,null,{"$f":"AL140","v":"Range(\"P69:AB73\").Select"},null,"=","y",140,null,"=y140"]
[null,null,null,null,null,null,null,{"$f":"AM140","v":"    Selection.PasteSpecial Paste:=xlPasteFormats, Operation:=xlNone, _"},null,"=","z",140,null,"=z140"]
[null,null,null,null,null,null,null,{"$f":"AN140","v":"        SkipBlanks:=False, Transpose:=False"},null,"=","Aa",140,null,"=Aa140"]
[null,null,null,null,null,null,null,{"$f":"AO140","v":"    Application.CutCopyMode = False"},null,"=","Ab",140,null,"=Ab140"]
[null,null,null,null,null,null,null,{"$f":"AP140","v":"Range(\"P69\").Select: Etat = 0"},null,"=","Ac",140,null,"=Ac140"]
[null,null,null,null,null,null,null,{"$f":"AQ140","v":"End If"},null,"=","Ad",140,null,"=Ad140"]
[null,null,null,null,null,null,null,{"$f":"AR140","v":"End Sub"},null,"=","Ae",140,null,"=Ae140"]
[null,null,null,null,null,null,null,{"$f":"J141","v":"Sub Solution14()"},null,"=","Af",140,null,"=Af140"]
[null,null,null,null,null,null,null,{"$f":"K141","v":"If Etat = 0 Then"},null,"=","Ag",140,null,"=Ag140"]
[null,null,null,null,null,null,null,{"$f":"L141","v":"'"},null,"=","Ah",140,null,"=Ah140"]
[null,null,null,null,null,null,null,{"$f":"M141","v":"' SolutionNon14 Macro"},null,"=","Ai",140,null,"=Ai140"]
[null,null,null,null,null,null,null,{"$f":"N141","v":"'"},null,"=","Aj",140,null,"=Aj140"]
[null,null,null,null,null,null,null,{"$f":"O141","v":""},null,"=","Ak",140,null,"=Ak140"]
[null,null,null,null,null,null,null,{"$f":"P141","v":"'"},null,"=","Al",140,null,"=Al140"]
[null,null,null,null,null,null,null,{"$f":"Q141","v":"Range(\"P94:AB98\").Select"},null,"=","Am",{"$f":"L215+1","v":140},null,"=Am140"]
[null,null,null,null,null,null,null,{"$f":"R141","v":"    Selection.NumberFormat = \";;;\""},null,"=","An",140,null,"=An140"]
[null,null,null,null,null,null,null,{"$f":"S141","v":"    Selection.Borders(xlDiagonalDown).LineStyle = xlNone"},null,"=","Ao",140,null,"=Ao140"]
[null,null,null,null,null,null,null,{"$f":"T141","v":"    Selection.Borders(xlDiagonalUp).LineStyle = xlNone"},null,"=","Ap",140,null,"=Ap140"]
[null,null,null,null,null,null,null,{"$f":"U141","v":"    Selection.Borders(xlEdgeLeft).LineStyle = xlNone"},null,"=","Aq",140,null,"=Aq140"]
[null,null,null,null,null,null,null,{"$f":"V141","v":"    Selection.Borders(xlEdgeTop).LineStyle = xlNone"},null,"=","i",{"$f":"L220+1","v":141},null,"=i141"]
[null,null,null,null,null,null,null,{"$f":"W141","v":"    Selection.Borders(xlEdgeBottom).LineStyle = xlNone"},null,"=","j",{"$f":"L221+1","v":141},null,"=j141"]
[null,null,null,null,null,null,null,{"$f":"X141","v":"    Selection.Borders(xlEdgeRight).LineStyle = xlNone"},null,"=","k",141,null,"=k141"]
[null,null,null,null,null,null,null,{"$f":"Y141","v":"    Selection.Borders(xlInsideVertical).LineStyle = xlNone"},null,"=","l",141,null,"=l141"]
[null,null,null,null,null,null,null,{"$f":"Z141","v":"    Selection.Borders(xlInsideHorizontal).LineStyle = xlNone"},null,"=","m",141,null,"=m141"]
[null,null,null,null,null,null,null,{"$f":"AA141","v":"Range(\"P94\").Select: Etat = 1"},null,"=","n",141,null,"=n141"]
[null,null,null,null,null,null,null,{"$f":"AB141","v":"Else"},null,"=","o",141,null,"=o141"]
[null,null,null,null,null,null,null,{"$f":"AC141","v":"'"},null,"=","p",141,null,"=p141"]
[null,null,null,null,null,null,null,{"$f":"AD141","v":"' SolutionOui14 Macro"},null,"=","q",141,null,"=q141"]
[null,null,null,null,null,null,null,{"$f":"AE141","v":"'"},null,"=","r",141,null,"=r141"]
[null,null,null,null,null,null,null,{"$f":"AF141","v":""},null,"=","s",141,null,"=s141"]
[null,null,null,null,null,null,null,{"$f":"AG141","v":"'"},null,"=","t",141,null,"=t141"]
[null,null,null,null,null,null,null,{"$f":"AH141","v":"Range(\"P94:AB98\").Select"},null,"=","u",141,null,"=u141"]
[null,null,null,null,null,null,null,{"$f":"AI141","v":"    Selection.NumberFormat = \"General\""},null,"=","v",141,null,"=v141"]
[null,null,null,null,null,null,null,{"$f":"AJ141","v":"Range(\"B94:N98\").Select"},null,"=","w",141,null,"=w141"]
[null,null,null,null,null,null,null,{"$f":"AK141","v":"    Selection.Copy"},null,"=","x",141,null,"=x141"]
[null,null,null,null,null,null,null,{"$f":"AL141","v":"Range(\"P94:AB98\").Select"},null,"=","y",141,null,"=y141"]
[null,null,null,null,null,null,null,{"$f":"AM141","v":"    Selection.PasteSpecial Paste:=xlPasteFormats, Operation:=xlNone, _"},null,"=","z",141,null,"=z141"]
[null,null,null,null,null,null,null,{"$f":"AN141","v":"        SkipBlanks:=False, Transpose:=False"},null,"=","Aa",141,null,"=Aa141"]
[null,null,null,null,null,null,null,{"$f":"AO141","v":"    Application.CutCopyMode = False"},null,"=","Ab",141,null,"=Ab141"]
[null,null,null,null,null,null,null,{"$f":"AP141","v":"Range(\"P94\").Select: Etat = 0"},null,"=","Ac",141,null,"=Ac141"]
[null,null,null,null,null,null,null,{"$f":"AQ141","v":"End If"},null,"=","Ad",141,null,"=Ad141"]
[null,null,null,null,null,null,null,{"$f":"AR141","v":"End Sub"},null,"=","Ae",141,null,"=Ae141"]
[null,null,null,null,null,null,null,{"$f":"J142","v":"Sub Solution15()"},null,"=","Af",141,null,"=Af141"]
[null,null,null,null,null,null,null,{"$f":"K142","v":"If Etat = 0 Then"},null,"=","Ag",141,null,{"$f":"J279&K279&L279","v":"=Ag141"}]
[null,null,null,null,null,null,null,{"$f":"L142","v":"'"},null,"=","Ah",141,null,"=Ah141"]
[null,null,null,null,null,null,null,{"$f":"M142","v":"' SolutionNon15 Macro"},null,"=","Ai",141,null,"=Ai141"]
[null,null,null,null,null,null,null,{"$f":"N142","v":"'"},null,"=","Aj",141,null,"=Aj141"]
[null,null,null,null,null,null,null,{"$f":"O142","v":""},null,"=","Ak",141,null,"=Ak141"]
[null,null,null,null,null,null,null,{"$f":"P142","v":"'"},null,"=","Al",141,null,"=Al141"]
[null,null,null,null,null,null,null,{"$f":"Q142","v":"Range(\"P119:AB123\").Select"},null,"=","Am",141,null,"=Am141"]
[null,null,null,null,null,null,null,{"$f":"R142","v":"    Selection.NumberFormat = \";;;\""},null,"=","An",141,null,"=An141"]
[null,null,null,null,null,null,null,{"$f":"S142","v":"    Selection.Borders(xlDiagonalDown).LineStyle = xlNone"},null,"=","Ao",141,null,"=Ao141"]
[null,null,null,null,null,null,null,{"$f":"T142","v":"    Selection.Borders(xlDiagonalUp).LineStyle = xlNone"},null,"=","Ap",141,null,"=Ap141"]
[null,null,null,null,null,null,null,{"$f":"U142","v":"    Selection.Borders(xlEdgeLeft).LineStyle = xlNone"},null,"=","Aq",141,null,"=Aq141"]
[null,null,null,null,null,null,null,{"$f":"V142","v":"    Selection.Borders(xlEdgeTop).LineStyle = xlNone"},null,"=","i",{"$f":"L255+1","v":142},null,"=i142"]
[null,null,null,null,null,null,null,{"$f":"W142","v":"    Selection.Borders(xlEdgeBottom).LineStyle = xlNone"},null,"=","j",{"$f":"L256+1","v":142},null,"=j142"]
[null,null,null,null,null,null,null,{"$f":"X142","v":"    Selection.Borders(xlEdgeRight).LineStyle = xlNone"},null,"=","k",142,null,"=k142"]
[null,null,null,null,null,null,null,{"$f":"Y142","v":"    Selection.Borders(xlInsideVertical).LineStyle = xlNone"},null,"=","l",142,null,"=l142"]
[null,null,null,null,null,null,null,{"$f":"Z142","v":"    Selection.Borders(xlInsideHorizontal).LineStyle = xlNone"},null,"=","m",142,null,"=m142"]
[null,null,null,null,null,null,null,{"$f":"AA142","v":"Range(\"P119\").Select: Etat = 1"},null,"=","n",142,null,"=n142"]
[null,null,null,null,null,null,null,{"$f":"AB142","v":"Else"},null,"=","o",142,null,"=o142"]
[null,null,null,null,null,null,null,{"$f":"AC142","v":"'"},null,"=","p",142,null,"=p142"]
[null,null,null,null,null,null,null,{"$f":"AD142","v":"' SolutionOui15 Macro"},null,"=","q",142,null,"=q142"]
[null,null,null,null,null,null,null,{"$f":"AE142","v":"'"},null,"=","r",142,null,"=r142"]
[null,null,null,null,null,null,null,{"$f":"AF142","v":""},null,"=","s",142,null,"=s142"]
[null,null,null,null,null,null,null,{"$f":"AG142","v":"'"},null,"=","t",142,null,"=t142"]
[null,null,null,null,null,null,null,{"$f":"AH142","v":"Range(\"P119:AB123\").Select"},null,"=","u",142,null,"=u142"]
[null,null,null,null,null,null,null,{"$f":"AI142","v":"    Selection.NumberFormat = \"General\""},null,"=","v",142,null,"=v142"]
[null,null,null,null,null,null,null,{"$f":"AJ142","v":"Range(\"B119:N123\").Select"},null,"=","w",142,null,"=w142"]
[null,null,null,null,null,null,null,{"$f":"AK142","v":"    Selection.Copy"},null,"=","x",142,null,"=x142"]
[null,null,null,null,null,null,null,{"$f":"AL142","v":"Range(\"P119:AB123\").Select"},null,"=","y",142,null,"=y142"]
[null,null,null,null,null,null,null,{"$f":"AM142","v":"    Selection.PasteSpecial Paste:=xlPasteFormats, Operation:=xlNone, _"},null,"=","z",142,null,"=z142"]
[null,null,null,null,null,null,null,{"$f":"AN142","v":"        SkipBlanks:=False, Transpose:=False"},null,"=","Aa",142,null,"=Aa142"]
[null,null,null,null,null,null,null,{"$f":"AO142","v":"    Application.CutCopyMode = False"},null,"=","Ab",142,null,"=Ab142"]
[null,null,null,null,null,null,null,{"$f":"AP142","v":"Range(\"P119\").Select: Etat = 0"},null,"=","Ac",142,null,"=Ac142"]
[null,null,null,null,null,null,null,{"$f":"AQ142","v":"End If"},null,"=","Ad",142,null,"=Ad142"]
[null,null,null,null,null,null,null,{"$f":"AR142","v":"End Sub"},null,"=","Ae",142,null,"=Ae142"]
[null,null,null,null,null,null,null,{"$f":"J143","v":"Sub Solution16()"},null,"=","Af",142,null,"=Af142"]
[null,null,null,null,null,null,null,{"$f":"K143","v":"If Etat = 0 Then"},null,"=","Ag",142,null,"=Ag142"]
[null,null,null,null,null,null,null,{"$f":"L143","v":"'"},null,"=","Ah",142,null,"=Ah142"]
[null,null,null,null,null,null,null,{"$f":"M143","v":"' SolutionNon16 Macro"},null,"=","Ai",142,null,"=Ai142"]
[null,null,null,null,null,null,null,{"$f":"N143","v":"'"},null,"=","Aj",142,null,"=Aj142"]
[null,null,null,null,null,null,null,{"$f":"O143","v":""},null,"=","Ak",142,null,"=Ak142"]
[null,null,null,null,null,null,null,{"$f":"P143","v":"'"},null,"=","Al",142,null,"=Al142"]
[null,null,null,null,null,null,null,{"$f":"Q143","v":"Range(\"P144:AB148\").Select"},null,"=","Am",142,null,"=Am142"]
[null,null,null,null,null,null,null,{"$f":"R143","v":"    Selection.NumberFormat = \";;;\""},null,"=","An",142,null,"=An142"]
[null,null,null,null,null,null,null,{"$f":"S143","v":"    Selection.Borders(xlDiagonalDown).LineStyle = xlNone"},null,"=","Ao",142,null,"=Ao142"]
[null,null,null,null,null,null,null,{"$f":"T143","v":"    Selection.Borders(xlDiagonalUp).LineStyle = xlNone"},null,"=","Ap",142,null,"=Ap142"]
[null,null,null,null,null,null,null,{"$f":"U143","v":"    Selection.Borders(xlEdgeLeft).LineStyle = xlNone"},null,"=","Aq",142,null,"=Aq142"]
[null,null,null,null,null,null,null,{"$f":"V143","v":"    Selection.Borders(xlEdgeTop).LineStyle = xlNone"},null,"=","i",{"$f":"L290+1","v":143},null,"=i143"]
[null,null,null,null,null,null,null,{"$f":"W143","v":"    Selection.Borders(xlEdgeBottom).LineStyle = xlNone"},null,"=","j",143,null,"=j143"]
[null,null,null,null,null,null,null,{"$f":"X143","v":"    Selection.Borders(xlEdgeRight).LineStyle = xlNone"},null,"=","k",143,null,"=k143"]
[null,null,null,null,null,null,null,{"$f":"Y143","v":"    Selection.Borders(xlInsideVertical).LineStyle = xlNone"},null,"=","l",143,null,"=l143"]
[null,null,null,null,null,null,null,{"$f":"Z143","v":"    Selection.Borders(xlInsideHorizontal).LineStyle = xlNone"},null,"=","m",143,null,"=m143"]
[null,null,null,null,null,null,null,{"$f":"AA143","v":"Range(\"P144\").Select: Etat = 1"},null,"=","n",143,null,"=n143"]
[null,null,null,null,null,null,null,{"$f":"AB143","v":"Else"},null,"=","o",143,null,"=o143"]
[null,null,null,null,null,null,null,{"$f":"AC143","v":"'"},null,"=","p",143,null,"=p143"]
[null,null,null,null,null,null,null,{"$f":"AD143","v":"' SolutionOui16 Macro"},null,"=","q",143,null,"=q143"]
[null,null,null,null,null,null,null,{"$f":"AE143","v":"'"},null,"=","r",143,null,"=r143"]
[null,null,null,null,null,null,null,{"$f":"AF143","v":""},null,"=","s",143,null,"=s143"]
[null,null,null,null,null,null,null,{"$f":"AG143","v":"'"},null,"=","t",143,null,"=t143"]
[null,null,null,null,null,null,null,{"$f":"AH143","v":"Range(\"P144:AB148\").Select"},null,"=","u",143,null,"=u143"]
[null,null,null,null,null,null,null,{"$f":"AI143","v":"    Selection.NumberFormat = \"General\""},null,"=","v",143,null,"=v143"]
[null,null,null,null,null,null,null,{"$f":"AJ143","v":"Range(\"B144:N148\").Select"},null,"=","w",143,null,"=w143"]
[null,null,null,null,null,null,null,{"$f":"AK143","v":"    Selection.Copy"},null,"=","x",143,null,"=x143"]
[null,null,null,null,null,null,null,{"$f":"AL143","v":"Range(\"P144:AB148\").Select"},null,"=","y",143,null,"=y143"]
[null,null,null,null,null,null,null,{"$f":"AM143","v":"    Selection.PasteSpecial Paste:=xlPasteFormats, Operation:=xlNone, _"},null,"=","z",143,null,"=z143"]
[null,null,null,null,null,null,null,{"$f":"AN143","v":"        SkipBlanks:=False, Transpose:=False"},null,"=","Aa",143,null,{"$f":"J343&K343&L343","v":"=Aa143"}]
[null,null,null,null,null,null,null,{"$f":"AO143","v":"    Application.CutCopyMode = False"},null,"=","Ab",143,null,"=Ab143"]
[null,null,null,null,null,null,null,{"$f":"AP143","v":"Range(\"P144\").Select: Etat = 0"},null,"=","Ac",143,null,"=Ac143"]
[null,null,null,null,null,null,null,{"$f":"AQ143","v":"End If"},null,"=","Ad",143,null,"=Ad143"]
[null,null,null,null,null,null,null,{"$f":"AR143","v":"End Sub"},null,"=","Ae",143,null,"=Ae143"]
[null,null,null,null,null,null,null,{"$f":"J144","v":"Sub Solution17()"},null,"=","Af",143,null,"=Af143"]
[null,null,null,null,null,null,null,{"$f":"K144","v":"If Etat = 0 Then"},null,"=","Ag",143,null,"=Ag143"]
[null,null,null,null,null,null,null,{"$f":"L144","v":"'"},null,"=","Ah",143,null,"=Ah143"]
[null,null,null,null,null,null,null,{"$f":"M144","v":"' SolutionNon17 Macro"},null,"=","Ai",143,null,"=Ai143"]
[null,null,null,null,null,null,null,{"$f":"N144","v":"'"},null,"=","Aj",143,null,"=Aj143"]
[null,null,null,null,null,null,null,{"$f":"O144","v":""},null,"=","Ak",143,null,"=Ak143"]
[null,null,null,null,null,null,null,{"$f":"P144","v":"'"},null,"=","Al",143,null,"=Al143"]
[null,null,null,null,null,null,null,{"$f":"Q144","v":"Range(\"P169:AB173\").Select"},null,"=","Am",{"$f":"L320+1","v":143},null,"=Am143"]
[null,null,null,null,null,null,null,{"$f":"R144","v":"    Selection.NumberFormat = \";;;\""},null,"=","An",143,null,"=An143"]
[null,null,null,null,null,null,null,{"$f":"S144","v":"    Selection.Borders(xlDiagonalDown).LineStyle = xlNone"},null,"=","Ao",143,null,"=Ao143"]
[null,null,null,null,null,null,null,{"$f":"T144","v":"    Selection.Borders(xlDiagonalUp).LineStyle = xlNone"},null,"=","Ap",143,null,"=Ap143"]
[null,null,null,null,null,null,null,{"$f":"U144","v":"    Selection.Borders(xlEdgeLeft).LineStyle = xlNone"},null,"=","Aq",143,null,"=Aq143"]
[null,null,null,null,null,null,null,{"$f":"V144","v":"    Selection.Borders(xlEdgeTop).LineStyle = xlNone"},null,"=","i",{"$f":"L325+1","v":144},null,"=i144"]
[null,null,null,null,null,null,null,{"$f":"W144","v":"    Selection.Borders(xlEdgeBottom).LineStyle = xlNone"},null,"=","j",{"$f":"L326+1","v":144},null,"=j144"]
[null,null,null,null,null,null,null,{"$f":"X144","v":"    Selection.Borders(xlEdgeRight).LineStyle = xlNone"},null,"=","k",144,null,"=k144"]
[null,null,null,null,null,null,null,{"$f":"Y144","v":"    Selection.Borders(xlInsideVertical).LineStyle = xlNone"},null,"=","l",144,null,"=l144"]
[null,null,null,null,null,null,null,{"$f":"Z144","v":"    Selection.Borders(xlInsideHorizontal).LineStyle = xlNone"},null,"=","m",144,null,"=m144"]
[null,null,null,null,null,null,null,{"$f":"AA144","v":"Range(\"P169\").Select: Etat = 1"},null,"=","n",144,null,"=n144"]
[null,null,null,null,null,null,null,{"$f":"AB144","v":"Else"},null,"=","o",144,null,"=o144"]
[null,null,null,null,null,null,null,{"$f":"AC144","v":"'"},null,"=","p",144,null,"=p144"]
[null,null,null,null,null,null,null,{"$f":"AD144","v":"' SolutionOui17 Macro"},null,"=","q",144,null,"=q144"]
[null,null,null,null,null,null,null,{"$f":"AE144","v":"'"},null,"=","r",144,null,"=r144"]
[null,null,null,null,null,null,null,{"$f":"AF144","v":""},null,"=","s",144,null,"=s144"]
[null,null,null,null,null,null,null,{"$f":"AG144","v":"'"},null,"=","t",144,null,"=t144"]
[null,null,null,null,null,null,null,{"$f":"AH144","v":"Range(\"P169:AB173\").Select"},null,"=","u",144,null,"=u144"]
[null,null,null,null,null,null,null,{"$f":"AI144","v":"    Selection.NumberFormat = \"General\""},null,"=","v",144,null,"=v144"]
[null,null,null,null,null,null,null,{"$f":"AJ144","v":"Range(\"B169:N173\").Select"},null,"=","w",144,null,"=w144"]
[null,null,null,null,null,null,null,{"$f":"AK144","v":"    Selection.Copy"},null,"=","x",144,null,"=x144"]
[null,null,null,null,null,null,null,{"$f":"AL144","v":"Range(\"P169:AB173\").Select"},null,"=","y",144,null,"=y144"]
[null,null,null,null,null,null,null,{"$f":"AM144","v":"    Selection.PasteSpecial Paste:=xlPasteFormats, Operation:=xlNone, _"},null,"=","z",144,null,"=z144"]
[null,null,null,null,null,null,null,{"$f":"AN144","v":"        SkipBlanks:=False, Transpose:=False"},null,"=","Aa",144,null,"=Aa144"]
[null,null,null,null,null,null,null,{"$f":"AO144","v":"    Application.CutCopyMode = False"},null,"=","Ab",144,null,"=Ab144"]
[null,null,null,null,null,null,null,{"$f":"AP144","v":"Range(\"P169\").Select: Etat = 0"},null,"=","Ac",144,null,"=Ac144"]
[null,null,null,null,null,null,null,{"$f":"AQ144","v":"End If"},null,"=","Ad",144,null,"=Ad144"]
[null,null,null,null,null,null,null,{"$f":"AR144","v":"End Sub"},null,"=","Ae",144,null,"=Ae144"]
[null,null,null,null,null,null,null,{"$f":"J145","v":"Sub Solution18()"},null,"=","Af",144,null,"=Af144"]
[null,null,null,null,null,null,null,{"$f":"K145","v":"If Etat = 0 Then"},null,"=","Ag",144,null,"=Ag144"]
[null,null,null,null,null,null,null,{"$f":"L145","v":"'"},null,"=","Ah",144,null,"=Ah144"]
[null,null,null,null,null,null,null,{"$f":"M145","v":"' SolutionNon18 Macro"},null,"=","Ai",144,null,"=Ai144"]
[null,null,null,null,null,null,null,{"$f":"N145","v":"'"},null,"=","Aj",144,null,"=Aj144"]
[null,null,null,null,null,null,null,{"$f":"O145","v":""},null,"=","Ak",144,null,"=Ak144"]
[null,null,null,null,null,null,null,{"$f":"P145","v":"'"},null,"=","Al",144,null,"=Al144"]
[null,null,null,null,null,null,null,{"$f":"Q145","v":"Range(\"P194:AB198\").Select"},null,"=","Am",144,null,"=Am144"]
[null,null,null,null,null,null,null,{"$f":"R145","v":"    Selection.NumberFormat = \";;;\""},null,"=","An",144,null,"=An144"]
[null,null,null,null,null,null,null,{"$f":"S145","v":"    Selection.Borders(xlDiagonalDown).LineStyle = xlNone"},null,"=","Ao",144,null,"=Ao144"]
[null,null,null,null,null,null,null,{"$f":"T145","v":"    Selection.Borders(xlDiagonalUp).LineStyle = xlNone"},null,"=","Ap",144,null,"=Ap144"]
[null,null,null,null,null,null,null,{"$f":"U145","v":"    Selection.Borders(xlEdgeLeft).LineStyle = xlNone"},null,"=","Aq",144,null,"=Aq144"]
[null,null,null,null,null,null,null,{"$f":"V145","v":"    Selection.Borders(xlEdgeTop).LineStyle = xlNone"},null,"=","i",{"$f":"L360+1","v":145},null,"=i145"]
[null,null,null,null,null,null,null,{"$f":"W145","v":"    Selection.Borders(xlEdgeBottom).LineStyle = xlNone"},null,"=","j",{"$f":"L361+1","v":145},null,"=j145"]
[null,null,null,null,null,null,null,{"$f":"X145","v":"    Selection.Borders(xlEdgeRight).LineStyle = xlNone"},null,"=","k",145,null,"=k145"]
[null,null,null,null,null,null,null,{"$f":"Y145","v":"    Selection.Borders(xlInsideVertical).LineStyle = xlNone"},null,"=","l",145,null,"=l145"]
[null,null,null,null,null,null,null,{"$f":"Z145","v":"    Selection.Borders(xlInsideHorizontal).LineStyle = xlNone"},null,"=","m",145,null,"=m145"]
[null,null,null,null,null,null,null,{"$f":"AA145","v":"Range(\"P194\").Select: Etat = 1"},null,"=","n",145,null,"=n145"]
[null,null,null,null,null,null,null,{"$f":"AB145","v":"Else"},null,"=","o",145,null,"=o145"]
[null,null,null,null,null,null,null,{"$f":"AC145","v":"'"},null,"=","p",145,null,"=p145"]
[null,null,null,null,null,null,null,{"$f":"AD145","v":"' SolutionOui18 Macro"},null,"=","q",145,null,"=q145"]
[null,null,null,null,null,null,null,{"$f":"AE145","v":"'"},null,"=","r",145,null,"=r145"]
[null,null,null,null,null,null,null,{"$f":"AF145","v":""},null,"=","s",145,null,"=s145"]
[null,null,null,null,null,null,null,{"$f":"AG145","v":"'"},null,"=","t",145,null,"=t145"]
[null,null,null,null,null,null,null,{"$f":"AH145","v":"Range(\"P194:AB198\").Select"},null,"=","u",145,null,{"$f":"J407&K407&L407","v":"=u145"}]
[null,null,null,null,null,null,null,{"$f":"AI145","v":"    Selection.NumberFormat = \"General\""},null,"=","v",145,null,"=v145"]
[null,null,null,null,null,null,null,{"$f":"AJ145","v":"Range(\"B194:N198\").Select"},null,"=","w",145,null,"=w145"]
[null,null,null,null,null,null,null,{"$f":"AK145","v":"    Selection.Copy"},null,"=","x",145,null,"=x145"]
[null,null,null,null,null,null,null,{"$f":"AL145","v":"Range(\"P194:AB198\").Select"},null,"=","y",145,null,"=y145"]
[null,null,null,null,null,null,null,{"$f":"AM145","v":"    Selection.PasteSpecial Paste:=xlPasteFormats, Operation:=xlNone, _"},null,"=","z",145,null,"=z145"]
[null,null,null,null,null,null,null,{"$f":"AN145","v":"        SkipBlanks:=False, Transpose:=False"},null,"=","Aa",145,null,"=Aa145"]
[null,null,null,null,null,null,null,{"$f":"AO145","v":"    Application.CutCopyMode = False"},null,"=","Ab",145,null,"=Ab145"]
[null,null,null,null,null,null,null,{"$f":"AP145","v":"Range(\"P194\").Select: Etat = 0"},null,"=","Ac",145,null,"=Ac145"]
[null,null,null,null,null,null,null,{"$f":"AQ145","v":"End If"},null,"=","Ad",145,null,"=Ad145"]
[null,null,null,null,null,null,null,{"$f":"AR145","v":"End Sub"},null,"=","Ae",145,null,"=Ae145"]
[null,null,null,null,null,null,null,{"$f":"J146","v":"Sub Solution19()"},null,"=","Af",145,null,"=Af145"]
[null,null,null,null,null,null,null,{"$f":"K146","v":"If Etat = 0 Then"},null,"=","Ag",145,null,"=Ag145"]
[null,null,null,null,null,null,null,{"$f":"L146","v":"'"},null,"=","Ah",145,null,"=Ah145"]
[null,null,null,null,null,null,null,{"$f":"M146","v":"' SolutionNon19 Macro"},null,"=","Ai",145,null,"=Ai145"]
[null,null,null,null,null,null,null,{"$f":"N146","v":"'"},null,"=","Aj",145,null,"=Aj145"]
[null,null,null,null,null,null,null,{"$f":"O146","v":""},null,"=","Ak",145,null,"=Ak145"]
[null,null,null,null,null,null,null,{"$f":"P146","v":"'"},null,"=","Al",145,null,"=Al145"]
[null,null,null,null,null,null,null,{"$f":"Q146","v":"Range(\"P219:AB223\").Select"},null,"=","Am",145,null,"=Am145"]
[null,null,null,null,null,null,null,{"$f":"R146","v":"    Selection.NumberFormat = \";;;\""},null,"=","An",145,null,"=An145"]
[null,null,null,null,null,null,null,{"$f":"S146","v":"    Selection.Borders(xlDiagonalDown).LineStyle = xlNone"},null,"=","Ao",145,null,"=Ao145"]
[null,null,null,null,null,null,null,{"$f":"T146","v":"    Selection.Borders(xlDiagonalUp).LineStyle = xlNone"},null,"=","Ap",145,null,"=Ap145"]
[null,null,null,null,null,null,null,{"$f":"U146","v":"    Selection.Borders(xlEdgeLeft).LineStyle = xlNone"},null,"=","Aq",145,null,"=Aq145"]
[null,null,null,null,null,null,null,{"$f":"V146","v":"    Selection.Borders(xlEdgeTop).LineStyle = xlNone"},null,"=","i",{"$f":"L395+1","v":146},null,"=i146"]
[null,null,null,null,null,null,null,{"$f":"W146","v":"    Selection.Borders(xlEdgeBottom).LineStyle = xlNone"},null,"=","j",146,null,"=j146"]
[null,null,null,null,null,null,null,{"$f":"X146","v":"    Selection.Borders(xlEdgeRight).LineStyle = xlNone"},null,"=","k",146,null,"=k146"]
[null,null,null,null,null,null,null,{"$f":"Y146","v":"    Selection.Borders(xlInsideVertical).LineStyle = xlNone"},null,"=","l",146,null,"=l146"]
[null,null,null,null,null,null,null,{"$f":"Z146","v":"    Selection.Borders(xlInsideHorizontal).LineStyle = xlNone"},null,"=","m",146,null,"=m146"]
[null,null,null,null,null,null,null,{"$f":"AA146","v":"Range(\"P219\").Select: Etat = 1"},null,"=","n",146,null,"=n146"]
[null,null,null,null,null,null,null,{"$f":"AB146","v":"Else"},null,"=","o",146,null,"=o146"]
[null,null,null,null,null,null,null,{"$f":"AC146","v":"'"},null,"=","p",146,null,"=p146"]
[null,null,null,null,null,null,null,{"$f":"AD146","v":"' SolutionOui19 Macro"},null,"=","q",146,null,"=q146"]
[null,null,null,null,null,null,null,{"$f":"AE146","v":"'"},null,"=","r",146,null,"=r146"]
[null,null,null,null,null,null,null,{"$f":"AF146","v":""},null,"=","s",146,null,"=s146"]
[null,null,null,null,null,null,null,{"$f":"AG146","v":"'"},null,"=","t",146,null,"=t146"]
[null,null,null,null,null,null,null,{"$f":"AH146","v":"Range(\"P219:AB223\").Select"},null,"=","u",146,null,"=u146"]
[null,null,null,null,null,null,null,{"$f":"AI146","v":"    Selection.NumberFormat = \"General\""},null,"=","v",146,null,"=v146"]
[null,null,null,null,null,null,null,{"$f":"AJ146","v":"Range(\"B219:N223\").Select"},null,"=","w",146,null,"=w146"]
[null,null,null,null,null,null,null,{"$f":"AK146","v":"    Selection.Copy"},null,"=","x",146,null,"=x146"]
[null,null,null,null,null,null,null,{"$f":"AL146","v":"Range(\"P219:AB223\").Select"},null,"=","y",146,null,"=y146"]
[null,null,null,null,null,null,null,{"$f":"AM146","v":"    Selection.PasteSpecial Paste:=xlPasteFormats, Operation:=xlNone, _"},null,"=","z",146,null,"=z146"]
[null,null,null,null,null,null,null,{"$f":"AN146","v":"        SkipBlanks:=False, Transpose:=False"},null,"=","Aa",146,null,"=Aa146"]
[null,null,null,null,null,null,null,{"$f":"AO146","v":"    Application.CutCopyMode = False"},null,"=","Ab",146,null,"=Ab146"]
[null,null,null,null,null,null,null,{"$f":"AP146","v":"Range(\"P219\").Select: Etat = 0"},null,"=","Ac",146,null,"=Ac146"]
[null,null,null,null,null,null,null,{"$f":"AQ146","v":"End If"},null,"=","Ad",146,null,"=Ad146"]
[null,null,null,null,null,null,null,{"$f":"AR146","v":"End Sub"},null,"=","Ae",146,null,"=Ae146"]
[null,null,null,null,null,null,null,{"$f":"J147","v":"Sub Solution20()"},null,"=","Af",146,null,"=Af146"]
[null,null,null,null,null,null,null,{"$f":"K147","v":"If Etat = 0 Then"},null,"=","Ag",146,null,"=Ag146"]
[null,null,null,null,null,null,null,{"$f":"L147","v":"'"},null,"=","Ah",146,null,"=Ah146"]
[null,null,null,null,null,null,null,{"$f":"M147","v":"' SolutionNon20 Macro"},null,"=","Ai",146,null,"=Ai146"]
[null,null,null,null,null,null,null,{"$f":"N147","v":"'"},null,"=","Aj",146,null,"=Aj146"]
[null,null,null,null,null,null,null,{"$f":"O147","v":""},null,"=","Ak",146,null,"=Ak146"]
[null,null,null,null,null,null,null,{"$f":"P147","v":"'"},null,"=","Al",146,null,"=Al146"]
[null,null,null,null,null,null,null,{"$f":"Q147","v":"Range(\"P244:AB248\").Select"},null,"=","Am",{"$f":"L425+1","v":146},null,"=Am146"]
[null,null,null,null,null,null,null,{"$f":"R147","v":"    Selection.NumberFormat = \";;;\""},null,"=","An",146,null,"=An146"]
[null,null,null,null,null,null,null,{"$f":"S147","v":"    Selection.Borders(xlDiagonalDown).LineStyle = xlNone"},null,"=","Ao",146,null,"=Ao146"]
[null,null,null,null,null,null,null,{"$f":"T147","v":"    Selection.Borders(xlDiagonalUp).LineStyle = xlNone"},null,"=","Ap",146,null,"=Ap146"]
[null,null,null,null,null,null,null,{"$f":"U147","v":"    Selection.Borders(xlEdgeLeft).LineStyle = xlNone"},null,"=","Aq",146,null,"=Aq146"]
[null,null,null,null,null,null,null,{"$f":"V147","v":"    Selection.Borders(xlEdgeTop).LineStyle = xlNone"},null,"=","i",{"$f":"L430+1","v":147},null,"=i147"]
[null,null,null,null,null,null,null,{"$f":"W147","v":"    Selection.Borders(xlEdgeBottom).LineStyle = xlNone"},null,"=","j",{"$f":"L431+1","v":147},null,"=j147"]
[null,null,null,null,null,null,null,{"$f":"X147","v":"    Selection.Borders(xlEdgeRight).LineStyle = xlNone"},null,"=","k",147,null,"=k147"]
[null,null,null,null,null,null,null,{"$f":"Y147","v":"    Selection.Borders(xlInsideVertical).LineStyle = xlNone"},null,"=","l",147,null,"=l147"]
[null,null,null,null,null,null,null,{"$f":"Z147","v":"    Selection.Borders(xlInsideHorizontal).LineStyle = xlNone"},null,"=","m",147,null,"=m147"]
[null,null,null,null,null,null,null,{"$f":"AA147","v":"Range(\"P244\").Select: Etat = 1"},null,"=","n",147,null,"=n147"]
[null,null,null,null,null,null,null,{"$f":"AB147","v":"Else"},null,"=","o",147,null,{"$f":"J471&K471&L471","v":"=o147"}]
[null,null,null,null,null,null,null,{"$f":"AC147","v":"'"},null,"=","p",147,null,"=p147"]
[null,null,null,null,null,null,null,{"$f":"AD147","v":"' SolutionOui20 Macro"},null,"=","q",147,null,"=q147"]
[null,null,null,null,null,null,null,{"$f":"AE147","v":"'"},null,"=","r",147,null,"=r147"]
[null,null,null,null,null,null,null,{"$f":"AF147","v":""},null,"=","s",147,null,"=s147"]
[null,null,null,null,null,null,null,{"$f":"AG147","v":"'"},null,"=","t",147,null,"=t147"]
[null,null,null,null,null,null,null,{"$f":"AH147","v":"Range(\"P244:AB248\").Select"},null,"=","u",147,null,"=u147"]
[null,null,null,null,null,null,null,{"$f":"AI147","v":"    Selection.NumberFormat = \"General\""},null,"=","v",147,null,"=v147"]
[null,null,null,null,null,null,null,{"$f":"AJ147","v":"Range(\"B244:N248\").Select"},null,"=","w",147,null,"=w147"]
[null,null,null,null,null,null,null,{"$f":"AK147","v":"    Selection.Copy"},null,"=","x",147,null,"=x147"]
[null,null,null,null,null,null,null,{"$f":"AL147","v":"Range(\"P244:AB248\").Select"},null,"=","y",147,null,"=y147"]
[null,null,null,null,null,null,null,{"$f":"AM147","v":"    Selection.PasteSpecial Paste:=xlPasteFormats, Operation:=xlNone, _"},null,"=","z",147,null,"=z147"]
[null,null,null,null,null,null,null,{"$f":"AN147","v":"        SkipBlanks:=False, Transpose:=False"},null,"=","Aa",147,null,"=Aa147"]
[null,null,null,null,null,null,null,{"$f":"AO147","v":"    Application.CutCopyMode = False"},null,"=","Ab",147,null,"=Ab147"]
[null,null,null,null,null,null,null,{"$f":"AP147","v":"Range(\"P244\").Select: Etat = 0"},null,"=","Ac",147,null,"=Ac147"]
[null,null,null,null,null,null,null,{"$f":"AQ147","v":"End If"},null,"=","Ad",147,null,"=Ad147"]
[null,null,null,null,null,null,null,{"$f":"AR147","v":"End Sub"},null,"=","Ae",147,null,"=Ae147"]
[null,null,null,null,null,null,null,{"$f":"J148","v":0},null,"=","Af",147,null,"=Af147"]
[null,null,null,null,null,null,null,{"$f":"K148","v":0},null,"=","Ag",147,null,"=Ag147"]
[null,null,null,null,null,null,null,{"$f":"L148","v":0},null,"=","Ah",147,null,"=Ah147"]
[null,null,null,null,null,null,null,{"$f":"M148","v":0},null,"=","Ai",147,null,"=Ai147"]
[null,null,null,null,null,null,null,{"$f":"N148","v":0},null,"=","Aj",147,null,"=Aj147"]
[null,null,null,null,null,null,null,{"$f":"O148","v":0},null,"=","Ak",147,null,"=Ak147"]
[null,null,null,null,null,null,null,{"$f":"P148","v":0},null,"=","Al",147,null,"=Al147"]
[null,null,null,null,null,null,null,{"$f":"Q148","v":0},null,"=","Am",147,null,"=Am147"]
[null,null,null,null,null,null,null,{"$f":"R148","v":0},null,"=","An",147,null,"=An147"]
[null,null,null,null,null,null,null,{"$f":"S148","v":0},null,"=","Ao",147,null,"=Ao147"]
[null,null,null,null,null,null,null,{"$f":"T148","v":0},null,"=","Ap",147,null,"=Ap147"]
[null,null,null,null,null,null,null,{"$f":"U148","v":0},null,"=","Aq",147,null,"=Aq147"]
[null,null,null,null,null,null,null,{"$f":"V148","v":0},null,"=","i",{"$f":"L465+1","v":148},null,"=i148"]
[null,null,null,null,null,null,null,{"$f":"W148","v":0},null,"=","j",{"$f":"L466+1","v":148},null,"=j148"]
[null,null,null,null,null,null,null,{"$f":"X148","v":0},null,"=","k",148,null,"=k148"]
[null,null,null,null,null,null,null,{"$f":"Y148","v":0},null,"=","l",148,null,"=l148"]
[null,null,null,null,null,null,null,{"$f":"Z148","v":0},null,"=","m",148,null,"=m148"]
[null,null,null,null,null,null,null,{"$f":"AA148","v":0},null,"=","n",148,null,"=n148"]
[null,null,null,null,null,null,null,{"$f":"AB148","v":0},null,"=","o",148,null,"=o148"]
[null,null,null,null,null,null,null,{"$f":"AC148","v":0},null,"=","p",148,null,"=p148"]
[null,null,null,null,null,null,null,{"$f":"AD148","v":0},null,"=","q",148,null,"=q148"]
[null,null,null,null,null,null,null,{"$f":"AE148","v":0},null,"=","r",148,null,"=r148"]
[null,null,null,null,null,null,null,{"$f":"AF148","v":0},null,"=","s",148,null,"=s148"]
[null,null,null,null,null,null,null,{"$f":"AG148","v":0},null,"=","t",148,null,"=t148"]
[null,null,null,null,null,null,null,{"$f":"AH148","v":0},null,"=","u",148,null,"=u148"]
[null,null,null,null,null,null,null,{"$f":"AI148","v":0},null,"=","v",148,null,"=v148"]
[null,null,null,null,null,null,null,{"$f":"AJ148","v":0},null,"=","w",148,null,"=w148"]
[null,null,null,null,null,null,null,{"$f":"AK148","v":0},null,"=","x",148,null,"=x148"]
[null,null,null,null,null,null,null,{"$f":"AL148","v":0},null,"=","y",148,null,"=y148"]
[null,null,null,null,null,null,null,{"$f":"AM148","v":0},null,"=","z",148,null,"=z148"]
[null,null,null,null,null,null,null,{"$f":"AN148","v":0},null,"=","Aa",148,null,"=Aa148"]
[null,null,null,null,null,null,null,{"$f":"AO148","v":0},null,"=","Ab",148,null,"=Ab148"]
[null,null,null,null,null,null,null,{"$f":"AP148","v":0},null,"=","Ac",148,null,"=Ac148"]
[null,null,null,null,null,null,null,{"$f":"AQ148","v":0},null,"=","Ad",148,null,"=Ad148"]
[null,null,null,null,null,null,null,{"$f":"AR148","v":0},null,"=","Ae",148,null,"=Ae148"]
[null,null,null,null,null,null,null,null,null,"=","Af",148,null,"=Af148"]
[null,null,null,null,null,null,null,null,null,"=","Ag",148,null,"=Ag148"]
[null,null,null,null,null,null,null,null,null,"=","Ah",148,null,"=Ah148"]
[null,null,null,null,null,null,null,null,null,"=","Ai",148,null,"=Ai148"]
[null,null,null,null,null,null,null,null,null,"=","Aj",148,null,"=Aj148"]
[null,null,null,null,null,null,null,null,null,"=","Ak",148,null,"=Ak148"]
[null,null,null,null,null,null,null,null,null,"=","Al",148,null,"=Al148"]
[null,null,null,null,null,null,null,null,null,"=","Am",148,null,"=Am148"]
[null,null,null,null,null,null,null,null,null,"=","An",148,null,"=An148"]
[null,null,null,null,null,null,null,null,null,"=","Ao",148,null,"=Ao148"]
[null,null,null,null,null,null,null,null,null,"=","Ap",148,null,"=Ap148"]
[null,null,null,null,null,null,null,null,null,"=","Aq",148,null,"=Aq148"]
[null,null,null,null,null,null,null,null,null,"=","i",{"$f":"L500+1","v":149}]
[null,null,null,null,null,null,null,null,null,"=","j",149]
[null,null,null,null,null,null,null,null,null,"=","k",149]
[null,null,null,null,null,null,null,null,null,"=","l",149]
[null,null,null,null,null,null,null,null,null,"=","m",149]
[null,null,null,null,null,null,null,null,null,"=","n",149]
[null,null,null,null,null,null,null,null,null,"=","o",149]
[null,null,null,null,null,null,null,null,null,"=","p",149]
[null,null,null,null,null,null,null,null,null,"=","q",149]
[null,null,null,null,null,null,null,null,null,"=","r",149]
[null,null,null,null,null,null,null,null,null,"=","s",149]
[null,null,null,null,null,null,null,null,null,"=","t",149]
[null,null,null,null,null,null,null,null,null,"=","u",149]
[null,null,null,null,null,null,null,null,null,"=","v",149]
[null,null,null,null,null,null,null,null,null,"=","w",149]
[null,null,null,null,null,null,null,null,null,"=","x",149]
[null,null,null,null,null,null,null,null,null,"=","y",149]
[null,null,null,null,null,null,null,null,null,"=","z",149]
[null,null,null,null,null,null,null,null,null,"=","Aa",149]
[null,null,null,null,null,null,null,null,null,"=","Ab",149]
[null,null,null,null,null,null,null,null,null,"=","Ac",149]
[null,null,null,null,null,null,null,null,null,"=","Ad",149]
[null,null,null,null,null,null,null,null,null,"=","Ae",149]
[null,null,null,null,null,null,null,null,null,"=","Af",149]
[null,null,null,null,null,null,null,null,null,"=","Ag",149]
[null,null,null,null,null,null,null,null,null,"=","Ah",149]
[null,null,null,null,null,null,null,null,null,"=","Ai",149]
[null,null,null,null,null,null,null,null,null,"=","Aj",149]
[null,null,null,null,null,null,null,null,null,"=","Ak",149]
[null,null,null,null,null,null,null,null,null,"=","Al",149]
[null,null,null,null,null,null,null,null,null,"=","Am",{"$f":"L530+1","v":149}]
[null,null,null,null,null,null,null,null,null,"=","An",149]
[null,null,null,null,null,null,null,null,null,"=","Ao",149]
[null,null,null,null,null,null,null,null,null,"=","Ap",149]
[null,null,null,null,null,null,null,null,null,"=","Aq",149]
[null,null,null,null,null,null,null,null,null,"=","i",{"$f":"L535+1","v":150}]
[null,null,null,null,null,null,null,null,null,"=","j",{"$f":"L536+1","v":150}]
[null,null,null,null,null,null,null,null,null,"=","k",150]
[null,null,null,null,null,null,null,null,null,"=","l",150]
[null,null,null,null,null,null,null,null,null,"=","m",150]
[null,null,null,null,null,null,null,null,null,"=","n",150]
[null,null,null,null,null,null,null,null,null,"=","o",150]
[null,null,null,null,null,null,null,null,null,"=","p",150]
[null,null,null,null,null,null,null,null,null,"=","q",150]
[null,null,null,null,null,null,null,null,null,"=","r",150]
[null,null,null,null,null,null,null,null,null,"=","s",150]
[null,null,null,null,null,null,null,null,null,"=","t",150]
[null,null,null,null,null,null,null,null,null,"=","u",150]
[null,null,null,null,null,null,null,null,null,"=","v",150]
[null,null,null,null,null,null,null,null,null,null,"w",150]
[null,null,null,null,null,null,null,null,null,null,"x",150]
[null,null,null,null,null,null,null,null,null,null,"y",150]
[null,null,null,null,null,null,null,null,null,null,"z",150]
[null,null,null,null,null,null,null,null,null,null,"Aa",150]
[null,null,null,null,null,null,null,null,null,null,"Ab",150]
[null,null,null,null,null,null,null,null,null,null,"Ac",150]
[null,null,null,null,null,null,null,null,null,null,"Ad",150]
[null,null,null,null,null,null,null,null,null,null,"Ae",150]
[null,null,null,null,null,null,null,null,null,null,"Af",150]
[null,null,null,null,null,null,null,null,null,null,"Ag",150]
[null,null,null,null,null,null,null,null,null,null,"Ah",150]
[null,null,null,null,null,null,null,null,null,null,"Ai",150]
[null,null,null,null,null,null,null,null,null,null,"Aj",150]
[null,null,null,null,null,null,null,null,null,null,"Ak",150]
[null,null,null,null,null,null,null,null,null,null,"Al",150]
[null,null,null,null,null,null,null,null,null,null,"Am",150]
[null,null,null,null,null,null,null,null,null,null,"An",150]
[null,null,null,null,null,null,null,null,null,null,"Ao",150]
[null,null,null,null,null,null,null,null,null,null,"Ap",150]
[null,null,null,null,null,null,null,null,null,null,"Aq",150]